{"text_format":"3","workbook":"xlsx","n_sheets":15,"sheets":["综合信息表","表一","表二","表三 甲","Sheet1","表三乙","表三丙","表四甲","Sheet2","表五甲","ODN导入表","工作量统计","正式文本中要的数据","预算定额表(该定额需该实)","材料库"],"not_rendered":{"images":5,"external_links":1,"defined_names":14,"comments":1},"read":"whole","date_system":"1900"}

{"sheet":"综合信息表","index":0,"n_rows":38,"n_cols":7,"rows_kept":38,"hidden":true}
[{"$nulls":3},"综      合     信     息     表"]
["序号","名     称","内                      容",null,"序号","名    称","内                         容"]
[1,"建设项目名称","建设项目名称:",null,1,"表格编号"]
[2,"单项工程名称","单项工程名称：2023年景德镇电信乐平水利枢纽工程建设杆线迁改工程",null,null,"表一编号","表格编号:TXL-1"]
[3,"单位工程名称",{"$nulls":3},"表二编号","表格编号:TXL-2"]
[4,"建设单位名称","建设单位名称:中国电信股份有限公司景德镇分公司",null,null,"表三甲编号","表格编号:TXL-3甲"]
[5,"第几页","第全页",null,null,"表三乙编号","表格编号:TXL-3乙"]
[6,"设计负责人","设计负责人:",null,null,"表三丙编号","表格编号:TXL-3丙"]
[7,"审核人","审核:",null,null,"表四甲安设编号"]
[8,"编制人","编制:",null,null,"表四乙备设编号"]
[9,"编制日期","编制日期:   2023 年05月",null,null,"表四甲不安设编号"]
[{"$nulls":5},"表四主材编号","表格编号:TXL-4甲A"]
["序号","名     称","内                     容",null,2,"表五编号","表格编号:TXL-5甲"]
[1,"供货地点",null,null,3]
[2,"工程性质","线路新建",null,4]
[3,"工程类别","四类工程",null,5]
[4,"施工队伍调遣里程",null,null,6,"国外运保费率"]
[5,"施工队伍","四类",null,7]
[6,{"$nulls":3},8,"主干设备总价"]
[7,{"$nulls":3},9,"网络设备总价"]
[8,"用户线数",null,null,10,"运输保险费"]
[9,"交换中继线",null,null,11,"以上一地一价"]
[10,"接入中继",null,null,12]
[11,"总计",{"$f":"SUM(C21:C23)","v":0},null,13]
[12,{"$nulls":3},14]
[13,{"$nulls":3},15]
[14,{"$nulls":3},16]
[15,{"$nulls":3},17]
[16,{"$nulls":3},18]
[17,{"$nulls":3},19]
[18,{"$nulls":3},20]
[19,{"$nulls":3},21]
[20,{"$nulls":3},22]
[21,{"$nulls":3},23]
[22,{"$nulls":3},24]
[23,{"$nulls":3},25]
[24,{"$nulls":3},26]
[{"$nulls":6},"地区邮电局                    局"]

{"sheet":"表一","index":1,"n_rows":23,"n_cols":13,"rows_kept":23,"merged":[[0,0,0,12],[3,0,4,0],[3,1,4,1],[3,2,4,2],[3,9,3,12],[4,3,4,8],[22,0,22,2]]}
["工程预算总表（表一）"]
[{"$f":"ASC(综合信息表!C3)","v":"建设项目名称:"}]
[{"$f":"ASC(综合信息表!C4)","v":"单项工程名称:2023年景德镇电信乐平水利枢纽工程建设杆线迁改工程"},{"$nulls":4},{"$f":"ASC(综合信息表!C6)","v":"建设单位名称:中国电信股份有限公司景德镇分公司"},{"$nulls":4},{"$f":"ASC(综合信息表!G4)","v":"表格编号:TXL-1"},null,"第全页"]
["序  号","表格编号","费用名称","小型建筑工程费","需要安装的设备费","不需要安装的设备、工器具费","建筑安装工程费","其他费用","预备费","总  价  值"]
[{"$nulls":3},"（元）",{"$nulls":5},"除税价","增值税","含税价","其中外币（）"]
["Ⅰ","Ⅱ","Ⅲ","Ⅳ","Ⅴ","Ⅵ","Ⅶ","Ⅷ","Ⅸ","Ⅹ","Ⅺ","Ⅻ","XⅢ"]
[1,null,"建筑安装工程费",{"$nulls":3},{"$f":"表二!D7","v":{"v":100014.500808032,"d":"100014.50"}},null,null,{"$f":"G7","v":{"v":100014.500808032,"d":"100014.50"}},{"v":0,"d":"0.00"},{"$f":"J7+K7","v":{"v":100014.500808032,"d":"100014.50"}}]
[null,null,"工程建设其他费用",{"$nulls":4},{"$f":"表五甲!D21","v":{"v":2000.29001616064,"d":"2000.29"}},null,{"$f":"表五甲!D21","v":{"v":2000.29001616064,"d":"2000.29"}},{"$f":"表五甲!E21","v":{"v":0,"d":"0.00"}},{"$f":"J8+K8","v":{"v":2000.29001616064,"d":"2000.29"}}]
[2,null,"合计",{"$nulls":3},{"$f":"G7","v":{"v":100014.500808032,"d":"100014.50"}},{"$f":"H8","v":{"v":2000.29001616064,"d":"2000.29"}},null,{"$f":"J7+J8","v":{"v":102014.790824193,"d":"102014.79"}},{"$f":"K7+K8","v":{"v":0,"d":"0.00"}},{"v":102014.790824193,"d":"102014.79"}]
[3,null,"预备费"]
[4,null,"建设期利息"]
[5,null,"总计",{"$nulls":6},{"$f":"SUM(J9:J11)","v":{"v":102014.790824193,"d":"102014.79"}},{"$f":"SUM(K9:K11)","v":{"v":0,"d":"0.00"}},{"v":102014.790824193,"d":"102014.79"}]
[6,null,"其中回收费用"]
[7]
[8]
[9]
[10]
[11]
[12]
[13]
[14]
[15]
[{"$f":"ASC(综合信息表!C8)","v":"设计负责人:"},null,null,{"$f":"ASC(综合信息表!C9)","v":"审核:"},{"$nulls":3},{"$f":"ASC(综合信息表!C10)","v":"编制:"},{"$nulls":4},{"$f":"ASC(综合信息表!C11)","v":"编制日期:   2023 年05月"}]

{"sheet":"表二","index":2,"n_rows":25,"n_cols":9,"rows_kept":25,"merged":[[0,0,0,8],[1,0,1,6],[22,5,23,5]]}
["建筑安装工程费用预算表（表二）"]
[{"$f":"ASC(综合信息表!C3)","v":"建设项目名称:"}]
[{"$f":"ASC(综合信息表!C4)","v":"单项工程名称:2023年景德镇电信乐平水利枢纽工程建设杆线迁改工程"},{"$nulls":5},{"$f":"ASC(综合信息表!C6)","v":"建设单位名称:中国电信股份有限公司景德镇分公司"},{"$f":"ASC(综合信息表!G5)","v":"表格编号:TXL-2"},"第全页"]
["序号","费用名称","依据和计算方法","合计",null,"序号","费用名称","依据和计算方法","合计"]
["Ⅰ","Ⅱ","Ⅲ","Ⅳ",null,"Ⅰ","            Ⅱ","Ⅲ","Ⅳ"]
[{"$nulls":5},7,"夜间施工增加费","人工费×2.50%",{"$f":"SUM(D10*0.025)","v":{"v":701.83068938,"d":"701.83"}}]
[null,"建筑安装工程费（含税价）","一+二+三+四",{"$f":"(D8+I15+I22+I23)+表三丙!J1029+表三丙!J1008","v":{"v":100014.500808032,"d":"100014.50"}},null,8,"冬雨季施工增加费","人工费×1.80%",{"$f":"SUM(D10*0.018)","v":{"v":505.3180963536,"d":"505.32"}}]
["一","直接费","（一）+（二）",{"$f":"SUM(D9+D18)","v":{"v":75185.4220671696,"d":"75185.42"}},null,9,"生产工具用具使用费","人工费×1.50%",{"$f":"SUM(D10*0.015)","v":{"v":421.098413628,"d":"421.10"}}]
["（一）","直接工程费","1+2+3+4",{"$f":"D10+D13+D16+D17","v":{"v":66875.7467049104,"d":"66875.75"}},null,10,"施工用水电蒸气费","按实计列"]
[1,"人工费","⑴＋⑵",{"$f":"D11+D12","v":{"v":28073.2275752,"d":"28073.23"}},null,11,"特殊地区施工增加费"]
["⑴","技工费","技工总工日×114元",{"$f":"SUM('表三 甲'!H1776*114)","v":{"v":22828.98906,"d":"22828.99"}},null,12,"已完工程及设备保护费","人工费×2.00%",{"$f":"SUM(D10*0.02)","v":{"v":561.464551504,"d":"561.46"}}]
["⑵","普工费","普工总工日×61元",{"$f":"SUM('表三 甲'!I1776*61)","v":{"v":5244.2385152,"d":"5244.24"}},null,13,"运土费"]
[2,"材料费","⑴＋⑵",{"$f":"D14+D15","v":{"v":25638.9845297104,"d":"25638.98"}},null,14,"施工队伍调遣费","35KM以外计取"]
["⑴","主要材料费","国内主要材料费",{"$f":"SUM(表四甲!G381)","v":{"v":25562.2976368,"d":"25562.30"}},null,15,"大型施工机械调遣费","2×[单程运价×调遣运距×总吨位]"]
["⑵","辅助材料费","主要材料费×0.30%",{"$f":"SUM(D14*0.003)","v":{"v":76.6868929104,"d":"76.69"}},null,"二","间接费","（一）+（二）",{"$f":"SUM(I16+I21)","v":{"v":17149.9347256897,"d":"17149.93"}}]
[3,"机械使用费","机械费合计",{"$f":"表三乙!J691","v":{"v":3571.088,"d":"3571.09"}},null,"（一）","规费","1＋2＋3＋4",{"$f":"SUM(I17+I18+I19+I20)","v":{"v":9457.87037008488,"d":"9457.87"}}]
[4,"仪表使用费","仪表费合计",{"$f":"表三丙!J1002","v":{"v":9592.4466,"d":"9592.45"}},null,1,"工程排污费","按施工所在地政府部门相关规定"]
["（二）","措施费项目费","1+2+3+…+15",{"$f":"SUM(D19+D20+D21+D22+D23+D24+I6+I7+I8+I9+I10+I11+I12+I13+I14)","v":{"v":8309.6753622592,"d":"8309.68"}},null,2,"社会保障费","人工费×28.50%",{"$f":"SUM(D10*0.285)","v":{"v":8000.869858932,"d":"8000.87"}}]
[1,"文明施工费","人工费×1.50%",{"$f":"SUM(D10*0.015)","v":{"v":421.098413628,"d":"421.10"}},null,3,"住房公积金","人工费×4.19%",{"$f":"SUM(D10*0.0419)","v":{"v":1176.26823540088,"d":"1176.27"}}]
[2,"工地器材搬运费","人工费×3.40%",{"$f":"SUM(D10*0.034)","v":{"v":954.4897375568,"d":"954.49"}},null,4,"危险作业意外伤害保险费","人工费×1.00%",{"$f":"SUM(D10*0.01)","v":{"v":280.732275752,"d":"280.73"}}]
[3,"工程干扰费","人工费×6.00%",{"$f":"SUM(D10*0.06)","v":{"v":1684.393654512,"d":"1684.39"}},null,"（二）","企业管理费","人工费×27.40%",{"$f":"SUM(D10*0.274)","v":{"v":7692.0643556048,"d":"7692.06"}}]
[4,"工程点交、场地清理费","人工费×3.30%",{"$f":"SUM(D10*0.033)","v":{"v":926.4165099816,"d":"926.42"}},null,"三","利润","人工费×20.00%",{"$f":"SUM(D10*0.2)","v":{"v":5614.64551504,"d":"5614.65"}}]
[5,"临时设施费","人工费×2.6%（≤35KM）",{"$f":"SUM(D10*0.026)","v":{"v":729.9039169552,"d":"729.90"}},null,"四","销项税额","（人工费+乙供主材费+仪表使用费+措施费+间接费+利润）×3%+辅材费*3%+甲供主材费×适用税率。",{"$f":"((D10+D17+D18+I15+I22)*3%)+D15*3%+表三丙!J1008*3%","v":{"v":2064.49850013298,"d":"2064.50"}}]
[6,"工程车辆使用费","人工费×5.00%",{"$f":"SUM(D10*0.05)","v":{"v":1403.66137876,"d":"1403.66"}}]
[{"$f":"ASC(综合信息表!C8)","v":"设计负责人:"},null,{"$f":"ASC(综合信息表!C9)","v":"审核:"},{"$nulls":3},{"$f":"ASC(综合信息表!C10)","v":"编制:"},null,{"$f":"ASC(综合信息表!C11)","v":"编制日期:   2023 年05月"}]

{"sheet":"表三 甲","index":3,"n_rows":1776,"n_cols":10,"rows_kept":1776,"merged":[[0,0,0,8],[2,0,2,2],[3,0,4,0],[3,1,4,1],[3,2,4,2],[3,3,4,3],[3,4,4,4],[3,5,3,6],[3,7,3,8]]}
["建筑安装工程费用预算表（表三）甲"]
[{"$f":"ASC(综合信息表!C3)","v":"建设项目名称:"}]
[{"$f":"ASC(综合信息表!C4)","v":"单项工程名称:2023年景德镇电信乐平水利枢纽工程建设杆线迁改工程"},null,null,{"$f":"ASC(综合信息表!C6)","v":"建设单位名称:中国电信股份有限公司景德镇分公司"},null,null,{"$f":"ASC(综合信息表!G6)","v":"表格编号:TXL-3甲"},null,"第全页"]
["序号","定额编号","项目名称","单位","数量","单位定额值（工日）",null,"合计值（工日）"]
[{"$nulls":5},"技工","普工","技工","普工"]
["Ⅰ","Ⅱ","Ⅲ","Ⅳ","Ⅴ","Ⅵ","Ⅶ","Ⅷ","Ⅸ"]
[{"$f":"SUBTOTAL(3,$B7:B$7)","v":0},"TXL1-001","光（电）缆工程施工测量 直埋","100m",null,0.56,0.14,{"$f":"E7*F7","v":{"v":0,"d":"0.00"}},{"$f":"E7*G7","v":{"v":0,"d":"0.00"}}]
[{"$f":"SUBTOTAL(3,$B$7:B8)","v":1},"TXL1-002","光（电）缆工程施工测量 架空","100m",{"v":1.04,"d":"1.040"},0.46,0.12,{"$f":"E8*F8","v":{"v":0.4784,"d":"0.48"}},{"$f":"E8*G8","v":{"v":0.1248,"d":"0.12"}}]
[{"$f":"SUBTOTAL(3,$B$7:B9)","v":2},"TXL1-003","光（电）缆工程施工测量 管道","100m",{"v":0.45,"d":"0.450"},0.35,0.09,{"v":0.1575,"d":"0.16"},{"v":0.0405,"d":"0.04"}]
[{"$f":"SUBTOTAL(3,$B$7:B10)","v":2},"TXL1-004","光（电）缆工程施工测量 海上","100m",null,4.25,{"v":0,"d":"0.00"},{"v":0,"d":"0.00"},{"v":0,"d":"0.00"}]
[{"$f":"SUBTOTAL(3,$B$7:B11)","v":3},"TXL1-005","GPS 定位","点",{"v":8,"d":"8.000"},0.05,{"v":0,"d":"0.00"},{"v":0.4,"d":"0.40"},{"v":0,"d":"0.00"}]
[{"$f":"SUBTOTAL(3,$B$7:B12)","v":4},"TXL1-006","单盘检验 光缆","芯盘",{"$f":"8+12+24+48","v":{"v":92,"d":"92.000"}},0.02,{"v":0,"d":"0.00"},1.84,{"v":0,"d":"0.00"}]
[{"$f":"SUBTOTAL(3,$B$7:B13)","v":4},"TXL1-007","单盘检验 电缆","百对盘",null,{"v":0.5,"d":"0.50"},{"v":0,"d":"0.00"},{"v":0,"d":"0.00"},{"v":0,"d":"0.00"}]
[{"$f":"SUBTOTAL(3,$B$7:B14)","v":4},"TXL1-008","人工开挖路面 混凝土 100 以下","100m2",null,3.33,24.25,{"v":0,"d":"0.00"},{"v":0,"d":"0.00"}]
[{"$f":"SUBTOTAL(3,$B$7:B15)","v":4},"TXL1-009","人工开挖路面 混凝土 每增加 10","100m2",null,0.33,1.75,{"v":0,"d":"0.00"},{"v":0,"d":"0.00"}]
[{"$f":"SUBTOTAL(3,$B$7:B16)","v":4},"TXL1-010","人工开挖路面 沥青柏油 100 以下","100m2",null,1.88,{"v":13,"d":"13.00"},{"v":0,"d":"0.00"},{"v":0,"d":"0.00"}]
[{"$f":"SUBTOTAL(3,$B$7:B17)","v":4},"TXL1-011","人工开挖路面 沥青柏油 每增加 10","100m2",null,0.19,1.25,{"v":0,"d":"0.00"},{"v":0,"d":"0.00"}]
[{"$f":"SUBTOTAL(3,$B$7:B18)","v":4},"TXL1-012","人工开挖路面 砂石 100 以下","100m2",null,1.04,6.29,{"v":0,"d":"0.00"},{"v":0,"d":"0.00"}]
[{"$f":"SUBTOTAL(3,$B$7:B19)","v":4},"TXL1-013","人工开挖路面 砂石 每增加 10","100m2",null,0.09,0.59,{"v":0,"d":"0.00"},{"v":0,"d":"0.00"}]
[{"$f":"SUBTOTAL(3,$B$7:B20)","v":4},"TXL1-014","人工开挖路面 混凝土砌块","100m2",null,0.38,3.75,{"v":0,"d":"0.00"},{"v":0,"d":"0.00"}]
[{"$f":"SUBTOTAL(3,$B$7:B21)","v":4},"TXL1-015","人工开挖路面 水泥花砖","100m2",null,0.31,2.88,{"v":0,"d":"0.00"},{"v":0,"d":"0.00"}]
[{"$f":"SUBTOTAL(3,$B$7:B22)","v":4},"TXL1-016","人工开挖路面 条石","100m2",null,{"v":5,"d":"5.00"},25.88,{"v":0,"d":"0.00"},{"v":0,"d":"0.00"}]
[{"$f":"SUBTOTAL(3,$B$7:B23)","v":4},"TXL1-017","机械开挖路面 混凝土 100 以下","100m2",null,{"v":0,"d":"0.00"},4.25,{"v":0,"d":"0.00"},{"v":0,"d":"0.00"}]
[{"$f":"SUBTOTAL(3,$B$7:B24)","v":4},"TXL1-018","机械开挖路面 混凝土 每增加 10","100m2",null,{"v":0,"d":"0.00"},0.38,{"v":0,"d":"0.00"},{"v":0,"d":"0.00"}]
[{"$f":"SUBTOTAL(3,$B$7:B25)","v":4},"TXL1-019","机械开挖路面 沥青柏油 100 以下","100m2",null,{"v":0,"d":"0.00"},3.25,{"v":0,"d":"0.00"},{"v":0,"d":"0.00"}]
[{"$f":"SUBTOTAL(3,$B$7:B26)","v":4},"TXL1-020","机械开挖路面 沥青柏油 每增加 10","100m2",null,{"v":0,"d":"0.00"},0.08,{"v":0,"d":"0.00"},{"v":0,"d":"0.00"}]
[{"$f":"SUBTOTAL(3,$B$7:B27)","v":4},"TXL1-021","机械开挖路面 砂石 100 以下","100m2",null,{"v":0,"d":"0.00"},4.25,{"v":0,"d":"0.00"},{"v":0,"d":"0.00"}]
[{"$f":"SUBTOTAL(3,$B$7:B28)","v":4},"TXL1-022","机械开挖路面 砂石 每增加 10","100m2",null,{"v":0,"d":"0.00"},0.13,{"v":0,"d":"0.00"},{"v":0,"d":"0.00"}]
[{"$f":"SUBTOTAL(3,$B$7:B29)","v":4},"TXL2-001","挖、松填光（电）缆沟及接头坑 普通土","百立方米",null,{"v":0,"d":"0.00"},39.38,{"v":0,"d":"0.00"},{"v":0,"d":"0.00"}]
[{"$f":"SUBTOTAL(3,$B$7:B30)","v":4},"TXL2-002","挖、松填光（电）缆沟及接头坑 硬土","百立方米",null,{"v":0,"d":"0.00"},{"v":51.5,"d":"51.50"},{"v":0,"d":"0.00"},{"v":0,"d":"0.00"}]
[{"$f":"SUBTOTAL(3,$B$7:B31)","v":4},"TXL2-003","挖、松填光（电）缆沟及接头坑 砂砾土","百立方米",null,{"v":0,"d":"0.00"},62.13,{"v":0,"d":"0.00"},{"v":0,"d":"0.00"}]
[{"$f":"SUBTOTAL(3,$B$7:B32)","v":4},"TXL2-004","挖、松填光（电）缆沟及接头坑 冻土","百立方米",null,{"v":0,"d":"0.00"},{"v":139.5,"d":"139.50"},{"v":0,"d":"0.00"},{"v":0,"d":"0.00"}]
[{"$f":"SUBTOTAL(3,$B$7:B33)","v":4},"TXL2-005","挖、松填光（电）缆沟及接头坑 软石","百立方米",null,5.55,262.25,{"v":0,"d":"0.00"},{"v":0,"d":"0.00"}]
[{"$f":"SUBTOTAL(3,$B$7:B34)","v":4},"TXL2-006","挖、松填光（电）缆沟及接头坑 坚石（人工）","百立方米",null,{"v":36.2,"d":"36.20"},{"v":455.5,"d":"455.50"},{"v":0,"d":"0.00"},{"v":0,"d":"0.00"}]
[{"$f":"SUBTOTAL(3,$B$7:B35)","v":4},"TXL2-007","挖、夯填光（电）缆沟及接头坑 普通土","百立方米",{"$f":"((0.8*0.8*10/6*1.33)/100*表四甲!E73)*2","v":0},{"v":0,"d":"0.00"},40.88,{"v":0,"d":"0.00"},{"v":0,"d":"0.00"}]
[{"$f":"SUBTOTAL(3,$B$7:B36)","v":4},"TXL2-008","挖、夯填光（电）缆沟及接头坑 硬土","百立方米",null,{"v":0,"d":"0.00"},{"v":55,"d":"55.00"},{"v":0,"d":"0.00"},{"v":0,"d":"0.00"}]
[{"$f":"SUBTOTAL(3,$B$7:B37)","v":4},"TXL2-009","挖、夯填光（电）缆沟及接头坑 砂砾土","百立方米",null,{"v":0,"d":"0.00"},71.13,{"v":0,"d":"0.00"},{"v":0,"d":"0.00"}]
[{"$f":"SUBTOTAL(3,$B$7:B38)","v":4},"TXL2-010","挖、夯填光（电）缆沟及接头坑 冻土","百立方米",null,{"v":0,"d":"0.00"},{"v":145.5,"d":"145.50"},{"v":0,"d":"0.00"},{"v":0,"d":"0.00"}]
[{"$f":"SUBTOTAL(3,$B$7:B39)","v":4},"TXL2-011","挖、夯填光（电）缆沟及接头坑 软石","百立方米",null,6.55,270.25,{"v":0,"d":"0.00"},{"v":0,"d":"0.00"}]
[{"$f":"SUBTOTAL(3,$B$7:B40)","v":4},"TXL2-012","挖、夯填光（电）缆沟及接头坑 坚石（人工）","百立方米",null,{"v":38.2,"d":"38.20"},{"v":480.5,"d":"480.50"},{"v":0,"d":"0.00"},{"v":0,"d":"0.00"}]
[{"$f":"SUBTOTAL(3,$B$7:B41)","v":4},"TXL2-013","石质沟铺盖细土","沟千米",null,{"v":0,"d":"0.00"},{"v":6,"d":"6.00"},{"v":0,"d":"0.00"},{"v":0,"d":"0.00"}]
[{"$f":"SUBTOTAL(3,$B$7:B42)","v":4},"TXL2-014","手推车倒运土方","百立方米",{"$f":"E35*0.2","v":0},{"v":0,"d":"0.00"},{"v":12,"d":"12.00"},{"v":0,"d":"0.00"},{"v":0,"d":"0.00"}]
[{"$f":"SUBTOTAL(3,$B$7:B43)","v":4},"TXL2-015","平原地区敷设埋式光缆 36 芯以下","千米条",null,5.88,26.88,{"v":0,"d":"0.00"},{"v":0,"d":"0.00"}]
[{"$f":"SUBTOTAL(3,$B$7:B44)","v":4},"TXL2-016","平原地区敷设埋式光缆 72 芯以下","千米条",null,{"v":8.2,"d":"8.20"},29.26,{"v":0,"d":"0.00"},{"v":0,"d":"0.00"}]
[{"$f":"SUBTOTAL(3,$B$7:B45)","v":4},"TXL2-017","平原地区敷设埋式光缆 96 芯以下","千米条",null,10.42,30.94,{"v":0,"d":"0.00"},{"v":0,"d":"0.00"}]
[{"$f":"SUBTOTAL(3,$B$7:B46)","v":4},"TXL2-018","平原地区敷设埋式光缆 144 芯以下","千米条",null,12.63,32.62,{"v":0,"d":"0.00"},{"v":0,"d":"0.00"}]
[{"$f":"SUBTOTAL(3,$B$7:B47)","v":4},"TXL2-019","平原地区敷设埋式光缆 288 芯以下","千米条",null,14.85,{"v":34.3,"d":"34.30"},{"v":0,"d":"0.00"},{"v":0,"d":"0.00"}]
[{"$f":"SUBTOTAL(3,$B$7:B48)","v":4},"TXL2-020","平原地区敷设埋式光缆 288 芯以上","千米条",null,18.18,36.82,{"v":0,"d":"0.00"},{"v":0,"d":"0.00"}]
[{"$f":"SUBTOTAL(3,$B$7:B49)","v":4},"TXL2-021","丘陵、水田、城区敷设埋式光缆 36 芯以下","千米条",null,7.44,30.58,{"v":0,"d":"0.00"},{"v":0,"d":"0.00"}]
[{"$f":"SUBTOTAL(3,$B$7:B50)","v":4},"TXL2-022","丘陵、水田、城区敷设埋式光缆 72 芯以下","千米条",null,10.05,33.69,{"v":0,"d":"0.00"},{"v":0,"d":"0.00"}]
[{"$f":"SUBTOTAL(3,$B$7:B51)","v":4},"TXL2-023","丘陵、水田、城区敷设埋式光缆 96 芯以下","千米条",null,12.76,36.52,{"v":0,"d":"0.00"},{"v":0,"d":"0.00"}]
[{"$f":"SUBTOTAL(3,$B$7:B52)","v":4},"TXL2-024","丘陵、水田、城区敷设埋式光缆 144 芯以下","千米条",null,{"v":15.5,"d":"15.50"},38.44,{"v":0,"d":"0.00"},{"v":0,"d":"0.00"}]
[{"$f":"SUBTOTAL(3,$B$7:B53)","v":4},"TXL2-025","丘陵、水田、城区敷设埋式光缆 288 芯以下","千米条",null,17.88,41.25,{"v":0,"d":"0.00"},{"v":0,"d":"0.00"}]
[{"$f":"SUBTOTAL(3,$B$7:B54)","v":4},"TXL2-026","丘陵、水田、城区敷设埋式光缆 288 芯以上","千米条",null,{"v":22.1,"d":"22.10"},{"v":45,"d":"45.00"},{"v":0,"d":"0.00"},{"v":0,"d":"0.00"}]
[{"$f":"SUBTOTAL(3,$B$7:B55)","v":4},"TXL2-027","山区敷设埋式光缆 36 芯以下","千米条",null,9.05,40.22,{"v":0,"d":"0.00"},{"v":0,"d":"0.00"}]
[{"$f":"SUBTOTAL(3,$B$7:B56)","v":4},"TXL2-028","山区敷设埋式光缆 72 芯以下","千米条",null,12.55,43.54,{"v":0,"d":"0.00"},{"v":0,"d":"0.00"}]
[{"$f":"SUBTOTAL(3,$B$7:B57)","v":4},"TXL2-029","山区敷设埋式光缆 96 芯以下","千米条",null,15.86,{"v":47.1,"d":"47.10"},{"v":0,"d":"0.00"},{"v":0,"d":"0.00"}]
[{"$f":"SUBTOTAL(3,$B$7:B58)","v":4},"TXL2-030","山区敷设埋式光缆 144 芯以下","千米条",null,{"v":19.2,"d":"19.20"},50.14,{"v":0,"d":"0.00"},{"v":0,"d":"0.00"}]
[{"$f":"SUBTOTAL(3,$B$7:B59)","v":4},"TXL2-031","山区敷设埋式光缆 288 芯以下","千米条",null,22.53,53.13,{"v":0,"d":"0.00"},{"v":0,"d":"0.00"}]
[{"$f":"SUBTOTAL(3,$B$7:B60)","v":4},"TXL2-032","山区敷设埋式光缆 288 芯以上","千米条",null,{"v":27.5,"d":"27.50"},57.46,{"v":0,"d":"0.00"},{"v":0,"d":"0.00"}]
[{"$f":"SUBTOTAL(3,$B$7:B61)","v":4},"TXL2-033","敷设埋式电缆 200 对以下","千米条",null,8.35,22.84,{"v":0,"d":"0.00"},{"v":0,"d":"0.00"}]
[{"$f":"SUBTOTAL(3,$B$7:B62)","v":4},"TXL2-034","敷设埋式电缆 400 对以下","千米条",null,9.49,25.91,{"v":0,"d":"0.00"},{"v":0,"d":"0.00"}]
[{"$f":"SUBTOTAL(3,$B$7:B63)","v":4},"TXL2-035","敷设埋式电缆 600 对以下","千米条",null,11.08,30.23,{"v":0,"d":"0.00"},{"v":0,"d":"0.00"}]
[{"$f":"SUBTOTAL(3,$B$7:B64)","v":4},"TXL2-036","敷设埋式电缆 600 对以上","千米条",null,13.51,36.76,{"v":0,"d":"0.00"},{"v":0,"d":"0.00"}]
[{"$f":"SUBTOTAL(3,$B$7:B65)","v":4},"TXL2-037","砖砌专用塑料管道光缆手孔 Ⅰ型 （1.2×0.9×1.0）","个",null,{"v":6.4,"d":"6.40"},6.14,{"v":0,"d":"0.00"},{"v":0,"d":"0.00"}]
[{"$f":"SUBTOTAL(3,$B$7:B66)","v":4},"TXL2-038","砖砌专用塑料管道光缆手孔 Ⅱ型 （2.6×0.9×1.0）","个",null,8.67,8.33,{"v":0,"d":"0.00"},{"v":0,"d":"0.00"}]
[{"$f":"SUBTOTAL(3,$B$7:B67)","v":4},"TXL2-039","砖砌专用塑料管道光缆手孔 Ⅲ型 （1.2×0.9×0.7）","个",null,5.12,4.91,{"v":0,"d":"0.00"},{"v":0,"d":"0.00"}]
[{"$f":"SUBTOTAL(3,$B$7:B68)","v":4},"TXL2-040","砖砌专用塑料管道光缆手孔 Ⅳ型 （2.6×0.9×0.7）","个",null,6.94,6.66,{"v":0,"d":"0.00"},{"v":0,"d":"0.00"}]
[{"$f":"SUBTOTAL(3,$B$7:B69)","v":4},"TXL2-041","埋设定型手孔","个",null,{"v":1,"d":"1.00"},{"v":2,"d":"2.00"},{"v":0,"d":"0.00"},{"v":0,"d":"0.00"}]
[{"$f":"SUBTOTAL(3,$B$7:B70)","v":4},"TXL2-042","平原地区人工敷设小口径塑料管 1 管","km",null,{"v":4.1,"d":"4.10"},15.73,{"v":0,"d":"0.00"},{"v":0,"d":"0.00"}]
[{"$f":"SUBTOTAL(3,$B$7:B71)","v":4},"TXL2-043","平原地区人工敷设小口径塑料管 2 管","km",null,{"v":7.5,"d":"7.50"},29.41,{"v":0,"d":"0.00"},{"v":0,"d":"0.00"}]
[{"$f":"SUBTOTAL(3,$B$7:B72)","v":4},"TXL2-044","平原地区人工敷设小口径塑料管 3 管","km",null,11.65,{"v":45.4,"d":"45.40"},{"$f":"E72*F72","v":{"v":0,"d":"0.00"}},{"$f":"E72*G72","v":{"v":0,"d":"0.00"}}]
[{"$f":"SUBTOTAL(3,$B$7:B73)","v":4},"TXL2-045","平原地区人工敷设小口径塑料管 4 管","km",null,15.05,{"v":58.5,"d":"58.50"},{"v":0,"d":"0.00"},{"v":0,"d":"0.00"}]
[{"$f":"SUBTOTAL(3,$B$7:B74)","v":4},"TXL2-046","平原地区人工敷设小口径塑料管 5 管","km",null,19.22,{"v":71.6,"d":"71.60"},{"v":0,"d":"0.00"},{"v":0,"d":"0.00"}]
[{"$f":"SUBTOTAL(3,$B$7:B75)","v":4},"TXL2-047","平原地区人工敷设小口径塑料管 6 管","km",null,{"v":22.6,"d":"22.60"},{"v":84.8,"d":"84.80"},{"v":0,"d":"0.00"},{"v":0,"d":"0.00"}]
[{"$f":"SUBTOTAL(3,$B$7:B76)","v":4},"TXL2-048","平原地区人工敷设小口径塑料管 7 管","km",null,{"v":25.6,"d":"25.60"},{"v":99.5,"d":"99.50"},{"v":0,"d":"0.00"},{"v":0,"d":"0.00"}]
[{"$f":"SUBTOTAL(3,$B$7:B77)","v":4},"TXL2-049","平原地区人工敷设小口径塑料管 8 管","km",null,{"v":29.1,"d":"29.10"},112.45,{"v":0,"d":"0.00"},{"v":0,"d":"0.00"}]
[{"$f":"SUBTOTAL(3,$B$7:B78)","v":4},"TXL2-050","平原地区人工敷设小口径塑料管 9 管","km",null,{"v":33.1,"d":"33.10"},{"v":128.2,"d":"128.20"},{"v":0,"d":"0.00"},{"v":0,"d":"0.00"}]
[{"$f":"SUBTOTAL(3,$B$7:B79)","v":4},"TXL2-051","平原地区人工敷设小口径塑料管 10 管","km",null,{"v":36.5,"d":"36.50"},{"v":141,"d":"141.00"},{"v":0,"d":"0.00"},{"v":0,"d":"0.00"}]
[{"$f":"SUBTOTAL(3,$B$7:B80)","v":4},"TXL2-052","平原地区人工敷设小口径塑料管 11 管","km",null,{"v":39.8,"d":"39.80"},154.05,{"v":0,"d":"0.00"},{"v":0,"d":"0.00"}]
[{"$f":"SUBTOTAL(3,$B$7:B81)","v":4},"TXL2-053","平原地区人工敷设小口径塑料管 12 管","km",null,{"v":43.2,"d":"43.20"},{"v":167,"d":"167.00"},{"v":0,"d":"0.00"},{"v":0,"d":"0.00"}]
[{"$f":"SUBTOTAL(3,$B$7:B82)","v":4},"TXL2-054","平原地区人工敷设小口径塑料管 13 管","km",null,{"v":47.3,"d":"47.30"},{"v":182.8,"d":"182.80"},{"v":0,"d":"0.00"},{"v":0,"d":"0.00"}]
[{"$f":"SUBTOTAL(3,$B$7:B83)","v":4},"TXL2-055","平原地区人工敷设小口径塑料管 14 管","km",null,{"v":50.6,"d":"50.60"},{"v":195.5,"d":"195.50"},{"v":0,"d":"0.00"},{"v":0,"d":"0.00"}]
[{"$f":"SUBTOTAL(3,$B$7:B84)","v":4},"TXL2-056","平原地区人工敷设小口径塑料管 15 管","km",null,{"v":54,"d":"54.00"},208.65,{"v":0,"d":"0.00"},{"v":0,"d":"0.00"}]
[{"$f":"SUBTOTAL(3,$B$7:B85)","v":4},"TXL2-057","平原地区人工敷设小口径塑料管 16 管","km",null,{"v":57.4,"d":"57.40"},{"v":221.6,"d":"221.60"},{"v":0,"d":"0.00"},{"v":0,"d":"0.00"}]
[{"$f":"SUBTOTAL(3,$B$7:B86)","v":4},"TXL2-058","丘陵、城区、水田地区人工敷设小口径塑料管 1 管","km",null,{"v":4.8,"d":"4.80"},{"v":18.5,"d":"18.50"},{"v":0,"d":"0.00"},{"v":0,"d":"0.00"}]
[{"$f":"SUBTOTAL(3,$B$7:B87)","v":4},"TXL2-059","丘陵、城区、水田地区人工敷设小口径塑料管 2 管","km",null,{"v":8.8,"d":"8.80"},{"v":34.6,"d":"34.60"},{"v":0,"d":"0.00"},{"v":0,"d":"0.00"}]
[{"$f":"SUBTOTAL(3,$B$7:B88)","v":4},"TXL2-060","丘陵、城区、水田地区人工敷设小口径塑料管 3 管","km",null,{"v":13.7,"d":"13.70"},{"v":53.4,"d":"53.40"},{"v":0,"d":"0.00"},{"v":0,"d":"0.00"}]
[{"$f":"SUBTOTAL(3,$B$7:B89)","v":4},"TXL2-061","丘陵、城区、水田地区人工敷设小口径塑料管 4 管","km",null,{"v":17.7,"d":"17.70"},{"v":68.9,"d":"68.90"},{"v":0,"d":"0.00"},{"v":0,"d":"0.00"}]
[{"$f":"SUBTOTAL(3,$B$7:B90)","v":4},"TXL2-062","丘陵、城区、水田地区人工敷设小口径塑料管 5 管","km",null,{"v":22.4,"d":"22.40"},{"v":84.1,"d":"84.10"},{"v":0,"d":"0.00"},{"v":0,"d":"0.00"}]
[{"$f":"SUBTOTAL(3,$B$7:B91)","v":4},"TXL2-063","丘陵、城区、水田地区人工敷设小口径塑料管 6 管","km",null,{"v":26.6,"d":"26.60"},{"v":103.3,"d":"103.30"},{"v":0,"d":"0.00"},{"v":0,"d":"0.00"}]
[{"$f":"SUBTOTAL(3,$B$7:B92)","v":4},"TXL2-064","丘陵、城区、水田地区人工敷设小口径塑料管 7 管","km",null,{"v":30.3,"d":"30.30"},114.35,{"v":0,"d":"0.00"},{"v":0,"d":"0.00"}]
[{"$f":"SUBTOTAL(3,$B$7:B93)","v":4},"TXL2-065","丘陵、城区、水田地区人工敷设小口径塑料管 8 管","km",null,{"v":34.6,"d":"34.60"},{"v":133.9,"d":"133.90"},{"v":0,"d":"0.00"},{"v":0,"d":"0.00"}]
[{"$f":"SUBTOTAL(3,$B$7:B94)","v":4},"TXL2-066","丘陵、城区、水田地区人工敷设小口径塑料管 9 管","km",null,{"v":39,"d":"39.00"},{"v":147.4,"d":"147.40"},{"v":0,"d":"0.00"},{"v":0,"d":"0.00"}]
[{"$f":"SUBTOTAL(3,$B$7:B95)","v":4},"TXL2-067","丘陵、城区、水田地区人工敷设小口径塑料管 10 管","km",null,{"v":43,"d":"43.00"},{"v":162.1,"d":"162.10"},{"v":0,"d":"0.00"},{"v":0,"d":"0.00"}]
[{"$f":"SUBTOTAL(3,$B$7:B96)","v":4},"TXL2-068","丘陵、城区、水田地区人工敷设小口径塑料管 11 管","km",null,{"v":46.9,"d":"46.90"},177.05,{"v":0,"d":"0.00"},{"v":0,"d":"0.00"}]
[{"$f":"SUBTOTAL(3,$B$7:B97)","v":4},"TXL2-069","丘陵、城区、水田地区人工敷设小口径塑料管 12 管","km",null,{"v":51.4,"d":"51.40"},{"v":198.9,"d":"198.90"},{"v":0,"d":"0.00"},{"v":0,"d":"0.00"}]
[{"$f":"SUBTOTAL(3,$B$7:B98)","v":4},"TXL2-070","丘陵、城区、水田地区人工敷设小口径塑料管 13 管","km",null,{"v":55.8,"d":"55.80"},{"v":210,"d":"210.00"},{"v":0,"d":"0.00"},{"v":0,"d":"0.00"}]
[{"$f":"SUBTOTAL(3,$B$7:B99)","v":4},"TXL2-071","丘陵、城区、水田地区人工敷设小口径塑料管 14 管","km",null,{"v":59.5,"d":"59.50"},{"v":225.5,"d":"225.50"},{"v":0,"d":"0.00"},{"v":0,"d":"0.00"}]
[{"$f":"SUBTOTAL(3,$B$7:B100)","v":4},"TXL2-072","丘陵、城区、水田地区人工敷设小口径塑料管 15 管","km",null,{"v":63.2,"d":"63.20"},{"v":239.9,"d":"239.90"},{"v":0,"d":"0.00"},{"v":0,"d":"0.00"}]
[{"$f":"SUBTOTAL(3,$B$7:B101)","v":4},"TXL2-073","丘陵、城区、水田地区人工敷设小口径塑料管 16 管","km",null,{"v":67,"d":"67.00"},{"v":254.4,"d":"254.40"},{"v":0,"d":"0.00"},{"v":0,"d":"0.00"}]
[{"$f":"SUBTOTAL(3,$B$7:B102)","v":4},"TXL2-074","山区人工敷设小口径塑料管 1 管","km",null,{"v":5.7,"d":"5.70"},{"v":21.8,"d":"21.80"},{"v":0,"d":"0.00"},{"v":0,"d":"0.00"}]
[{"$f":"SUBTOTAL(3,$B$7:B103)","v":4},"TXL2-075","山区人工敷设小口径塑料管 2 管","km",null,{"v":10.6,"d":"10.60"},{"v":40.5,"d":"40.50"},{"v":0,"d":"0.00"},{"v":0,"d":"0.00"}]
[{"$f":"SUBTOTAL(3,$B$7:B104)","v":4},"TXL2-076","山区人工敷设小口径塑料管 3 管","km",null,{"v":16.5,"d":"16.50"},{"v":63.1,"d":"63.10"},{"v":0,"d":"0.00"},{"v":0,"d":"0.00"}]
[{"$f":"SUBTOTAL(3,$B$7:B105)","v":4},"TXL2-077","山区人工敷设小口径塑料管 4 管","km",null,{"v":21.2,"d":"21.20"},{"v":80.3,"d":"80.30"},{"v":0,"d":"0.00"},{"v":0,"d":"0.00"}]
[{"$f":"SUBTOTAL(3,$B$7:B106)","v":4},"TXL2-078","山区人工敷设小口径塑料管 5 管","km",null,{"v":26.8,"d":"26.80"},{"v":99.5,"d":"99.50"},{"v":0,"d":"0.00"},{"v":0,"d":"0.00"}]
[{"$f":"SUBTOTAL(3,$B$7:B107)","v":4},"TXL2-079","山区人工敷设小口径塑料管 6 管","km",null,{"v":32,"d":"32.00"},{"v":121,"d":"121.00"},{"v":0,"d":"0.00"},{"v":0,"d":"0.00"}]
[{"$f":"SUBTOTAL(3,$B$7:B108)","v":4},"TXL2-080","山区人工敷设小口径塑料管 7 管","km",null,{"v":36.4,"d":"36.40"},{"v":134.5,"d":"134.50"},{"v":0,"d":"0.00"},{"v":0,"d":"0.00"}]
[{"$f":"SUBTOTAL(3,$B$7:B109)","v":4},"TXL2-081","山区人工敷设小口径塑料管 8 管","km",null,{"v":41.5,"d":"41.50"},{"v":158,"d":"158.00"},{"v":0,"d":"0.00"},{"v":0,"d":"0.00"}]
[{"$f":"SUBTOTAL(3,$B$7:B110)","v":4},"TXL2-082","山区人工敷设小口径塑料管 9 管","km",null,{"v":46.8,"d":"46.80"},{"v":173.9,"d":"173.90"},{"v":0,"d":"0.00"},{"v":0,"d":"0.00"}]
[{"$f":"SUBTOTAL(3,$B$7:B111)","v":4},"TXL2-083","山区人工敷设小口径塑料管 10 管","km",null,{"v":51.6,"d":"51.60"},{"v":191.3,"d":"191.30"},{"v":0,"d":"0.00"},{"v":0,"d":"0.00"}]
[{"$f":"SUBTOTAL(3,$B$7:B112)","v":4},"TXL2-084","山区人工敷设小口径塑料管 11 管","km",null,{"v":56.3,"d":"56.30"},{"v":209,"d":"209.00"},{"v":0,"d":"0.00"},{"v":0,"d":"0.00"}]
[{"$f":"SUBTOTAL(3,$B$7:B113)","v":4},"TXL2-085","山区人工敷设小口径塑料管 12 管","km",null,{"v":61.7,"d":"61.70"},{"v":234.7,"d":"234.70"},{"v":0,"d":"0.00"},{"v":0,"d":"0.00"}]
[{"$f":"SUBTOTAL(3,$B$7:B114)","v":4},"TXL2-086","山区人工敷设小口径塑料管 13 管","km",null,{"v":67,"d":"67.00"},{"v":247.8,"d":"247.80"},{"v":0,"d":"0.00"},{"v":0,"d":"0.00"}]
[{"$f":"SUBTOTAL(3,$B$7:B115)","v":4},"TXL2-087","山区人工敷设小口径塑料管 14 管","km",null,{"v":71.4,"d":"71.40"},{"v":266,"d":"266.00"},{"v":0,"d":"0.00"},{"v":0,"d":"0.00"}]
[{"$f":"SUBTOTAL(3,$B$7:B116)","v":4},"TXL2-088","山区人工敷设小口径塑料管 15 管","km",null,75.85,{"v":283.1,"d":"283.10"},{"v":0,"d":"0.00"},{"v":0,"d":"0.00"}]
[{"$f":"SUBTOTAL(3,$B$7:B117)","v":4},"TXL2-089","山区人工敷设小口径塑料管 16 管","km",null,{"v":80.4,"d":"80.40"},{"v":299.9,"d":"299.90"},{"v":0,"d":"0.00"},{"v":0,"d":"0.00"}]
[{"$f":"SUBTOTAL(3,$B$7:B118)","v":4},"TXL2-090","小口径塑料管试通","孔千米",null,0.63,0.63,{"v":0,"d":"0.00"},{"v":0,"d":"0.00"}]
[{"$f":"SUBTOTAL(3,$B$7:B119)","v":4},"TXL2-091","小口径塑料管道充气试验","孔千米",null,0.38,0.38,{"v":0,"d":"0.00"},{"v":0,"d":"0.00"}]
[{"$f":"SUBTOTAL(3,$B$7:B120)","v":4},"TXL2-092","地下定向钻孔敷管 工作孔径φ120mm 以下 30m 以下","处",null,2.64,7.98,{"v":0,"d":"0.00"},{"v":0,"d":"0.00"}]
[{"$f":"SUBTOTAL(3,$B$7:B121)","v":4},"TXL2-093","地下定向钻孔敷管 工作孔径φ120mm 以下 每增加 10m","10m",null,0.53,{"v":1.6,"d":"1.60"},{"v":0,"d":"0.00"},{"v":0,"d":"0.00"}]
[{"$f":"SUBTOTAL(3,$B$7:B122)","v":4},"TXL2-094","地下定向钻孔敷管 工作孔径φ240mm 以下 30m 以下","处",null,3.96,10.26,{"v":0,"d":"0.00"},{"v":0,"d":"0.00"}]
[{"$f":"SUBTOTAL(3,$B$7:B123)","v":4},"TXL2-095","地下定向钻孔敷管 工作孔径φ240mm 以下 每增加 10m","10m",null,0.79,2.05,{"v":0,"d":"0.00"},{"v":0,"d":"0.00"}]
[{"$f":"SUBTOTAL(3,$B$7:B124)","v":4},"TXL2-096","地下定向钻孔敷管 工作孔径φ360mm 以下 30m 以下","处",null,5.94,13.34,{"v":0,"d":"0.00"},{"v":0,"d":"0.00"}]
[{"$f":"SUBTOTAL(3,$B$7:B125)","v":4},"TXL2-097","地下定向钻孔敷管 工作孔径φ360mm 以下 每增加 10m","10m",null,1.19,2.67,{"v":0,"d":"0.00"},{"v":0,"d":"0.00"}]
[{"$f":"SUBTOTAL(3,$B$7:B126)","v":4},"TXL2-098","地下定向钻孔敷管 工作孔径φ600mm 以下 30m 以下","处",null,8.91,17.34,{"v":0,"d":"0.00"},{"v":0,"d":"0.00"}]
[{"$f":"SUBTOTAL(3,$B$7:B127)","v":4},"TXL2-099","地下定向钻孔敷管 工作孔径φ600mm 以下 每增加 10m","10m",null,1.78,3.47,{"v":0,"d":"0.00"},{"v":0,"d":"0.00"}]
[{"$f":"SUBTOTAL(3,$B$7:B128)","v":4},"TXL2-100","地下定向钻孔敷管 工作孔径φ840mm 以下 30m 以下","处",null,13.66,26.01,{"v":0,"d":"0.00"},{"v":0,"d":"0.00"}]
[{"$f":"SUBTOTAL(3,$B$7:B129)","v":4},"TXL2-101","地下定向钻孔敷管 工作孔径φ840mm 以下 每增加 10m","10m",null,2.73,{"v":5.2,"d":"5.20"},{"v":0,"d":"0.00"},{"v":0,"d":"0.00"}]
[{"$f":"SUBTOTAL(3,$B$7:B130)","v":4},"TXL2-102","地下定向钻孔敷管 工作孔径φ950mm 以下 30m 以下","处",null,17.49,36.02,{"v":0,"d":"0.00"},{"v":0,"d":"0.00"}]
[{"$f":"SUBTOTAL(3,$B$7:B131)","v":4},"TXL2-103","地下定向钻孔敷管 工作孔径φ950mm 以下 每增加 10m","10m",null,{"v":3.8,"d":"3.80"},{"v":6.8,"d":"6.80"},{"v":0,"d":"0.00"},{"v":0,"d":"0.00"}]
[{"$f":"SUBTOTAL(3,$B$7:B132)","v":4},"TXL2-104","桥挂钢管","m",null,{"v":0.1,"d":"0.10"},{"v":0.2,"d":"0.20"},{"v":0,"d":"0.00"},{"v":0,"d":"0.00"}]
[{"$f":"SUBTOTAL(3,$B$7:B133)","v":4},"TXL2-105","桥挂塑料管","m",null,0.05,{"v":0.1,"d":"0.10"},{"v":0,"d":"0.00"},{"v":0,"d":"0.00"}]
[{"$f":"SUBTOTAL(3,$B$7:B134)","v":4},"TXL2-106","桥挂槽道","m",null,0.08,0.15,{"v":0,"d":"0.00"},{"v":0,"d":"0.00"}]
[{"$f":"SUBTOTAL(3,$B$7:B135)","v":4},"TXL2-107","人工顶管","m",null,{"v":1,"d":"1.00"},{"v":2,"d":"2.00"},{"v":0,"d":"0.00"},{"v":0,"d":"0.00"}]
[{"$f":"SUBTOTAL(3,$B$7:B136)","v":4},"TXL2-108","机械顶管","m",null,{"v":0.6,"d":"0.60"},{"v":0.2,"d":"0.20"},{"$f":"E136*F136","v":{"v":0,"d":"0.00"}},{"$f":"E136*G136","v":{"v":0,"d":"0.00"}}]
[{"$f":"SUBTOTAL(3,$B$7:B137)","v":4},"TXL2-109","铺管保护 钢管","m",null,0.03,{"v":0.1,"d":"0.10"},{"v":0,"d":"0.00"},{"v":0,"d":"0.00"}]
[{"$f":"SUBTOTAL(3,$B$7:B138)","v":4},"TXL2-110","铺管保护 塑料管","m",null,0.01,{"v":0.1,"d":"0.10"},{"v":0,"d":"0.00"},{"v":0,"d":"0.00"}]
[{"$f":"SUBTOTAL(3,$B$7:B139)","v":4},"TXL2-111","铺管保护 大长度半硬塑料管","100m",null,{"v":1.5,"d":"1.50"},{"v":2.5,"d":"2.50"},{"v":0,"d":"0.00"},{"v":0,"d":"0.00"}]
[{"$f":"SUBTOTAL(3,$B$7:B140)","v":4},"TXL2-112","铺砖保护 横铺砖","km",null,{"v":2,"d":"2.00"},{"v":15,"d":"15.00"},{"v":0,"d":"0.00"},{"v":0,"d":"0.00"}]
[{"$f":"SUBTOTAL(3,$B$7:B141)","v":4},"TXL2-113","铺砖保护 竖铺砖","km",null,{"v":2,"d":"2.00"},{"v":10,"d":"10.00"},{"v":0,"d":"0.00"},{"v":0,"d":"0.00"}]
[{"$f":"SUBTOTAL(3,$B$7:B142)","v":4},"TXL2-114","铺水泥 盖板","km",null,{"v":2,"d":"2.00"},{"v":13,"d":"13.00"},{"v":0,"d":"0.00"},{"v":0,"d":"0.00"}]
[{"$f":"SUBTOTAL(3,$B$7:B143)","v":4},"TXL2-115","铺水泥槽","m",null,0.05,{"v":0.1,"d":"0.10"},{"v":0,"d":"0.00"},{"v":0,"d":"0.00"}]
[{"$f":"SUBTOTAL(3,$B$7:B144)","v":4},"TXL2-116","石砌坡、 坎、堵塞","m3",null,{"v":1,"d":"1.00"},2.58,{"v":0,"d":"0.00"},{"v":0,"d":"0.00"}]
[{"$f":"SUBTOTAL(3,$B$7:B145)","v":4},"TXL2-117","三七土护 坎","m3",null,{"v":0.2,"d":"0.20"},{"v":0.5,"d":"0.50"},{"v":0,"d":"0.00"},{"v":0,"d":"0.00"}]
[{"$f":"SUBTOTAL(3,$B$7:B146)","v":4},"TXL2-118","封石沟","m3",null,{"v":0.9,"d":"0.90"},{"v":2.1,"d":"2.10"},{"v":0,"d":"0.00"},{"v":0,"d":"0.00"}]
[{"$f":"SUBTOTAL(3,$B$7:B147)","v":4},"TXL2-119","做漫水坝、 挡水墙","m3",null,{"v":2,"d":"2.00"},5.16,{"v":0,"d":"0.00"},{"v":0,"d":"0.00"}]
[{"$f":"SUBTOTAL(3,$B$7:B148)","v":4},"TXL2-120","埋设标石 平原","个",null,0.06,0.12,{"v":0,"d":"0.00"},{"v":0,"d":"0.00"}]
[{"$f":"SUBTOTAL(3,$B$7:B149)","v":4},"TXL2-121","埋设标石 丘陵、水 田、城区","个",null,0.07,0.14,{"v":0,"d":"0.00"},{"v":0,"d":"0.00"}]
[{"$f":"SUBTOTAL(3,$B$7:B150)","v":4},"TXL2-122","埋设标石 山区","个",null,0.09,0.18,{"v":0,"d":"0.00"},{"v":0,"d":"0.00"}]
[{"$f":"SUBTOTAL(3,$B$7:B151)","v":4},"TXL2-123","安装宣传 警示牌","块",null,{"v":0.1,"d":"0.10"},{"v":0.5,"d":"0.50"},{"v":0,"d":"0.00"},{"v":0,"d":"0.00"}]
[{"$f":"SUBTOTAL(3,$B$7:B152)","v":4},"TXL2-124","安装对地绝缘监测标石","块",null,0.26,0.52,{"v":0,"d":"0.00"},{"v":0,"d":"0.00"}]
[{"$f":"SUBTOTAL(3,$B$7:B153)","v":4},"TXL2-125","安装对地绝缘装置","点",null,{"v":0.7,"d":"0.70"},{"v":0.3,"d":"0.30"},{"v":0,"d":"0.00"},{"v":0,"d":"0.00"}]
[{"$f":"SUBTOTAL(3,$B$7:B154)","v":4},"TXL2-126","对地绝缘检查及处理","km",null,{"v":0.5,"d":"0.50"},{"v":0,"d":"0.00"},{"v":0,"d":"0.00"},{"v":0,"d":"0.00"}]
[{"$f":"SUBTOTAL(3,$B$7:B155)","v":4},"TXL2-127","安装防雷设施 敷设排流线（单条）","km",null,{"v":2.2,"d":"2.20"},8.25,{"v":0,"d":"0.00"},{"v":0,"d":"0.00"}]
[{"$f":"SUBTOTAL(3,$B$7:B156)","v":4},"TXL2-128","安装防雷设施 敷设排流线（双条）","km",null,{"v":4,"d":"4.00"},{"v":15,"d":"15.00"},{"v":0,"d":"0.00"},{"v":0,"d":"0.00"}]
[{"$f":"SUBTOTAL(3,$B$7:B157)","v":4},"TXL2-129","安装防雷设施 安装消弧线","处",null,{"v":3,"d":"3.00"},{"v":17,"d":"17.00"},{"v":0,"d":"0.00"},{"v":0,"d":"0.00"}]
[{"$f":"SUBTOTAL(3,$B$7:B158)","v":4},"TXL2-130","安装防雷设施 安装避雷针","处",null,{"v":5,"d":"5.00"},{"v":10,"d":"10.00"},{"v":0,"d":"0.00"},{"v":0,"d":"0.00"}]
[{"$f":"SUBTOTAL(3,$B$7:B159)","v":4},"TXL2-131","敷设光缆船机具安装 拖轮布放法","处",null,{"v":42,"d":"42.00"},{"v":30,"d":"30.00"},{"v":0,"d":"0.00"},{"v":0,"d":"0.00"}]
[{"$f":"SUBTOTAL(3,$B$7:B160)","v":4},"TXL2-132","敷设光缆船机具安装 抛锚布放法","处",null,{"v":30,"d":"30.00"},{"v":15,"d":"15.00"},{"v":0,"d":"0.00"},{"v":0,"d":"0.00"}]
[{"$f":"SUBTOTAL(3,$B$7:B161)","v":4},"TXL2-133","敷设光缆船机具安装 人工布放法","处",null,{"v":10,"d":"10.00"},{"v":4,"d":"4.00"},{"v":0,"d":"0.00"},{"v":0,"d":"0.00"}]
[{"$f":"SUBTOTAL(3,$B$7:B162)","v":4},"TXL2-134","敷设光缆船机具安装 水泵冲槽法","处",null,{"v":10,"d":"10.00"},{"v":4,"d":"4.00"},{"v":0,"d":"0.00"},{"v":0,"d":"0.00"}]
[{"$f":"SUBTOTAL(3,$B$7:B163)","v":4},"TXL2-135","敷设光缆船机具安装 挖冲机敷设法","处",null,{"v":75,"d":"75.00"},{"v":35,"d":"35.00"},{"v":0,"d":"0.00"},{"v":0,"d":"0.00"}]
[{"$f":"SUBTOTAL(3,$B$7:B164)","v":4},"TXL2-136","水泵冲槽","百米/处",null,{"v":113,"d":"113.00"},{"v":13,"d":"13.00"},{"v":0,"d":"0.00"},{"v":0,"d":"0.00"}]
[{"$f":"SUBTOTAL(3,$B$7:B165)","v":4},"TXL2-137","人工截流挖沟 水面宽 10m 以内","处",null,23.74,52.83,{"v":0,"d":"0.00"},{"v":0,"d":"0.00"}]
[{"$f":"SUBTOTAL(3,$B$7:B166)","v":4},"TXL2-138","人工截流挖沟 水面每增加 5m","处",null,{"v":20,"d":"20.00"},{"v":25,"d":"25.00"},{"v":0,"d":"0.00"},{"v":0,"d":"0.00"}]
[{"$f":"SUBTOTAL(3,$B$7:B167)","v":4},"TXL2-139","拖轮布放 96 芯以下","百米条",null,5.54,7.29,{"v":0,"d":"0.00"},{"v":0,"d":"0.00"}]
[{"$f":"SUBTOTAL(3,$B$7:B168)","v":4},"TXL2-140","拖轮布放 288 芯以下","百米条",null,5.91,7.78,{"v":0,"d":"0.00"},{"v":0,"d":"0.00"}]
[{"$f":"SUBTOTAL(3,$B$7:B169)","v":4},"TXL2-141","抛锚布放 96 芯以下","百米条",null,9.91,13.08,{"v":0,"d":"0.00"},{"v":0,"d":"0.00"}]
[{"$f":"SUBTOTAL(3,$B$7:B170)","v":4},"TXL2-142","抛锚布放 288 芯以下","百米条",null,10.28,13.57,{"v":0,"d":"0.00"},{"v":0,"d":"0.00"}]
[{"$f":"SUBTOTAL(3,$B$7:B171)","v":4},"TXL2-143","人工布放 96 芯以下","百米条",null,11.24,18.97,{"v":0,"d":"0.00"},{"v":0,"d":"0.00"}]
[{"$f":"SUBTOTAL(3,$B$7:B172)","v":4},"TXL2-144","人工布放 288 芯以下","百米条",null,11.56,19.51,{"v":0,"d":"0.00"},{"v":0,"d":"0.00"}]
[{"$f":"SUBTOTAL(3,$B$7:B173)","v":4},"TXL2-145","96 芯以下光缆 平河水 普通土","百米条",null,6.16,8.27,{"v":0,"d":"0.00"},{"v":0,"d":"0.00"}]
[{"$f":"SUBTOTAL(3,$B$7:B174)","v":4},"TXL2-146","96 芯以下光缆 平河水 硬土","百米条",null,6.16,8.27,{"v":0,"d":"0.00"},{"v":0,"d":"0.00"}]
[{"$f":"SUBTOTAL(3,$B$7:B175)","v":4},"TXL2-147","96 芯以下光缆 潮河水 普通土","百米条",null,6.16,8.27,{"v":0,"d":"0.00"},{"v":0,"d":"0.00"}]
[{"$f":"SUBTOTAL(3,$B$7:B176)","v":4},"TXL2-148","96 芯以下光缆 潮河水 硬土","百米条",null,6.16,8.27,{"v":0,"d":"0.00"},{"v":0,"d":"0.00"}]
[{"$f":"SUBTOTAL(3,$B$7:B177)","v":4},"TXL2-149","96 芯以上光缆 平河水 普通土","百米条",null,6.53,8.76,{"v":0,"d":"0.00"},{"v":0,"d":"0.00"}]
[{"$f":"SUBTOTAL(3,$B$7:B178)","v":4},"TXL2-150","96 芯以上光缆 平河水 硬土","百米条",null,6.53,8.76,{"v":0,"d":"0.00"},{"v":0,"d":"0.00"}]
[{"$f":"SUBTOTAL(3,$B$7:B179)","v":4},"TXL2-151","96 芯以上光缆 潮河水 普通土","百米条",null,6.53,8.76,{"v":0,"d":"0.00"},{"v":0,"d":"0.00"}]
[{"$f":"SUBTOTAL(3,$B$7:B180)","v":4},"TXL2-152","96 芯以上光缆 潮河水 硬土","百米条",null,6.53,8.76,{"v":0,"d":"0.00"},{"v":0,"d":"0.00"}]
[{"$f":"SUBTOTAL(3,$B$7:B181)","v":4},"TXL2-153","海缆装船 自航船","千米条",null,{"v":22,"d":"22.00"},{"v":0,"d":"0.00"},{"v":0,"d":"0.00"},{"v":0,"d":"0.00"}]
[{"$f":"SUBTOTAL(3,$B$7:B182)","v":4},"TXL2-154","海缆装船 驳船","千米条",null,{"v":22,"d":"22.00"},{"v":0,"d":"0.00"},{"v":0,"d":"0.00"},{"v":0,"d":"0.00"}]
[{"$f":"SUBTOTAL(3,$B$7:B183)","v":4},"TXL2-155","航行 自航船","100km",null,{"v":32.5,"d":"32.50"},{"v":0,"d":"0.00"},{"v":0,"d":"0.00"},{"v":0,"d":"0.00"}]
[{"$f":"SUBTOTAL(3,$B$7:B184)","v":4},"TXL2-156","航行 驳船","100km",null,{"v":32.5,"d":"32.50"},{"v":0,"d":"0.00"},{"v":0,"d":"0.00"},{"v":0,"d":"0.00"}]
[{"$f":"SUBTOTAL(3,$B$7:B185)","v":4},"TXL2-157","海中敷设海缆 自航船","千米条",null,23.63,{"v":0,"d":"0.00"},{"v":0,"d":"0.00"},{"v":0,"d":"0.00"}]
[{"$f":"SUBTOTAL(3,$B$7:B186)","v":4},"TXL2-158","海中敷设海缆 驳船","千米条",null,11.81,{"v":0,"d":"0.00"},{"v":0,"d":"0.00"},{"v":0,"d":"0.00"}]
[{"$f":"SUBTOTAL(3,$B$7:B187)","v":4},"TXL2-159","海中埋设海缆 自航船 埋深 3m 以上","千米条",null,79.89,{"v":0,"d":"0.00"},{"v":0,"d":"0.00"},{"v":0,"d":"0.00"}]
[{"$f":"SUBTOTAL(3,$B$7:B188)","v":4},"TXL2-160","海中埋设海缆 自航船 埋深 3m 以下","千米条",null,26.63,{"v":0,"d":"0.00"},{"v":0,"d":"0.00"},{"v":0,"d":"0.00"}]
[{"$f":"SUBTOTAL(3,$B$7:B189)","v":4},"TXL2-161","海中埋设海缆 驳船 埋深 3m 以上","千米条",null,35.42,{"v":0,"d":"0.00"},{"v":0,"d":"0.00"},{"v":0,"d":"0.00"}]
[{"$f":"SUBTOTAL(3,$B$7:B190)","v":4},"TXL2-162","海中埋设海缆 驳船 埋深 3m 以下","千米条",null,17.71,{"v":0,"d":"0.00"},{"v":0,"d":"0.00"},{"v":0,"d":"0.00"}]
[{"$f":"SUBTOTAL(3,$B$7:B191)","v":4},"TXL2-163","海底光缆接续 自航船","头",null,{"v":40,"d":"40.00"},{"v":20,"d":"20.00"},{"v":0,"d":"0.00"},{"v":0,"d":"0.00"}]
[{"$f":"SUBTOTAL(3,$B$7:B192)","v":4},"TXL2-164","海底光缆接续 驳船","头",null,{"v":40,"d":"40.00"},{"v":20,"d":"20.00"},{"v":0,"d":"0.00"},{"v":0,"d":"0.00"}]
[{"$f":"SUBTOTAL(3,$B$7:B193)","v":4},"TXL2-165","辅助船法敷设登陆海缆 自航船","端",null,{"v":10,"d":"10.00"},{"v":150,"d":"150.00"},{"v":0,"d":"0.00"},{"v":0,"d":"0.00"}]
[{"$f":"SUBTOTAL(3,$B$7:B194)","v":4},"TXL2-166","辅助船法敷设登陆海缆 驳船","端",null,{"v":10,"d":"10.00"},{"v":150,"d":"150.00"},{"v":0,"d":"0.00"},{"v":0,"d":"0.00"}]
[{"$f":"SUBTOTAL(3,$B$7:B195)","v":4},"TXL2-167","浮球法敷设登陆海缆 自航船","端",null,{"v":30,"d":"30.00"},{"v":150,"d":"150.00"},{"v":0,"d":"0.00"},{"v":0,"d":"0.00"}]
[{"$f":"SUBTOTAL(3,$B$7:B196)","v":4},"TXL2-168","浮球法敷设登陆海缆 驳船","端",null,{"v":30,"d":"30.00"},{"v":150,"d":"150.00"},{"v":0,"d":"0.00"},{"v":0,"d":"0.00"}]
[{"$f":"SUBTOTAL(3,$B$7:B197)","v":4},"TXL2-169","海底光缆冲埋 水深 20m 以下","百米条",null,{"v":10,"d":"10.00"},{"v":0,"d":"0.00"},{"v":0,"d":"0.00"},{"v":0,"d":"0.00"}]
[{"$f":"SUBTOTAL(3,$B$7:B198)","v":4},"TXL2-170","海底光缆冲埋 水深 20～30m","百米条",null,{"v":15,"d":"15.00"},{"v":0,"d":"0.00"},{"v":0,"d":"0.00"},{"v":0,"d":"0.00"}]
[{"$f":"SUBTOTAL(3,$B$7:B199)","v":4},"TXL2-171","水下机器人（ROV）后冲埋海底光缆 自航船","百米条",null,0.08,{"v":0,"d":"0.00"},{"v":0,"d":"0.00"},{"v":0,"d":"0.00"}]
[{"$f":"SUBTOTAL(3,$B$7:B200)","v":4},"TXL2-172","水下机器人（ROV）后冲埋海底光缆 驳船","百米条",null,0.08,{"v":0,"d":"0.00"},{"$f":"E200*F200","v":{"v":0,"d":"0.00"}},{"$f":"E200*G200","v":{"v":0,"d":"0.00"}}]
[{"$f":"SUBTOTAL(3,$B$7:B201)","v":4},"TXL2-173","水下安装 关节套管","m",null,{"v":0.5,"d":"0.50"},{"v":0.5,"d":"0.50"},{"v":0,"d":"0.00"},{"v":0,"d":"0.00"}]
[{"$f":"SUBTOTAL(3,$B$7:B202)","v":4},"TXL2-174","安装海缆铠装 固定装置","条",null,{"v":3,"d":"3.00"},{"v":10,"d":"10.00"},{"v":0,"d":"0.00"},{"v":0,"d":"0.00"}]
[{"$f":"SUBTOTAL(3,$B$7:B203)","v":4},"TXL2-175","铺水泥沙浆袋","m",null,{"v":0.1,"d":"0.10"},{"v":0.2,"d":"0.20"},{"v":0,"d":"0.00"},{"v":0,"d":"0.00"}]
[{"$f":"SUBTOTAL(3,$B$7:B204)","v":4},"TXL2-176","安装关节型套管","m",null,{"v":0.1,"d":"0.10"},{"v":0.1,"d":"0.10"},{"v":0,"d":"0.00"},{"v":0,"d":"0.00"}]
[{"$f":"SUBTOTAL(3,$B$7:B205)","v":4},"TXL2-177","安装水线地锚","个",null,{"v":5,"d":"5.00"},{"v":2,"d":"2.00"},{"v":0,"d":"0.00"},{"v":0,"d":"0.00"}]
[{"$f":"SUBTOTAL(3,$B$7:B206)","v":4},"TXL2-178","安装水下永久标桩","个",null,{"v":2,"d":"2.00"},{"v":2,"d":"2.00"},{"v":0,"d":"0.00"},{"v":0,"d":"0.00"}]
[{"$f":"SUBTOTAL(3,$B$7:B207)","v":4},"TXL2-179","安装霓虹灯 标志牌","块",null,{"v":15,"d":"15.00"},{"v":18,"d":"18.00"},{"v":0,"d":"0.00"},{"v":0,"d":"0.00"}]
[{"$f":"SUBTOTAL(3,$B$7:B208)","v":4},"TXL2-180","安装水线标志牌 8m 单杆边长 1.2m（无信号灯） 木质","块",null,{"v":6,"d":"6.00"},{"v":6,"d":"6.00"},{"v":0,"d":"0.00"},{"v":0,"d":"0.00"}]
[{"$f":"SUBTOTAL(3,$B$7:B209)","v":4},"TXL2-181","安装水线标志牌 8m 单杆边长 1.2m（无信号灯） 铁质","块",null,{"v":6,"d":"6.00"},{"v":6,"d":"6.00"},{"v":0,"d":"0.00"},{"v":0,"d":"0.00"}]
[{"$f":"SUBTOTAL(3,$B$7:B210)","v":4},"TXL2-182","安装水线标志牌 10m 以下双杆边长 2m（无信号灯） 木质","块",null,{"v":10,"d":"10.00"},{"v":10,"d":"10.00"},{"v":0,"d":"0.00"},{"v":0,"d":"0.00"}]
[{"$f":"SUBTOTAL(3,$B$7:B211)","v":4},"TXL2-183","安装水线标志牌 10m 以下双杆边长 2m（无信号灯） 铁质","块",null,{"v":10,"d":"10.00"},{"v":10,"d":"10.00"},{"v":0,"d":"0.00"},{"v":0,"d":"0.00"}]
[{"$f":"SUBTOTAL(3,$B$7:B212)","v":4},"TXL2-184","安装水线标志牌 10m 以下双杆边长 3m（无信号灯） 木质","块",null,{"v":10,"d":"10.00"},{"v":10,"d":"10.00"},{"v":0,"d":"0.00"},{"v":0,"d":"0.00"}]
[{"$f":"SUBTOTAL(3,$B$7:B213)","v":4},"TXL2-185","安装水线标志牌 10m 以下双杆边长 3m（无信号灯） 铁质","块",null,{"v":10,"d":"10.00"},{"v":10,"d":"10.00"},{"v":0,"d":"0.00"},{"v":0,"d":"0.00"}]
[{"$f":"SUBTOTAL(3,$B$7:B214)","v":4},"TXL2-186","安装水线标志牌 12m 以下双杆边长 3m（无信号灯） 木质","块",null,{"v":12,"d":"12.00"},{"v":14,"d":"14.00"},{"v":0,"d":"0.00"},{"v":0,"d":"0.00"}]
[{"$f":"SUBTOTAL(3,$B$7:B215)","v":4},"TXL2-187","安装水线标志牌 12m 以下双杆边长 3m（无信号灯） 铁质","块",null,{"v":12,"d":"12.00"},{"v":14,"d":"14.00"},{"v":0,"d":"0.00"},{"v":0,"d":"0.00"}]
[{"$f":"SUBTOTAL(3,$B$7:B216)","v":4},"TXL2-188","安装水线标志牌 安装标志牌 信号灯","块",null,{"v":1,"d":"1.00"},{"v":0,"d":"0.00"},{"v":0,"d":"0.00"},{"v":0,"d":"0.00"}]
[{"$f":"SUBTOTAL(3,$B$7:B217)","v":5},"TXL3-001","立 9m 以下水泥杆 综合土(丘陵*1.3系数)","根",{"v":6,"d":"6.000"},0.52,0.56,{"$f":"E217*F217*1.3","v":{"v":4.056,"d":"4.06"}},{"$f":"E217*G217*1.3","v":{"v":4.368,"d":"4.37"}}]
[{"$f":"SUBTOTAL(3,$B$7:B218)","v":5},"TXL3-002","立 9m 以下水泥杆 软石","根",null,{"v":0.6,"d":"0.60"},0.65,{"v":0,"d":"0.00"},{"v":0,"d":"0.00"}]
[{"$f":"SUBTOTAL(3,$B$7:B219)","v":5},"TXL3-003","立 9m 以下水泥杆 坚石","根",null,0.69,0.81,{"v":0,"d":"0.00"},{"v":0,"d":"0.00"}]
[{"$f":"SUBTOTAL(3,$B$7:B220)","v":5},"TXL3-004","立 11m 以下水泥杆 综合土(丘陵*1.3系数)","根",{"$f":"表四甲!E73","v":0},0.77,0.85,{"$f":"E220*F220*1.3","v":{"v":0,"d":"0.00"}},{"$f":"E220*G220*1.3","v":{"v":0,"d":"0.00"}}]
[{"$f":"SUBTOTAL(3,$B$7:B221)","v":5},"TXL3-005","立 11m 以下水泥杆 软石","根",null,0.85,0.98,{"v":0,"d":"0.00"},{"v":0,"d":"0.00"}]
[{"$f":"SUBTOTAL(3,$B$7:B222)","v":5},"TXL3-006","立 11m 以下水泥杆 坚石","根",null,0.94,1.27,{"v":0,"d":"0.00"},{"v":0,"d":"0.00"}]
[{"$f":"SUBTOTAL(3,$B$7:B223)","v":5},"TXL3-007","立 13m 以下水泥杆 综合土","根",null,1.02,1.23,{"v":0,"d":"0.00"},{"v":0,"d":"0.00"}]
[{"$f":"SUBTOTAL(3,$B$7:B224)","v":5},"TXL3-008","立 13m 以下水泥杆 软石","根",null,1.27,1.48,{"v":0,"d":"0.00"},{"v":0,"d":"0.00"}]
[{"$f":"SUBTOTAL(3,$B$7:B225)","v":5},"TXL3-009","立 13m 以下水泥杆 坚石","根",null,1.52,2.06,{"v":0,"d":"0.00"},{"v":0,"d":"0.00"}]
[{"$f":"SUBTOTAL(3,$B$7:B226)","v":5},"TXL3-010","立 13m 以下水泥 H 杆 综合土","座",null,1.92,3.38,{"v":0,"d":"0.00"},{"v":0,"d":"0.00"}]
[{"$f":"SUBTOTAL(3,$B$7:B227)","v":5},"TXL3-011","立 13m 以下水泥 H 杆 软石","座",null,2.02,3.92,{"v":0,"d":"0.00"},{"v":0,"d":"0.00"}]
[{"$f":"SUBTOTAL(3,$B$7:B228)","v":5},"TXL3-012","立 13m 以下水泥 H 杆 坚石","座",null,2.25,4.54,{"v":0,"d":"0.00"},{"v":0,"d":"0.00"}]
[{"$f":"SUBTOTAL(3,$B$7:B229)","v":5},"TXL3-013","立 8.5m 以下木电杆 综合土","根",null,0.36,0.36,{"v":0,"d":"0.00"},{"v":0,"d":"0.00"}]
[{"$f":"SUBTOTAL(3,$B$7:B230)","v":5},"TXL3-014","立 8.5m 以下木电杆 软石","根",null,0.52,1.33,{"v":0,"d":"0.00"},{"v":0,"d":"0.00"}]
[{"$f":"SUBTOTAL(3,$B$7:B231)","v":5},"TXL3-015","立 8.5m 以下木电杆 坚石","根",null,1.12,1.55,{"v":0,"d":"0.00"},{"v":0,"d":"0.00"}]
[{"$f":"SUBTOTAL(3,$B$7:B232)","v":5},"TXL3-016","立 10m 以下木电杆 综合土","根",null,0.52,0.52,{"v":0,"d":"0.00"},{"v":0,"d":"0.00"}]
[{"$f":"SUBTOTAL(3,$B$7:B233)","v":5},"TXL3-017","立 10m 以下木电杆 软石","根",null,0.82,{"v":2.2,"d":"2.20"},{"v":0,"d":"0.00"},{"v":0,"d":"0.00"}]
[{"$f":"SUBTOTAL(3,$B$7:B234)","v":5},"TXL3-018","立 10m 以下木电杆 坚石","根",null,1.67,2.31,{"v":0,"d":"0.00"},{"v":0,"d":"0.00"}]
[{"$f":"SUBTOTAL(3,$B$7:B235)","v":5},"TXL3-019","立 15m 以下品接杆 综合土","座",null,2.35,2.35,{"v":0,"d":"0.00"},{"v":0,"d":"0.00"}]
[{"$f":"SUBTOTAL(3,$B$7:B236)","v":5},"TXL3-020","立 15m 以下品接杆 软石","座",null,2.73,7.17,{"v":0,"d":"0.00"},{"v":0,"d":"0.00"}]
[{"$f":"SUBTOTAL(3,$B$7:B237)","v":5},"TXL3-021","立 15m 以下品接杆 坚石","座",null,4.46,7.81,{"v":0,"d":"0.00"},{"v":0,"d":"0.00"}]
[{"$f":"SUBTOTAL(3,$B$7:B238)","v":5},"TXL3-022","立 24m 以下特种品接杆 综合土","座",null,2.95,2.95,{"v":0,"d":"0.00"},{"v":0,"d":"0.00"}]
[{"$f":"SUBTOTAL(3,$B$7:B239)","v":5},"TXL3-023","立 24m 以下特种品接杆 软石","座",null,3.13,7.97,{"v":0,"d":"0.00"},{"v":0,"d":"0.00"}]
[{"$f":"SUBTOTAL(3,$B$7:B240)","v":5},"TXL3-024","立 24m 以下特种品接杆 坚石","座",null,6.06,8.41,{"v":0,"d":"0.00"},{"v":0,"d":"0.00"}]
[{"$f":"SUBTOTAL(3,$B$7:B241)","v":5},"TXL3-025","立 10m 以下 H 杆 综合土","座",null,1.54,1.54,{"v":0,"d":"0.00"},{"v":0,"d":"0.00"}]
[{"$f":"SUBTOTAL(3,$B$7:B242)","v":5},"TXL3-026","立 10m 以下 H 杆 软石","座",null,2.15,6.01,{"v":0,"d":"0.00"},{"v":0,"d":"0.00"}]
[{"$f":"SUBTOTAL(3,$B$7:B243)","v":5},"TXL3-027","立 10m 以下 H 杆 坚石","座",null,4.96,7.96,{"v":0,"d":"0.00"},{"v":0,"d":"0.00"}]
[{"$f":"SUBTOTAL(3,$B$7:B244)","v":5},"TXL3-028","立 15m 以下品接 H 杆 综合土","座",null,{"v":5.2,"d":"5.20"},{"v":5.2,"d":"5.20"},{"v":0,"d":"0.00"},{"v":0,"d":"0.00"}]
[{"$f":"SUBTOTAL(3,$B$7:B245)","v":5},"TXL3-029","立 15m 以下品接 H 杆 软石","座",null,5.42,13.12,{"v":0,"d":"0.00"},{"v":0,"d":"0.00"}]
[{"$f":"SUBTOTAL(3,$B$7:B246)","v":5},"TXL3-030","立 15m 以下品接 H 杆 坚石","座",null,10.58,{"v":14,"d":"14.00"},{"v":0,"d":"0.00"},{"v":0,"d":"0.00"}]
[{"$f":"SUBTOTAL(3,$B$7:B247)","v":5},"TXL3-031","立 24m 以下特种品接 H 杆 综合土","座",null,{"v":6.4,"d":"6.40"},{"v":6.4,"d":"6.40"},{"v":0,"d":"0.00"},{"v":0,"d":"0.00"}]
[{"$f":"SUBTOTAL(3,$B$7:B248)","v":5},"TXL3-032","立 24m 以下特种品接 H 杆 软石","座",null,6.22,14.72,{"v":0,"d":"0.00"},{"v":0,"d":"0.00"}]
[{"$f":"SUBTOTAL(3,$B$7:B249)","v":5},"TXL3-033","立 24m 以下特种品接 H 杆 坚石","座",null,11.78,{"v":15.2,"d":"15.20"},{"v":0,"d":"0.00"},{"v":0,"d":"0.00"}]
[{"$f":"SUBTOTAL(3,$B$7:B250)","v":5},"TXL3-034","电杆根部加固及保护 护桩","处",null,0.13,0.25,{"v":0,"d":"0.00"},{"v":0,"d":"0.00"}]
[{"$f":"SUBTOTAL(3,$B$7:B251)","v":5},"TXL3-035","电杆根部加固及保护 木围桩","处",null,1.87,{"v":3.6,"d":"3.60"},{"v":0,"d":"0.00"},{"v":0,"d":"0.00"}]
[{"$f":"SUBTOTAL(3,$B$7:B252)","v":5},"TXL3-036","电杆根部加固及保护 石笼","处",null,{"v":1.5,"d":"1.50"},{"v":3,"d":"3.00"},{"v":0,"d":"0.00"},{"v":0,"d":"0.00"}]
[{"$f":"SUBTOTAL(3,$B$7:B253)","v":5},"TXL3-037","电杆根部加固及保护 石护墩","处",null,{"v":1.9,"d":"1.90"},{"v":3.6,"d":"3.60"},{"v":0,"d":"0.00"},{"v":0,"d":"0.00"}]
[{"$f":"SUBTOTAL(3,$B$7:B254)","v":5},"TXL3-038","电杆根部加固及保护 卡盘","块",null,{"v":0.1,"d":"0.10"},0.25,{"v":0,"d":"0.00"},{"v":0,"d":"0.00"}]
[{"$f":"SUBTOTAL(3,$B$7:B255)","v":5},"TXL3-039","电杆根部加固及保护 底盘","块",null,{"v":0.1,"d":"0.10"},0.25,{"v":0,"d":"0.00"},{"v":0,"d":"0.00"}]
[{"$f":"SUBTOTAL(3,$B$7:B256)","v":5},"TXL3-040","电杆根部加固及保护 水泥帮桩","根",null,0.33,0.42,{"v":0,"d":"0.00"},{"v":0,"d":"0.00"}]
[{"$f":"SUBTOTAL(3,$B$7:B257)","v":5},"TXL3-041","电杆根部加固及保护 木帮桩","根",null,0.33,0.42,{"v":0,"d":"0.00"},{"v":0,"d":"0.00"}]
[{"$f":"SUBTOTAL(3,$B$7:B258)","v":5},"TXL3-042","电杆根部加固及保护 打桩单杆","处",null,{"v":12,"d":"12.00"},{"v":16.8,"d":"16.80"},{"v":0,"d":"0.00"},{"v":0,"d":"0.00"}]
[{"$f":"SUBTOTAL(3,$B$7:B259)","v":5},"TXL3-043","电杆根部加固及保护 打桩品接杆","处",null,25.68,35.52,{"v":0,"d":"0.00"},{"v":0,"d":"0.00"}]
[{"$f":"SUBTOTAL(3,$B$7:B260)","v":5},"TXL3-044","电杆根部加固及保护 打桩分水架","处",null,28.08,42.12,{"v":0,"d":"0.00"},{"v":0,"d":"0.00"}]
[{"$f":"SUBTOTAL(3,$B$7:B261)","v":5},"TXL3-045","装木撑杆 综合土","根",null,0.56,0.56,{"v":0,"d":"0.00"},{"v":0,"d":"0.00"}]
[{"$f":"SUBTOTAL(3,$B$7:B262)","v":5},"TXL3-046","装木撑杆 软石","根",null,0.57,{"v":1.1,"d":"1.10"},{"v":0,"d":"0.00"},{"v":0,"d":"0.00"}]
[{"$f":"SUBTOTAL(3,$B$7:B263)","v":5},"TXL3-047","装木撑杆 坚石","根",null,1.18,1.06,{"v":0,"d":"0.00"},{"v":0,"d":"0.00"}]
[{"$f":"SUBTOTAL(3,$B$7:B264)","v":5},"TXL3-048","装水泥撑杆 综合土","根",null,0.62,0.62,{"$f":"E264*F264","v":{"v":0,"d":"0.00"}},{"$f":"E264*G264","v":{"v":0,"d":"0.00"}}]
[{"$f":"SUBTOTAL(3,$B$7:B265)","v":5},"TXL3-049","装水泥撑杆 软石","根",null,0.73,1.42,{"v":0,"d":"0.00"},{"v":0,"d":"0.00"}]
[{"$f":"SUBTOTAL(3,$B$7:B266)","v":5},"TXL3-050","装水泥撑杆 坚石","根",null,1.46,1.32,{"v":0,"d":"0.00"},{"v":0,"d":"0.00"}]
[{"$f":"SUBTOTAL(3,$B$7:B267)","v":5},"TXL3-051","水泥杆夹板法装 7/2.2 单股拉线 综合土","条",null,0.78,{"v":0.6,"d":"0.60"},{"v":0,"d":"0.00"},{"v":0,"d":"0.00"}]
[{"$f":"SUBTOTAL(3,$B$7:B268)","v":5},"TXL3-052","水泥杆夹板法装 7/2.2 单股拉线 软石","条",null,0.94,1.63,{"v":0,"d":"0.00"},{"v":0,"d":"0.00"}]
[{"$f":"SUBTOTAL(3,$B$7:B269)","v":5},"TXL3-053","水泥杆夹板法装 7/2.2 单股拉线 坚石","条",null,1.76,0.07,{"v":0,"d":"0.00"},{"v":0,"d":"0.00"}]
[{"$f":"SUBTOTAL(3,$B$7:B270)","v":6},"TXL3-054","水泥杆夹板法装 7/2.6 单股拉线 综合土(丘陵*1.3系数)","条",{"$f":"Sheet1!U8","v":{"v":8,"d":"8.000"}},0.84,{"v":0.6,"d":"0.60"},{"$f":"E270*F270*1.3","v":{"v":8.736,"d":"8.74"}},{"$f":"E270*G270*1.3","v":6.24}]
[{"$f":"SUBTOTAL(3,$B$7:B271)","v":6},"TXL3-055","水泥杆夹板法装 7/2.6 单股拉线 软石","条",null,1.01,1.73,{"v":0,"d":"0.00"},{"v":0,"d":"0.00"}]
[{"$f":"SUBTOTAL(3,$B$7:B272)","v":6},"TXL3-056","水泥杆夹板法装 7/2.6 单股拉线 坚石","条",null,1.82,0.11,{"v":0,"d":"0.00"},{"v":0,"d":"0.00"}]
[{"$f":"SUBTOTAL(3,$B$7:B273)","v":6},"TXL3-057","水泥杆夹板法装 7/3.0 单股拉线 综合土","条",null,0.98,{"v":0.6,"d":"0.60"},{"v":0,"d":"0.00"},{"v":0,"d":"0.00"}]
[{"$f":"SUBTOTAL(3,$B$7:B274)","v":6},"TXL3-058","水泥杆夹板法装 7/3.0 单股拉线 软石","条",null,1.16,1.83,{"v":0,"d":"0.00"},{"v":0,"d":"0.00"}]
[{"$f":"SUBTOTAL(3,$B$7:B275)","v":6},"TXL3-059","水泥杆夹板法装 7/3.0 单股拉线 坚石","条",null,1.96,0.11,{"v":0,"d":"0.00"},{"v":0,"d":"0.00"}]
[{"$f":"SUBTOTAL(3,$B$7:B276)","v":6},"TXL3-060","水泥杆另缠法装 7/2.2 单股拉线 综合土","条",null,0.86,{"v":0.6,"d":"0.60"},{"v":0,"d":"0.00"},{"v":0,"d":"0.00"}]
[{"$f":"SUBTOTAL(3,$B$7:B277)","v":6},"TXL3-061","水泥杆另缠法装 7/2.2 单股拉线 软石","条",null,1.03,1.63,{"v":0,"d":"0.00"},{"v":0,"d":"0.00"}]
[{"$f":"SUBTOTAL(3,$B$7:B278)","v":6},"TXL3-062","水泥杆另缠法装 7/2.2 单股拉线 坚石","条",null,1.76,0.06,{"v":0,"d":"0.00"},{"v":0,"d":"0.00"}]
[{"$f":"SUBTOTAL(3,$B$7:B279)","v":6},"TXL3-063","水泥杆另缠法装 7/2.6 单股拉线 综合土","条",null,0.92,{"v":0.6,"d":"0.60"},{"v":0,"d":"0.00"},{"v":0,"d":"0.00"}]
[{"$f":"SUBTOTAL(3,$B$7:B280)","v":6},"TXL3-064","水泥杆另缠法装 7/2.6 单股拉线 软石","条",null,1.16,1.73,{"v":0,"d":"0.00"},{"v":0,"d":"0.00"}]
[{"$f":"SUBTOTAL(3,$B$7:B281)","v":6},"TXL3-065","水泥杆另缠法装 7/2.6 单股拉线 坚石","条",null,1.82,0.07,{"v":0,"d":"0.00"},{"v":0,"d":"0.00"}]
[{"$f":"SUBTOTAL(3,$B$7:B282)","v":6},"TXL3-066","水泥杆另缠法装 7/3.0 单股拉线 综合土","条",null,1.08,{"v":0.6,"d":"0.60"},{"v":0,"d":"0.00"},{"v":0,"d":"0.00"}]
[{"$f":"SUBTOTAL(3,$B$7:B283)","v":6},"TXL3-067","水泥杆另缠法装 7/3.0 单股拉线 软石","条",null,1.27,1.83,{"v":0,"d":"0.00"},{"v":0,"d":"0.00"}]
[{"$f":"SUBTOTAL(3,$B$7:B284)","v":6},"TXL3-068","水泥杆另缠法装 7/3.0 单股拉线 坚石","条",null,1.96,0.09,{"v":0,"d":"0.00"},{"v":0,"d":"0.00"}]
[{"$f":"SUBTOTAL(3,$B$7:B285)","v":6},"TXL3-069","水泥杆卡固法装 7/2.2 单股拉线 综合土","条",null,0.62,{"v":0.6,"d":"0.60"},{"v":0,"d":"0.00"},{"v":0,"d":"0.00"}]
[{"$f":"SUBTOTAL(3,$B$7:B286)","v":6},"TXL3-070","水泥杆卡固法装 7/2.2 单股拉线 软石","条",null,0.77,1.63,{"v":0,"d":"0.00"},{"v":0,"d":"0.00"}]
[{"$f":"SUBTOTAL(3,$B$7:B287)","v":6},"TXL3-071","水泥杆卡固法装 7/2.2 单股拉线 坚石","条",null,1.76,0.06,{"v":0,"d":"0.00"},{"v":0,"d":"0.00"}]
[{"$f":"SUBTOTAL(3,$B$7:B288)","v":6},"TXL3-072","水泥杆卡固法装 7/2.6 单股拉线 综合土","条",null,0.68,{"v":0.6,"d":"0.60"},{"v":0,"d":"0.00"},{"v":0,"d":"0.00"}]
[{"$f":"SUBTOTAL(3,$B$7:B289)","v":6},"TXL3-073","水泥杆卡固法装 7/2.6 单股拉线 软石","条",null,0.83,1.73,{"v":0,"d":"0.00"},{"v":0,"d":"0.00"}]
[{"$f":"SUBTOTAL(3,$B$7:B290)","v":6},"TXL3-074","水泥杆卡固法装 7/2.6 单股拉线 坚石","条",null,1.82,0.07,{"v":0,"d":"0.00"},{"v":0,"d":"0.00"}]
[{"$f":"SUBTOTAL(3,$B$7:B291)","v":6},"TXL3-075","水泥杆卡固法装 7/3.0 单股拉线 综合土","条",null,0.78,{"v":0.6,"d":"0.60"},{"v":0,"d":"0.00"},{"v":0,"d":"0.00"}]
[{"$f":"SUBTOTAL(3,$B$7:B292)","v":6},"TXL3-076","水泥杆卡固法装 7/3.0 单股拉线 软石","条",null,0.95,1.83,{"v":0,"d":"0.00"},{"v":0,"d":"0.00"}]
[{"$f":"SUBTOTAL(3,$B$7:B293)","v":6},"TXL3-077","水泥杆卡固法装 7/3.0 单股拉线 坚石","条",null,1.96,0.09,{"v":0,"d":"0.00"},{"v":0,"d":"0.00"}]
[{"$f":"SUBTOTAL(3,$B$7:B294)","v":6},"TXL3-078","木杆夹板法装 7/2.2 单股拉线 综合土","条",null,0.86,{"v":0.6,"d":"0.60"},{"v":0,"d":"0.00"},{"v":0,"d":"0.00"}]
[{"$f":"SUBTOTAL(3,$B$7:B295)","v":6},"TXL3-079","木杆夹板法装 7/2.2 单股拉线 软石","条",null,1.03,1.63,{"v":0,"d":"0.00"},{"v":0,"d":"0.00"}]
[{"$f":"SUBTOTAL(3,$B$7:B296)","v":6},"TXL3-080","木杆夹板法装 7/2.2 单股拉线 坚石","条",null,1.94,0.07,{"v":0,"d":"0.00"},{"v":0,"d":"0.00"}]
[{"$f":"SUBTOTAL(3,$B$7:B297)","v":6},"TXL3-081","木杆夹板法装 7/2.6 单股拉线 综合土","条",null,0.92,{"v":0.6,"d":"0.60"},{"v":0,"d":"0.00"},{"v":0,"d":"0.00"}]
[{"$f":"SUBTOTAL(3,$B$7:B298)","v":6},"TXL3-082","木杆夹板法装 7/2.6 单股拉线 软石","条",null,1.01,1.73,{"v":0,"d":"0.00"},{"v":0,"d":"0.00"}]
[{"$f":"SUBTOTAL(3,$B$7:B299)","v":6},"TXL3-083","木杆夹板法装 7/2.6 单股拉线 坚石","条",null,{"v":2,"d":"2.00"},0.11,{"v":0,"d":"0.00"},{"v":0,"d":"0.00"}]
[{"$f":"SUBTOTAL(3,$B$7:B300)","v":6},"TXL3-084","木杆夹板法装 7/3.0 单股拉线 综合土","条",null,1.08,{"v":0.6,"d":"0.60"},{"v":0,"d":"0.00"},{"v":0,"d":"0.00"}]
[{"$f":"SUBTOTAL(3,$B$7:B301)","v":6},"TXL3-085","木杆夹板法装 7/3.0 单股拉线 软石","条",null,1.27,1.83,{"v":0,"d":"0.00"},{"v":0,"d":"0.00"}]
[{"$f":"SUBTOTAL(3,$B$7:B302)","v":6},"TXL3-086","木杆夹板法装 7/3.0 单股拉线 坚石","条",null,2.12,0.11,{"v":0,"d":"0.00"},{"v":0,"d":"0.00"}]
[{"$f":"SUBTOTAL(3,$B$7:B303)","v":6},"TXL3-087","木杆另缠法装 7/2.2 单股拉线 综合土","条",null,0.95,{"v":0.6,"d":"0.60"},{"v":0,"d":"0.00"},{"v":0,"d":"0.00"}]
[{"$f":"SUBTOTAL(3,$B$7:B304)","v":6},"TXL3-088","木杆另缠法装 7/2.2 单股拉线 软石","条",null,1.59,1.63,{"v":0,"d":"0.00"},{"v":0,"d":"0.00"}]
[{"$f":"SUBTOTAL(3,$B$7:B305)","v":6},"TXL3-089","木杆另缠法装 7/2.2 单股拉线 坚石","条",null,1.94,0.06,{"v":0,"d":"0.00"},{"v":0,"d":"0.00"}]
[{"$f":"SUBTOTAL(3,$B$7:B306)","v":6},"TXL3-090","木杆另缠法装 7/2.6 单股拉线 综合土","条",null,1.05,{"v":0.6,"d":"0.60"},{"v":0,"d":"0.00"},{"v":0,"d":"0.00"}]
[{"$f":"SUBTOTAL(3,$B$7:B307)","v":6},"TXL3-091","木杆另缠法装 7/2.6 单股拉线 软石","条",null,1.49,1.73,{"v":0,"d":"0.00"},{"v":0,"d":"0.00"}]
[{"$f":"SUBTOTAL(3,$B$7:B308)","v":6},"TXL3-092","木杆另缠法装 7/2.6 单股拉线 坚石","条",null,{"v":2,"d":"2.00"},0.07,{"v":0,"d":"0.00"},{"v":0,"d":"0.00"}]
[{"$f":"SUBTOTAL(3,$B$7:B309)","v":6},"TXL3-093","木杆另缠法装 7/3.0 单股拉线 综合土","条",null,1.25,{"v":0.6,"d":"0.60"},{"v":0,"d":"0.00"},{"v":0,"d":"0.00"}]
[{"$f":"SUBTOTAL(3,$B$7:B310)","v":6},"TXL3-094","木杆另缠法装 7/3.0 单股拉线 软石","条",null,1.59,1.83,{"v":0,"d":"0.00"},{"v":0,"d":"0.00"}]
[{"$f":"SUBTOTAL(3,$B$7:B311)","v":6},"TXL3-095","木杆另缠法装 7/3.0 单股拉线 坚石","条",null,2.12,0.09,{"v":0,"d":"0.00"},{"v":0,"d":"0.00"}]
[{"$f":"SUBTOTAL(3,$B$7:B312)","v":6},"TXL3-096","木杆卡固法装 7/2.2 单股拉线 综合土","条",null,{"v":0.7,"d":"0.70"},{"v":0.6,"d":"0.60"},{"v":0,"d":"0.00"},{"v":0,"d":"0.00"}]
[{"$f":"SUBTOTAL(3,$B$7:B313)","v":6},"TXL3-097","木杆卡固法装 7/2.2 单股拉线 软石","条",null,0.85,1.63,{"v":0,"d":"0.00"},{"v":0,"d":"0.00"}]
[{"$f":"SUBTOTAL(3,$B$7:B314)","v":6},"TXL3-098","木杆卡固法装 7/2.2 单股拉线 坚石","条",null,1.76,0.07,{"v":0,"d":"0.00"},{"v":0,"d":"0.00"}]
[{"$f":"SUBTOTAL(3,$B$7:B315)","v":6},"TXL3-099","木杆卡固法装 7/2.6 单股拉线 综合土","条",null,0.75,{"v":0.6,"d":"0.60"},{"v":0,"d":"0.00"},{"v":0,"d":"0.00"}]
[{"$f":"SUBTOTAL(3,$B$7:B316)","v":6},"TXL3-100","木杆卡固法装 7/2.6 单股拉线 软石","条",null,0.92,1.73,{"v":0,"d":"0.00"},{"v":0,"d":"0.00"}]
[{"$f":"SUBTOTAL(3,$B$7:B317)","v":6},"TXL3-101","木杆卡固法装 7/2.6 单股拉线 坚石","条",null,1.82,0.07,{"v":0,"d":"0.00"},{"v":0,"d":"0.00"}]
[{"$f":"SUBTOTAL(3,$B$7:B318)","v":6},"TXL3-102","木杆卡固法装 7/3.0 单股拉线 综合土","条",null,0.88,{"v":0.6,"d":"0.60"},{"v":0,"d":"0.00"},{"v":0,"d":"0.00"}]
[{"$f":"SUBTOTAL(3,$B$7:B319)","v":6},"TXL3-103","木杆卡固法装 7/3.0 单股拉线 软石","条",null,1.05,1.83,{"v":0,"d":"0.00"},{"v":0,"d":"0.00"}]
[{"$f":"SUBTOTAL(3,$B$7:B320)","v":6},"TXL3-104","木杆卡固法装 7/3.0 单股拉线 坚石","条",null,1.96,0.09,{"v":0,"d":"0.00"},{"v":0,"d":"0.00"}]
[{"$f":"SUBTOTAL(3,$B$7:B321)","v":6},"TXL3-105","装设 2×7/2.6 拉线 综合土","处",null,1.42,{"v":0.8,"d":"0.80"},{"v":0,"d":"0.00"},{"v":0,"d":"0.00"}]
[{"$f":"SUBTOTAL(3,$B$7:B322)","v":6},"TXL3-106","装设 2×7/2.6 拉线 软石","处",null,1.75,{"v":2.6,"d":"2.60"},{"v":0,"d":"0.00"},{"v":0,"d":"0.00"}]
[{"$f":"SUBTOTAL(3,$B$7:B323)","v":6},"TXL3-107","装设 2×7/2.6 拉线 坚石","处",null,2.38,0.13,{"v":0,"d":"0.00"},{"v":0,"d":"0.00"}]
[{"$f":"SUBTOTAL(3,$B$7:B324)","v":6},"TXL3-108","装设 2×7/3.0 拉线 综合土","处",null,1.67,{"v":1,"d":"1.00"},{"v":0,"d":"0.00"},{"v":0,"d":"0.00"}]
[{"$f":"SUBTOTAL(3,$B$7:B325)","v":6},"TXL3-109","装设 2×7/3.0 拉线 软石","处",null,1.81,{"v":2.8,"d":"2.80"},{"v":0,"d":"0.00"},{"v":0,"d":"0.00"}]
[{"$f":"SUBTOTAL(3,$B$7:B326)","v":6},"TXL3-110","装设 2×7/3.0 拉线 坚石","处",null,2.63,0.16,{"v":0,"d":"0.00"},{"v":0,"d":"0.00"}]
[{"$f":"SUBTOTAL(3,$B$7:B327)","v":6},"TXL3-111","装设 7/2.2V 型拉线 综合土","处",null,1.21,{"v":0.9,"d":"0.90"},{"v":0,"d":"0.00"},{"v":0,"d":"0.00"}]
[{"$f":"SUBTOTAL(3,$B$7:B328)","v":6},"TXL3-112","装设 7/2.2V 型拉线 软石","处",null,1.37,{"v":3,"d":"3.00"},{"$f":"E328*F328","v":{"v":0,"d":"0.00"}},{"$f":"E328*G328","v":{"v":0,"d":"0.00"}}]
[{"$f":"SUBTOTAL(3,$B$7:B329)","v":6},"TXL3-113","装设 7/2.2V 型拉线 坚石","处",null,2.17,0.11,{"v":0,"d":"0.00"},{"v":0,"d":"0.00"}]
[{"$f":"SUBTOTAL(3,$B$7:B330)","v":6},"TXL3-114","装设 7/2.6V 型拉线 综合土","处",null,1.57,{"v":0.9,"d":"0.90"},{"v":0,"d":"0.00"},{"v":0,"d":"0.00"}]
[{"$f":"SUBTOTAL(3,$B$7:B331)","v":6},"TXL3-115","装设 7/2.6V 型拉线 软石","处",null,1.74,{"v":3.2,"d":"3.20"},{"v":0,"d":"0.00"},{"v":0,"d":"0.00"}]
[{"$f":"SUBTOTAL(3,$B$7:B332)","v":6},"TXL3-116","装设 7/2.6V 型拉线 坚石","处",null,2.53,0.16,{"v":0,"d":"0.00"},{"v":0,"d":"0.00"}]
[{"$f":"SUBTOTAL(3,$B$7:B333)","v":6},"TXL3-117","装设 7/3.0V 型拉线 综合土","处",null,2.38,{"v":1.6,"d":"1.60"},{"v":0,"d":"0.00"},{"v":0,"d":"0.00"}]
[{"$f":"SUBTOTAL(3,$B$7:B334)","v":6},"TXL3-118","装设 7/3.0V 型拉线 软石","处",null,2.55,{"v":3.6,"d":"3.60"},{"v":0,"d":"0.00"},{"v":0,"d":"0.00"}]
[{"$f":"SUBTOTAL(3,$B$7:B335)","v":6},"TXL3-119","装设 7/3.0V 型拉线 坚石","处",null,3.33,0.25,{"v":0,"d":"0.00"},{"v":0,"d":"0.00"}]
[{"$f":"SUBTOTAL(3,$B$7:B336)","v":6},"TXL3-120","装设 7/2.6 上 2 下 1V 型拉线 综合土","处",null,2.54,{"v":1.6,"d":"1.60"},{"v":0,"d":"0.00"},{"v":0,"d":"0.00"}]
[{"$f":"SUBTOTAL(3,$B$7:B337)","v":6},"TXL3-121","装设 7/2.6 上 2 下 1V 型拉线 软石","处",null,2.81,{"v":4.3,"d":"4.30"},{"v":0,"d":"0.00"},{"v":0,"d":"0.00"}]
[{"$f":"SUBTOTAL(3,$B$7:B338)","v":6},"TXL3-122","装设 7/2.6 上 2 下 1V 型拉线 坚石","处",null,2.88,{"v":0.2,"d":"0.20"},{"v":0,"d":"0.00"},{"v":0,"d":"0.00"}]
[{"$f":"SUBTOTAL(3,$B$7:B339)","v":6},"TXL3-123","装设 7/3.0 上 2 下 1V 型拉线 综合土","处",null,{"v":3.3,"d":"3.30"},{"v":1.8,"d":"1.80"},{"v":0,"d":"0.00"},{"v":0,"d":"0.00"}]
[{"$f":"SUBTOTAL(3,$B$7:B340)","v":6},"TXL3-124","装设 7/3.0 上 2 下 1V 型拉线 软石","处",null,{"v":3.7,"d":"3.70"},{"v":4.6,"d":"4.60"},{"v":0,"d":"0.00"},{"v":0,"d":"0.00"}]
[{"$f":"SUBTOTAL(3,$B$7:B341)","v":6},"TXL3-125","装设 7/3.0 上 2 下 1V 型拉线 坚石","处",null,3.75,{"v":0.3,"d":"0.30"},{"v":0,"d":"0.00"},{"v":0,"d":"0.00"}]
[{"$f":"SUBTOTAL(3,$B$7:B342)","v":6},"TXL3-126","装设 7/2.2 吊板拉线 综合土","处",null,0.94,{"v":0.6,"d":"0.60"},{"v":0,"d":"0.00"},{"v":0,"d":"0.00"}]
[{"$f":"SUBTOTAL(3,$B$7:B343)","v":6},"TXL3-127","装设 7/2.2 吊板拉线 软石","处",null,1.11,1.63,{"v":0,"d":"0.00"},{"v":0,"d":"0.00"}]
[{"$f":"SUBTOTAL(3,$B$7:B344)","v":6},"TXL3-128","装设 7/2.2 吊板拉线 坚石","处",null,2.11,0.07,{"v":0,"d":"0.00"},{"v":0,"d":"0.00"}]
[{"$f":"SUBTOTAL(3,$B$7:B345)","v":6},"TXL3-129","装设 7/2.6 吊板拉线 综合土","处",null,{"v":1,"d":"1.00"},{"v":0.7,"d":"0.70"},{"v":0,"d":"0.00"},{"v":0,"d":"0.00"}]
[{"$f":"SUBTOTAL(3,$B$7:B346)","v":6},"TXL3-130","装设 7/2.6 吊板拉线 软石","处",null,1.19,1.93,{"v":0,"d":"0.00"},{"v":0,"d":"0.00"}]
[{"$f":"SUBTOTAL(3,$B$7:B347)","v":6},"TXL3-131","装设 7/2.6 吊板拉线 坚石","处",null,2.18,0.08,{"v":0,"d":"0.00"},{"v":0,"d":"0.00"}]
[{"$f":"SUBTOTAL(3,$B$7:B348)","v":6},"TXL3-132","装设 7/3.0 吊板拉线 综合土","处",null,1.18,{"v":0.7,"d":"0.70"},{"v":0,"d":"0.00"},{"v":0,"d":"0.00"}]
[{"$f":"SUBTOTAL(3,$B$7:B349)","v":6},"TXL3-133","装设 7/3.0 吊板拉线 软石","处",null,1.37,1.93,{"v":0,"d":"0.00"},{"v":0,"d":"0.00"}]
[{"$f":"SUBTOTAL(3,$B$7:B350)","v":6},"TXL3-134","装设 7/3.0 吊板拉线 坚石","处",null,2.35,{"v":0.1,"d":"0.10"},{"v":0,"d":"0.00"},{"v":0,"d":"0.00"}]
[{"$f":"SUBTOTAL(3,$B$7:B351)","v":6},"TXL3-135","制作横木拉线地锚 7/2.6单条单下","个",null,{"v":0.4,"d":"0.40"},{"v":0.2,"d":"0.20"},{"v":0,"d":"0.00"},{"v":0,"d":"0.00"}]
[{"$f":"SUBTOTAL(3,$B$7:B352)","v":6},"TXL3-136","制作横木拉线地锚 7/3.0单条单下","个",null,0.42,{"v":0.2,"d":"0.20"},{"v":0,"d":"0.00"},{"v":0,"d":"0.00"}]
[{"$f":"SUBTOTAL(3,$B$7:B353)","v":6},"TXL3-137","制作横木拉线地锚 7/2.2单条双下","个",null,{"v":0.3,"d":"0.30"},{"v":0.2,"d":"0.20"},{"v":0,"d":"0.00"},{"v":0,"d":"0.00"}]
[{"$f":"SUBTOTAL(3,$B$7:B354)","v":6},"TXL3-138","制作横木拉线地锚 7/2.6单条双下","个",null,0.32,{"v":0.2,"d":"0.20"},{"v":0,"d":"0.00"},{"v":0,"d":"0.00"}]
[{"$f":"SUBTOTAL(3,$B$7:B355)","v":6},"TXL3-139","制作横木拉线地锚 7/3.0单条双下","个",null,0.34,{"v":0.2,"d":"0.20"},{"v":0,"d":"0.00"},{"v":0,"d":"0.00"}]
[{"$f":"SUBTOTAL(3,$B$7:B356)","v":6},"TXL3-140","制作横木拉线地锚 7/3.0双条四下","个",null,0.41,0.24,{"v":0,"d":"0.00"},{"v":0,"d":"0.00"}]
[{"$f":"SUBTOTAL(3,$B$7:B357)","v":6},"TXL3-141","制作横木拉线地锚 7/3.0三条六下","个",null,0.49,0.28,{"v":0,"d":"0.00"},{"v":0,"d":"0.00"}]
[{"$f":"SUBTOTAL(3,$B$7:B358)","v":6},"TXL3-142","安装拉 线隔电子","处",null,0.24,{"v":0.1,"d":"0.10"},{"v":0,"d":"0.00"},{"v":0,"d":"0.00"}]
[{"$f":"SUBTOTAL(3,$B$7:B359)","v":6},"TXL3-143","安装拉 线警示 保护管","处",null,{"v":0.2,"d":"0.20"},{"v":0.2,"d":"0.20"},{"v":0,"d":"0.00"},{"v":0,"d":"0.00"}]
[{"$f":"SUBTOTAL(3,$B$7:B360)","v":6},"TXL3-144","电杆接高装置 单槽钢","处",null,0.24,0.24,{"v":0,"d":"0.00"},{"v":0,"d":"0.00"}]
[{"$f":"SUBTOTAL(3,$B$7:B361)","v":6},"TXL3-145","电杆接高装置 双槽钢","处",null,{"v":0.4,"d":"0.40"},{"v":0.4,"d":"0.40"},{"v":0,"d":"0.00"},{"v":0,"d":"0.00"}]
[{"$f":"SUBTOTAL(3,$B$7:B362)","v":6},"TXL3-146","电杆地线 拉线式","条",null,0.07,{"v":0,"d":"0.00"},{"v":0,"d":"0.00"},{"v":0,"d":"0.00"}]
[{"$f":"SUBTOTAL(3,$B$7:B363)","v":6},"TXL3-147","电杆地线 直埋式","条",null,0.18,0.18,{"v":0,"d":"0.00"},{"v":0,"d":"0.00"}]
[{"$f":"SUBTOTAL(3,$B$7:B364)","v":6},"TXL3-148","电杆地线 延伸式","条",null,0.18,0.38,{"v":0,"d":"0.00"},{"v":0,"d":"0.00"}]
[{"$f":"SUBTOTAL(3,$B$7:B365)","v":6},"TXL3-149","安装预留 缆架","架",null,{"v":0.1,"d":"0.10"},{"v":0.1,"d":"0.10"},{"v":0,"d":"0.00"},{"v":0,"d":"0.00"}]
[{"$f":"SUBTOTAL(3,$B$7:B366)","v":6},"TXL3-150","安装吊线 保护装置","m",null,0.05,0.05,{"v":0,"d":"0.00"},{"v":0,"d":"0.00"}]
[{"$f":"SUBTOTAL(3,$B$7:B367)","v":6},"TXL3-151","单装上杆钉 10 只以下","处",null,0.12,0.12,{"v":0,"d":"0.00"},{"v":0,"d":"0.00"}]
[{"$f":"SUBTOTAL(3,$B$7:B368)","v":6},"TXL3-152","单装上杆钉 10 只以上","处",null,{"v":0.2,"d":"0.20"},{"v":0.2,"d":"0.20"},{"v":0,"d":"0.00"},{"v":0,"d":"0.00"}]
[{"$f":"SUBTOTAL(3,$B$7:B369)","v":6},"TXL3-153","安装工作台及上杆钉 单杆","处",null,{"v":0.5,"d":"0.50"},{"v":0.5,"d":"0.50"},{"v":0,"d":"0.00"},{"v":0,"d":"0.00"}]
[{"$f":"SUBTOTAL(3,$B$7:B370)","v":6},"TXL3-154","安装工作台及上杆钉 H 杆","处",null,{"v":1.6,"d":"1.60"},{"v":1.6,"d":"1.60"},{"v":0,"d":"0.00"},{"v":0,"d":"0.00"}]
[{"$f":"SUBTOTAL(3,$B$7:B371)","v":6},"TXL3-155","线路整修","千米条",null,8.93,8.93,{"v":0,"d":"0.00"},{"v":0,"d":"0.00"}]
[{"$f":"SUBTOTAL(3,$B$7:B372)","v":6},"TXL3-156","木电杆架设 7/2.2 吊线 平原","千米条",null,{"v":3,"d":"3.00"},3.25,{"v":0,"d":"0.00"},{"v":0,"d":"0.00"}]
[{"$f":"SUBTOTAL(3,$B$7:B373)","v":6},"TXL3-157","木电杆架设 7/2.2 吊线 丘陵","千米条",null,4.25,4.54,{"v":0,"d":"0.00"},{"v":0,"d":"0.00"}]
[{"$f":"SUBTOTAL(3,$B$7:B374)","v":6},"TXL3-158","木电杆架设 7/2.2 吊线 山区","千米条",null,4.67,4.86,{"v":0,"d":"0.00"},{"v":0,"d":"0.00"}]
[{"$f":"SUBTOTAL(3,$B$7:B375)","v":6},"TXL3-159","木电杆架设 7/2.2 吊线 城区","千米条",null,{"v":4.5,"d":"4.50"},{"v":4.9,"d":"4.90"},{"v":0,"d":"0.00"},{"v":0,"d":"0.00"}]
[{"$f":"SUBTOTAL(3,$B$7:B376)","v":6},"TXL3-160","木电杆架设 7/2.6 吊线 平原","千米条",null,3.18,3.43,{"v":0,"d":"0.00"},{"v":0,"d":"0.00"}]
[{"$f":"SUBTOTAL(3,$B$7:B377)","v":6},"TXL3-161","木电杆架设 7/2.6 吊线 丘陵","千米条",null,4.28,4.64,{"v":0,"d":"0.00"},{"v":0,"d":"0.00"}]
[{"$f":"SUBTOTAL(3,$B$7:B378)","v":6},"TXL3-162","木电杆架设 7/2.6 吊线 山区","千米条",null,{"v":4.7,"d":"4.70"},4.96,{"v":0,"d":"0.00"},{"v":0,"d":"0.00"}]
[{"$f":"SUBTOTAL(3,$B$7:B379)","v":6},"TXL3-163","木电杆架设 7/2.6 吊线 城区","千米条",null,4.53,4.98,{"v":0,"d":"0.00"},{"v":0,"d":"0.00"}]
[{"$f":"SUBTOTAL(3,$B$7:B380)","v":6},"TXL3-164","木电杆架设 7/3.0 吊线 平原","千米条",null,3.24,3.43,{"v":0,"d":"0.00"},{"v":0,"d":"0.00"}]
[{"$f":"SUBTOTAL(3,$B$7:B381)","v":6},"TXL3-165","木电杆架设 7/3.0 吊线 丘陵","千米条",null,4.33,4.76,{"v":0,"d":"0.00"},{"v":0,"d":"0.00"}]
[{"$f":"SUBTOTAL(3,$B$7:B382)","v":6},"TXL3-166","木电杆架设 7/3.0 吊线 山区","千米条",null,4.59,5.15,{"v":0,"d":"0.00"},{"v":0,"d":"0.00"}]
[{"$f":"SUBTOTAL(3,$B$7:B383)","v":6},"TXL3-167","木电杆架设 7/3.0 吊线 城区","千米条",null,4.59,5.15,{"v":0,"d":"0.00"},{"v":0,"d":"0.00"}]
[{"$f":"SUBTOTAL(3,$B$7:B384)","v":6},"TXL3-168","水泥杆架设 7/2.2 吊线 平原","千米条",null,{"v":3,"d":"3.00"},3.25,{"v":0,"d":"0.00"},{"v":0,"d":"0.00"}]
[{"$f":"SUBTOTAL(3,$B$7:B385)","v":7},"TXL3-169","水泥杆架设 7/2.2 吊线 丘陵","千米条",{"$f":"Sheet1!D12/1000","v":0.104},4.25,4.54,{"v":0.442,"d":"0.44"},{"v":0.47216,"d":"0.47"}]
[{"$f":"SUBTOTAL(3,$B$7:B386)","v":7},"TXL3-170","水泥杆架设 7/2.2 吊线 山区","千米条",null,4.67,4.86,{"v":0,"d":"0.00"},{"v":0,"d":"0.00"}]
[{"$f":"SUBTOTAL(3,$B$7:B387)","v":7},"TXL3-171","水泥杆架设 7/2.2 吊线 城区","千米条",null,{"v":4.5,"d":"4.50"},{"v":4.9,"d":"4.90"},{"v":0,"d":"0.00"},{"v":0,"d":"0.00"}]
[{"$f":"SUBTOTAL(3,$B$7:B388)","v":7},"TXL3-172","水泥杆架设 7/2.6 吊线 平原","千米条",null,3.18,3.43,{"v":0,"d":"0.00"},{"v":0,"d":"0.00"}]
[{"$f":"SUBTOTAL(3,$B$7:B389)","v":7},"TXL3-173","水泥杆架设 7/2.6 吊线 丘陵","千米条",null,4.28,4.64,{"v":0,"d":"0.00"},{"v":0,"d":"0.00"}]
[{"$f":"SUBTOTAL(3,$B$7:B390)","v":7},"TXL3-174","水泥杆架设 7/2.6 吊线 山区","千米条",null,{"v":4.7,"d":"4.70"},4.96,{"v":0,"d":"0.00"},{"v":0,"d":"0.00"}]
[{"$f":"SUBTOTAL(3,$B$7:B391)","v":7},"TXL3-175","水泥杆架设 7/2.6 吊线 城区","千米条",null,4.53,4.98,{"v":0,"d":"0.00"},{"v":0,"d":"0.00"}]
[{"$f":"SUBTOTAL(3,$B$7:B392)","v":7},"TXL3-176","水泥杆架设 7/3.0 吊线 平原","千米条",null,3.24,3.43,{"$f":"E392*F392","v":{"v":0,"d":"0.00"}},{"$f":"E392*G392","v":{"v":0,"d":"0.00"}}]
[{"$f":"SUBTOTAL(3,$B$7:B393)","v":7},"TXL3-177","水泥杆架设 7/3.0 吊线 丘陵","千米条",null,4.33,4.76,{"v":0,"d":"0.00"},{"v":0,"d":"0.00"}]
[{"$f":"SUBTOTAL(3,$B$7:B394)","v":7},"TXL3-178","水泥杆架设 7/3.0 吊线 山区","千米条",null,4.59,5.15,{"v":0,"d":"0.00"},{"v":0,"d":"0.00"}]
[{"$f":"SUBTOTAL(3,$B$7:B395)","v":7},"TXL3-179","水泥杆架设 7/3.0 吊线 城区","千米条",null,4.59,5.15,{"v":0,"d":"0.00"},{"v":0,"d":"0.00"}]
[{"$f":"SUBTOTAL(3,$B$7:B396)","v":7},"TXL3-180","架设 100m 以内 辅助吊线","条档",null,{"v":1,"d":"1.00"},{"v":1,"d":"1.00"},{"v":0,"d":"0.00"},{"v":0,"d":"0.00"}]
[{"$f":"SUBTOTAL(3,$B$7:B397)","v":7},"TXL3-181","架设自承式架空光缆 36 芯以下","千米条",null,6.48,10.31,{"v":0,"d":"0.00"},{"v":0,"d":"0.00"}]
[{"$f":"SUBTOTAL(3,$B$7:B398)","v":7},"TXL3-182","架设自承式架空光缆 72 芯以下","千米条",null,7.35,11.68,{"v":0,"d":"0.00"},{"v":0,"d":"0.00"}]
[{"$f":"SUBTOTAL(3,$B$7:B399)","v":7},"TXL3-183","架设自承式架空光缆 144 芯以下","千米条",null,8.21,13.05,{"v":0,"d":"0.00"},{"v":0,"d":"0.00"}]
[{"$f":"SUBTOTAL(3,$B$7:B400)","v":7},"TXL3-184","架设自承式架空光缆 288 芯以下","千米条",null,{"v":9.5,"d":"9.50"},14.85,{"v":0,"d":"0.00"},{"v":0,"d":"0.00"}]
[{"$f":"SUBTOTAL(3,$B$7:B401)","v":7},"TXL3-185","架设自承式架空光缆 288 芯以上","千米条",null,10.82,16.65,{"v":0,"d":"0.00"},{"v":0,"d":"0.00"}]
[{"$f":"SUBTOTAL(3,$B$7:B402)","v":7},"TXL3-186","架设自承式蝶形光缆","百米条",null,0.75,{"v":0.9,"d":"0.90"},{"v":0,"d":"0.00"},{"v":0,"d":"0.00"}]
[{"$f":"SUBTOTAL(3,$B$7:B403)","v":7},"TXL3-187","挂钩法架设架空光缆 平原 36 芯以下","千米条",null,6.31,5.13,{"v":0,"d":"0.00"},{"v":0,"d":"0.00"}]
[{"$f":"SUBTOTAL(3,$B$7:B404)","v":7},"TXL3-188","挂钩法架设架空光缆 平原 72 芯以下","千米条",null,7.52,5.81,{"v":0,"d":"0.00"},{"v":0,"d":"0.00"}]
[{"$f":"SUBTOTAL(3,$B$7:B405)","v":7},"TXL3-189","挂钩法架设架空光缆 平原 144 芯以下","千米条",null,8.25,6.52,{"v":0,"d":"0.00"},{"v":0,"d":"0.00"}]
[{"$f":"SUBTOTAL(3,$B$7:B406)","v":7},"TXL3-190","挂钩法架设架空光缆 平原 288 芯以下","千米条",null,8.71,8.12,{"v":0,"d":"0.00"},{"v":0,"d":"0.00"}]
[{"$f":"SUBTOTAL(3,$B$7:B407)","v":7},"TXL3-191","挂钩法架设架空光缆 平原 288 芯以上","千米条",null,9.15,8.56,{"v":0,"d":"0.00"},{"v":0,"d":"0.00"}]
[{"$f":"SUBTOTAL(3,$B$7:B408)","v":8},"TXL3-192","挂钩法架设架空光缆 丘陵、城区、水田 36 芯以下","千米条",{"$f":"SUM(Sheet1!C2:C7)/1000","v":0.676},8.68,6.86,{"v":5.86768,"d":"5.87"},{"v":4.63736,"d":"4.64"}]
[{"$f":"SUBTOTAL(3,$B$7:B409)","v":9},"TXL3-193","挂钩法架设架空光缆 丘陵、城区、水田 72 芯以下","千米条",{"$f":"Sheet1!C8/1000","v":0.312},9.93,7.79,{"v":3.09816,"d":"3.10"},{"v":2.43048,"d":"2.43"}]
[{"$f":"SUBTOTAL(3,$B$7:B410)","v":9},"TXL3-194","挂钩法架设架空光缆 丘陵、城区、水田 144 芯以下","千米条",{"$f":"Sheet1!C9","v":0},11.05,8.75,{"v":0,"d":"0.00"},{"v":0,"d":"0.00"}]
[{"$f":"SUBTOTAL(3,$B$7:B411)","v":9},"TXL3-195","挂钩法架设架空光缆 丘陵、城区、水田 288 芯以下","千米条",null,11.68,10.86,{"v":0,"d":"0.00"},{"v":0,"d":"0.00"}]
[{"$f":"SUBTOTAL(3,$B$7:B412)","v":9},"TXL3-196","挂钩法架设架空光缆 丘陵、城区、水田 288 芯以上","千米条",null,12.23,11.39,{"v":0,"d":"0.00"},{"v":0,"d":"0.00"}]
[{"$f":"SUBTOTAL(3,$B$7:B413)","v":9},"TXL3-197","挂钩法架设架空光缆 山区 36 芯以下","千米条",null,10.24,7.98,{"v":0,"d":"0.00"},{"v":0,"d":"0.00"}]
[{"$f":"SUBTOTAL(3,$B$7:B414)","v":9},"TXL3-198","挂钩法架设架空光缆 山区 72 芯以下","千米条",null,11.72,9.13,{"v":0,"d":"0.00"},{"v":0,"d":"0.00"}]
[{"$f":"SUBTOTAL(3,$B$7:B415)","v":9},"TXL3-199","挂钩法架设架空光缆 山区 144 芯以下","千米条",null,12.94,11.12,{"v":0,"d":"0.00"},{"v":0,"d":"0.00"}]
[{"$f":"SUBTOTAL(3,$B$7:B416)","v":9},"TXL3-200","挂钩法架设架空光缆 山区 288 芯以下","千米条",null,14.32,{"v":13.2,"d":"13.20"},{"v":0,"d":"0.00"},{"v":0,"d":"0.00"}]
[{"$f":"SUBTOTAL(3,$B$7:B417)","v":9},"TXL3-201","挂钩法架设架空光缆 山区 288 芯以上","千米条",null,15.25,{"v":14.1,"d":"14.10"},{"v":0,"d":"0.00"},{"v":0,"d":"0.00"}]
[{"$f":"SUBTOTAL(3,$B$7:B418)","v":9},"TXL3-202","挂钩法架设 蝶形光缆","百米条",null,0.85,0.61,{"v":0,"d":"0.00"},{"v":0,"d":"0.00"}]
[{"$f":"SUBTOTAL(3,$B$7:B419)","v":9},"TXL3-203","缠绕法架设架空光缆 平原 36 芯以下","千米条",null,{"v":7,"d":"7.00"},{"v":8,"d":"8.00"},{"v":0,"d":"0.00"},{"v":0,"d":"0.00"}]
[{"$f":"SUBTOTAL(3,$B$7:B420)","v":9},"TXL3-204","缠绕法架设架空光缆 平原 72 芯以下","千米条",null,{"v":7.9,"d":"7.90"},{"v":9.8,"d":"9.80"},{"v":0,"d":"0.00"},{"v":0,"d":"0.00"}]
[{"$f":"SUBTOTAL(3,$B$7:B421)","v":9},"TXL3-205","缠绕法架设架空光缆 平原 144 芯以下","千米条",null,{"v":8.8,"d":"8.80"},{"v":11.6,"d":"11.60"},{"v":0,"d":"0.00"},{"v":0,"d":"0.00"}]
[{"$f":"SUBTOTAL(3,$B$7:B422)","v":9},"TXL3-206","缠绕法架设架空光缆 平原 288 芯以下","千米条",null,{"v":9.7,"d":"9.70"},{"v":13.4,"d":"13.40"},{"v":0,"d":"0.00"},{"v":0,"d":"0.00"}]
[{"$f":"SUBTOTAL(3,$B$7:B423)","v":9},"TXL3-207","缠绕法架设架空光缆 平原 288 芯以上","千米条",null,{"v":10.6,"d":"10.60"},{"v":15.2,"d":"15.20"},{"v":0,"d":"0.00"},{"v":0,"d":"0.00"}]
[{"$f":"SUBTOTAL(3,$B$7:B424)","v":9},"TXL3-208","缠绕法架设架空光缆 丘陵、城区、水田 36 芯以下","千米条",null,{"v":9.8,"d":"9.80"},{"v":11.2,"d":"11.20"},{"v":0,"d":"0.00"},{"v":0,"d":"0.00"}]
[{"$f":"SUBTOTAL(3,$B$7:B425)","v":9},"TXL3-209","缠绕法架设架空光缆 丘陵、城区、水田 72 芯以下","千米条",null,{"v":10.7,"d":"10.70"},{"v":13,"d":"13.00"},{"v":0,"d":"0.00"},{"v":0,"d":"0.00"}]
[{"$f":"SUBTOTAL(3,$B$7:B426)","v":9},"TXL3-210","缠绕法架设架空光缆 丘陵、城区、水田 144 芯以下","千米条",null,{"v":11.6,"d":"11.60"},{"v":14.8,"d":"14.80"},{"v":0,"d":"0.00"},{"v":0,"d":"0.00"}]
[{"$f":"SUBTOTAL(3,$B$7:B427)","v":9},"TXL3-211","缠绕法架设架空光缆 丘陵、城区、水田 288 芯以下","千米条",null,{"v":12.5,"d":"12.50"},{"v":16.6,"d":"16.60"},{"v":0,"d":"0.00"},{"v":0,"d":"0.00"}]
[{"$f":"SUBTOTAL(3,$B$7:B428)","v":9},"TXL3-212","缠绕法架设架空光缆 丘陵、城区、水田 288 芯以上","千米条",null,{"v":13.4,"d":"13.40"},{"v":18.4,"d":"18.40"},{"v":0,"d":"0.00"},{"v":0,"d":"0.00"}]
[{"$f":"SUBTOTAL(3,$B$7:B429)","v":9},"TXL3-213","缠绕法架设架空光缆 山区 36 芯以下","千米条",null,{"v":11.9,"d":"11.90"},{"v":13.6,"d":"13.60"},{"v":0,"d":"0.00"},{"v":0,"d":"0.00"}]
[{"$f":"SUBTOTAL(3,$B$7:B430)","v":9},"TXL3-214","缠绕法架设架空光缆 山区 72 芯以下","千米条",null,{"v":12.8,"d":"12.80"},{"v":15.4,"d":"15.40"},{"v":0,"d":"0.00"},{"v":0,"d":"0.00"}]
[{"$f":"SUBTOTAL(3,$B$7:B431)","v":9},"TXL3-215","缠绕法架设架空光缆 山区 144 芯以下","千米条",null,{"v":13.7,"d":"13.70"},{"v":17.2,"d":"17.20"},{"v":0,"d":"0.00"},{"v":0,"d":"0.00"}]
[{"$f":"SUBTOTAL(3,$B$7:B432)","v":9},"TXL3-216","缠绕法架设架空光缆 山区 288 芯以下","千米条",null,{"v":14.6,"d":"14.60"},{"v":19,"d":"19.00"},{"v":0,"d":"0.00"},{"v":0,"d":"0.00"}]
[{"$f":"SUBTOTAL(3,$B$7:B433)","v":9},"TXL3-217","缠绕法架设架空光缆 山区 288 芯以上","千米条",null,{"v":15.5,"d":"15.50"},{"v":20.8,"d":"20.80"},{"v":0,"d":"0.00"},{"v":0,"d":"0.00"}]
[{"$f":"SUBTOTAL(3,$B$7:B434)","v":9},"TXL3-218","吊线式架空电缆 100 对以下","千米条",null,9.05,10.63,{"v":0,"d":"0.00"},{"v":0,"d":"0.00"}]
[{"$f":"SUBTOTAL(3,$B$7:B435)","v":9},"TXL3-219","吊线式架空电缆 200 对以下","千米条",null,11.84,13.89,{"v":0,"d":"0.00"},{"v":0,"d":"0.00"}]
[{"$f":"SUBTOTAL(3,$B$7:B436)","v":9},"TXL3-220","吊线式架空电缆 400 对以下","千米条",null,13.58,15.95,{"v":0,"d":"0.00"},{"v":0,"d":"0.00"}]
[{"$f":"SUBTOTAL(3,$B$7:B437)","v":9},"TXL3-221","架空自承式电缆 100 对以下","千米条",null,14.59,15.18,{"v":0,"d":"0.00"},{"v":0,"d":"0.00"}]
[{"$f":"SUBTOTAL(3,$B$7:B438)","v":9},"TXL3-222","架空自承式电缆 100 对以上","千米条",null,17.48,{"v":18.2,"d":"18.20"},{"v":0,"d":"0.00"},{"v":0,"d":"0.00"}]
[{"$f":"SUBTOTAL(3,$B$7:B439)","v":9},"TXL4-001","布放光（电）缆人孔抽水 积水","个",null,0.25,{"v":0.5,"d":"0.50"},{"v":0,"d":"0.00"},{"v":0,"d":"0.00"}]
[{"$f":"SUBTOTAL(3,$B$7:B440)","v":9},"TXL4-002","布放光（电）缆人孔抽水 流水","个",null,0.38,{"v":1,"d":"1.00"},{"v":0,"d":"0.00"},{"v":0,"d":"0.00"}]
[{"$f":"SUBTOTAL(3,$B$7:B441)","v":9},"TXL4-003","布放光（电）缆手孔抽水","个",null,0.13,0.25,{"v":0,"d":"0.00"},{"v":0,"d":"0.00"}]
[{"$f":"SUBTOTAL(3,$B$7:B442)","v":9},"TXL4-004","人工敷设塑料子管 1 孔子管","km",null,{"v":4,"d":"4.00"},5.57,{"v":0,"d":"0.00"},{"v":0,"d":"0.00"}]
[{"$f":"SUBTOTAL(3,$B$7:B443)","v":9},"TXL4-005","人工敷设塑料子管 2 孔子管","km",null,{"v":5.2,"d":"5.20"},8.13,{"v":0,"d":"0.00"},{"v":0,"d":"0.00"}]
[{"$f":"SUBTOTAL(3,$B$7:B444)","v":9},"TXL4-006","人工敷设塑料子管 3 孔子管","km",null,6.17,10.54,{"v":0,"d":"0.00"},{"v":0,"d":"0.00"}]
[{"$f":"SUBTOTAL(3,$B$7:B445)","v":9},"TXL4-007","人工敷设塑料子管 4 孔子管","km",null,7.13,12.96,{"v":0,"d":"0.00"},{"v":0,"d":"0.00"}]
[{"$f":"SUBTOTAL(3,$B$7:B446)","v":9},"TXL4-008","人工敷设塑料子管 5 孔子管","km",null,{"v":8.1,"d":"8.10"},15.37,{"v":0,"d":"0.00"},{"v":0,"d":"0.00"}]
[{"$f":"SUBTOTAL(3,$B$7:B447)","v":9},"TXL4-009","人工敷设一带纺织子管 空闲管孔中","km",null,3.63,5.15,{"v":0,"d":"0.00"},{"v":0,"d":"0.00"}]
[{"$f":"SUBTOTAL(3,$B$7:B448)","v":9},"TXL4-010","人工敷设一带纺织子管 非空闲管孔中","km",null,6.53,9.27,{"v":0,"d":"0.00"},{"v":0,"d":"0.00"}]
[{"$f":"SUBTOTAL(3,$B$7:B449)","v":10},"TXL4-011","敷设管道光缆 12 芯以下","千米条",{"$f":"(Sheet1!E4+Sheet1!E5)/1000","v":{"v":0.18,"d":"0.180"}},{"v":5.5,"d":"5.50"},10.94,0.99,{"v":1.9692,"d":"1.97"}]
[{"$f":"SUBTOTAL(3,$B$7:B450)","v":11},"TXL4-012","敷设管道光缆 24 芯以下","千米条",{"$f":"Sheet1!E6/1000","v":0.405},6.83,13.08,{"v":2.76615,"d":"2.77"},{"v":5.2974,"d":"5.30"}]
[{"$f":"SUBTOTAL(3,$B$7:B451)","v":12},"TXL4-013","敷设管道光缆 48 芯以下","千米条",{"$f":"Sheet1!E8/1000","v":{"v":0.27,"d":"0.270"}},8.02,15.35,{"v":2.1654,"d":"2.17"},{"v":4.1445,"d":"4.14"}]
[{"$f":"SUBTOTAL(3,$B$7:B452)","v":12},"TXL4-014","敷设管道光缆 96 芯以下","千米条",null,9.02,17.62,{"v":0,"d":"0.00"},{"v":0,"d":"0.00"}]
[{"$f":"SUBTOTAL(3,$B$7:B453)","v":12},"TXL4-015","敷设管道光缆 144 芯以下","千米条",null,{"v":10.4,"d":"10.40"},19.87,{"v":0,"d":"0.00"},{"v":0,"d":"0.00"}]
[{"$f":"SUBTOTAL(3,$B$7:B454)","v":12},"TXL4-016","敷设管道光缆 288 芯以下","千米条",null,11.44,21.86,{"v":0,"d":"0.00"},{"v":0,"d":"0.00"}]
[{"$f":"SUBTOTAL(3,$B$7:B455)","v":12},"TXL4-017","敷设管道光缆 576 芯以下","千米条",null,14.82,28.41,{"v":0,"d":"0.00"},{"v":0,"d":"0.00"}]
[{"$f":"SUBTOTAL(3,$B$7:B456)","v":12},"TXL4-018","敷设管道光缆 576 芯以上","千米条",null,19.33,36.43,{"$f":"E456*F456","v":{"v":0,"d":"0.00"}},{"$f":"E456*G456","v":{"v":0,"d":"0.00"}}]
[{"$f":"SUBTOTAL(3,$B$7:B457)","v":12},"TXL4-019","人工敷设管道电缆 200 对以下","千米条",null,11.76,20.03,{"v":0,"d":"0.00"},{"v":0,"d":"0.00"}]
[{"$f":"SUBTOTAL(3,$B$7:B458)","v":12},"TXL4-020","人工敷设管道电缆 400 对以下","千米条",null,13.94,23.74,{"v":0,"d":"0.00"},{"v":0,"d":"0.00"}]
[{"$f":"SUBTOTAL(3,$B$7:B459)","v":12},"TXL4-021","人工敷设管道电缆 800 对以下","千米条",null,17.79,30.26,{"v":0,"d":"0.00"},{"v":0,"d":"0.00"}]
[{"$f":"SUBTOTAL(3,$B$7:B460)","v":12},"TXL4-022","人工敷设管道电缆 1200 对以下","千米条",null,21.63,36.83,{"v":0,"d":"0.00"},{"v":0,"d":"0.00"}]
[{"$f":"SUBTOTAL(3,$B$7:B461)","v":12},"TXL4-023","人工敷设管道电缆 1800 对以下","千米条",null,24.48,41.67,{"v":0,"d":"0.00"},{"v":0,"d":"0.00"}]
[{"$f":"SUBTOTAL(3,$B$7:B462)","v":12},"TXL4-024","人工敷设管道电缆 2400 对以下","千米条",null,28.84,49.11,{"v":0,"d":"0.00"},{"v":0,"d":"0.00"}]
[{"$f":"SUBTOTAL(3,$B$7:B463)","v":12},"TXL4-025","人工敷设管道电缆 2400 对以上","千米条",null,34.81,59.28,{"v":0,"d":"0.00"},{"v":0,"d":"0.00"}]
[{"$f":"SUBTOTAL(3,$B$7:B464)","v":12},"TXL4-026","机械敷设管道电缆 200 对以下","千米条",null,{"v":9.2,"d":"9.20"},15.67,{"v":0,"d":"0.00"},{"v":0,"d":"0.00"}]
[{"$f":"SUBTOTAL(3,$B$7:B465)","v":12},"TXL4-027","机械敷设管道电缆 400 对以下","千米条",null,10.51,17.89,{"v":0,"d":"0.00"},{"v":0,"d":"0.00"}]
[{"$f":"SUBTOTAL(3,$B$7:B466)","v":12},"TXL4-028","机械敷设管道电缆 800 对以下","千米条",null,13.33,22.71,{"v":0,"d":"0.00"},{"v":0,"d":"0.00"}]
[{"$f":"SUBTOTAL(3,$B$7:B467)","v":12},"TXL4-029","机械敷设管道电缆 1200 对以下","千米条",null,16.08,27.39,{"v":0,"d":"0.00"},{"v":0,"d":"0.00"}]
[{"$f":"SUBTOTAL(3,$B$7:B468)","v":12},"TXL4-030","机械敷设管道电缆 1800 对以下","千米条",null,19.06,32.46,{"v":0,"d":"0.00"},{"v":0,"d":"0.00"}]
[{"$f":"SUBTOTAL(3,$B$7:B469)","v":12},"TXL4-031","机械敷设管道电缆 2400 对以下","千米条",null,22.58,38.45,{"v":0,"d":"0.00"},{"v":0,"d":"0.00"}]
[{"$f":"SUBTOTAL(3,$B$7:B470)","v":12},"TXL4-032","机械敷设管道电缆 2400 对以上","千米条",null,{"v":27.5,"d":"27.50"},46.82,{"v":0,"d":"0.00"},{"v":0,"d":"0.00"}]
[{"$f":"SUBTOTAL(3,$B$7:B471)","v":12},"TXL4-033","打人（手）孔墙洞 砖砌人孔 ３孔管以下","处",null,0.36,0.36,{"v":0,"d":"0.00"},{"v":0,"d":"0.00"}]
[{"$f":"SUBTOTAL(3,$B$7:B472)","v":12},"TXL4-034","打人（手）孔墙洞 砖砌人孔 ３孔管以上","处",null,0.54,0.54,{"v":0,"d":"0.00"},{"v":0,"d":"0.00"}]
[{"$f":"SUBTOTAL(3,$B$7:B473)","v":12},"TXL4-035","打人（手）孔墙洞 混凝土人孔 ３孔管以下","处",null,{"v":0.6,"d":"0.60"},{"v":0.6,"d":"0.60"},{"v":0,"d":"0.00"},{"v":0,"d":"0.00"}]
[{"$f":"SUBTOTAL(3,$B$7:B474)","v":12},"TXL4-036","打人（手）孔墙洞 混凝土人孔 ３孔管以上","处",null,{"v":0.9,"d":"0.90"},{"v":0.9,"d":"0.90"},{"v":0,"d":"0.00"},{"v":0,"d":"0.00"}]
[{"$f":"SUBTOTAL(3,$B$7:B475)","v":12},"TXL4-037","打穿楼墙洞 砖墙","个",null,0.07,0.06,{"v":0,"d":"0.00"},{"v":0,"d":"0.00"}]
[{"$f":"SUBTOTAL(3,$B$7:B476)","v":12},"TXL4-038","打穿楼墙洞 混凝土墙","个",null,0.14,0.13,{"v":0,"d":"0.00"},{"v":0,"d":"0.00"}]
[{"$f":"SUBTOTAL(3,$B$7:B477)","v":12},"TXL4-039","打穿楼层洞 预制板 楼层","个",null,0.07,0.06,{"v":0,"d":"0.00"},{"v":0,"d":"0.00"}]
[{"$f":"SUBTOTAL(3,$B$7:B478)","v":12},"TXL4-040","打穿楼层洞 混凝土 楼层","个",null,0.14,0.13,{"v":0,"d":"0.00"},{"v":0,"d":"0.00"}]
[{"$f":"SUBTOTAL(3,$B$7:B479)","v":12},"TXL4-041","增装支撑物 终端支撑物","套",null,{"v":0.3,"d":"0.30"},{"v":0.3,"d":"0.30"},{"v":0,"d":"0.00"},{"v":0,"d":"0.00"}]
[{"$f":"SUBTOTAL(3,$B$7:B480)","v":12},"TXL4-042","增装支撑物 中间支撑物","套",null,0.15,0.15,{"v":0,"d":"0.00"},{"v":0,"d":"0.00"}]
[{"$f":"SUBTOTAL(3,$B$7:B481)","v":13},"TXL4-043","安装引上钢管（φ50 以下） 杆上","套",{"v":2,"d":"2.000"},{"v":0.2,"d":"0.20"},{"v":0.2,"d":"0.20"},{"v":0.4,"d":"0.40"},{"v":0.4,"d":"0.40"}]
[{"$f":"SUBTOTAL(3,$B$7:B482)","v":13},"TXL4-044","安装引上钢管（φ50 以下） 墙上","套",null,0.25,0.25,{"v":0,"d":"0.00"},{"v":0,"d":"0.00"}]
[{"$f":"SUBTOTAL(3,$B$7:B483)","v":13},"TXL4-045","安装引上钢管（φ50 以上） 杆上","根",null,0.25,0.25,{"v":0,"d":"0.00"},{"v":0,"d":"0.00"}]
[{"$f":"SUBTOTAL(3,$B$7:B484)","v":13},"TXL4-046","安装引上钢管（φ50 以上） 墙上","根",null,0.35,0.35,{"v":0,"d":"0.00"},{"v":0,"d":"0.00"}]
[{"$f":"SUBTOTAL(3,$B$7:B485)","v":13},"TXL4-047","钉固塑料槽板","百米条",null,{"v":2.6,"d":"2.60"},{"v":2.6,"d":"2.60"},{"v":0,"d":"0.00"},{"v":0,"d":"0.00"}]
[{"$f":"SUBTOTAL(3,$B$7:B486)","v":13},"TXL4-048","进局光（电）缆防水封堵","处",null,0.13,0.13,{"v":0,"d":"0.00"},{"v":0,"d":"0.00"}]
[{"$f":"SUBTOTAL(3,$B$7:B487)","v":13},"TXL4-049","光（电）缆上线洞楼层间 防火封堵","处",null,0.06,0.06,{"v":0,"d":"0.00"},{"v":0,"d":"0.00"}]
[{"$f":"SUBTOTAL(3,$B$7:B488)","v":14},"TXL4-050","穿放引上光缆","条",{"v":38,"d":"38.000"},0.52,0.52,19.76,19.76]
[{"$f":"SUBTOTAL(3,$B$7:B489)","v":14},"TXL4-051","穿放引上电缆 200 对以下","条",null,0.42,0.42,{"v":0,"d":"0.00"},{"v":0,"d":"0.00"}]
[{"$f":"SUBTOTAL(3,$B$7:B490)","v":14},"TXL4-052","穿放引上电缆 200 对以上","条",null,0.46,0.46,{"v":0,"d":"0.00"},{"v":0,"d":"0.00"}]
[{"$f":"SUBTOTAL(3,$B$7:B491)","v":14},"TXL4-053","架设吊线式墙壁光缆*0.5","百米条",null,2.75,2.75,{"$f":"E491*F491*0.5","v":{"v":0,"d":"0.00"}},{"$f":"E491*G491*0.5","v":{"v":0,"d":"0.00"}}]
[{"$f":"SUBTOTAL(3,$B$7:B492)","v":14},"TXL4-054","布放钉固式墙壁光缆","百米条",null,1.76,1.76,{"v":0,"d":"0.00"},{"v":0,"d":"0.00"}]
[{"$f":"SUBTOTAL(3,$B$7:B493)","v":14},"TXL4-055","架挂自承式墙壁光缆","百米条",null,2.53,2.53,{"v":0,"d":"0.00"},{"v":0,"d":"0.00"}]
[{"$f":"SUBTOTAL(3,$B$7:B494)","v":14},"TXL4-056","墙壁方式敷设蝶形光缆","百米条",null,{"v":2,"d":"2.00"},{"v":2.5,"d":"2.50"},{"v":0,"d":"0.00"},{"v":0,"d":"0.00"}]
[{"$f":"SUBTOTAL(3,$B$7:B495)","v":14},"TXL4-057","架设吊线式墙壁电缆 200 对以下","百米条",null,5.23,5.23,{"v":0,"d":"0.00"},{"v":0,"d":"0.00"}]
[{"$f":"SUBTOTAL(3,$B$7:B496)","v":14},"TXL4-058","架设吊线式墙壁电缆 200 对以上","百米条",null,5.48,5.48,{"v":0,"d":"0.00"},{"v":0,"d":"0.00"}]
[{"$f":"SUBTOTAL(3,$B$7:B497)","v":14},"TXL4-059","布放钉固式墙壁电缆 200 对以下","百米条",null,3.34,3.34,{"v":0,"d":"0.00"},{"v":0,"d":"0.00"}]
[{"$f":"SUBTOTAL(3,$B$7:B498)","v":14},"TXL4-060","布放钉固式墙壁电缆 200 对以上","百米条",null,3.59,3.59,{"v":0,"d":"0.00"},{"v":0,"d":"0.00"}]
[{"$f":"SUBTOTAL(3,$B$7:B499)","v":14},"TXL4-061","架挂自承式墙壁电缆 100 对以下","百米条",null,4.81,4.81,{"v":0,"d":"0.00"},{"v":0,"d":"0.00"}]
[{"$f":"SUBTOTAL(3,$B$7:B500)","v":14},"TXL4-062","架挂自承式墙壁电缆 100 对以上","百米条",null,5.06,5.06,{"v":0,"d":"0.00"},{"v":0,"d":"0.00"}]
[{"$f":"SUBTOTAL(3,$B$7:B501)","v":14},"TXL5-001","城区气流法敷设微管 3 根以下","km",null,4.33,0.64,{"v":0,"d":"0.00"},{"v":0,"d":"0.00"}]
[{"$f":"SUBTOTAL(3,$B$7:B502)","v":14},"TXL5-002","城区气流法敷设微管 5 根以下","km",null,{"v":4.6,"d":"4.60"},{"v":1,"d":"1.00"},{"v":0,"d":"0.00"},{"v":0,"d":"0.00"}]
[{"$f":"SUBTOTAL(3,$B$7:B503)","v":14},"TXL5-003","城区气流法敷设微管 5 根以上","km",null,4.89,1.86,{"v":0,"d":"0.00"},{"v":0,"d":"0.00"}]
[{"$f":"SUBTOTAL(3,$B$7:B504)","v":14},"TXL5-004","非城区气流法敷设微管 3 根以下","km",null,3.76,0.56,{"v":0,"d":"0.00"},{"v":0,"d":"0.00"}]
[{"$f":"SUBTOTAL(3,$B$7:B505)","v":14},"TXL5-005","非城区气流法敷设微管 5 根以下","km",null,{"v":4,"d":"4.00"},0.87,{"v":0,"d":"0.00"},{"v":0,"d":"0.00"}]
[{"$f":"SUBTOTAL(3,$B$7:B506)","v":14},"TXL5-006","非城区气流法敷设微管 5 根以上","km",null,4.25,1.62,{"v":0,"d":"0.00"},{"v":0,"d":"0.00"}]
[{"$f":"SUBTOTAL(3,$B$7:B507)","v":14},"TXL5-007","城区人工布放微管 空闲保护管内 3 根以下","km",null,3.15,4.56,{"v":0,"d":"0.00"},{"v":0,"d":"0.00"}]
[{"$f":"SUBTOTAL(3,$B$7:B508)","v":14},"TXL5-008","城区人工布放微管 空闲保护管内 4 至 5 根","km",null,3.75,5.18,{"v":0,"d":"0.00"},{"v":0,"d":"0.00"}]
[{"$f":"SUBTOTAL(3,$B$7:B509)","v":14},"TXL5-009","城区人工布放微管 空闲保护管内 5 根以上每增加 2根","km",null,0.42,0.78,{"v":0,"d":"0.00"},{"v":0,"d":"0.00"}]
[{"$f":"SUBTOTAL(3,$B$7:B510)","v":14},"TXL5-010","城区人工布放微管 非空闲保护管内 3 根以下","km",null,6.55,{"v":7.5,"d":"7.50"},{"v":0,"d":"0.00"},{"v":0,"d":"0.00"}]
[{"$f":"SUBTOTAL(3,$B$7:B511)","v":14},"TXL5-011","城区人工布放微管 非空闲保护管内 4 至 5 根","km",null,{"v":7.1,"d":"7.10"},8.22,{"v":0,"d":"0.00"},{"v":0,"d":"0.00"}]
[{"$f":"SUBTOTAL(3,$B$7:B512)","v":14},"TXL5-012","城区人工布放微管 管道内人工布放 集束管","km",null,3.71,12.87,{"v":0,"d":"0.00"},{"v":0,"d":"0.00"}]
[{"$f":"SUBTOTAL(3,$B$7:B513)","v":14},"TXL5-013","保护管贯通","孔千米",null,{"v":0.8,"d":"0.80"},{"v":1.6,"d":"1.60"},{"v":0,"d":"0.00"},{"v":0,"d":"0.00"}]
[{"$f":"SUBTOTAL(3,$B$7:B514)","v":14},"TXL5-014","微管连接","处",null,{"v":0.3,"d":"0.30"},{"v":0.6,"d":"0.60"},{"v":0,"d":"0.00"},{"v":0,"d":"0.00"}]
[{"$f":"SUBTOTAL(3,$B$7:B515)","v":14},"TXL5-015","人（手）孔内安装微管保 护装置","套",null,{"v":1.1,"d":"1.10"},0.55,{"v":0,"d":"0.00"},{"v":0,"d":"0.00"}]
[{"$f":"SUBTOTAL(3,$B$7:B516)","v":14},"TXL5-016","混凝土路面开微槽 30m 以下","处",null,5.95,5.29,{"v":0,"d":"0.00"},{"v":0,"d":"0.00"}]
[{"$f":"SUBTOTAL(3,$B$7:B517)","v":14},"TXL5-017","混凝土路面开微槽 每增加 10m","10m",null,1.05,0.95,{"v":0,"d":"0.00"},{"v":0,"d":"0.00"}]
[{"$f":"SUBTOTAL(3,$B$7:B518)","v":14},"TXL5-018","沥青柏油路面开微槽 30m 以下","处",null,{"v":5.2,"d":"5.20"},4.75,{"v":0,"d":"0.00"},{"v":0,"d":"0.00"}]
[{"$f":"SUBTOTAL(3,$B$7:B519)","v":14},"TXL5-019","沥青柏油路面开微槽 每增加 10m","10m",null,{"v":0.9,"d":"0.90"},0.85,{"v":0,"d":"0.00"},{"v":0,"d":"0.00"}]
[{"$f":"SUBTOTAL(3,$B$7:B520)","v":14},"TXL5-020","平原地区气流法穿放光缆 36 芯以下","千米条",null,5.36,1.27,{"$f":"E520*F520","v":{"v":0,"d":"0.00"}},{"$f":"E520*G520","v":{"v":0,"d":"0.00"}}]
[{"$f":"SUBTOTAL(3,$B$7:B521)","v":14},"TXL5-021","平原地区气流法穿放光缆 72 芯以下","千米条",null,6.01,1.43,{"v":0,"d":"0.00"},{"v":0,"d":"0.00"}]
[{"$f":"SUBTOTAL(3,$B$7:B522)","v":14},"TXL5-022","平原地区气流法穿放光缆 144 芯以下","千米条",null,6.65,1.58,{"v":0,"d":"0.00"},{"v":0,"d":"0.00"}]
[{"$f":"SUBTOTAL(3,$B$7:B523)","v":14},"TXL5-023","平原地区气流法穿放光缆 288 芯以下","千米条",null,{"v":7.3,"d":"7.30"},1.74,{"v":0,"d":"0.00"},{"v":0,"d":"0.00"}]
[{"$f":"SUBTOTAL(3,$B$7:B524)","v":14},"TXL5-024","平原地区气流法穿放光缆 288 芯以上","千米条",null,7.94,1.89,{"v":0,"d":"0.00"},{"v":0,"d":"0.00"}]
[{"$f":"SUBTOTAL(3,$B$7:B525)","v":14},"TXL5-025","丘陵、城区、水田地区气流法穿放光缆 36 芯以下","千米条",null,6.16,1.47,{"v":0,"d":"0.00"},{"v":0,"d":"0.00"}]
[{"$f":"SUBTOTAL(3,$B$7:B526)","v":14},"TXL5-026","丘陵、城区、水田地区气流法穿放光缆 72 芯以下","千米条",null,6.91,1.65,{"v":0,"d":"0.00"},{"v":0,"d":"0.00"}]
[{"$f":"SUBTOTAL(3,$B$7:B527)","v":14},"TXL5-027","丘陵、城区、水田地区气流法穿放光缆 144 芯以下","千米条",null,7.65,1.82,{"v":0,"d":"0.00"},{"v":0,"d":"0.00"}]
[{"$f":"SUBTOTAL(3,$B$7:B528)","v":14},"TXL5-028","丘陵、城区、水田地区气流法穿放光缆 288 芯以下","千米条",null,8.39,{"v":2,"d":"2.00"},{"v":0,"d":"0.00"},{"v":0,"d":"0.00"}]
[{"$f":"SUBTOTAL(3,$B$7:B529)","v":14},"TXL5-029","丘陵、城区、水田地区气流法穿放光缆 288 芯以上","千米条",null,9.13,2.17,{"v":0,"d":"0.00"},{"v":0,"d":"0.00"}]
[{"$f":"SUBTOTAL(3,$B$7:B530)","v":14},"TXL5-030","山区气流法穿放光缆 36 芯以下","千米条",null,7.51,1.79,{"v":0,"d":"0.00"},{"v":0,"d":"0.00"}]
[{"$f":"SUBTOTAL(3,$B$7:B531)","v":14},"TXL5-031","山区气流法穿放光缆 72 芯以下","千米条",null,8.41,{"v":2,"d":"2.00"},{"v":0,"d":"0.00"},{"v":0,"d":"0.00"}]
[{"$f":"SUBTOTAL(3,$B$7:B532)","v":14},"TXL5-032","山区气流法穿放光缆 144 芯以下","千米条",null,9.31,2.22,{"v":0,"d":"0.00"},{"v":0,"d":"0.00"}]
[{"$f":"SUBTOTAL(3,$B$7:B533)","v":14},"TXL5-033","山区气流法穿放光缆 288 芯以下","千米条",null,10.22,2.43,{"v":0,"d":"0.00"},{"v":0,"d":"0.00"}]
[{"$f":"SUBTOTAL(3,$B$7:B534)","v":14},"TXL5-034","山区气流法穿放光缆 288 芯以上","千米条",null,11.12,2.65,{"v":0,"d":"0.00"},{"v":0,"d":"0.00"}]
[{"$f":"SUBTOTAL(3,$B$7:B535)","v":14},"TXL5-035","微管（集束管）贯通","孔千米",null,{"v":0.8,"d":"0.80"},{"v":1.5,"d":"1.50"},{"v":0,"d":"0.00"},{"v":0,"d":"0.00"}]
[{"$f":"SUBTOTAL(3,$B$7:B536)","v":14},"TXL5-036","人工敷设微槽 光缆","千米条",null,{"v":10.2,"d":"10.20"},1.85,{"v":0,"d":"0.00"},{"v":0,"d":"0.00"}]
[{"$f":"SUBTOTAL(3,$B$7:B537)","v":14},"TXL5-037","城区气流法敷设微型光缆 配盘长 2 公里以下","千米条",null,4.47,0.64,{"v":0,"d":"0.00"},{"v":0,"d":"0.00"}]
[{"$f":"SUBTOTAL(3,$B$7:B538)","v":14},"TXL5-038","城区气流法敷设微型光缆 配盘长 2 公里以上","千米条",null,6.71,0.96,{"v":0,"d":"0.00"},{"v":0,"d":"0.00"}]
[{"$f":"SUBTOTAL(3,$B$7:B539)","v":14},"TXL5-039","非城区气流法敷设微型光缆 配盘长 2 公里以下","千米条",null,3.01,0.46,{"v":0,"d":"0.00"},{"v":0,"d":"0.00"}]
[{"$f":"SUBTOTAL(3,$B$7:B540)","v":14},"TXL5-040","非城区气流法敷设微型光缆 配盘长 2 公里以上","千米条",null,4.52,0.65,{"v":0,"d":"0.00"},{"v":0,"d":"0.00"}]
[{"$f":"SUBTOTAL(3,$B$7:B541)","v":14},"TXL5-041","托板式敷设室内通道光缆","百米条",null,{"v":0.6,"d":"0.60"},{"v":1.2,"d":"1.20"},{"v":0,"d":"0.00"},{"v":0,"d":"0.00"}]
[{"$f":"SUBTOTAL(3,$B$7:B542)","v":14},"TXL5-042","定固式敷设室内通道光缆","百米条",null,{"v":1.2,"d":"1.20"},{"v":1.8,"d":"1.80"},{"v":0,"d":"0.00"},{"v":0,"d":"0.00"}]
[{"$f":"SUBTOTAL(3,$B$7:B543)","v":14},"TXL5-043","竖井引上光缆","百米条",null,{"v":1.5,"d":"1.50"},{"v":2,"d":"2.00"},{"v":0,"d":"0.00"},{"v":0,"d":"0.00"}]
[{"$f":"SUBTOTAL(3,$B$7:B544)","v":14},"TXL5-044","槽道光缆","百米条",null,{"v":0.5,"d":"0.50"},{"v":0.5,"d":"0.50"},{"v":0,"d":"0.00"},{"v":0,"d":"0.00"}]
[{"$f":"SUBTOTAL(3,$B$7:B545)","v":14},"TXL5-045","槽道电缆","百米条",null,0.65,0.65,{"v":0,"d":"0.00"},{"v":0,"d":"0.00"}]
[{"$f":"SUBTOTAL(3,$B$7:B546)","v":14},"TXL5-046","顶棚内光（电）缆","百米条",null,{"v":1,"d":"1.00"},{"v":1,"d":"1.00"},{"v":0,"d":"0.00"},{"v":0,"d":"0.00"}]
[{"$f":"SUBTOTAL(3,$B$7:B547)","v":14},"TXL5-047","开槽 砖槽","m",null,0.01,0.05,{"v":0,"d":"0.00"},{"v":0,"d":"0.00"}]
[{"$f":"SUBTOTAL(3,$B$7:B548)","v":14},"TXL5-048","开槽 混凝土槽","m",null,0.01,0.18,{"v":0,"d":"0.00"},{"v":0,"d":"0.00"}]
[{"$f":"SUBTOTAL(3,$B$7:B549)","v":14},"TXL5-049","敷设钢管 φ25 以下","100ｍ",null,{"v":1.5,"d":"1.50"},4.13,{"v":0,"d":"0.00"},{"v":0,"d":"0.00"}]
[{"$f":"SUBTOTAL(3,$B$7:B550)","v":14},"TXL5-050","敷设钢管 φ50 以下","100ｍ",null,{"v":2,"d":"2.00"},5.13,{"v":0,"d":"0.00"},{"v":0,"d":"0.00"}]
[{"$f":"SUBTOTAL(3,$B$7:B551)","v":14},"TXL5-051","敷设硬质 PVC 管 φ25 以下","100ｍ",null,0.94,{"v":3,"d":"3.00"},{"v":0,"d":"0.00"},{"v":0,"d":"0.00"}]
[{"$f":"SUBTOTAL(3,$B$7:B552)","v":14},"TXL5-052","敷设硬质 PVC 管 φ50 以下","100ｍ",null,{"v":1.5,"d":"1.50"},4.13,{"v":0,"d":"0.00"},{"v":0,"d":"0.00"}]
[{"$f":"SUBTOTAL(3,$B$7:B553)","v":14},"TXL5-053","敷设金属软管","根",null,{"v":0,"d":"0.00"},{"v":0.1,"d":"0.10"},{"v":0,"d":"0.00"},{"v":0,"d":"0.00"}]
[{"$f":"SUBTOTAL(3,$B$7:B554)","v":14},"TXL5-054","敷设金属线槽 150 宽以下","100m",null,3.27,6.63,{"v":0,"d":"0.00"},{"v":0,"d":"0.00"}]
[{"$f":"SUBTOTAL(3,$B$7:B555)","v":14},"TXL5-055","敷设金属线槽 300 宽以下","100m",null,4.17,8.43,{"v":0,"d":"0.00"},{"v":0,"d":"0.00"}]
[{"$f":"SUBTOTAL(3,$B$7:B556)","v":14},"TXL5-056","敷设金属线槽 300 宽以上","100m",null,7.13,11.38,{"v":0,"d":"0.00"},{"v":0,"d":"0.00"}]
[{"$f":"SUBTOTAL(3,$B$7:B557)","v":14},"TXL5-057","敷设塑料线槽 100 宽以下","100m",null,2.45,4.99,{"v":0,"d":"0.00"},{"v":0,"d":"0.00"}]
[{"$f":"SUBTOTAL(3,$B$7:B558)","v":14},"TXL5-058","敷设塑料线槽 100 宽以上","100m",null,2.65,5.38,{"v":0,"d":"0.00"},{"v":0,"d":"0.00"}]
[{"$f":"SUBTOTAL(3,$B$7:B559)","v":14},"TXL5-059","安装吊装式桥架 100 宽以下","10m",null,0.28,1.33,{"v":0,"d":"0.00"},{"v":0,"d":"0.00"}]
[{"$f":"SUBTOTAL(3,$B$7:B560)","v":14},"TXL5-060","安装吊装式桥架 300 宽以下","10m",null,0.32,1.46,{"v":0,"d":"0.00"},{"v":0,"d":"0.00"}]
[{"$f":"SUBTOTAL(3,$B$7:B561)","v":14},"TXL5-061","安装吊装式桥架 300 宽以上","10m",null,0.35,1.61,{"v":0,"d":"0.00"},{"v":0,"d":"0.00"}]
[{"$f":"SUBTOTAL(3,$B$7:B562)","v":14},"TXL5-062","安装支撑式桥架 100 宽以下","10m",null,0.22,1.01,{"v":0,"d":"0.00"},{"v":0,"d":"0.00"}]
[{"$f":"SUBTOTAL(3,$B$7:B563)","v":14},"TXL5-063","安装支撑式桥架 300 宽以下","10m",null,0.24,1.11,{"v":0,"d":"0.00"},{"v":0,"d":"0.00"}]
[{"$f":"SUBTOTAL(3,$B$7:B564)","v":14},"TXL5-064","安装支撑式桥架 300 宽以上","10m",null,0.26,1.22,{"v":0,"d":"0.00"},{"v":0,"d":"0.00"}]
[{"$f":"SUBTOTAL(3,$B$7:B565)","v":14},"TXL5-065","垂直安装桥架 100 宽以下","10m",null,0.13,0.54,{"v":0,"d":"0.00"},{"v":0,"d":"0.00"}]
[{"$f":"SUBTOTAL(3,$B$7:B566)","v":14},"TXL5-066","垂直安装桥架 300 宽以下","10m",null,0.17,0.71,{"v":0,"d":"0.00"},{"v":0,"d":"0.00"}]
[{"$f":"SUBTOTAL(3,$B$7:B567)","v":14},"TXL5-067","垂直安装桥架 300 宽以上","10m",null,0.22,0.92,{"v":0,"d":"0.00"},{"v":0,"d":"0.00"}]
[{"$f":"SUBTOTAL(3,$B$7:B568)","v":14},"TXL5-068","管、暗槽内穿 放光缆","百米条",null,0.49,0.49,{"v":0,"d":"0.00"},{"v":0,"d":"0.00"}]
[{"$f":"SUBTOTAL(3,$B$7:B569)","v":14},"TXL5-069","管、暗槽内穿放电缆 4 对对绞电缆","百米条",null,0.45,0.45,{"v":0,"d":"0.00"},{"v":0,"d":"0.00"}]
[{"$f":"SUBTOTAL(3,$B$7:B570)","v":14},"TXL5-070","管、暗槽内穿放电缆 非屏蔽 50 对以下","百米条",null,0.55,0.55,{"v":0,"d":"0.00"},{"v":0,"d":"0.00"}]
[{"$f":"SUBTOTAL(3,$B$7:B571)","v":14},"TXL5-071","管、暗槽内穿放电缆 非屏蔽 100 对以下","百米条",null,{"v":0.7,"d":"0.70"},{"v":0.7,"d":"0.70"},{"v":0,"d":"0.00"},{"v":0,"d":"0.00"}]
[{"$f":"SUBTOTAL(3,$B$7:B572)","v":14},"TXL5-072","管、暗槽内穿放电缆 屏蔽 50 对以下","百米条",null,0.65,0.65,{"v":0,"d":"0.00"},{"v":0,"d":"0.00"}]
[{"$f":"SUBTOTAL(3,$B$7:B573)","v":14},"TXL5-073","管、暗槽内穿放电缆 屏蔽 100 对以下","百米条",null,{"v":0.9,"d":"0.90"},{"v":0.9,"d":"0.90"},{"v":0,"d":"0.00"},{"v":0,"d":"0.00"}]
[{"$f":"SUBTOTAL(3,$B$7:B574)","v":14},"TXL5-074","桥架、线槽、 网络地板内明 布光缆","百米条",null,{"v":0.4,"d":"0.40"},{"v":0.4,"d":"0.40"},{"v":0,"d":"0.00"},{"v":0,"d":"0.00"}]
[{"$f":"SUBTOTAL(3,$B$7:B575)","v":14},"TXL5-075","桥架、线槽、网络地板内明布电缆 4 对对绞电缆","百米条",null,{"v":0.4,"d":"0.40"},{"v":0.4,"d":"0.40"},{"v":0,"d":"0.00"},{"v":0,"d":"0.00"}]
[{"$f":"SUBTOTAL(3,$B$7:B576)","v":14},"TXL5-076","桥架、线槽、网络地板内明布电缆 非屏蔽 50 对以下","百米条",null,{"v":0.5,"d":"0.50"},{"v":0.5,"d":"0.50"},{"v":0,"d":"0.00"},{"v":0,"d":"0.00"}]
[{"$f":"SUBTOTAL(3,$B$7:B577)","v":14},"TXL5-077","桥架、线槽、网络地板内明布电缆 非屏蔽 100 对以下","百米条",null,{"v":0.6,"d":"0.60"},{"v":0.6,"d":"0.60"},{"v":0,"d":"0.00"},{"v":0,"d":"0.00"}]
[{"$f":"SUBTOTAL(3,$B$7:B578)","v":14},"TXL5-078","桥架、线槽、网络地板内明布电缆 屏蔽 50 对以下","百米条",null,0.55,0.55,{"v":0,"d":"0.00"},{"v":0,"d":"0.00"}]
[{"$f":"SUBTOTAL(3,$B$7:B579)","v":14},"TXL5-079","桥架、线槽、网络地板内明布电缆 屏蔽 100 对以下","百米条",null,{"v":0.8,"d":"0.80"},{"v":0.8,"d":"0.80"},{"v":0,"d":"0.00"},{"v":0,"d":"0.00"}]
[{"$f":"SUBTOTAL(3,$B$7:B580)","v":14},"TXL6-001","光缆掏纤 4 芯以下","处",null,0.75,{"v":0,"d":"0.00"},{"v":0,"d":"0.00"},{"v":0,"d":"0.00"}]
[{"$f":"SUBTOTAL(3,$B$7:B581)","v":14},"TXL6-002","光缆掏纤 每增加 2 芯","芯",null,0.09,{"v":0,"d":"0.00"},{"v":0,"d":"0.00"},{"v":0,"d":"0.00"}]
[{"$f":"SUBTOTAL(3,$B$7:B582)","v":14},"TXL6-003","机械法光缆接续","芯",null,{"v":0.1,"d":"0.10"},{"v":0,"d":"0.00"},{"v":0,"d":"0.00"},{"v":0,"d":"0.00"}]
[{"$f":"SUBTOTAL(3,$B$7:B583)","v":14},"TXL6-004","现场组装光纤活 动连接器","芯",null,0.08,{"v":0,"d":"0.00"},{"v":0,"d":"0.00"},{"v":0,"d":"0.00"}]
[{"$f":"SUBTOTAL(3,$B$7:B584)","v":14},"TXL6-005","光缆成端接头 束状","芯",null,0.15,{"v":0,"d":"0.00"},{"$f":"E584*F584","v":{"v":0,"d":"0.00"}},{"$f":"E584*G584","v":{"v":0,"d":"0.00"}}]
[{"$f":"SUBTOTAL(3,$B$7:B585)","v":14},"TXL6-006","光缆成端接头 带状","芯",null,0.05,{"v":0,"d":"0.00"},{"v":0,"d":"0.00"},{"v":0,"d":"0.00"}]
[{"$f":"SUBTOTAL(3,$B$7:B586)","v":14},"TXL6-007","光缆接续 4 芯以下","头",{"$f":"Sheet1!I2","v":0},{"v":0.5,"d":"0.50"},{"v":0,"d":"0.00"},{"v":0,"d":"0.00"},{"v":0,"d":"0.00"}]
[{"$f":"SUBTOTAL(3,$B$7:B587)","v":15},"TXL6-008","光缆接续 12 芯以下","头",{"$f":"SUM(Sheet1!I3:I5)","v":{"v":8,"d":"8.000"}},{"v":1.5,"d":"1.50"},{"v":0,"d":"0.00"},{"v":12,"d":"12.00"},{"v":0,"d":"0.00"}]
[{"$f":"SUBTOTAL(3,$B$7:B588)","v":16},"TXL6-009","光缆接续 24 芯以下","头",{"$f":"Sheet1!I6","v":{"v":18,"d":"18.000"}},2.49,{"v":0,"d":"0.00"},44.82,{"v":0,"d":"0.00"}]
[{"$f":"SUBTOTAL(3,$B$7:B589)","v":16},"TXL6-010","光缆接续 36 芯以下","头",{"$f":"Sheet1!I7","v":0},3.42,{"v":0,"d":"0.00"},{"v":0,"d":"0.00"},{"v":0,"d":"0.00"}]
[{"$f":"SUBTOTAL(3,$B$7:B590)","v":17},"TXL6-011","光缆接续 48 芯以下","头",{"$f":"Sheet1!I8","v":{"v":12,"d":"12.000"}},4.29,{"v":0,"d":"0.00"},51.48,{"v":0,"d":"0.00"}]
[{"$f":"SUBTOTAL(3,$B$7:B591)","v":17},"TXL6-012","光缆接续 60 芯以下","头",null,{"v":5.1,"d":"5.10"},{"v":0,"d":"0.00"},{"v":0,"d":"0.00"},{"v":0,"d":"0.00"}]
[{"$f":"SUBTOTAL(3,$B$7:B592)","v":17},"TXL6-013","光缆接续 72 芯以下","头",null,{"v":5.9,"d":"5.90"},{"v":0,"d":"0.00"},{"v":0,"d":"0.00"},{"v":0,"d":"0.00"}]
[{"$f":"SUBTOTAL(3,$B$7:B593)","v":17},"TXL6-014","光缆接续 84 芯以下","头",null,6.54,{"v":0,"d":"0.00"},{"v":0,"d":"0.00"},{"v":0,"d":"0.00"}]
[{"$f":"SUBTOTAL(3,$B$7:B594)","v":17},"TXL6-015","光缆接续 96 芯以下","头",{"$f":"Sheet1!I9","v":0},7.17,{"v":0,"d":"0.00"},{"v":0,"d":"0.00"},{"v":0,"d":"0.00"}]
[{"$f":"SUBTOTAL(3,$B$7:B595)","v":17},"TXL6-016","光缆接续 108 芯以下","头",null,7.74,{"v":0,"d":"0.00"},{"v":0,"d":"0.00"},{"v":0,"d":"0.00"}]
[{"$f":"SUBTOTAL(3,$B$7:B596)","v":17},"TXL6-017","光缆接续 132 芯以下","头",null,{"v":7.8,"d":"7.80"},{"v":0,"d":"0.00"},{"v":0,"d":"0.00"},{"v":0,"d":"0.00"}]
[{"$f":"SUBTOTAL(3,$B$7:B597)","v":17},"TXL6-018","光缆接续 144 芯以下","头",null,{"v":8.1,"d":"8.10"},{"v":0,"d":"0.00"},{"v":0,"d":"0.00"},{"v":0,"d":"0.00"}]
[{"$f":"SUBTOTAL(3,$B$7:B598)","v":17},"TXL6-019","光缆接续 192 芯以下","头",null,8.91,{"v":0,"d":"0.00"},{"v":0,"d":"0.00"},{"v":0,"d":"0.00"}]
[{"$f":"SUBTOTAL(3,$B$7:B599)","v":17},"TXL6-020","光缆接续 288 芯以下","头",null,{"v":9.6,"d":"9.60"},{"v":0,"d":"0.00"},{"v":0,"d":"0.00"},{"v":0,"d":"0.00"}]
[{"$f":"SUBTOTAL(3,$B$7:B600)","v":17},"TXL6-021","光缆接续 288 芯以上","头",null,10.17,{"v":0,"d":"0.00"},{"v":0,"d":"0.00"},{"v":0,"d":"0.00"}]
[{"$f":"SUBTOTAL(3,$B$7:B601)","v":17},"TXL6-022","8 芯带以下带状光缆接续 48 芯以下","头",null,1.97,{"v":0,"d":"0.00"},{"v":0,"d":"0.00"},{"v":0,"d":"0.00"}]
[{"$f":"SUBTOTAL(3,$B$7:B602)","v":17},"TXL6-023","8 芯带以下带状光缆接续 72 芯以下","头",null,2.55,{"v":0,"d":"0.00"},{"v":0,"d":"0.00"},{"v":0,"d":"0.00"}]
[{"$f":"SUBTOTAL(3,$B$7:B603)","v":17},"TXL6-024","8 芯带以下带状光缆接续 96 芯以下","头",null,3.05,{"v":0,"d":"0.00"},{"v":0,"d":"0.00"},{"v":0,"d":"0.00"}]
[{"$f":"SUBTOTAL(3,$B$7:B604)","v":17},"TXL6-025","8 芯带以下带状光缆接续 108 芯以下","头",null,3.14,{"v":0,"d":"0.00"},{"v":0,"d":"0.00"},{"v":0,"d":"0.00"}]
[{"$f":"SUBTOTAL(3,$B$7:B605)","v":17},"TXL6-026","8 芯带以下带状光缆接续 120 芯以下","头",null,3.24,{"v":0,"d":"0.00"},{"v":0,"d":"0.00"},{"v":0,"d":"0.00"}]
[{"$f":"SUBTOTAL(3,$B$7:B606)","v":17},"TXL6-027","8 芯带以下带状光缆接续 144 芯以下","头",null,3.48,{"v":0,"d":"0.00"},{"v":0,"d":"0.00"},{"v":0,"d":"0.00"}]
[{"$f":"SUBTOTAL(3,$B$7:B607)","v":17},"TXL6-028","8 芯带以下带状光缆接续 192 芯以下","头",null,4.06,{"v":0,"d":"0.00"},{"v":0,"d":"0.00"},{"v":0,"d":"0.00"}]
[{"$f":"SUBTOTAL(3,$B$7:B608)","v":17},"TXL6-029","8 芯带以下带状光缆接续 288 芯以下","头",null,4.44,{"v":0,"d":"0.00"},{"v":0,"d":"0.00"},{"v":0,"d":"0.00"}]
[{"$f":"SUBTOTAL(3,$B$7:B609)","v":17},"TXL6-030","8 芯带以下带状光缆接续 288 芯以上","头",null,4.64,{"v":0,"d":"0.00"},{"v":0,"d":"0.00"},{"v":0,"d":"0.00"}]
[{"$f":"SUBTOTAL(3,$B$7:B610)","v":17},"TXL6-031","8 芯带以上带状光缆接续 48 芯以下","头",null,1.29,{"v":0,"d":"0.00"},{"v":0,"d":"0.00"},{"v":0,"d":"0.00"}]
[{"$f":"SUBTOTAL(3,$B$7:B611)","v":17},"TXL6-032","8 芯带以上带状光缆接续 72 芯以下","头",null,1.58,{"v":0,"d":"0.00"},{"v":0,"d":"0.00"},{"v":0,"d":"0.00"}]
[{"$f":"SUBTOTAL(3,$B$7:B612)","v":17},"TXL6-033","8 芯带以上带状光缆接续 96 芯以下","头",null,1.83,{"v":0,"d":"0.00"},{"v":0,"d":"0.00"},{"v":0,"d":"0.00"}]
[{"$f":"SUBTOTAL(3,$B$7:B613)","v":17},"TXL6-034","8 芯带以上带状光缆接续 108 芯以下","头",null,{"v":1.9,"d":"1.90"},{"v":0,"d":"0.00"},{"v":0,"d":"0.00"},{"v":0,"d":"0.00"}]
[{"$f":"SUBTOTAL(3,$B$7:B614)","v":17},"TXL6-035","8 芯带以上带状光缆接续 120 芯以下","头",null,1.95,{"v":0,"d":"0.00"},{"v":0,"d":"0.00"},{"v":0,"d":"0.00"}]
[{"$f":"SUBTOTAL(3,$B$7:B615)","v":17},"TXL6-036","8 芯带以上带状光缆接续 144 芯以下","头",null,2.15,{"v":0,"d":"0.00"},{"v":0,"d":"0.00"},{"v":0,"d":"0.00"}]
[{"$f":"SUBTOTAL(3,$B$7:B616)","v":17},"TXL6-037","8 芯带以上带状光缆接续 192 芯以下","头",null,2.57,{"v":0,"d":"0.00"},{"v":0,"d":"0.00"},{"v":0,"d":"0.00"}]
[{"$f":"SUBTOTAL(3,$B$7:B617)","v":17},"TXL6-038","8 芯带以上带状光缆接续 288 芯以下","头",null,2.94,{"v":0,"d":"0.00"},{"v":0,"d":"0.00"},{"v":0,"d":"0.00"}]
[{"$f":"SUBTOTAL(3,$B$7:B618)","v":17},"TXL6-039","8 芯带以上带状光缆接续 384 芯以下","头",null,3.27,{"v":0,"d":"0.00"},{"v":0,"d":"0.00"},{"v":0,"d":"0.00"}]
[{"$f":"SUBTOTAL(3,$B$7:B619)","v":17},"TXL6-040","8 芯带以上带状光缆接续 480 芯以下","头",null,3.96,{"v":0,"d":"0.00"},{"v":0,"d":"0.00"},{"v":0,"d":"0.00"}]
[{"$f":"SUBTOTAL(3,$B$7:B620)","v":17},"TXL6-041","8 芯带以上带状光缆接续 576 芯以下","头",null,4.56,{"v":0,"d":"0.00"},{"v":0,"d":"0.00"},{"v":0,"d":"0.00"}]
[{"$f":"SUBTOTAL(3,$B$7:B621)","v":17},"TXL6-042","8 芯带以上带状光缆接续 576 芯以上","头",null,5.07,{"v":0,"d":"0.00"},{"v":0,"d":"0.00"},{"v":0,"d":"0.00"}]
[{"$f":"SUBTOTAL(3,$B$7:B622)","v":17},"TXL6-043","40km 以上中继段光缆测试 12 芯以下","中继段",null,2.21,{"v":0,"d":"0.00"},{"v":0,"d":"0.00"},{"v":0,"d":"0.00"}]
[{"$f":"SUBTOTAL(3,$B$7:B623)","v":17},"TXL6-044","40km 以上中继段光缆测试 24 芯以下","中继段",null,{"v":3.1,"d":"3.10"},{"v":0,"d":"0.00"},{"v":0,"d":"0.00"},{"v":0,"d":"0.00"}]
[{"$f":"SUBTOTAL(3,$B$7:B624)","v":17},"TXL6-045","40km 以上中继段光缆测试 36 芯以下","中继段",null,4.39,{"v":0,"d":"0.00"},{"v":0,"d":"0.00"},{"v":0,"d":"0.00"}]
[{"$f":"SUBTOTAL(3,$B$7:B625)","v":17},"TXL6-046","40km 以上中继段光缆测试 48 芯以下","中继段",null,5.47,{"v":0,"d":"0.00"},{"v":0,"d":"0.00"},{"v":0,"d":"0.00"}]
[{"$f":"SUBTOTAL(3,$B$7:B626)","v":17},"TXL6-047","40km 以上中继段光缆测试 60 芯以下","中继段",null,6.48,{"v":0,"d":"0.00"},{"v":0,"d":"0.00"},{"v":0,"d":"0.00"}]
[{"$f":"SUBTOTAL(3,$B$7:B627)","v":17},"TXL6-048","40km 以上中继段光缆测试 72 芯以下","中继段",null,7.27,{"v":0,"d":"0.00"},{"v":0,"d":"0.00"},{"v":0,"d":"0.00"}]
[{"$f":"SUBTOTAL(3,$B$7:B628)","v":17},"TXL6-049","40km 以上中继段光缆测试 84 芯以下","中继段",null,7.85,{"v":0,"d":"0.00"},{"v":0,"d":"0.00"},{"v":0,"d":"0.00"}]
[{"$f":"SUBTOTAL(3,$B$7:B629)","v":17},"TXL6-050","40km 以上中继段光缆测试 96 芯以下","中继段",null,8.28,{"v":0,"d":"0.00"},{"v":0,"d":"0.00"},{"v":0,"d":"0.00"}]
[{"$f":"SUBTOTAL(3,$B$7:B630)","v":17},"TXL6-051","40km 以上中继段光缆测试 108 芯以下","中继段",null,8.57,{"v":0,"d":"0.00"},{"v":0,"d":"0.00"},{"v":0,"d":"0.00"}]
[{"$f":"SUBTOTAL(3,$B$7:B631)","v":17},"TXL6-052","40km 以上中继段光缆测试 132 芯以下","中继段",null,9.17,{"v":0,"d":"0.00"},{"v":0,"d":"0.00"},{"v":0,"d":"0.00"}]
[{"$f":"SUBTOTAL(3,$B$7:B632)","v":17},"TXL6-053","40km 以上中继段光缆测试 144 芯以下","中继段",null,9.41,{"v":0,"d":"0.00"},{"v":0,"d":"0.00"},{"v":0,"d":"0.00"}]
[{"$f":"SUBTOTAL(3,$B$7:B633)","v":17},"TXL6-054","40km 以上中继段光缆测试 168 芯以下","中继段",null,10.03,{"v":0,"d":"0.00"},{"v":0,"d":"0.00"},{"v":0,"d":"0.00"}]
[{"$f":"SUBTOTAL(3,$B$7:B634)","v":17},"TXL6-055","40km 以上中继段光缆测试 192 芯以下","中继段",null,10.85,{"v":0,"d":"0.00"},{"v":0,"d":"0.00"},{"v":0,"d":"0.00"}]
[{"$f":"SUBTOTAL(3,$B$7:B635)","v":17},"TXL6-056","40km 以上中继段光缆测试 216 芯以下","中继段",null,11.54,{"v":0,"d":"0.00"},{"v":0,"d":"0.00"},{"v":0,"d":"0.00"}]
[{"$f":"SUBTOTAL(3,$B$7:B636)","v":17},"TXL6-057","40km 以上中继段光缆测试 240 芯以下","中继段",null,{"v":12.1,"d":"12.10"},{"v":0,"d":"0.00"},{"v":0,"d":"0.00"},{"v":0,"d":"0.00"}]
[{"$f":"SUBTOTAL(3,$B$7:B637)","v":17},"TXL6-058","40km 以上光缆中继段测试 264 芯以下","中继段",null,12.89,{"v":0,"d":"0.00"},{"v":0,"d":"0.00"},{"v":0,"d":"0.00"}]
[{"$f":"SUBTOTAL(3,$B$7:B638)","v":17},"TXL6-059","40km 以上光缆中继段测试 288 芯以下","中继段",null,13.58,{"v":0,"d":"0.00"},{"v":0,"d":"0.00"},{"v":0,"d":"0.00"}]
[{"$f":"SUBTOTAL(3,$B$7:B639)","v":17},"TXL6-060","40km 以上光缆中继段测试 312 芯以下","中继段",null,14.23,{"v":0,"d":"0.00"},{"v":0,"d":"0.00"},{"v":0,"d":"0.00"}]
[{"$f":"SUBTOTAL(3,$B$7:B640)","v":17},"TXL6-061","40km 以上光缆中继段测试 336 芯以下","中继段",null,14.83,{"v":0,"d":"0.00"},{"v":0,"d":"0.00"},{"v":0,"d":"0.00"}]
[{"$f":"SUBTOTAL(3,$B$7:B641)","v":17},"TXL6-062","40km 以上光缆中继段测试 360 芯以下","中继段",null,15.36,{"v":0,"d":"0.00"},{"v":0,"d":"0.00"},{"v":0,"d":"0.00"}]
[{"$f":"SUBTOTAL(3,$B$7:B642)","v":17},"TXL6-063","40km 以上光缆中继段测试 384 芯以下","中继段",null,15.82,{"v":0,"d":"0.00"},{"v":0,"d":"0.00"},{"v":0,"d":"0.00"}]
[{"$f":"SUBTOTAL(3,$B$7:B643)","v":17},"TXL6-064","40km 以上光缆中继段测试 408 芯以下","中继段",null,16.25,{"v":0,"d":"0.00"},{"v":0,"d":"0.00"},{"v":0,"d":"0.00"}]
[{"$f":"SUBTOTAL(3,$B$7:B644)","v":17},"TXL6-065","40km 以上光缆中继段测试 432 芯以下","中继段",null,16.58,{"v":0,"d":"0.00"},{"v":0,"d":"0.00"},{"v":0,"d":"0.00"}]
[{"$f":"SUBTOTAL(3,$B$7:B645)","v":17},"TXL6-066","40km 以上光缆中继段测试 456 芯以下","中继段",null,16.87,{"v":0,"d":"0.00"},{"v":0,"d":"0.00"},{"v":0,"d":"0.00"}]
[{"$f":"SUBTOTAL(3,$B$7:B646)","v":17},"TXL6-067","40km 以上光缆中继段测试 480 芯以下","中继段",null,17.09,{"v":0,"d":"0.00"},{"v":0,"d":"0.00"},{"v":0,"d":"0.00"}]
[{"$f":"SUBTOTAL(3,$B$7:B647)","v":17},"TXL6-068","40km 以上光缆中继段测试 504 芯以下","中继段",null,{"v":17.4,"d":"17.40"},{"v":0,"d":"0.00"},{"v":0,"d":"0.00"},{"v":0,"d":"0.00"}]
[{"$f":"SUBTOTAL(3,$B$7:B648)","v":17},"TXL6-069","40km 以上光缆中继段测试 528 芯以下","中继段",null,17.64,{"v":0,"d":"0.00"},{"$f":"E648*F648","v":{"v":0,"d":"0.00"}},{"$f":"E648*G648","v":{"v":0,"d":"0.00"}}]
[{"$f":"SUBTOTAL(3,$B$7:B649)","v":17},"TXL6-070","40km 以上光缆中继段测试 576 芯以下","中继段",null,17.83,{"v":0,"d":"0.00"},{"v":0,"d":"0.00"},{"v":0,"d":"0.00"}]
[{"$f":"SUBTOTAL(3,$B$7:B650)","v":17},"TXL6-071","40km 以上光缆中继段测试 576 芯以上","中继段",null,17.98,{"v":0,"d":"0.00"},{"v":0,"d":"0.00"},{"v":0,"d":"0.00"}]
[{"$f":"SUBTOTAL(3,$B$7:B651)","v":17},"TXL6-072","40km 以下光缆中继段测试 12 芯以下","中继段",null,1.84,{"v":0,"d":"0.00"},{"v":0,"d":"0.00"},{"v":0,"d":"0.00"}]
[{"$f":"SUBTOTAL(3,$B$7:B652)","v":17},"TXL6-073","40km 以下光缆中继段测试 24 芯以下","中继段",null,2.58,{"v":0,"d":"0.00"},{"v":0,"d":"0.00"},{"v":0,"d":"0.00"}]
[{"$f":"SUBTOTAL(3,$B$7:B653)","v":17},"TXL6-074","40km 以下光缆中继段测试 36 芯以下","中继段",null,3.66,{"v":0,"d":"0.00"},{"v":0,"d":"0.00"},{"v":0,"d":"0.00"}]
[{"$f":"SUBTOTAL(3,$B$7:B654)","v":17},"TXL6-075","40km 以下光缆中继段测试 48 芯以下","中继段",null,4.56,{"v":0,"d":"0.00"},{"v":0,"d":"0.00"},{"v":0,"d":"0.00"}]
[{"$f":"SUBTOTAL(3,$B$7:B655)","v":17},"TXL6-076","40km 以下光缆中继段测试 60 芯以下","中继段",null,{"v":5.4,"d":"5.40"},{"v":0,"d":"0.00"},{"v":0,"d":"0.00"},{"v":0,"d":"0.00"}]
[{"$f":"SUBTOTAL(3,$B$7:B656)","v":17},"TXL6-077","40km 以下光缆中继段测试 72 芯以下","中继段",null,6.06,{"v":0,"d":"0.00"},{"v":0,"d":"0.00"},{"v":0,"d":"0.00"}]
[{"$f":"SUBTOTAL(3,$B$7:B657)","v":17},"TXL6-078","40km 以下光缆中继段测试 84 芯以下","中继段",null,6.54,{"v":0,"d":"0.00"},{"v":0,"d":"0.00"},{"v":0,"d":"0.00"}]
[{"$f":"SUBTOTAL(3,$B$7:B658)","v":17},"TXL6-079","40km 以下光缆中继段测试 96 芯以下","中继段",null,{"v":6.9,"d":"6.90"},{"v":0,"d":"0.00"},{"v":0,"d":"0.00"},{"v":0,"d":"0.00"}]
[{"$f":"SUBTOTAL(3,$B$7:B659)","v":17},"TXL6-080","40km 以下光缆中继段测试 108 芯以下","中继段",null,7.14,{"v":0,"d":"0.00"},{"v":0,"d":"0.00"},{"v":0,"d":"0.00"}]
[{"$f":"SUBTOTAL(3,$B$7:B660)","v":17},"TXL6-081","40km 以下光缆中继段测试 132 芯以下","中继段",null,7.64,{"v":0,"d":"0.00"},{"v":0,"d":"0.00"},{"v":0,"d":"0.00"}]
[{"$f":"SUBTOTAL(3,$B$7:B661)","v":17},"TXL6-082","40km 以下光缆中继段测试 144 芯以下","中继段",null,7.84,{"v":0,"d":"0.00"},{"v":0,"d":"0.00"},{"v":0,"d":"0.00"}]
[{"$f":"SUBTOTAL(3,$B$7:B662)","v":17},"TXL6-083","40km 以下光缆中继段测试 168 芯以下","中继段",null,8.36,{"v":0,"d":"0.00"},{"v":0,"d":"0.00"},{"v":0,"d":"0.00"}]
[{"$f":"SUBTOTAL(3,$B$7:B663)","v":17},"TXL6-084","40km 以下光缆中继段测试 192 芯以下","中继段",null,9.04,{"v":0,"d":"0.00"},{"v":0,"d":"0.00"},{"v":0,"d":"0.00"}]
[{"$f":"SUBTOTAL(3,$B$7:B664)","v":17},"TXL6-085","40km 以下光缆中继段测试 216 芯以下","中继段",null,9.62,{"v":0,"d":"0.00"},{"v":0,"d":"0.00"},{"v":0,"d":"0.00"}]
[{"$f":"SUBTOTAL(3,$B$7:B665)","v":17},"TXL6-086","40km 以下光缆中继段测试 240 芯以下","中继段",null,10.08,{"v":0,"d":"0.00"},{"v":0,"d":"0.00"},{"v":0,"d":"0.00"}]
[{"$f":"SUBTOTAL(3,$B$7:B666)","v":17},"TXL6-087","40km 以下光缆中继段测试 264 芯以下","中继段",null,10.74,{"v":0,"d":"0.00"},{"v":0,"d":"0.00"},{"v":0,"d":"0.00"}]
[{"$f":"SUBTOTAL(3,$B$7:B667)","v":17},"TXL6-088","40km 以下光缆中继段测试 288 芯以下","中继段",null,11.32,{"v":0,"d":"0.00"},{"v":0,"d":"0.00"},{"v":0,"d":"0.00"}]
[{"$f":"SUBTOTAL(3,$B$7:B668)","v":17},"TXL6-089","40km 以下光缆中继段测试 312 芯以下","中继段",null,11.86,{"v":0,"d":"0.00"},{"v":0,"d":"0.00"},{"v":0,"d":"0.00"}]
[{"$f":"SUBTOTAL(3,$B$7:B669)","v":17},"TXL6-090","40km 以下光缆中继段测试 336 芯以下","中继段",null,12.36,{"v":0,"d":"0.00"},{"v":0,"d":"0.00"},{"v":0,"d":"0.00"}]
[{"$f":"SUBTOTAL(3,$B$7:B670)","v":17},"TXL6-091","40km 以下光缆中继段测试 360 芯以下","中继段",null,{"v":12.8,"d":"12.80"},{"v":0,"d":"0.00"},{"v":0,"d":"0.00"},{"v":0,"d":"0.00"}]
[{"$f":"SUBTOTAL(3,$B$7:B671)","v":17},"TXL6-092","40km 以下光缆中继段测试 384 芯以下","中继段",null,13.18,{"v":0,"d":"0.00"},{"v":0,"d":"0.00"},{"v":0,"d":"0.00"}]
[{"$f":"SUBTOTAL(3,$B$7:B672)","v":17},"TXL6-093","40km 以下光缆中继段测试 408 芯以下","中继段",null,13.54,{"v":0,"d":"0.00"},{"v":0,"d":"0.00"},{"v":0,"d":"0.00"}]
[{"$f":"SUBTOTAL(3,$B$7:B673)","v":17},"TXL6-094","40km 以下光缆中继段测试 432 芯以下","中继段",null,13.82,{"v":0,"d":"0.00"},{"v":0,"d":"0.00"},{"v":0,"d":"0.00"}]
[{"$f":"SUBTOTAL(3,$B$7:B674)","v":17},"TXL6-095","40km 以下光缆中继段测试 456 芯以下","中继段",null,14.06,{"v":0,"d":"0.00"},{"v":0,"d":"0.00"},{"v":0,"d":"0.00"}]
[{"$f":"SUBTOTAL(3,$B$7:B675)","v":17},"TXL6-096","40km 以下光缆中继段测试 480 芯以下","中继段",null,14.24,{"v":0,"d":"0.00"},{"v":0,"d":"0.00"},{"v":0,"d":"0.00"}]
[{"$f":"SUBTOTAL(3,$B$7:B676)","v":17},"TXL6-097","40km 以下光缆中继段测试 504 芯以下","中继段",null,{"v":14.5,"d":"14.50"},{"v":0,"d":"0.00"},{"v":0,"d":"0.00"},{"v":0,"d":"0.00"}]
[{"$f":"SUBTOTAL(3,$B$7:B677)","v":17},"TXL6-098","40km 以下光缆中继段测试 528 芯以下","中继段",null,{"v":14.7,"d":"14.70"},{"v":0,"d":"0.00"},{"v":0,"d":"0.00"},{"v":0,"d":"0.00"}]
[{"$f":"SUBTOTAL(3,$B$7:B678)","v":17},"TXL6-099","40km 以下光缆中继段测试 576 芯以下","中继段",null,14.86,{"v":0,"d":"0.00"},{"v":0,"d":"0.00"},{"v":0,"d":"0.00"}]
[{"$f":"SUBTOTAL(3,$B$7:B679)","v":17},"TXL6-100","40km 以下光缆中继段测试 576 芯以上","中继段",null,14.98,{"v":0,"d":"0.00"},{"v":0,"d":"0.00"},{"v":0,"d":"0.00"}]
[{"$f":"SUBTOTAL(3,$B$7:B680)","v":17},"TXL6-101","用户光缆测试 2 芯以下","段",null,0.26,{"v":0,"d":"0.00"},{"v":0,"d":"0.00"},{"v":0,"d":"0.00"}]
[{"$f":"SUBTOTAL(3,$B$7:B681)","v":17},"TXL6-102","用户光缆测试 6 芯以下","段",null,{"v":0.5,"d":"0.50"},{"v":0,"d":"0.00"},{"v":0,"d":"0.00"},{"v":0,"d":"0.00"}]
[{"$f":"SUBTOTAL(3,$B$7:B682)","v":18},"TXL6-103","用户光缆测试 12 芯以下","段",{"v":4,"d":"4.000"},0.92,{"v":0,"d":"0.00"},3.68,{"v":0,"d":"0.00"}]
[{"$f":"SUBTOTAL(3,$B$7:B683)","v":19},"TXL6-104","用户光缆测试 24 芯以下","段",{"v":9,"d":"9.000"},1.29,{"v":0,"d":"0.00"},11.61,{"v":0,"d":"0.00"}]
[{"$f":"SUBTOTAL(3,$B$7:B684)","v":20},"TXL6-105","用户光缆测试 36 芯以下","段",{"v":6,"d":"6.000"},1.83,{"v":0,"d":"0.00"},10.98,{"v":0,"d":"0.00"}]
[{"$f":"SUBTOTAL(3,$B$7:B685)","v":20},"TXL6-106","用户光缆测试 48 芯以下","段",null,2.28,{"v":0,"d":"0.00"},{"v":0,"d":"0.00"},{"v":0,"d":"0.00"}]
[{"$f":"SUBTOTAL(3,$B$7:B686)","v":20},"TXL6-107","用户光缆测试 60 芯以下","段",null,{"v":2.7,"d":"2.70"},{"v":0,"d":"0.00"},{"v":0,"d":"0.00"},{"v":0,"d":"0.00"}]
[{"$f":"SUBTOTAL(3,$B$7:B687)","v":20},"TXL6-108","用户光缆测试 72 芯以下","段",null,3.03,{"v":0,"d":"0.00"},{"v":0,"d":"0.00"},{"v":0,"d":"0.00"}]
[{"$f":"SUBTOTAL(3,$B$7:B688)","v":20},"TXL6-109","用户光缆测试 84 芯以下","段",null,3.27,{"v":0,"d":"0.00"},{"v":0,"d":"0.00"},{"v":0,"d":"0.00"}]
[{"$f":"SUBTOTAL(3,$B$7:B689)","v":20},"TXL6-110","用户光缆测试 96 芯以下","段",null,3.45,{"v":0,"d":"0.00"},{"v":0,"d":"0.00"},{"v":0,"d":"0.00"}]
[{"$f":"SUBTOTAL(3,$B$7:B690)","v":20},"TXL6-111","用户光缆测试 108 芯以下","段",null,3.57,{"v":0,"d":"0.00"},{"v":0,"d":"0.00"},{"v":0,"d":"0.00"}]
[{"$f":"SUBTOTAL(3,$B$7:B691)","v":20},"TXL6-112","用户光缆测试 132 芯以下","段",null,3.82,{"v":0,"d":"0.00"},{"v":0,"d":"0.00"},{"v":0,"d":"0.00"}]
[{"$f":"SUBTOTAL(3,$B$7:B692)","v":20},"TXL6-113","用户光缆测试 144 芯以下","段",null,3.92,{"v":0,"d":"0.00"},{"v":0,"d":"0.00"},{"v":0,"d":"0.00"}]
[{"$f":"SUBTOTAL(3,$B$7:B693)","v":20},"TXL6-114","用户光缆测试 168 芯以下","段",null,4.18,{"v":0,"d":"0.00"},{"v":0,"d":"0.00"},{"v":0,"d":"0.00"}]
[{"$f":"SUBTOTAL(3,$B$7:B694)","v":20},"TXL6-115","用户光缆测试 192 芯以下","段",null,4.52,{"v":0,"d":"0.00"},{"v":0,"d":"0.00"},{"v":0,"d":"0.00"}]
[{"$f":"SUBTOTAL(3,$B$7:B695)","v":20},"TXL6-116","用户光缆测试 216 芯以下","段",null,4.81,{"v":0,"d":"0.00"},{"v":0,"d":"0.00"},{"v":0,"d":"0.00"}]
[{"$f":"SUBTOTAL(3,$B$7:B696)","v":20},"TXL6-117","用户光缆测试 240 芯以下","段",null,5.04,{"v":0,"d":"0.00"},{"v":0,"d":"0.00"},{"v":0,"d":"0.00"}]
[{"$f":"SUBTOTAL(3,$B$7:B697)","v":20},"TXL6-118","用户光缆测试 264 芯以下","段",null,5.37,{"v":0,"d":"0.00"},{"v":0,"d":"0.00"},{"v":0,"d":"0.00"}]
[{"$f":"SUBTOTAL(3,$B$7:B698)","v":20},"TXL6-119","用户光缆测试 288 芯以下","段",null,5.66,{"v":0,"d":"0.00"},{"v":0,"d":"0.00"},{"v":0,"d":"0.00"}]
[{"$f":"SUBTOTAL(3,$B$7:B699)","v":20},"TXL6-120","用户光缆测试 312 芯以下","段",null,5.93,{"v":0,"d":"0.00"},{"v":0,"d":"0.00"},{"v":0,"d":"0.00"}]
[{"$f":"SUBTOTAL(3,$B$7:B700)","v":20},"TXL6-121","用户光缆测试 336 芯以下","段",null,6.18,{"v":0,"d":"0.00"},{"v":0,"d":"0.00"},{"v":0,"d":"0.00"}]
[{"$f":"SUBTOTAL(3,$B$7:B701)","v":20},"TXL6-122","用户光缆测试 360 芯以下","段",null,{"v":6.4,"d":"6.40"},{"v":0,"d":"0.00"},{"v":0,"d":"0.00"},{"v":0,"d":"0.00"}]
[{"$f":"SUBTOTAL(3,$B$7:B702)","v":20},"TXL6-123","用户光缆测试 384 芯以下","段",null,6.59,{"v":0,"d":"0.00"},{"v":0,"d":"0.00"},{"v":0,"d":"0.00"}]
[{"$f":"SUBTOTAL(3,$B$7:B703)","v":20},"TXL6-124","用户光缆测试 408 芯以下","段",null,6.77,{"v":0,"d":"0.00"},{"v":0,"d":"0.00"},{"v":0,"d":"0.00"}]
[{"$f":"SUBTOTAL(3,$B$7:B704)","v":20},"TXL6-125","用户光缆测试 432 芯以下","段",null,6.91,{"v":0,"d":"0.00"},{"v":0,"d":"0.00"},{"v":0,"d":"0.00"}]
[{"$f":"SUBTOTAL(3,$B$7:B705)","v":20},"TXL6-126","用户光缆测试 456 芯以下","段",null,7.03,{"v":0,"d":"0.00"},{"v":0,"d":"0.00"},{"v":0,"d":"0.00"}]
[{"$f":"SUBTOTAL(3,$B$7:B706)","v":20},"TXL6-127","用户光缆测试 480 芯以下","段",null,7.12,{"v":0,"d":"0.00"},{"v":0,"d":"0.00"},{"v":0,"d":"0.00"}]
[{"$f":"SUBTOTAL(3,$B$7:B707)","v":20},"TXL6-128","用户光缆测试 504 芯以下","段",null,7.25,{"v":0,"d":"0.00"},{"v":0,"d":"0.00"},{"v":0,"d":"0.00"}]
[{"$f":"SUBTOTAL(3,$B$7:B708)","v":20},"TXL6-129","用户光缆测试 528 芯以下","段",null,7.35,{"v":0,"d":"0.00"},{"v":0,"d":"0.00"},{"v":0,"d":"0.00"}]
[{"$f":"SUBTOTAL(3,$B$7:B709)","v":20},"TXL6-130","用户光缆测试 552 芯以下","段",null,7.43,{"v":0,"d":"0.00"},{"v":0,"d":"0.00"},{"v":0,"d":"0.00"}]
[{"$f":"SUBTOTAL(3,$B$7:B710)","v":20},"TXL6-131","用户光缆测试 576 芯以上","段",null,7.49,{"v":0,"d":"0.00"},{"v":0,"d":"0.00"},{"v":0,"d":"0.00"}]
[{"$f":"SUBTOTAL(3,$B$7:B711)","v":20},"TXL6-132","光分配网（ODN）光纤链路全程测试 光纤链路衰减测试 1:2","链路组",null,{"v":0.3,"d":"0.30"},{"v":0,"d":"0.00"},{"v":0,"d":"0.00"},{"v":0,"d":"0.00"}]
[{"$f":"SUBTOTAL(3,$B$7:B712)","v":20},"TXL6-133","光分配网（ODN）光纤链路全程测试 光纤链路衰减测试 1:4","链路组",null,0.45,{"v":0,"d":"0.00"},{"$f":"E712*F712","v":{"v":0,"d":"0.00"}},{"$f":"E712*G712","v":{"v":0,"d":"0.00"}}]
[{"$f":"SUBTOTAL(3,$B$7:B713)","v":20},"TXL6-134","光分配网（ODN）光纤链路全程测试 光纤链路衰减测试 1:8","链路组",null,{"v":0.6,"d":"0.60"},{"v":0,"d":"0.00"},{"v":0,"d":"0.00"},{"v":0,"d":"0.00"}]
[{"$f":"SUBTOTAL(3,$B$7:B714)","v":20},"TXL6-135","光分配网（ODN）光纤链路全程测试 光纤链路衰减测试 1:16","链路组",null,0.75,{"v":0,"d":"0.00"},{"v":0,"d":"0.00"},{"v":0,"d":"0.00"}]
[{"$f":"SUBTOTAL(3,$B$7:B715)","v":20},"TXL6-136","光分配网（ODN）光纤链路全程测试 光纤链路衰减测试 1:32","链路组",null,0.85,{"v":0,"d":"0.00"},{"v":0,"d":"0.00"},{"v":0,"d":"0.00"}]
[{"$f":"SUBTOTAL(3,$B$7:B716)","v":20},"TXL6-137","光分配网（ODN）光纤链路全程测试 光纤链路衰减测试 1:64","链路组",null,0.93,{"v":0,"d":"0.00"},{"v":0,"d":"0.00"},{"v":0,"d":"0.00"}]
[{"$f":"SUBTOTAL(3,$B$7:B717)","v":20},"TXL6-138","光分配网（ODN）光纤链路全程测试 光纤链路衰减测试 1:128","链路组",null,{"v":1,"d":"1.00"},{"v":0,"d":"0.00"},{"v":0,"d":"0.00"},{"v":0,"d":"0.00"}]
[{"$f":"SUBTOTAL(3,$B$7:B718)","v":20},"TXL6-139","光分配网（ODN）光纤链路全程测试 光纤链路回 波损耗测试","链路组",null,{"v":0.1,"d":"0.10"},{"v":0,"d":"0.00"},{"v":0,"d":"0.00"},{"v":0,"d":"0.00"}]
[{"$f":"SUBTOTAL(3,$B$7:B719)","v":20},"TXL6-140","成端电缆芯线接续 0.6 以下","百对",null,{"v":1.2,"d":"1.20"},{"v":0,"d":"0.00"},{"v":0,"d":"0.00"},{"v":0,"d":"0.00"}]
[{"$f":"SUBTOTAL(3,$B$7:B720)","v":20},"TXL6-141","成端电缆芯线接续 0.9 以下","百对",null,1.35,{"v":0,"d":"0.00"},{"v":0,"d":"0.00"},{"v":0,"d":"0.00"}]
[{"$f":"SUBTOTAL(3,$B$7:B721)","v":20},"TXL6-142","电缆芯线接续 0.6 以下 接线子式","百对",null,{"v":1.1,"d":"1.10"},{"v":0,"d":"0.00"},{"v":0,"d":"0.00"},{"v":0,"d":"0.00"}]
[{"$f":"SUBTOTAL(3,$B$7:B722)","v":20},"TXL6-143","电缆芯线接续 0.6 以下 模块式","百对",null,0.66,{"v":0,"d":"0.00"},{"v":0,"d":"0.00"},{"v":0,"d":"0.00"}]
[{"$f":"SUBTOTAL(3,$B$7:B723)","v":20},"TXL6-144","电缆芯线接续 0.9 以下 接线子式","百对",null,{"v":1.4,"d":"1.40"},{"v":0,"d":"0.00"},{"v":0,"d":"0.00"},{"v":0,"d":"0.00"}]
[{"$f":"SUBTOTAL(3,$B$7:B724)","v":20},"TXL6-145","电缆芯线接续 0.9 以下 模块式","百对",null,0.84,{"v":0,"d":"0.00"},{"v":0,"d":"0.00"},{"v":0,"d":"0.00"}]
[{"$f":"SUBTOTAL(3,$B$7:B725)","v":20},"TXL6-146","电缆芯线改接 0.6 以下","百对",null,{"v":3.5,"d":"3.50"},{"v":0,"d":"0.00"},{"v":0,"d":"0.00"},{"v":0,"d":"0.00"}]
[{"$f":"SUBTOTAL(3,$B$7:B726)","v":20},"TXL6-147","电缆芯线改接 0.9 以下","百对",null,{"v":4,"d":"4.00"},{"v":0,"d":"0.00"},{"v":0,"d":"0.00"},{"v":0,"d":"0.00"}]
[{"$f":"SUBTOTAL(3,$B$7:B727)","v":20},"TXL6-148","卡接 4 对对绞电缆（配线架侧） 非屏蔽","条",null,0.06,{"v":0,"d":"0.00"},{"v":0,"d":"0.00"},{"v":0,"d":"0.00"}]
[{"$f":"SUBTOTAL(3,$B$7:B728)","v":20},"TXL6-149","卡接 4 对对绞电缆（配线架侧） 屏蔽","条",null,0.08,{"v":0,"d":"0.00"},{"v":0,"d":"0.00"},{"v":0,"d":"0.00"}]
[{"$f":"SUBTOTAL(3,$B$7:B729)","v":20},"TXL6-150","卡接大对数对绞电缆（配线架侧） 非屏蔽","百对",null,1.13,{"v":0,"d":"0.00"},{"v":0,"d":"0.00"},{"v":0,"d":"0.00"}]
[{"$f":"SUBTOTAL(3,$B$7:B730)","v":20},"TXL6-151","卡接大对数对绞电缆（配线架侧） 屏蔽","百对",null,{"v":1.5,"d":"1.50"},{"v":0,"d":"0.00"},{"v":0,"d":"0.00"},{"v":0,"d":"0.00"}]
[{"$f":"SUBTOTAL(3,$B$7:B731)","v":20},"TXL6-152","布放总配线架成端电缆 200 对以下","条",null,3.12,{"v":0,"d":"0.00"},{"v":0,"d":"0.00"},{"v":0,"d":"0.00"}]
[{"$f":"SUBTOTAL(3,$B$7:B732)","v":20},"TXL6-153","布放总配线架成端电缆 400 对以下","条",null,6.08,{"v":0,"d":"0.00"},{"v":0,"d":"0.00"},{"v":0,"d":"0.00"}]
[{"$f":"SUBTOTAL(3,$B$7:B733)","v":20},"TXL6-154","布放总配线架成端电缆 600 对以下","条",null,9.12,{"v":0,"d":"0.00"},{"v":0,"d":"0.00"},{"v":0,"d":"0.00"}]
[{"$f":"SUBTOTAL(3,$B$7:B734)","v":20},"TXL6-155","布放总配线架成端电缆 800 对以下","条",null,11.52,{"v":0,"d":"0.00"},{"v":0,"d":"0.00"},{"v":0,"d":"0.00"}]
[{"$f":"SUBTOTAL(3,$B$7:B735)","v":20},"TXL6-156","布放总配线架成端电缆 1200 对以下","条",null,16.32,{"v":0,"d":"0.00"},{"v":0,"d":"0.00"},{"v":0,"d":"0.00"}]
[{"$f":"SUBTOTAL(3,$B$7:B736)","v":20},"TXL6-157","布放总配线架成端电缆 1600 对以下","条",null,21.12,{"v":0,"d":"0.00"},{"v":0,"d":"0.00"},{"v":0,"d":"0.00"}]
[{"$f":"SUBTOTAL(3,$B$7:B737)","v":20},"TXL6-158","布放总配线架成端电缆 2400 对以下","条",null,30.72,{"v":0,"d":"0.00"},{"v":0,"d":"0.00"},{"v":0,"d":"0.00"}]
[{"$f":"SUBTOTAL(3,$B$7:B738)","v":20},"TXL6-159","布放交接箱成端电缆 100 对以下","条",null,1.55,{"v":0,"d":"0.00"},{"v":0,"d":"0.00"},{"v":0,"d":"0.00"}]
[{"$f":"SUBTOTAL(3,$B$7:B739)","v":20},"TXL6-160","布放交接箱成端电缆 200 对以下","条",null,{"v":2.6,"d":"2.60"},{"v":0,"d":"0.00"},{"v":0,"d":"0.00"},{"v":0,"d":"0.00"}]
[{"$f":"SUBTOTAL(3,$B$7:B740)","v":20},"TXL6-161","布放交接箱成端电缆 300 对以下","条",null,{"v":3.8,"d":"3.80"},{"v":0,"d":"0.00"},{"v":0,"d":"0.00"},{"v":0,"d":"0.00"}]
[{"$f":"SUBTOTAL(3,$B$7:B741)","v":20},"TXL6-162","布放交接箱成端电缆 400 对以下","条",null,{"v":5.2,"d":"5.20"},{"v":0,"d":"0.00"},{"v":0,"d":"0.00"},{"v":0,"d":"0.00"}]
[{"$f":"SUBTOTAL(3,$B$7:B742)","v":20},"TXL6-163","布放交接箱成端电缆 600 对以下","条",null,{"v":7.6,"d":"7.60"},{"v":0,"d":"0.00"},{"v":0,"d":"0.00"},{"v":0,"d":"0.00"}]
[{"$f":"SUBTOTAL(3,$B$7:B743)","v":20},"TXL6-164","布放交接箱成端电缆 800 对以下","条",null,{"v":10.4,"d":"10.40"},{"v":0,"d":"0.00"},{"v":0,"d":"0.00"},{"v":0,"d":"0.00"}]
[{"$f":"SUBTOTAL(3,$B$7:B744)","v":20},"TXL6-165","布放组线箱成端电缆 10 对以下","条",null,{"v":0.3,"d":"0.30"},{"v":0,"d":"0.00"},{"v":0,"d":"0.00"},{"v":0,"d":"0.00"}]
[{"$f":"SUBTOTAL(3,$B$7:B745)","v":20},"TXL6-166","布放组线箱成端电缆 20 对以下","条",null,0.46,{"v":0,"d":"0.00"},{"v":0,"d":"0.00"},{"v":0,"d":"0.00"}]
[{"$f":"SUBTOTAL(3,$B$7:B746)","v":20},"TXL6-167","布放组线箱成端电缆 30 对以下","条",null,0.61,{"v":0,"d":"0.00"},{"v":0,"d":"0.00"},{"v":0,"d":"0.00"}]
[{"$f":"SUBTOTAL(3,$B$7:B747)","v":20},"TXL6-168","布放组线箱成端电缆 50 对以下","条",null,1.08,{"v":0,"d":"0.00"},{"v":0,"d":"0.00"},{"v":0,"d":"0.00"}]
[{"$f":"SUBTOTAL(3,$B$7:B748)","v":20},"TXL6-169","布放组线箱成端电缆 100 对以下","条",null,1.55,{"v":0,"d":"0.00"},{"v":0,"d":"0.00"},{"v":0,"d":"0.00"}]
[{"$f":"SUBTOTAL(3,$B$7:B749)","v":20},"TXL6-170","布放组线箱成端电缆 100 对以上","条",null,{"v":2.6,"d":"2.60"},{"v":0,"d":"0.00"},{"v":0,"d":"0.00"},{"v":0,"d":"0.00"}]
[{"$f":"SUBTOTAL(3,$B$7:B750)","v":20},"TXL6-171","电缆跳线","条",null,0.08,{"v":0,"d":"0.00"},{"v":0,"d":"0.00"},{"v":0,"d":"0.00"}]
[{"$f":"SUBTOTAL(3,$B$7:B751)","v":20},"TXL6-172","堵塞成端套管 φ50×900以下","个",null,1.15,{"v":0,"d":"0.00"},{"v":0,"d":"0.00"},{"v":0,"d":"0.00"}]
[{"$f":"SUBTOTAL(3,$B$7:B752)","v":20},"TXL6-173","堵塞成端套管 φ70×900以下","个",null,{"v":1.3,"d":"1.30"},{"v":0,"d":"0.00"},{"v":0,"d":"0.00"},{"v":0,"d":"0.00"}]
[{"$f":"SUBTOTAL(3,$B$7:B753)","v":20},"TXL6-174","堵塞成端套管 φ90×900以下","个",null,{"v":1.7,"d":"1.70"},{"v":0,"d":"0.00"},{"v":0,"d":"0.00"},{"v":0,"d":"0.00"}]
[{"$f":"SUBTOTAL(3,$B$7:B754)","v":20},"TXL6-175","堵塞成端套管 φ110×900以下","个",null,{"v":2.1,"d":"2.10"},{"v":0,"d":"0.00"},{"v":0,"d":"0.00"},{"v":0,"d":"0.00"}]
[{"$f":"SUBTOTAL(3,$B$7:B755)","v":20},"TXL6-176","堵塞成端套管 φ130×900以下","个",null,{"v":2.3,"d":"2.30"},{"v":0,"d":"0.00"},{"v":0,"d":"0.00"},{"v":0,"d":"0.00"}]
[{"$f":"SUBTOTAL(3,$B$7:B756)","v":20},"TXL6-177","堵塞成端套管 φ150×900以下","个",null,{"v":2.7,"d":"2.70"},{"v":0,"d":"0.00"},{"v":0,"d":"0.00"},{"v":0,"d":"0.00"}]
[{"$f":"SUBTOTAL(3,$B$7:B757)","v":20},"TXL6-178","堵塞成端套管 φ170×900以下","个",null,{"v":2.9,"d":"2.90"},{"v":0,"d":"0.00"},{"v":0,"d":"0.00"},{"v":0,"d":"0.00"}]
[{"$f":"SUBTOTAL(3,$B$7:B758)","v":20},"TXL6-179","堵塞成端套管 φ180×900以下","个",null,{"v":3.2,"d":"3.20"},{"v":0,"d":"0.00"},{"v":0,"d":"0.00"},{"v":0,"d":"0.00"}]
[{"$f":"SUBTOTAL(3,$B$7:B759)","v":20},"TXL6-180","充油膏套管接续 φ50×500以下","个",null,0.68,0.17,{"v":0,"d":"0.00"},{"v":0,"d":"0.00"}]
[{"$f":"SUBTOTAL(3,$B$7:B760)","v":20},"TXL6-181","充油膏套管接续 φ70×500以下","个",null,0.87,0.22,{"v":0,"d":"0.00"},{"v":0,"d":"0.00"}]
[{"$f":"SUBTOTAL(3,$B$7:B761)","v":20},"TXL6-182","充油膏套管接续 φ90×500以下","个",null,1.15,0.29,{"v":0,"d":"0.00"},{"v":0,"d":"0.00"}]
[{"$f":"SUBTOTAL(3,$B$7:B762)","v":20},"TXL6-183","充油膏套管接续 φ110×900以下","个",null,1.35,0.33,{"v":0,"d":"0.00"},{"v":0,"d":"0.00"}]
[{"$f":"SUBTOTAL(3,$B$7:B763)","v":20},"TXL6-184","充油膏套管接续 φ130×900以下","个",null,1.53,0.38,{"v":0,"d":"0.00"},{"v":0,"d":"0.00"}]
[{"$f":"SUBTOTAL(3,$B$7:B764)","v":20},"TXL6-185","充油膏套管接续 φ150×900以下","个",null,1.83,0.46,{"v":0,"d":"0.00"},{"v":0,"d":"0.00"}]
[{"$f":"SUBTOTAL(3,$B$7:B765)","v":20},"TXL6-186","充油膏套管接续 φ170×900以下","个",null,1.92,0.48,{"v":0,"d":"0.00"},{"v":0,"d":"0.00"}]
[{"$f":"SUBTOTAL(3,$B$7:B766)","v":20},"TXL6-187","充油膏套管接续 φ180×900以下","个",null,2.12,0.53,{"v":0,"d":"0.00"},{"v":0,"d":"0.00"}]
[{"$f":"SUBTOTAL(3,$B$7:B767)","v":20},"TXL6-188","封焊热可缩套（包）管 φ50×900以下","个",null,0.56,0.14,{"v":0,"d":"0.00"},{"v":0,"d":"0.00"}]
[{"$f":"SUBTOTAL(3,$B$7:B768)","v":20},"TXL6-189","封焊热可缩套（包）管 φ70×900以下","个",null,0.72,0.18,{"v":0,"d":"0.00"},{"v":0,"d":"0.00"}]
[{"$f":"SUBTOTAL(3,$B$7:B769)","v":20},"TXL6-190","封焊热可缩套（包）管 φ90×900以下","个",null,0.96,0.24,{"v":0,"d":"0.00"},{"v":0,"d":"0.00"}]
[{"$f":"SUBTOTAL(3,$B$7:B770)","v":20},"TXL6-191","封焊热可缩套（包）管 φ110×900以下","个",null,1.12,0.28,{"v":0,"d":"0.00"},{"v":0,"d":"0.00"}]
[{"$f":"SUBTOTAL(3,$B$7:B771)","v":20},"TXL6-192","封焊热可缩套（包）管 φ130×900以下","个",null,1.28,0.32,{"v":0,"d":"0.00"},{"v":0,"d":"0.00"}]
[{"$f":"SUBTOTAL(3,$B$7:B772)","v":20},"TXL6-193","封焊热可缩套（包）管 φ150×900以下","个",null,1.52,0.38,{"v":0,"d":"0.00"},{"v":0,"d":"0.00"}]
[{"$f":"SUBTOTAL(3,$B$7:B773)","v":20},"TXL6-194","封焊热可缩套（包）管 φ170×900以下","个",null,{"v":1.6,"d":"1.60"},{"v":0.4,"d":"0.40"},{"v":0,"d":"0.00"},{"v":0,"d":"0.00"}]
[{"$f":"SUBTOTAL(3,$B$7:B774)","v":20},"TXL6-195","封焊热可缩套（包）管 φ180×900以下","个",null,1.76,0.44,{"v":0,"d":"0.00"},{"v":0,"d":"0.00"}]
[{"$f":"SUBTOTAL(3,$B$7:B775)","v":20},"TXL6-196","包封 C 型套管 φ65×500 以下","个",null,0.24,0.06,{"v":0,"d":"0.00"},{"v":0,"d":"0.00"}]
[{"$f":"SUBTOTAL(3,$B$7:B776)","v":20},"TXL6-197","包封 C 型套管 φ85×500 以下","个",null,0.28,0.07,{"$f":"E776*F776","v":{"v":0,"d":"0.00"}},{"$f":"E776*G776","v":{"v":0,"d":"0.00"}}]
[{"$f":"SUBTOTAL(3,$B$7:B777)","v":20},"TXL6-198","包封 C 型套管 φ90×600 以下","个",null,0.32,0.08,{"v":0,"d":"0.00"},{"v":0,"d":"0.00"}]
[{"$f":"SUBTOTAL(3,$B$7:B778)","v":20},"TXL6-199","安装多用 接头盒","个",null,{"v":1.1,"d":"1.10"},0.28,{"v":0,"d":"0.00"},{"v":0,"d":"0.00"}]
[{"$f":"SUBTOTAL(3,$B$7:B779)","v":20},"TXL6-200","安装接线筒","个",null,2.65,0.66,{"v":0,"d":"0.00"},{"v":0,"d":"0.00"}]
[{"$f":"SUBTOTAL(3,$B$7:B780)","v":20},"TXL6-201","安装开启式套管","个",null,{"v":1.1,"d":"1.10"},0.28,{"v":0,"d":"0.00"},{"v":0,"d":"0.00"}]
[{"$f":"SUBTOTAL(3,$B$7:B781)","v":20},"TXL6-202","制作热可缩套管气闭头 φ50 以下","个",null,0.67,0.17,{"v":0,"d":"0.00"},{"v":0,"d":"0.00"}]
[{"$f":"SUBTOTAL(3,$B$7:B782)","v":20},"TXL6-203","制作热可缩套管气闭头 φ70 以下","个",null,0.86,0.22,{"v":0,"d":"0.00"},{"v":0,"d":"0.00"}]
[{"$f":"SUBTOTAL(3,$B$7:B783)","v":20},"TXL6-204","制作热可缩套管气闭头 φ90 以下","个",null,1.15,0.29,{"v":0,"d":"0.00"},{"v":0,"d":"0.00"}]
[{"$f":"SUBTOTAL(3,$B$7:B784)","v":20},"TXL6-205","制作热可缩套管气闭头 φ110 以下","个",null,1.43,0.35,{"v":0,"d":"0.00"},{"v":0,"d":"0.00"}]
[{"$f":"SUBTOTAL(3,$B$7:B785)","v":20},"TXL6-206","制作热可缩套管气闭头 φ130 以下","个",null,1.54,0.38,{"v":0,"d":"0.00"},{"v":0,"d":"0.00"}]
[{"$f":"SUBTOTAL(3,$B$7:B786)","v":20},"TXL6-207","制作热可缩套管气闭头 φ150 以下","个",null,1.82,0.45,{"v":0,"d":"0.00"},{"v":0,"d":"0.00"}]
[{"$f":"SUBTOTAL(3,$B$7:B787)","v":20},"TXL6-208","制作热可缩套管气闭头 φ170 以下","个",null,1.92,0.48,{"v":0,"d":"0.00"},{"v":0,"d":"0.00"}]
[{"$f":"SUBTOTAL(3,$B$7:B788)","v":20},"TXL6-209","制作热可缩套管气闭头 φ180 以下","个",null,2.11,0.53,{"v":0,"d":"0.00"},{"v":0,"d":"0.00"}]
[{"$f":"SUBTOTAL(3,$B$7:B789)","v":20},"TXL6-210","电缆链路 测试","链路",null,{"v":0.1,"d":"0.10"},{"v":0,"d":"0.00"},{"v":0,"d":"0.00"},{"v":0,"d":"0.00"}]
[{"$f":"SUBTOTAL(3,$B$7:B790)","v":20},"TXL6-211","配线电缆 测试","百对",null,{"v":1.5,"d":"1.50"},{"v":0,"d":"0.00"},{"v":0,"d":"0.00"},{"v":0,"d":"0.00"}]
[{"$f":"SUBTOTAL(3,$B$7:B791)","v":20},"TXL6-212","中 继 电 缆 5km 以下","百对",null,{"v":7,"d":"7.00"},{"v":0,"d":"0.00"},{"v":0,"d":"0.00"},{"v":0,"d":"0.00"}]
[{"$f":"SUBTOTAL(3,$B$7:B792)","v":20},"TXL6-213","中 继 电 缆 5km 以上","百对",null,16.25,{"v":0,"d":"0.00"},{"v":0,"d":"0.00"},{"v":0,"d":"0.00"}]
[{"$f":"SUBTOTAL(3,$B$7:B793)","v":20},"TXL7-001","安装光（电）缆承托铁架","米条",null,0.15,0.15,{"v":0,"d":"0.00"},{"v":0,"d":"0.00"}]
[{"$f":"SUBTOTAL(3,$B$7:B794)","v":20},"TXL7-002","安装光（电）缆托架","根",null,0.07,0.07,{"v":0,"d":"0.00"},{"v":0,"d":"0.00"}]
[{"$f":"SUBTOTAL(3,$B$7:B795)","v":20},"TXL7-003","安装固定光缆盘（ODM框）","套",null,0.35,0.35,{"v":0,"d":"0.00"},{"v":0,"d":"0.00"}]
[{"$f":"SUBTOTAL(3,$B$7:B796)","v":20},"TXL7-004","安装机柜、机架 落地式","架",null,1.25,0.67,{"v":0,"d":"0.00"},{"v":0,"d":"0.00"}]
[{"$f":"SUBTOTAL(3,$B$7:B797)","v":20},"TXL7-005","安装机柜、机架 墙挂式","架",null,2.25,{"v":1,"d":"1.00"},{"v":0,"d":"0.00"},{"v":0,"d":"0.00"}]
[{"$f":"SUBTOTAL(3,$B$7:B798)","v":20},"TXL7-006","制作安装抗震底座","个",null,1.67,0.83,{"v":0,"d":"0.00"},{"v":0,"d":"0.00"}]
[{"$f":"SUBTOTAL(3,$B$7:B799)","v":20},"TXL7-007","安装过线（路）盒（半周长） 200 以下","十个",null,{"v":0,"d":"0.00"},{"v":0.4,"d":"0.40"},{"v":0,"d":"0.00"},{"v":0,"d":"0.00"}]
[{"$f":"SUBTOTAL(3,$B$7:B800)","v":20},"TXL7-008","安装过线（路）盒（半周长） 200 以上","十个",null,{"v":0.9,"d":"0.90"},{"v":0.4,"d":"0.40"},{"v":0,"d":"0.00"},{"v":0,"d":"0.00"}]
[{"$f":"SUBTOTAL(3,$B$7:B801)","v":20},"TXL7-009","安装信息插座底盒 明装","十个",null,{"v":0,"d":"0.00"},{"v":0.4,"d":"0.40"},{"v":0,"d":"0.00"},{"v":0,"d":"0.00"}]
[{"$f":"SUBTOTAL(3,$B$7:B802)","v":20},"TXL7-010","安装信息插座底盒 砖墙内","十个",null,{"v":0,"d":"0.00"},0.98,{"v":0,"d":"0.00"},{"v":0,"d":"0.00"}]
[{"$f":"SUBTOTAL(3,$B$7:B803)","v":20},"TXL7-011","安装信息插座底盒 混凝土墙内","十个",null,{"v":0,"d":"0.00"},1.37,{"v":0,"d":"0.00"},{"v":0,"d":"0.00"}]
[{"$f":"SUBTOTAL(3,$B$7:B804)","v":20},"TXL7-012","安装信息插座底盒 木地板内","十个",null,{"v":0,"d":"0.00"},0.84,{"v":0,"d":"0.00"},{"v":0,"d":"0.00"}]
[{"$f":"SUBTOTAL(3,$B$7:B805)","v":20},"TXL7-013","安装信息插座底盒 防静电钢质 地板内","十个",null,{"v":0,"d":"0.00"},1.68,{"v":0,"d":"0.00"},{"v":0,"d":"0.00"}]
[{"$f":"SUBTOTAL(3,$B$7:B806)","v":20},"TXL7-014","安装 8 位模块式信息插座 单口 非屏蔽","十个",null,0.45,0.07,{"v":0,"d":"0.00"},{"v":0,"d":"0.00"}]
[{"$f":"SUBTOTAL(3,$B$7:B807)","v":20},"TXL7-015","安装 8 位模块式信息插座 单口 屏蔽","十个",null,0.55,0.07,{"v":0,"d":"0.00"},{"v":0,"d":"0.00"}]
[{"$f":"SUBTOTAL(3,$B$7:B808)","v":20},"TXL7-016","安装 8 位模块式信息插座 双口 非屏蔽","十个",null,0.75,0.07,{"v":0,"d":"0.00"},{"v":0,"d":"0.00"}]
[{"$f":"SUBTOTAL(3,$B$7:B809)","v":20},"TXL7-017","安装 8 位模块式信息插座 双口 屏蔽","十个",null,0.95,0.07,{"v":0,"d":"0.00"},{"v":0,"d":"0.00"}]
[{"$f":"SUBTOTAL(3,$B$7:B810)","v":20},"TXL7-018","安装光纤信息插座 双口以下","十个",null,{"v":0.3,"d":"0.30"},{"v":0,"d":"0.00"},{"v":0,"d":"0.00"},{"v":0,"d":"0.00"}]
[{"$f":"SUBTOTAL(3,$B$7:B811)","v":20},"TXL7-019","安装光纤信息插座 四口以下","十个",null,{"v":0.4,"d":"0.40"},{"v":0,"d":"0.00"},{"v":0,"d":"0.00"},{"v":0,"d":"0.00"}]
[{"$f":"SUBTOTAL(3,$B$7:B812)","v":20},"TXL7-020","安装落地式室外综合机柜 宽 800 以下","套",null,1.45,1.45,{"v":0,"d":"0.00"},{"v":0,"d":"0.00"}]
[{"$f":"SUBTOTAL(3,$B$7:B813)","v":20},"TXL7-021","安装落地式室外综合机柜 宽 800 以上","套",null,2.25,2.25,{"v":0,"d":"0.00"},{"v":0,"d":"0.00"}]
[{"$f":"SUBTOTAL(3,$B$7:B814)","v":20},"TXL7-022","安装架空式室外综合机柜","套",null,{"v":3.5,"d":"3.50"},{"v":3.5,"d":"3.50"},{"v":0,"d":"0.00"},{"v":0,"d":"0.00"}]
[{"$f":"SUBTOTAL(3,$B$7:B815)","v":20},"TXL7-023","安装光分纤箱、光分路箱 架空式","套",null,0.56,0.56,{"v":0,"d":"0.00"},{"v":0,"d":"0.00"}]
[{"$f":"SUBTOTAL(3,$B$7:B816)","v":20},"TXL7-024","安装光分纤箱、光分路箱 墙壁式","套",null,{"v":0.5,"d":"0.50"},{"v":0.5,"d":"0.50"},{"v":0,"d":"0.00"},{"v":0,"d":"0.00"}]
[{"$f":"SUBTOTAL(3,$B$7:B817)","v":20},"TXL7-025","安装光缆终端盒","套",null,{"v":0.3,"d":"0.30"},{"v":0.3,"d":"0.30"},{"v":0,"d":"0.00"},{"v":0,"d":"0.00"}]
[{"$f":"SUBTOTAL(3,$B$7:B818)","v":20},"TXL7-026","安装光缆接线箱","套",null,0.55,0.55,{"v":0,"d":"0.00"},{"v":0,"d":"0.00"}]
[{"$f":"SUBTOTAL(3,$B$7:B819)","v":20},"TXL7-027","增（扩）装光纤一体 化熔接托盘","套",null,{"v":0.1,"d":"0.10"},{"v":0,"d":"0.00"},{"v":0,"d":"0.00"},{"v":0,"d":"0.00"}]
[{"$f":"SUBTOTAL(3,$B$7:B820)","v":20},"TXL7-028","机架（箱）内安装光分路器 安装高度 1.5m 以下","台",null,{"v":0.2,"d":"0.20"},{"v":0,"d":"0.00"},{"v":0,"d":"0.00"},{"v":0,"d":"0.00"}]
[{"$f":"SUBTOTAL(3,$B$7:B821)","v":20},"TXL7-029","机架（箱）内安装光分路器 安装高度 1.5m 以上","台",null,{"v":0.4,"d":"0.40"},{"v":0,"d":"0.00"},{"v":0,"d":"0.00"},{"v":0,"d":"0.00"}]
[{"$f":"SUBTOTAL(3,$B$7:B822)","v":20},"TXL7-030","光分路器与光纤线路插接","端口",null,0.03,{"v":0,"d":"0.00"},{"v":0,"d":"0.00"},{"v":0,"d":"0.00"}]
[{"$f":"SUBTOTAL(3,$B$7:B823)","v":20},"TXL7-031","光分路器本机测试① 1:2","套",null,0.16,{"v":0,"d":"0.00"},{"v":0,"d":"0.00"},{"v":0,"d":"0.00"}]
[{"$f":"SUBTOTAL(3,$B$7:B824)","v":20},"TXL7-032","光分路器本机测试① 1:4","套",null,0.29,{"v":0,"d":"0.00"},{"v":0,"d":"0.00"},{"v":0,"d":"0.00"}]
[{"$f":"SUBTOTAL(3,$B$7:B825)","v":20},"TXL7-033","光分路器本机测试① 1:8","套",null,{"v":0.4,"d":"0.40"},{"v":0,"d":"0.00"},{"v":0,"d":"0.00"},{"v":0,"d":"0.00"}]
[{"$f":"SUBTOTAL(3,$B$7:B826)","v":20},"TXL7-034","光分路器本机测试① 1:16","套",null,{"v":0.5,"d":"0.50"},{"v":0,"d":"0.00"},{"v":0,"d":"0.00"},{"v":0,"d":"0.00"}]
[{"$f":"SUBTOTAL(3,$B$7:B827)","v":20},"TXL7-035","光分路器本机测试① 1:32","套",null,0.61,{"v":0,"d":"0.00"},{"v":0,"d":"0.00"},{"v":0,"d":"0.00"}]
[{"$f":"SUBTOTAL(3,$B$7:B828)","v":20},"TXL7-036","光分路器本机测试① 1:64","套",null,{"v":0.7,"d":"0.70"},{"v":0,"d":"0.00"},{"v":0,"d":"0.00"},{"v":0,"d":"0.00"}]
[{"$f":"SUBTOTAL(3,$B$7:B829)","v":20},"TXL7-037","光分路器本机测试① 1:128","套",null,{"v":0.8,"d":"0.80"},{"v":0,"d":"0.00"},{"v":0,"d":"0.00"},{"v":0,"d":"0.00"}]
[{"$f":"SUBTOTAL(3,$B$7:B830)","v":20},"TXL7-038","浇筑交接箱基座","m",null,0.92,0.92,{"v":0,"d":"0.00"},{"v":0,"d":"0.00"}]
[{"$f":"SUBTOTAL(3,$B$7:B831)","v":20},"TXL7-039","砌筑交接箱基座","m",null,1.67,1.67,{"v":0,"d":"0.00"},{"v":0,"d":"0.00"}]
[{"$f":"SUBTOTAL(3,$B$7:B832)","v":20},"TXL7-040","砂浆抹面（1:2.5）","m2",null,{"v":0.1,"d":"0.10"},0.15,{"v":0,"d":"0.00"},{"v":0,"d":"0.00"}]
[{"$f":"SUBTOTAL(3,$B$7:B833)","v":20},"TXL7-041","交接箱地线保护","处",null,{"v":1.3,"d":"1.30"},{"v":1.9,"d":"1.90"},{"v":0,"d":"0.00"},{"v":0,"d":"0.00"}]
[{"$f":"SUBTOTAL(3,$B$7:B834)","v":20},"TXL7-042","安装光缆落地式交接箱 144 芯以下","个",null,0.67,0.67,{"v":0,"d":"0.00"},{"v":0,"d":"0.00"}]
[{"$f":"SUBTOTAL(3,$B$7:B835)","v":20},"TXL7-043","安装光缆落地式交接箱 288 芯以下","个",null,0.78,0.78,{"v":0,"d":"0.00"},{"v":0,"d":"0.00"}]
[{"$f":"SUBTOTAL(3,$B$7:B836)","v":20},"TXL7-044","安装光缆落地式交接箱 288 芯以上","个",null,0.94,0.94,{"v":0,"d":"0.00"},{"v":0,"d":"0.00"}]
[{"$f":"SUBTOTAL(3,$B$7:B837)","v":20},"TXL7-045","安装壁挂式光缆交接箱 144 芯以下","个",null,1.07,1.07,{"v":0,"d":"0.00"},{"v":0,"d":"0.00"}]
[{"$f":"SUBTOTAL(3,$B$7:B838)","v":20},"TXL7-046","安装壁挂式光缆交接箱 288 芯以下","个",null,1.34,1.34,{"v":0,"d":"0.00"},{"v":0,"d":"0.00"}]
[{"$f":"SUBTOTAL(3,$B$7:B839)","v":20},"TXL7-047","安装架空式光缆交接箱 288 芯以下","个",null,1.98,1.98,{"v":0,"d":"0.00"},{"v":0,"d":"0.00"}]
[{"$f":"SUBTOTAL(3,$B$7:B840)","v":20},"TXL7-048","安装架空式光缆交接箱 288 芯以上","个",null,2.25,2.25,{"$f":"E840*F840","v":{"v":0,"d":"0.00"}},{"$f":"E840*G840","v":{"v":0,"d":"0.00"}}]
[{"$f":"SUBTOTAL(3,$B$7:B841)","v":20},"TXL7-049","安装架空式交接箱 600 对以下","个",null,4.09,4.09,{"v":0,"d":"0.00"},{"v":0,"d":"0.00"}]
[{"$f":"SUBTOTAL(3,$B$7:B842)","v":20},"TXL7-050","安装架空式交接箱 1200 对以下","个",null,5.35,5.35,{"v":0,"d":"0.00"},{"v":0,"d":"0.00"}]
[{"$f":"SUBTOTAL(3,$B$7:B843)","v":20},"TXL7-051","安装架空式交接箱 2400 对以下","个",null,7.18,7.18,{"v":0,"d":"0.00"},{"v":0,"d":"0.00"}]
[{"$f":"SUBTOTAL(3,$B$7:B844)","v":20},"TXL7-052","安装架空式交接箱 2400 对以上","个",null,8.09,8.09,{"v":0,"d":"0.00"},{"v":0,"d":"0.00"}]
[{"$f":"SUBTOTAL(3,$B$7:B845)","v":20},"TXL7-053","安装落地式交接箱 1200 对以下","个",null,{"v":3.2,"d":"3.20"},{"v":3.2,"d":"3.20"},{"v":0,"d":"0.00"},{"v":0,"d":"0.00"}]
[{"$f":"SUBTOTAL(3,$B$7:B846)","v":20},"TXL7-054","安装落地式交接箱 2400 对以下","个",null,{"v":4.1,"d":"4.10"},{"v":4.1,"d":"4.10"},{"v":0,"d":"0.00"},{"v":0,"d":"0.00"}]
[{"$f":"SUBTOTAL(3,$B$7:B847)","v":20},"TXL7-055","安装落地式交接箱 3600 对以下","个",null,{"v":5,"d":"5.00"},{"v":5,"d":"5.00"},{"v":0,"d":"0.00"},{"v":0,"d":"0.00"}]
[{"$f":"SUBTOTAL(3,$B$7:B848)","v":20},"TXL7-056","安装墙挂式交接箱 600 对以下","个",null,{"v":2.9,"d":"2.90"},{"v":2.9,"d":"2.90"},{"v":0,"d":"0.00"},{"v":0,"d":"0.00"}]
[{"$f":"SUBTOTAL(3,$B$7:B849)","v":20},"TXL7-057","安装墙挂式交接箱 1200 对以下","个",null,3.85,3.85,{"v":0,"d":"0.00"},{"v":0,"d":"0.00"}]
[{"$f":"SUBTOTAL(3,$B$7:B850)","v":20},"TXL7-058","安装墙挂式交接箱 2400 对以下","个",null,4.76,4.76,{"v":0,"d":"0.00"},{"v":0,"d":"0.00"}]
[{"$f":"SUBTOTAL(3,$B$7:B851)","v":20},"TXL7-059","交接箱改接跳线","百条",null,{"v":6,"d":"6.00"},{"v":0,"d":"0.00"},{"v":0,"d":"0.00"},{"v":0,"d":"0.00"}]
[{"$f":"SUBTOTAL(3,$B$7:B852)","v":20},"TXL7-060","制装塑缆分线箱 10 对以下","个",null,0.65,0.27,{"v":0,"d":"0.00"},{"v":0,"d":"0.00"}]
[{"$f":"SUBTOTAL(3,$B$7:B853)","v":20},"TXL7-061","制装塑缆分线箱 20 对以下","个",null,0.86,0.36,{"v":0,"d":"0.00"},{"v":0,"d":"0.00"}]
[{"$f":"SUBTOTAL(3,$B$7:B854)","v":20},"TXL7-062","制装塑缆分线箱 30 对以下","个",null,1.02,0.48,{"v":0,"d":"0.00"},{"v":0,"d":"0.00"}]
[{"$f":"SUBTOTAL(3,$B$7:B855)","v":20},"TXL7-063","制装塑缆分线箱 50 对以下","个",null,1.45,0.66,{"v":0,"d":"0.00"},{"v":0,"d":"0.00"}]
[{"$f":"SUBTOTAL(3,$B$7:B856)","v":20},"TXL7-064","制装塑缆分线盒 10 对以下","个",null,0.48,0.19,{"v":0,"d":"0.00"},{"v":0,"d":"0.00"}]
[{"$f":"SUBTOTAL(3,$B$7:B857)","v":20},"TXL7-065","制装塑缆分线盒 20 对以下","个",null,0.66,0.28,{"v":0,"d":"0.00"},{"v":0,"d":"0.00"}]
[{"$f":"SUBTOTAL(3,$B$7:B858)","v":20},"TXL7-066","制装塑缆分线盒 30 对以下","个",null,1.03,0.36,{"v":0,"d":"0.00"},{"v":0,"d":"0.00"}]
[{"$f":"SUBTOTAL(3,$B$7:B859)","v":20},"TXL7-067","制装塑缆分线盒 50 对以下","个",null,1.27,0.54,{"v":0,"d":"0.00"},{"v":0,"d":"0.00"}]
[{"$f":"SUBTOTAL(3,$B$7:B860)","v":20},"TXL7-068","制装环氧树脂堵塞分线箱 10 对以下","个",null,0.73,0.32,{"v":0,"d":"0.00"},{"v":0,"d":"0.00"}]
[{"$f":"SUBTOTAL(3,$B$7:B861)","v":20},"TXL7-069","制装环氧树脂堵塞分线箱 20 对以下","个",null,0.98,0.41,{"v":0,"d":"0.00"},{"v":0,"d":"0.00"}]
[{"$f":"SUBTOTAL(3,$B$7:B862)","v":20},"TXL7-070","制装环氧树脂堵塞分线箱 30 对以下","个",null,1.34,0.53,{"v":0,"d":"0.00"},{"v":0,"d":"0.00"}]
[{"$f":"SUBTOTAL(3,$B$7:B863)","v":20},"TXL7-071","制装环氧树脂堵塞分线箱 50 对以下","个",null,{"v":1.6,"d":"1.60"},0.92,{"v":0,"d":"0.00"},{"v":0,"d":"0.00"}]
[{"$f":"SUBTOTAL(3,$B$7:B864)","v":20},"TXL7-072","制装环氧树脂堵塞分线盒 10 对以下","个",null,0.59,0.23,{"v":0,"d":"0.00"},{"v":0,"d":"0.00"}]
[{"$f":"SUBTOTAL(3,$B$7:B865)","v":20},"TXL7-073","制装环氧树脂堵塞分线盒 20 对以下","个",null,0.76,0.31,{"v":0,"d":"0.00"},{"v":0,"d":"0.00"}]
[{"$f":"SUBTOTAL(3,$B$7:B866)","v":20},"TXL7-074","制装环氧树脂堵塞分线盒 30 对以下","个",null,1.17,{"v":0.4,"d":"0.40"},{"v":0,"d":"0.00"},{"v":0,"d":"0.00"}]
[{"$f":"SUBTOTAL(3,$B$7:B867)","v":20},"TXL7-075","制装环氧树脂堵塞分线盒 50 对以下","个",null,{"v":1.4,"d":"1.40"},0.79,{"v":0,"d":"0.00"},{"v":0,"d":"0.00"}]
[{"$f":"SUBTOTAL(3,$B$7:B868)","v":20},"TXL7-076","安装明挂式 组线箱体","个",null,1.55,0.58,{"v":0,"d":"0.00"},{"v":0,"d":"0.00"}]
[{"$f":"SUBTOTAL(3,$B$7:B869)","v":20},"TXL7-077","安装测试 100 回线保 安排试验排","块",null,0.75,{"v":0,"d":"0.00"},{"v":0,"d":"0.00"},{"v":0,"d":"0.00"}]
[{"$f":"SUBTOTAL(3,$B$7:B870)","v":20},"TXL7-078","安装组线箱 端子板","块",null,{"v":0.3,"d":"0.30"},{"v":0,"d":"0.00"},{"v":0,"d":"0.00"},{"v":0,"d":"0.00"}]
[{"$f":"SUBTOTAL(3,$B$7:B871)","v":20},"TXL7-079","安装交接间配线架 3600 对","座",null,3.65,{"v":0,"d":"0.00"},{"v":0,"d":"0.00"},{"v":0,"d":"0.00"}]
[{"$f":"SUBTOTAL(3,$B$7:B872)","v":20},"TXL7-080","安装交接间配线架 4800 对","座",null,4.67,{"v":0,"d":"0.00"},{"v":0,"d":"0.00"},{"v":0,"d":"0.00"}]
[{"$f":"SUBTOTAL(3,$B$7:B873)","v":20},"TXL7-081","安装交接间配线架 7200 对","座",null,7.22,{"v":0,"d":"0.00"},{"v":0,"d":"0.00"},{"v":0,"d":"0.00"}]
[{"$f":"SUBTOTAL(3,$B$7:B874)","v":20},"TXL7-082","安装测试 100 回线接 线排","块",null,{"v":0.4,"d":"0.40"},{"v":0,"d":"0.00"},{"v":0,"d":"0.00"},{"v":0,"d":"0.00"}]
[{"$f":"SUBTOTAL(3,$B$7:B875)","v":20},"TXL7-083","安装充气设备 12 路以下","套",null,{"v":11.9,"d":"11.90"},{"v":2.1,"d":"2.10"},{"v":0,"d":"0.00"},{"v":0,"d":"0.00"}]
[{"$f":"SUBTOTAL(3,$B$7:B876)","v":20},"TXL7-084","安装充气设备 24 路以下","套",null,{"v":18.4,"d":"18.40"},{"v":4.6,"d":"4.60"},{"v":0,"d":"0.00"},{"v":0,"d":"0.00"}]
[{"$f":"SUBTOTAL(3,$B$7:B877)","v":20},"TXL7-085","安装充气设备 36 路以下","套",null,{"v":27.2,"d":"27.20"},{"v":6.8,"d":"6.80"},{"v":0,"d":"0.00"},{"v":0,"d":"0.00"}]
[{"$f":"SUBTOTAL(3,$B$7:B878)","v":20},"TXL7-086","安装充气设备 48 路以下","套",null,{"v":36.8,"d":"36.80"},{"v":9.2,"d":"9.20"},{"v":0,"d":"0.00"},{"v":0,"d":"0.00"}]
[{"$f":"SUBTOTAL(3,$B$7:B879)","v":20},"TXL7-087","增装气压表","块",null,0.68,0.37,{"v":0,"d":"0.00"},{"v":0,"d":"0.00"}]
[{"$f":"SUBTOTAL(3,$B$7:B880)","v":20},"TXL7-088","单装气门","个",null,{"v":0.4,"d":"0.40"},{"v":0.1,"d":"0.10"},{"v":0,"d":"0.00"},{"v":0,"d":"0.00"}]
[{"$f":"SUBTOTAL(3,$B$7:B881)","v":20},"TXL7-089","布放安装输气管","20m/条",null,0.45,0.15,{"v":0,"d":"0.00"},{"v":0,"d":"0.00"}]
[{"$f":"SUBTOTAL(3,$B$7:B882)","v":20},"TXL7-090","安装告警器","个",null,{"v":0.9,"d":"0.90"},{"v":0.3,"d":"0.30"},{"v":0,"d":"0.00"},{"v":0,"d":"0.00"}]
[{"$f":"SUBTOTAL(3,$B$7:B883)","v":20},"TXL7-091","电缆全程充气","千米条",null,{"v":2,"d":"2.00"},{"v":0,"d":"0.00"},{"v":0,"d":"0.00"},{"v":0,"d":"0.00"}]
[{"$f":"SUBTOTAL(3,$B$7:B884)","v":20},"TSY1—029","安装光分配架-整架","个",null,2.42,0,{"v":0,"d":"0.00"},{"v":0,"d":"0.00"}]
[{"$f":"SUBTOTAL(3,$B$7:B885)","v":20},"TSY1—030","安装光分配架-子架","个",null,0.19,0,{"v":0,"d":"0.00"},{"v":0,"d":"0.00"}]
[{"$f":"SUBTOTAL(3,$B$7:B886)","v":20},"TXL1-001拆","光（电）缆工程施工测量 直埋","100m",null,0.56,0.14,{"$f":"E886*F886*J886","v":{"v":0,"d":"0.00"}},{"$f":"E886*G886*J886","v":{"v":0,"d":"0.00"}},0.3]
[{"$f":"SUBTOTAL(3,$B$7:B887)","v":20},"TXL1-002拆","光（电）缆工程施工测量 架空","100m",null,0.46,0.12,{"$f":"E887*F887*J887","v":{"v":0,"d":"0.00"}},{"$f":"E887*G887*J887","v":{"v":0,"d":"0.00"}},0.7]
[{"$f":"SUBTOTAL(3,$B$7:B888)","v":20},"TXL1-003拆","光（电）缆工程施工测量 管道","100m",null,0.35,0.09,{"v":0,"d":"0.00"},{"v":0,"d":"0.00"},0.3]
[{"$f":"SUBTOTAL(3,$B$7:B889)","v":20},"TXL1-004拆","光（电）缆工程施工测量 海上","100m",null,4.25,{"v":0,"d":"0.00"},{"v":0,"d":"0.00"},{"v":0,"d":"0.00"},0.3]
[{"$f":"SUBTOTAL(3,$B$7:B890)","v":20},"TXL1-005拆","GPS 定位","点",null,0.05,{"v":0,"d":"0.00"},{"v":0,"d":"0.00"},{"v":0,"d":"0.00"},0.3]
[{"$f":"SUBTOTAL(3,$B$7:B891)","v":20},"TXL1-006拆","单盘检验 光缆","芯盘",null,0.02,{"v":0,"d":"0.00"},{"v":0,"d":"0.00"},{"v":0,"d":"0.00"},0.3]
[{"$f":"SUBTOTAL(3,$B$7:B892)","v":20},"TXL1-007拆","单盘检验 电缆","百对盘",null,{"v":0.5,"d":"0.50"},{"v":0,"d":"0.00"},{"v":0,"d":"0.00"},{"v":0,"d":"0.00"},0.3]
[{"$f":"SUBTOTAL(3,$B$7:B893)","v":20},"TXL1-008拆","人工开挖路面 混凝土 100 以下","100m2",null,3.33,24.25,{"v":0,"d":"0.00"},{"v":0,"d":"0.00"},0.3]
[{"$f":"SUBTOTAL(3,$B$7:B894)","v":20},"TXL1-009拆","人工开挖路面 混凝土 每增加 10","100m2",null,0.33,1.75,{"v":0,"d":"0.00"},{"v":0,"d":"0.00"},0.3]
[{"$f":"SUBTOTAL(3,$B$7:B895)","v":20},"TXL1-010拆","人工开挖路面 沥青柏油 100 以下","100m2",null,1.88,{"v":13,"d":"13.00"},{"v":0,"d":"0.00"},{"v":0,"d":"0.00"},0.3]
[{"$f":"SUBTOTAL(3,$B$7:B896)","v":20},"TXL1-011拆","人工开挖路面 沥青柏油 每增加 10","100m2",null,0.19,1.25,{"v":0,"d":"0.00"},{"v":0,"d":"0.00"},0.3]
[{"$f":"SUBTOTAL(3,$B$7:B897)","v":20},"TXL1-012拆","人工开挖路面 砂石 100 以下","100m2",null,1.04,6.29,{"v":0,"d":"0.00"},{"v":0,"d":"0.00"},0.3]
[{"$f":"SUBTOTAL(3,$B$7:B898)","v":20},"TXL1-013拆","人工开挖路面 砂石 每增加 10","100m2",null,0.09,0.59,{"v":0,"d":"0.00"},{"v":0,"d":"0.00"},0.3]
[{"$f":"SUBTOTAL(3,$B$7:B899)","v":20},"TXL1-014拆","人工开挖路面 混凝土砌块","100m2",null,0.38,3.75,{"v":0,"d":"0.00"},{"v":0,"d":"0.00"},0.3]
[{"$f":"SUBTOTAL(3,$B$7:B900)","v":20},"TXL1-015拆","人工开挖路面 水泥花砖","100m2",null,0.31,2.88,{"v":0,"d":"0.00"},{"v":0,"d":"0.00"},0.3]
[{"$f":"SUBTOTAL(3,$B$7:B901)","v":20},"TXL1-016拆","人工开挖路面 条石","100m2",null,{"v":5,"d":"5.00"},25.88,{"v":0,"d":"0.00"},{"v":0,"d":"0.00"},0.3]
[{"$f":"SUBTOTAL(3,$B$7:B902)","v":20},"TXL1-017拆","机械开挖路面 混凝土 100 以下","100m2",null,{"v":0,"d":"0.00"},4.25,{"v":0,"d":"0.00"},{"v":0,"d":"0.00"},0.3]
[{"$f":"SUBTOTAL(3,$B$7:B903)","v":20},"TXL1-018拆","机械开挖路面 混凝土 每增加 10","100m2",null,{"v":0,"d":"0.00"},0.38,{"v":0,"d":"0.00"},{"v":0,"d":"0.00"},0.3]
[{"$f":"SUBTOTAL(3,$B$7:B904)","v":20},"TXL1-019拆","机械开挖路面 沥青柏油 100 以下","100m2",null,{"v":0,"d":"0.00"},3.25,{"v":0,"d":"0.00"},{"v":0,"d":"0.00"},0.3]
[{"$f":"SUBTOTAL(3,$B$7:B905)","v":20},"TXL1-020拆","机械开挖路面 沥青柏油 每增加 10","100m2",null,{"v":0,"d":"0.00"},0.08,{"v":0,"d":"0.00"},{"v":0,"d":"0.00"},0.3]
[{"$f":"SUBTOTAL(3,$B$7:B906)","v":20},"TXL1-021拆","机械开挖路面 砂石 100 以下","100m2",null,{"v":0,"d":"0.00"},4.25,{"v":0,"d":"0.00"},{"v":0,"d":"0.00"},0.3]
[{"$f":"SUBTOTAL(3,$B$7:B907)","v":20},"TXL1-022拆","机械开挖路面 砂石 每增加 10","100m2",null,{"v":0,"d":"0.00"},0.13,{"v":0,"d":"0.00"},{"v":0,"d":"0.00"},0.3]
[{"$f":"SUBTOTAL(3,$B$7:B908)","v":20},"TXL2-001拆","挖、松填光（电）缆沟及接头坑 普通土","百立方米",null,{"v":0,"d":"0.00"},39.38,{"v":0,"d":"0.00"},{"v":0,"d":"0.00"},0.3]
[{"$f":"SUBTOTAL(3,$B$7:B909)","v":20},"TXL2-002拆","挖、松填光（电）缆沟及接头坑 硬土","百立方米",null,{"v":0,"d":"0.00"},{"v":51.5,"d":"51.50"},{"v":0,"d":"0.00"},{"v":0,"d":"0.00"},0.3]
[{"$f":"SUBTOTAL(3,$B$7:B910)","v":20},"TXL2-003拆","挖、松填光（电）缆沟及接头坑 砂砾土","百立方米",null,{"v":0,"d":"0.00"},62.13,{"v":0,"d":"0.00"},{"v":0,"d":"0.00"},0.3]
[{"$f":"SUBTOTAL(3,$B$7:B911)","v":20},"TXL2-004拆","挖、松填光（电）缆沟及接头坑 冻土","百立方米",null,{"v":0,"d":"0.00"},{"v":139.5,"d":"139.50"},{"v":0,"d":"0.00"},{"v":0,"d":"0.00"},0.3]
[{"$f":"SUBTOTAL(3,$B$7:B912)","v":20},"TXL2-005拆","挖、松填光（电）缆沟及接头坑 软石","百立方米",null,5.55,262.25,{"v":0,"d":"0.00"},{"v":0,"d":"0.00"},0.3]
[{"$f":"SUBTOTAL(3,$B$7:B913)","v":20},"TXL2-006拆","挖、松填光（电）缆沟及接头坑 坚石（人工）","百立方米",null,{"v":36.2,"d":"36.20"},{"v":455.5,"d":"455.50"},{"v":0,"d":"0.00"},{"v":0,"d":"0.00"},0.3]
[{"$f":"SUBTOTAL(3,$B$7:B914)","v":20},"TXL2-007拆","挖、夯填光（电）缆沟及接头坑 普通土","百立方米",null,{"v":0,"d":"0.00"},40.88,{"v":0,"d":"0.00"},{"v":0,"d":"0.00"},0.3]
[{"$f":"SUBTOTAL(3,$B$7:B915)","v":20},"TXL2-008拆","挖、夯填光（电）缆沟及接头坑 硬土","百立方米",null,{"v":0,"d":"0.00"},{"v":55,"d":"55.00"},{"v":0,"d":"0.00"},{"v":0,"d":"0.00"},0.3]
[{"$f":"SUBTOTAL(3,$B$7:B916)","v":20},"TXL2-009拆","挖、夯填光（电）缆沟及接头坑 砂砾土","百立方米",null,{"v":0,"d":"0.00"},71.13,{"v":0,"d":"0.00"},{"v":0,"d":"0.00"},0.3]
[{"$f":"SUBTOTAL(3,$B$7:B917)","v":20},"TXL2-010拆","挖、夯填光（电）缆沟及接头坑 冻土","百立方米",null,{"v":0,"d":"0.00"},{"v":145.5,"d":"145.50"},{"v":0,"d":"0.00"},{"v":0,"d":"0.00"},0.3]
[{"$f":"SUBTOTAL(3,$B$7:B918)","v":20},"TXL2-011拆","挖、夯填光（电）缆沟及接头坑 软石","百立方米",null,6.55,270.25,{"v":0,"d":"0.00"},{"v":0,"d":"0.00"},0.3]
[{"$f":"SUBTOTAL(3,$B$7:B919)","v":20},"TXL2-012拆","挖、夯填光（电）缆沟及接头坑 坚石（人工）","百立方米",null,{"v":38.2,"d":"38.20"},{"v":480.5,"d":"480.50"},{"v":0,"d":"0.00"},{"v":0,"d":"0.00"},0.3]
[{"$f":"SUBTOTAL(3,$B$7:B920)","v":20},"TXL2-013拆","石质沟铺盖细土","沟千米",null,{"v":0,"d":"0.00"},{"v":6,"d":"6.00"},{"v":0,"d":"0.00"},{"v":0,"d":"0.00"},0.3]
[{"$f":"SUBTOTAL(3,$B$7:B921)","v":20},"TXL2-014拆","手推车倒运土方","百立方米",null,{"v":0,"d":"0.00"},{"v":12,"d":"12.00"},{"v":0,"d":"0.00"},{"v":0,"d":"0.00"},0.3]
[{"$f":"SUBTOTAL(3,$B$7:B922)","v":20},"TXL2-015拆","平原地区敷设埋式光缆 36 芯以下","千米条",null,5.88,26.88,{"v":0,"d":"0.00"},{"v":0,"d":"0.00"},1]
[{"$f":"SUBTOTAL(3,$B$7:B923)","v":20},"TXL2-016拆","平原地区敷设埋式光缆 72 芯以下","千米条",null,{"v":8.2,"d":"8.20"},29.26,{"v":0,"d":"0.00"},{"v":0,"d":"0.00"},1]
[{"$f":"SUBTOTAL(3,$B$7:B924)","v":20},"TXL2-017拆","平原地区敷设埋式光缆 96 芯以下","千米条",null,10.42,30.94,{"v":0,"d":"0.00"},{"v":0,"d":"0.00"},1]
[{"$f":"SUBTOTAL(3,$B$7:B925)","v":20},"TXL2-018拆","平原地区敷设埋式光缆 144 芯以下","千米条",null,12.63,32.62,{"v":0,"d":"0.00"},{"v":0,"d":"0.00"},1]
[{"$f":"SUBTOTAL(3,$B$7:B926)","v":20},"TXL2-019拆","平原地区敷设埋式光缆 288 芯以下","千米条",null,14.85,{"v":34.3,"d":"34.30"},{"v":0,"d":"0.00"},{"v":0,"d":"0.00"},1]
[{"$f":"SUBTOTAL(3,$B$7:B927)","v":20},"TXL2-020拆","平原地区敷设埋式光缆 288 芯以上","千米条",null,18.18,36.82,{"v":0,"d":"0.00"},{"v":0,"d":"0.00"},1]
[{"$f":"SUBTOTAL(3,$B$7:B928)","v":20},"TXL2-021拆","丘陵、水田、城区敷设埋式光缆 36 芯以下","千米条",null,7.44,30.58,{"v":0,"d":"0.00"},{"v":0,"d":"0.00"},1]
[{"$f":"SUBTOTAL(3,$B$7:B929)","v":20},"TXL2-022拆","丘陵、水田、城区敷设埋式光缆 72 芯以下","千米条",null,10.05,33.69,{"v":0,"d":"0.00"},{"v":0,"d":"0.00"},1]
[{"$f":"SUBTOTAL(3,$B$7:B930)","v":20},"TXL2-023拆","丘陵、水田、城区敷设埋式光缆 96 芯以下","千米条",null,12.76,36.52,{"v":0,"d":"0.00"},{"v":0,"d":"0.00"},1]
[{"$f":"SUBTOTAL(3,$B$7:B931)","v":20},"TXL2-024拆","丘陵、水田、城区敷设埋式光缆 144 芯以下","千米条",null,{"v":15.5,"d":"15.50"},38.44,{"v":0,"d":"0.00"},{"v":0,"d":"0.00"},1]
[{"$f":"SUBTOTAL(3,$B$7:B932)","v":20},"TXL2-025拆","丘陵、水田、城区敷设埋式光缆 288 芯以下","千米条",null,17.88,41.25,{"v":0,"d":"0.00"},{"v":0,"d":"0.00"},1]
[{"$f":"SUBTOTAL(3,$B$7:B933)","v":20},"TXL2-026拆","丘陵、水田、城区敷设埋式光缆 288 芯以上","千米条",null,{"v":22.1,"d":"22.10"},{"v":45,"d":"45.00"},{"v":0,"d":"0.00"},{"v":0,"d":"0.00"},1]
[{"$f":"SUBTOTAL(3,$B$7:B934)","v":20},"TXL2-027拆","山区敷设埋式光缆 36 芯以下","千米条",null,9.05,40.22,{"v":0,"d":"0.00"},{"v":0,"d":"0.00"},1]
[{"$f":"SUBTOTAL(3,$B$7:B935)","v":20},"TXL2-028拆","山区敷设埋式光缆 72 芯以下","千米条",null,12.55,43.54,{"v":0,"d":"0.00"},{"v":0,"d":"0.00"},1]
[{"$f":"SUBTOTAL(3,$B$7:B936)","v":20},"TXL2-029拆","山区敷设埋式光缆 96 芯以下","千米条",null,15.86,{"v":47.1,"d":"47.10"},{"v":0,"d":"0.00"},{"v":0,"d":"0.00"},1]
[{"$f":"SUBTOTAL(3,$B$7:B937)","v":20},"TXL2-030拆","山区敷设埋式光缆 144 芯以下","千米条",null,{"v":19.2,"d":"19.20"},50.14,{"v":0,"d":"0.00"},{"v":0,"d":"0.00"},1]
[{"$f":"SUBTOTAL(3,$B$7:B938)","v":20},"TXL2-031拆","山区敷设埋式光缆 288 芯以下","千米条",null,22.53,53.13,{"v":0,"d":"0.00"},{"v":0,"d":"0.00"},1]
[{"$f":"SUBTOTAL(3,$B$7:B939)","v":20},"TXL2-032拆","山区敷设埋式光缆 288 芯以上","千米条",null,{"v":27.5,"d":"27.50"},57.46,{"v":0,"d":"0.00"},{"v":0,"d":"0.00"},1]
[{"$f":"SUBTOTAL(3,$B$7:B940)","v":20},"TXL2-033拆","敷设埋式电缆 200 对以下","千米条",null,8.35,22.84,{"v":0,"d":"0.00"},{"v":0,"d":"0.00"},1]
[{"$f":"SUBTOTAL(3,$B$7:B941)","v":20},"TXL2-034拆","敷设埋式电缆 400 对以下","千米条",null,9.49,25.91,{"v":0,"d":"0.00"},{"v":0,"d":"0.00"},1]
[{"$f":"SUBTOTAL(3,$B$7:B942)","v":20},"TXL2-035拆","敷设埋式电缆 600 对以下","千米条",null,11.08,30.23,{"v":0,"d":"0.00"},{"v":0,"d":"0.00"},1]
[{"$f":"SUBTOTAL(3,$B$7:B943)","v":20},"TXL2-036拆","敷设埋式电缆 600 对以上","千米条",null,13.51,36.76,{"v":0,"d":"0.00"},{"v":0,"d":"0.00"},1]
[{"$f":"SUBTOTAL(3,$B$7:B944)","v":20},"TXL2-037拆","砖砌专用塑料管道光缆手孔 Ⅰ型 （1.2×0.9×1.0）","个",null,{"v":6.4,"d":"6.40"},6.14,{"v":0,"d":"0.00"},{"v":0,"d":"0.00"},0.3]
[{"$f":"SUBTOTAL(3,$B$7:B945)","v":20},"TXL2-038拆","砖砌专用塑料管道光缆手孔 Ⅱ型 （2.6×0.9×1.0）","个",null,8.67,8.33,{"v":0,"d":"0.00"},{"v":0,"d":"0.00"},0.3]
[{"$f":"SUBTOTAL(3,$B$7:B946)","v":20},"TXL2-039拆","砖砌专用塑料管道光缆手孔 Ⅲ型 （1.2×0.9×0.7）","个",null,5.12,4.91,{"v":0,"d":"0.00"},{"v":0,"d":"0.00"},0.3]
[{"$f":"SUBTOTAL(3,$B$7:B947)","v":20},"TXL2-040拆","砖砌专用塑料管道光缆手孔 Ⅳ型 （2.6×0.9×0.7）","个",null,6.94,6.66,{"v":0,"d":"0.00"},{"v":0,"d":"0.00"},0.3]
[{"$f":"SUBTOTAL(3,$B$7:B948)","v":20},"TXL2-041拆","埋设定型手孔","个",null,{"v":1,"d":"1.00"},{"v":2,"d":"2.00"},{"v":0,"d":"0.00"},{"v":0,"d":"0.00"},0.3]
[{"$f":"SUBTOTAL(3,$B$7:B949)","v":20},"TXL2-042拆","平原地区人工敷设小口径塑料管 1 管","km",null,{"v":4.1,"d":"4.10"},15.73,{"v":0,"d":"0.00"},{"v":0,"d":"0.00"},0.3]
[{"$f":"SUBTOTAL(3,$B$7:B950)","v":20},"TXL2-043拆","平原地区人工敷设小口径塑料管 2 管","km",null,{"v":7.5,"d":"7.50"},29.41,{"v":0,"d":"0.00"},{"v":0,"d":"0.00"},0.3]
[{"$f":"SUBTOTAL(3,$B$7:B951)","v":20},"TXL2-044拆","平原地区人工敷设小口径塑料管 3 管","km",null,11.65,{"v":45.4,"d":"45.40"},{"$f":"E951*F951*J951","v":{"v":0,"d":"0.00"}},{"$f":"E951*G951*J951","v":{"v":0,"d":"0.00"}},0.3]
[{"$f":"SUBTOTAL(3,$B$7:B952)","v":20},"TXL2-045拆","平原地区人工敷设小口径塑料管 4 管","km",null,15.05,{"v":58.5,"d":"58.50"},{"v":0,"d":"0.00"},{"v":0,"d":"0.00"},0.3]
[{"$f":"SUBTOTAL(3,$B$7:B953)","v":20},"TXL2-046拆","平原地区人工敷设小口径塑料管 5 管","km",null,19.22,{"v":71.6,"d":"71.60"},{"v":0,"d":"0.00"},{"v":0,"d":"0.00"},0.3]
[{"$f":"SUBTOTAL(3,$B$7:B954)","v":20},"TXL2-047拆","平原地区人工敷设小口径塑料管 6 管","km",null,{"v":22.6,"d":"22.60"},{"v":84.8,"d":"84.80"},{"v":0,"d":"0.00"},{"v":0,"d":"0.00"},0.3]
[{"$f":"SUBTOTAL(3,$B$7:B955)","v":20},"TXL2-048拆","平原地区人工敷设小口径塑料管 7 管","km",null,{"v":25.6,"d":"25.60"},{"v":99.5,"d":"99.50"},{"v":0,"d":"0.00"},{"v":0,"d":"0.00"},0.3]
[{"$f":"SUBTOTAL(3,$B$7:B956)","v":20},"TXL2-049拆","平原地区人工敷设小口径塑料管 8 管","km",null,{"v":29.1,"d":"29.10"},112.45,{"v":0,"d":"0.00"},{"v":0,"d":"0.00"},0.3]
[{"$f":"SUBTOTAL(3,$B$7:B957)","v":20},"TXL2-050拆","平原地区人工敷设小口径塑料管 9 管","km",null,{"v":33.1,"d":"33.10"},{"v":128.2,"d":"128.20"},{"v":0,"d":"0.00"},{"v":0,"d":"0.00"},0.3]
[{"$f":"SUBTOTAL(3,$B$7:B958)","v":20},"TXL2-051拆","平原地区人工敷设小口径塑料管 10 管","km",null,{"v":36.5,"d":"36.50"},{"v":141,"d":"141.00"},{"v":0,"d":"0.00"},{"v":0,"d":"0.00"},0.3]
[{"$f":"SUBTOTAL(3,$B$7:B959)","v":20},"TXL2-052拆","平原地区人工敷设小口径塑料管 11 管","km",null,{"v":39.8,"d":"39.80"},154.05,{"v":0,"d":"0.00"},{"v":0,"d":"0.00"},0.3]
[{"$f":"SUBTOTAL(3,$B$7:B960)","v":20},"TXL2-053拆","平原地区人工敷设小口径塑料管 12 管","km",null,{"v":43.2,"d":"43.20"},{"v":167,"d":"167.00"},{"v":0,"d":"0.00"},{"v":0,"d":"0.00"},0.3]
[{"$f":"SUBTOTAL(3,$B$7:B961)","v":20},"TXL2-054拆","平原地区人工敷设小口径塑料管 13 管","km",null,{"v":47.3,"d":"47.30"},{"v":182.8,"d":"182.80"},{"v":0,"d":"0.00"},{"v":0,"d":"0.00"},0.3]
[{"$f":"SUBTOTAL(3,$B$7:B962)","v":20},"TXL2-055拆","平原地区人工敷设小口径塑料管 14 管","km",null,{"v":50.6,"d":"50.60"},{"v":195.5,"d":"195.50"},{"v":0,"d":"0.00"},{"v":0,"d":"0.00"},0.3]
[{"$f":"SUBTOTAL(3,$B$7:B963)","v":20},"TXL2-056拆","平原地区人工敷设小口径塑料管 15 管","km",null,{"v":54,"d":"54.00"},208.65,{"v":0,"d":"0.00"},{"v":0,"d":"0.00"},0.3]
[{"$f":"SUBTOTAL(3,$B$7:B964)","v":20},"TXL2-057拆","平原地区人工敷设小口径塑料管 16 管","km",null,{"v":57.4,"d":"57.40"},{"v":221.6,"d":"221.60"},{"v":0,"d":"0.00"},{"v":0,"d":"0.00"},0.3]
[{"$f":"SUBTOTAL(3,$B$7:B965)","v":20},"TXL2-058拆","丘陵、城区、水田地区人工敷设小口径塑料管 1 管","km",null,{"v":4.8,"d":"4.80"},{"v":18.5,"d":"18.50"},{"v":0,"d":"0.00"},{"v":0,"d":"0.00"},0.3]
[{"$f":"SUBTOTAL(3,$B$7:B966)","v":20},"TXL2-059拆","丘陵、城区、水田地区人工敷设小口径塑料管 2 管","km",null,{"v":8.8,"d":"8.80"},{"v":34.6,"d":"34.60"},{"v":0,"d":"0.00"},{"v":0,"d":"0.00"},0.3]
[{"$f":"SUBTOTAL(3,$B$7:B967)","v":20},"TXL2-060拆","丘陵、城区、水田地区人工敷设小口径塑料管 3 管","km",null,{"v":13.7,"d":"13.70"},{"v":53.4,"d":"53.40"},{"v":0,"d":"0.00"},{"v":0,"d":"0.00"},0.3]
[{"$f":"SUBTOTAL(3,$B$7:B968)","v":20},"TXL2-061拆","丘陵、城区、水田地区人工敷设小口径塑料管 4 管","km",null,{"v":17.7,"d":"17.70"},{"v":68.9,"d":"68.90"},{"v":0,"d":"0.00"},{"v":0,"d":"0.00"},0.3]
[{"$f":"SUBTOTAL(3,$B$7:B969)","v":20},"TXL2-062拆","丘陵、城区、水田地区人工敷设小口径塑料管 5 管","km",null,{"v":22.4,"d":"22.40"},{"v":84.1,"d":"84.10"},{"v":0,"d":"0.00"},{"v":0,"d":"0.00"},0.3]
[{"$f":"SUBTOTAL(3,$B$7:B970)","v":20},"TXL2-063拆","丘陵、城区、水田地区人工敷设小口径塑料管 6 管","km",null,{"v":26.6,"d":"26.60"},{"v":103.3,"d":"103.30"},{"v":0,"d":"0.00"},{"v":0,"d":"0.00"},0.3]
[{"$f":"SUBTOTAL(3,$B$7:B971)","v":20},"TXL2-064拆","丘陵、城区、水田地区人工敷设小口径塑料管 7 管","km",null,{"v":30.3,"d":"30.30"},114.35,{"v":0,"d":"0.00"},{"v":0,"d":"0.00"},0.3]
[{"$f":"SUBTOTAL(3,$B$7:B972)","v":20},"TXL2-065拆","丘陵、城区、水田地区人工敷设小口径塑料管 8 管","km",null,{"v":34.6,"d":"34.60"},{"v":133.9,"d":"133.90"},{"v":0,"d":"0.00"},{"v":0,"d":"0.00"},0.3]
[{"$f":"SUBTOTAL(3,$B$7:B973)","v":20},"TXL2-066拆","丘陵、城区、水田地区人工敷设小口径塑料管 9 管","km",null,{"v":39,"d":"39.00"},{"v":147.4,"d":"147.40"},{"v":0,"d":"0.00"},{"v":0,"d":"0.00"},0.3]
[{"$f":"SUBTOTAL(3,$B$7:B974)","v":20},"TXL2-067拆","丘陵、城区、水田地区人工敷设小口径塑料管 10 管","km",null,{"v":43,"d":"43.00"},{"v":162.1,"d":"162.10"},{"v":0,"d":"0.00"},{"v":0,"d":"0.00"},0.3]
[{"$f":"SUBTOTAL(3,$B$7:B975)","v":20},"TXL2-068拆","丘陵、城区、水田地区人工敷设小口径塑料管 11 管","km",null,{"v":46.9,"d":"46.90"},177.05,{"v":0,"d":"0.00"},{"v":0,"d":"0.00"},0.3]
[{"$f":"SUBTOTAL(3,$B$7:B976)","v":20},"TXL2-069拆","丘陵、城区、水田地区人工敷设小口径塑料管 12 管","km",null,{"v":51.4,"d":"51.40"},{"v":198.9,"d":"198.90"},{"v":0,"d":"0.00"},{"v":0,"d":"0.00"},0.3]
[{"$f":"SUBTOTAL(3,$B$7:B977)","v":20},"TXL2-070拆","丘陵、城区、水田地区人工敷设小口径塑料管 13 管","km",null,{"v":55.8,"d":"55.80"},{"v":210,"d":"210.00"},{"v":0,"d":"0.00"},{"v":0,"d":"0.00"},0.3]
[{"$f":"SUBTOTAL(3,$B$7:B978)","v":20},"TXL2-071拆","丘陵、城区、水田地区人工敷设小口径塑料管 14 管","km",null,{"v":59.5,"d":"59.50"},{"v":225.5,"d":"225.50"},{"v":0,"d":"0.00"},{"v":0,"d":"0.00"},0.3]
[{"$f":"SUBTOTAL(3,$B$7:B979)","v":20},"TXL2-072拆","丘陵、城区、水田地区人工敷设小口径塑料管 15 管","km",null,{"v":63.2,"d":"63.20"},{"v":239.9,"d":"239.90"},{"v":0,"d":"0.00"},{"v":0,"d":"0.00"},0.3]
[{"$f":"SUBTOTAL(3,$B$7:B980)","v":20},"TXL2-073拆","丘陵、城区、水田地区人工敷设小口径塑料管 16 管","km",null,{"v":67,"d":"67.00"},{"v":254.4,"d":"254.40"},{"v":0,"d":"0.00"},{"v":0,"d":"0.00"},0.3]
[{"$f":"SUBTOTAL(3,$B$7:B981)","v":20},"TXL2-074拆","山区人工敷设小口径塑料管 1 管","km",null,{"v":5.7,"d":"5.70"},{"v":21.8,"d":"21.80"},{"v":0,"d":"0.00"},{"v":0,"d":"0.00"},0.3]
[{"$f":"SUBTOTAL(3,$B$7:B982)","v":20},"TXL2-075拆","山区人工敷设小口径塑料管 2 管","km",null,{"v":10.6,"d":"10.60"},{"v":40.5,"d":"40.50"},{"v":0,"d":"0.00"},{"v":0,"d":"0.00"},0.3]
[{"$f":"SUBTOTAL(3,$B$7:B983)","v":20},"TXL2-076拆","山区人工敷设小口径塑料管 3 管","km",null,{"v":16.5,"d":"16.50"},{"v":63.1,"d":"63.10"},{"v":0,"d":"0.00"},{"v":0,"d":"0.00"},0.3]
[{"$f":"SUBTOTAL(3,$B$7:B984)","v":20},"TXL2-077拆","山区人工敷设小口径塑料管 4 管","km",null,{"v":21.2,"d":"21.20"},{"v":80.3,"d":"80.30"},{"v":0,"d":"0.00"},{"v":0,"d":"0.00"},0.3]
[{"$f":"SUBTOTAL(3,$B$7:B985)","v":20},"TXL2-078拆","山区人工敷设小口径塑料管 5 管","km",null,{"v":26.8,"d":"26.80"},{"v":99.5,"d":"99.50"},{"v":0,"d":"0.00"},{"v":0,"d":"0.00"},0.3]
[{"$f":"SUBTOTAL(3,$B$7:B986)","v":20},"TXL2-079拆","山区人工敷设小口径塑料管 6 管","km",null,{"v":32,"d":"32.00"},{"v":121,"d":"121.00"},{"v":0,"d":"0.00"},{"v":0,"d":"0.00"},0.3]
[{"$f":"SUBTOTAL(3,$B$7:B987)","v":20},"TXL2-080拆","山区人工敷设小口径塑料管 7 管","km",null,{"v":36.4,"d":"36.40"},{"v":134.5,"d":"134.50"},{"v":0,"d":"0.00"},{"v":0,"d":"0.00"},0.3]
[{"$f":"SUBTOTAL(3,$B$7:B988)","v":20},"TXL2-081拆","山区人工敷设小口径塑料管 8 管","km",null,{"v":41.5,"d":"41.50"},{"v":158,"d":"158.00"},{"v":0,"d":"0.00"},{"v":0,"d":"0.00"},0.3]
[{"$f":"SUBTOTAL(3,$B$7:B989)","v":20},"TXL2-082拆","山区人工敷设小口径塑料管 9 管","km",null,{"v":46.8,"d":"46.80"},{"v":173.9,"d":"173.90"},{"v":0,"d":"0.00"},{"v":0,"d":"0.00"},0.3]
[{"$f":"SUBTOTAL(3,$B$7:B990)","v":20},"TXL2-083拆","山区人工敷设小口径塑料管 10 管","km",null,{"v":51.6,"d":"51.60"},{"v":191.3,"d":"191.30"},{"v":0,"d":"0.00"},{"v":0,"d":"0.00"},0.3]
[{"$f":"SUBTOTAL(3,$B$7:B991)","v":20},"TXL2-084拆","山区人工敷设小口径塑料管 11 管","km",null,{"v":56.3,"d":"56.30"},{"v":209,"d":"209.00"},{"v":0,"d":"0.00"},{"v":0,"d":"0.00"},0.3]
[{"$f":"SUBTOTAL(3,$B$7:B992)","v":20},"TXL2-085拆","山区人工敷设小口径塑料管 12 管","km",null,{"v":61.7,"d":"61.70"},{"v":234.7,"d":"234.70"},{"v":0,"d":"0.00"},{"v":0,"d":"0.00"},0.3]
[{"$f":"SUBTOTAL(3,$B$7:B993)","v":20},"TXL2-086拆","山区人工敷设小口径塑料管 13 管","km",null,{"v":67,"d":"67.00"},{"v":247.8,"d":"247.80"},{"v":0,"d":"0.00"},{"v":0,"d":"0.00"},0.3]
[{"$f":"SUBTOTAL(3,$B$7:B994)","v":20},"TXL2-087拆","山区人工敷设小口径塑料管 14 管","km",null,{"v":71.4,"d":"71.40"},{"v":266,"d":"266.00"},{"v":0,"d":"0.00"},{"v":0,"d":"0.00"},0.3]
[{"$f":"SUBTOTAL(3,$B$7:B995)","v":20},"TXL2-088拆","山区人工敷设小口径塑料管 15 管","km",null,75.85,{"v":283.1,"d":"283.10"},{"v":0,"d":"0.00"},{"v":0,"d":"0.00"},0.3]
[{"$f":"SUBTOTAL(3,$B$7:B996)","v":20},"TXL2-089拆","山区人工敷设小口径塑料管 16 管","km",null,{"v":80.4,"d":"80.40"},{"v":299.9,"d":"299.90"},{"v":0,"d":"0.00"},{"v":0,"d":"0.00"},0.3]
[{"$f":"SUBTOTAL(3,$B$7:B997)","v":20},"TXL2-090拆","小口径塑料管试通","孔千米",null,0.63,0.63,{"v":0,"d":"0.00"},{"v":0,"d":"0.00"},0.3]
[{"$f":"SUBTOTAL(3,$B$7:B998)","v":20},"TXL2-091拆","小口径塑料管道充气试验","孔千米",null,0.38,0.38,{"v":0,"d":"0.00"},{"v":0,"d":"0.00"},0.3]
[{"$f":"SUBTOTAL(3,$B$7:B999)","v":20},"TXL2-092拆","地下定向钻孔敷管 工作孔径φ120mm 以下 30m 以下","处",null,2.64,7.98,{"v":0,"d":"0.00"},{"v":0,"d":"0.00"},0.3]
[{"$f":"SUBTOTAL(3,$B$7:B1000)","v":20},"TXL2-093拆","地下定向钻孔敷管 工作孔径φ120mm 以下 每增加 10m","10m",null,0.53,{"v":1.6,"d":"1.60"},{"v":0,"d":"0.00"},{"v":0,"d":"0.00"},0.3]
[{"$f":"SUBTOTAL(3,$B$7:B1001)","v":20},"TXL2-094拆","地下定向钻孔敷管 工作孔径φ240mm 以下 30m 以下","处",null,3.96,10.26,{"v":0,"d":"0.00"},{"v":0,"d":"0.00"},0.3]
[{"$f":"SUBTOTAL(3,$B$7:B1002)","v":20},"TXL2-095拆","地下定向钻孔敷管 工作孔径φ240mm 以下 每增加 10m","10m",null,0.79,2.05,{"v":0,"d":"0.00"},{"v":0,"d":"0.00"},0.3]
[{"$f":"SUBTOTAL(3,$B$7:B1003)","v":20},"TXL2-096拆","地下定向钻孔敷管 工作孔径φ360mm 以下 30m 以下","处",null,5.94,13.34,{"v":0,"d":"0.00"},{"v":0,"d":"0.00"},0.3]
[{"$f":"SUBTOTAL(3,$B$7:B1004)","v":20},"TXL2-097拆","地下定向钻孔敷管 工作孔径φ360mm 以下 每增加 10m","10m",null,1.19,2.67,{"v":0,"d":"0.00"},{"v":0,"d":"0.00"},0.3]
[{"$f":"SUBTOTAL(3,$B$7:B1005)","v":20},"TXL2-098拆","地下定向钻孔敷管 工作孔径φ600mm 以下 30m 以下","处",null,8.91,17.34,{"v":0,"d":"0.00"},{"v":0,"d":"0.00"},0.3]
[{"$f":"SUBTOTAL(3,$B$7:B1006)","v":20},"TXL2-099拆","地下定向钻孔敷管 工作孔径φ600mm 以下 每增加 10m","10m",null,1.78,3.47,{"v":0,"d":"0.00"},{"v":0,"d":"0.00"},0.3]
[{"$f":"SUBTOTAL(3,$B$7:B1007)","v":20},"TXL2-100拆","地下定向钻孔敷管 工作孔径φ840mm 以下 30m 以下","处",null,13.66,26.01,{"v":0,"d":"0.00"},{"v":0,"d":"0.00"},0.3]
[{"$f":"SUBTOTAL(3,$B$7:B1008)","v":20},"TXL2-101拆","地下定向钻孔敷管 工作孔径φ840mm 以下 每增加 10m","10m",null,2.73,{"v":5.2,"d":"5.20"},{"v":0,"d":"0.00"},{"v":0,"d":"0.00"},0.3]
[{"$f":"SUBTOTAL(3,$B$7:B1009)","v":20},"TXL2-102拆","地下定向钻孔敷管 工作孔径φ950mm 以下 30m 以下","处",null,17.49,36.02,{"v":0,"d":"0.00"},{"v":0,"d":"0.00"},0.3]
[{"$f":"SUBTOTAL(3,$B$7:B1010)","v":20},"TXL2-103拆","地下定向钻孔敷管 工作孔径φ950mm 以下 每增加 10m","10m",null,{"v":3.8,"d":"3.80"},{"v":6.8,"d":"6.80"},{"v":0,"d":"0.00"},{"v":0,"d":"0.00"},0.3]
[{"$f":"SUBTOTAL(3,$B$7:B1011)","v":20},"TXL2-104拆","桥挂钢管","m",null,{"v":0.1,"d":"0.10"},{"v":0.2,"d":"0.20"},{"v":0,"d":"0.00"},{"v":0,"d":"0.00"},0.3]
[{"$f":"SUBTOTAL(3,$B$7:B1012)","v":20},"TXL2-105拆","桥挂塑料管","m",null,0.05,{"v":0.1,"d":"0.10"},{"v":0,"d":"0.00"},{"v":0,"d":"0.00"},0.3]
[{"$f":"SUBTOTAL(3,$B$7:B1013)","v":20},"TXL2-106拆","桥挂槽道","m",null,0.08,0.15,{"v":0,"d":"0.00"},{"v":0,"d":"0.00"},0.3]
[{"$f":"SUBTOTAL(3,$B$7:B1014)","v":20},"TXL2-107拆","人工顶管","m",null,{"v":1,"d":"1.00"},{"v":2,"d":"2.00"},{"v":0,"d":"0.00"},{"v":0,"d":"0.00"},0.3]
[{"$f":"SUBTOTAL(3,$B$7:B1015)","v":20},"TXL2-108拆","机械顶管","m",null,{"v":0.6,"d":"0.60"},{"v":0.2,"d":"0.20"},{"$f":"E1015*F1015*J1015","v":{"v":0,"d":"0.00"}},{"$f":"E1015*G1015*J1015","v":{"v":0,"d":"0.00"}},0.3]
[{"$f":"SUBTOTAL(3,$B$7:B1016)","v":20},"TXL2-109拆","铺管保护 钢管","m",null,0.03,{"v":0.1,"d":"0.10"},{"v":0,"d":"0.00"},{"v":0,"d":"0.00"},0.3]
[{"$f":"SUBTOTAL(3,$B$7:B1017)","v":20},"TXL2-110拆","铺管保护 塑料管","m",null,0.01,{"v":0.1,"d":"0.10"},{"v":0,"d":"0.00"},{"v":0,"d":"0.00"},0.3]
[{"$f":"SUBTOTAL(3,$B$7:B1018)","v":20},"TXL2-111拆","铺管保护 大长度半硬塑料管","100m",null,{"v":1.5,"d":"1.50"},{"v":2.5,"d":"2.50"},{"v":0,"d":"0.00"},{"v":0,"d":"0.00"},0.3]
[{"$f":"SUBTOTAL(3,$B$7:B1019)","v":20},"TXL2-112拆","铺砖保护 横铺砖","km",null,{"v":2,"d":"2.00"},{"v":15,"d":"15.00"},{"v":0,"d":"0.00"},{"v":0,"d":"0.00"},0.3]
[{"$f":"SUBTOTAL(3,$B$7:B1020)","v":20},"TXL2-113拆","铺砖保护 竖铺砖","km",null,{"v":2,"d":"2.00"},{"v":10,"d":"10.00"},{"v":0,"d":"0.00"},{"v":0,"d":"0.00"},0.3]
[{"$f":"SUBTOTAL(3,$B$7:B1021)","v":20},"TXL2-114拆","铺水泥 盖板","km",null,{"v":2,"d":"2.00"},{"v":13,"d":"13.00"},{"v":0,"d":"0.00"},{"v":0,"d":"0.00"},0.3]
[{"$f":"SUBTOTAL(3,$B$7:B1022)","v":20},"TXL2-115拆","铺水泥槽","m",null,0.05,{"v":0.1,"d":"0.10"},{"v":0,"d":"0.00"},{"v":0,"d":"0.00"},0.3]
[{"$f":"SUBTOTAL(3,$B$7:B1023)","v":20},"TXL2-116拆","石砌坡、 坎、堵塞","m3",null,{"v":1,"d":"1.00"},2.58,{"v":0,"d":"0.00"},{"v":0,"d":"0.00"},0.3]
[{"$f":"SUBTOTAL(3,$B$7:B1024)","v":20},"TXL2-117拆","三七土护 坎","m3",null,{"v":0.2,"d":"0.20"},{"v":0.5,"d":"0.50"},{"v":0,"d":"0.00"},{"v":0,"d":"0.00"},0.3]
[{"$f":"SUBTOTAL(3,$B$7:B1025)","v":20},"TXL2-118拆","封石沟","m3",null,{"v":0.9,"d":"0.90"},{"v":2.1,"d":"2.10"},{"v":0,"d":"0.00"},{"v":0,"d":"0.00"},0.3]
[{"$f":"SUBTOTAL(3,$B$7:B1026)","v":20},"TXL2-119拆","做漫水坝、 挡水墙","m3",null,{"v":2,"d":"2.00"},5.16,{"v":0,"d":"0.00"},{"v":0,"d":"0.00"},0.3]
[{"$f":"SUBTOTAL(3,$B$7:B1027)","v":20},"TXL2-120拆","埋设标石 平原","个",null,0.06,0.12,{"v":0,"d":"0.00"},{"v":0,"d":"0.00"},0.3]
[{"$f":"SUBTOTAL(3,$B$7:B1028)","v":20},"TXL2-121拆","埋设标石 丘陵、水 田、城区","个",null,0.07,0.14,{"v":0,"d":"0.00"},{"v":0,"d":"0.00"},0.3]
[{"$f":"SUBTOTAL(3,$B$7:B1029)","v":20},"TXL2-122拆","埋设标石 山区","个",null,0.09,0.18,{"v":0,"d":"0.00"},{"v":0,"d":"0.00"},0.3]
[{"$f":"SUBTOTAL(3,$B$7:B1030)","v":20},"TXL2-123拆","安装宣传 警示牌","块",null,{"v":0.1,"d":"0.10"},{"v":0.5,"d":"0.50"},{"v":0,"d":"0.00"},{"v":0,"d":"0.00"},0.3]
[{"$f":"SUBTOTAL(3,$B$7:B1031)","v":20},"TXL2-124拆","安装对地绝缘监测标石","块",null,0.26,0.52,{"v":0,"d":"0.00"},{"v":0,"d":"0.00"},0.3]
[{"$f":"SUBTOTAL(3,$B$7:B1032)","v":20},"TXL2-125拆","安装对地绝缘装置","点",null,{"v":0.7,"d":"0.70"},{"v":0.3,"d":"0.30"},{"v":0,"d":"0.00"},{"v":0,"d":"0.00"},0.3]
[{"$f":"SUBTOTAL(3,$B$7:B1033)","v":20},"TXL2-126拆","对地绝缘检查及处理","km",null,{"v":0.5,"d":"0.50"},{"v":0,"d":"0.00"},{"v":0,"d":"0.00"},{"v":0,"d":"0.00"},0.3]
[{"$f":"SUBTOTAL(3,$B$7:B1034)","v":20},"TXL2-127拆","安装防雷设施 敷设排流线（单条）","km",null,{"v":2.2,"d":"2.20"},8.25,{"v":0,"d":"0.00"},{"v":0,"d":"0.00"},0.3]
[{"$f":"SUBTOTAL(3,$B$7:B1035)","v":20},"TXL2-128拆","安装防雷设施 敷设排流线（双条）","km",null,{"v":4,"d":"4.00"},{"v":15,"d":"15.00"},{"v":0,"d":"0.00"},{"v":0,"d":"0.00"},0.3]
[{"$f":"SUBTOTAL(3,$B$7:B1036)","v":20},"TXL2-129拆","安装防雷设施 安装消弧线","处",null,{"v":3,"d":"3.00"},{"v":17,"d":"17.00"},{"v":0,"d":"0.00"},{"v":0,"d":"0.00"},0.3]
[{"$f":"SUBTOTAL(3,$B$7:B1037)","v":20},"TXL2-130拆","安装防雷设施 安装避雷针","处",null,{"v":5,"d":"5.00"},{"v":10,"d":"10.00"},{"v":0,"d":"0.00"},{"v":0,"d":"0.00"},0.3]
[{"$f":"SUBTOTAL(3,$B$7:B1038)","v":20},"TXL2-131拆","敷设光缆船机具安装 拖轮布放法","处",null,{"v":42,"d":"42.00"},{"v":30,"d":"30.00"},{"v":0,"d":"0.00"},{"v":0,"d":"0.00"},0.3]
[{"$f":"SUBTOTAL(3,$B$7:B1039)","v":20},"TXL2-132拆","敷设光缆船机具安装 抛锚布放法","处",null,{"v":30,"d":"30.00"},{"v":15,"d":"15.00"},{"v":0,"d":"0.00"},{"v":0,"d":"0.00"},0.3]
[{"$f":"SUBTOTAL(3,$B$7:B1040)","v":20},"TXL2-133拆","敷设光缆船机具安装 人工布放法","处",null,{"v":10,"d":"10.00"},{"v":4,"d":"4.00"},{"v":0,"d":"0.00"},{"v":0,"d":"0.00"},0.3]
[{"$f":"SUBTOTAL(3,$B$7:B1041)","v":20},"TXL2-134拆","敷设光缆船机具安装 水泵冲槽法","处",null,{"v":10,"d":"10.00"},{"v":4,"d":"4.00"},{"v":0,"d":"0.00"},{"v":0,"d":"0.00"},0.3]
[{"$f":"SUBTOTAL(3,$B$7:B1042)","v":20},"TXL2-135拆","敷设光缆船机具安装 挖冲机敷设法","处",null,{"v":75,"d":"75.00"},{"v":35,"d":"35.00"},{"v":0,"d":"0.00"},{"v":0,"d":"0.00"},0.3]
[{"$f":"SUBTOTAL(3,$B$7:B1043)","v":20},"TXL2-136拆","水泵冲槽","百米/处",null,{"v":113,"d":"113.00"},{"v":13,"d":"13.00"},{"v":0,"d":"0.00"},{"v":0,"d":"0.00"},0.3]
[{"$f":"SUBTOTAL(3,$B$7:B1044)","v":20},"TXL2-137拆","人工截流挖沟 水面宽 10m 以内","处",null,23.74,52.83,{"v":0,"d":"0.00"},{"v":0,"d":"0.00"},0.3]
[{"$f":"SUBTOTAL(3,$B$7:B1045)","v":20},"TXL2-138拆","人工截流挖沟 水面每增加 5m","处",null,{"v":20,"d":"20.00"},{"v":25,"d":"25.00"},{"v":0,"d":"0.00"},{"v":0,"d":"0.00"},0.3]
[{"$f":"SUBTOTAL(3,$B$7:B1046)","v":20},"TXL2-139拆","拖轮布放 96 芯以下","百米条",null,5.54,7.29,{"v":0,"d":"0.00"},{"v":0,"d":"0.00"},0.3]
[{"$f":"SUBTOTAL(3,$B$7:B1047)","v":20},"TXL2-140拆","拖轮布放 288 芯以下","百米条",null,5.91,7.78,{"v":0,"d":"0.00"},{"v":0,"d":"0.00"},0.3]
[{"$f":"SUBTOTAL(3,$B$7:B1048)","v":20},"TXL2-141拆","抛锚布放 96 芯以下","百米条",null,9.91,13.08,{"v":0,"d":"0.00"},{"v":0,"d":"0.00"},0.3]
[{"$f":"SUBTOTAL(3,$B$7:B1049)","v":20},"TXL2-142拆","抛锚布放 288 芯以下","百米条",null,10.28,13.57,{"v":0,"d":"0.00"},{"v":0,"d":"0.00"},0.3]
[{"$f":"SUBTOTAL(3,$B$7:B1050)","v":20},"TXL2-143拆","人工布放 96 芯以下","百米条",null,11.24,18.97,{"v":0,"d":"0.00"},{"v":0,"d":"0.00"},0.3]
[{"$f":"SUBTOTAL(3,$B$7:B1051)","v":20},"TXL2-144拆","人工布放 288 芯以下","百米条",null,11.56,19.51,{"v":0,"d":"0.00"},{"v":0,"d":"0.00"},0.3]
[{"$f":"SUBTOTAL(3,$B$7:B1052)","v":20},"TXL2-145拆","96 芯以下光缆 平河水 普通土","百米条",null,6.16,8.27,{"v":0,"d":"0.00"},{"v":0,"d":"0.00"},0.3]
[{"$f":"SUBTOTAL(3,$B$7:B1053)","v":20},"TXL2-146拆","96 芯以下光缆 平河水 硬土","百米条",null,6.16,8.27,{"v":0,"d":"0.00"},{"v":0,"d":"0.00"},0.3]
[{"$f":"SUBTOTAL(3,$B$7:B1054)","v":20},"TXL2-147拆","96 芯以下光缆 潮河水 普通土","百米条",null,6.16,8.27,{"v":0,"d":"0.00"},{"v":0,"d":"0.00"},0.3]
[{"$f":"SUBTOTAL(3,$B$7:B1055)","v":20},"TXL2-148拆","96 芯以下光缆 潮河水 硬土","百米条",null,6.16,8.27,{"v":0,"d":"0.00"},{"v":0,"d":"0.00"},0.3]
[{"$f":"SUBTOTAL(3,$B$7:B1056)","v":20},"TXL2-149拆","96 芯以上光缆 平河水 普通土","百米条",null,6.53,8.76,{"v":0,"d":"0.00"},{"v":0,"d":"0.00"},0.3]
[{"$f":"SUBTOTAL(3,$B$7:B1057)","v":20},"TXL2-150拆","96 芯以上光缆 平河水 硬土","百米条",null,6.53,8.76,{"v":0,"d":"0.00"},{"v":0,"d":"0.00"},0.3]
[{"$f":"SUBTOTAL(3,$B$7:B1058)","v":20},"TXL2-151拆","96 芯以上光缆 潮河水 普通土","百米条",null,6.53,8.76,{"v":0,"d":"0.00"},{"v":0,"d":"0.00"},0.3]
[{"$f":"SUBTOTAL(3,$B$7:B1059)","v":20},"TXL2-152拆","96 芯以上光缆 潮河水 硬土","百米条",null,6.53,8.76,{"v":0,"d":"0.00"},{"v":0,"d":"0.00"},0.3]
[{"$f":"SUBTOTAL(3,$B$7:B1060)","v":20},"TXL2-153拆","海缆装船 自航船","千米条",null,{"v":22,"d":"22.00"},{"v":0,"d":"0.00"},{"v":0,"d":"0.00"},{"v":0,"d":"0.00"},0.3]
[{"$f":"SUBTOTAL(3,$B$7:B1061)","v":20},"TXL2-154拆","海缆装船 驳船","千米条",null,{"v":22,"d":"22.00"},{"v":0,"d":"0.00"},{"v":0,"d":"0.00"},{"v":0,"d":"0.00"},0.3]
[{"$f":"SUBTOTAL(3,$B$7:B1062)","v":20},"TXL2-155拆","航行 自航船","100km",null,{"v":32.5,"d":"32.50"},{"v":0,"d":"0.00"},{"v":0,"d":"0.00"},{"v":0,"d":"0.00"},0.3]
[{"$f":"SUBTOTAL(3,$B$7:B1063)","v":20},"TXL2-156拆","航行 驳船","100km",null,{"v":32.5,"d":"32.50"},{"v":0,"d":"0.00"},{"v":0,"d":"0.00"},{"v":0,"d":"0.00"},0.3]
[{"$f":"SUBTOTAL(3,$B$7:B1064)","v":20},"TXL2-157拆","海中敷设海缆 自航船","千米条",null,23.63,{"v":0,"d":"0.00"},{"v":0,"d":"0.00"},{"v":0,"d":"0.00"},0.3]
[{"$f":"SUBTOTAL(3,$B$7:B1065)","v":20},"TXL2-158拆","海中敷设海缆 驳船","千米条",null,11.81,{"v":0,"d":"0.00"},{"v":0,"d":"0.00"},{"v":0,"d":"0.00"},0.3]
[{"$f":"SUBTOTAL(3,$B$7:B1066)","v":20},"TXL2-159拆","海中埋设海缆 自航船 埋深 3m 以上","千米条",null,79.89,{"v":0,"d":"0.00"},{"v":0,"d":"0.00"},{"v":0,"d":"0.00"},0.3]
[{"$f":"SUBTOTAL(3,$B$7:B1067)","v":20},"TXL2-160拆","海中埋设海缆 自航船 埋深 3m 以下","千米条",null,26.63,{"v":0,"d":"0.00"},{"v":0,"d":"0.00"},{"v":0,"d":"0.00"},0.3]
[{"$f":"SUBTOTAL(3,$B$7:B1068)","v":20},"TXL2-161拆","海中埋设海缆 驳船 埋深 3m 以上","千米条",null,35.42,{"v":0,"d":"0.00"},{"v":0,"d":"0.00"},{"v":0,"d":"0.00"},0.3]
[{"$f":"SUBTOTAL(3,$B$7:B1069)","v":20},"TXL2-162拆","海中埋设海缆 驳船 埋深 3m 以下","千米条",null,17.71,{"v":0,"d":"0.00"},{"v":0,"d":"0.00"},{"v":0,"d":"0.00"},0.3]
[{"$f":"SUBTOTAL(3,$B$7:B1070)","v":20},"TXL2-163拆","海底光缆接续 自航船","头",null,{"v":40,"d":"40.00"},{"v":20,"d":"20.00"},{"v":0,"d":"0.00"},{"v":0,"d":"0.00"},0.3]
[{"$f":"SUBTOTAL(3,$B$7:B1071)","v":20},"TXL2-164拆","海底光缆接续 驳船","头",null,{"v":40,"d":"40.00"},{"v":20,"d":"20.00"},{"v":0,"d":"0.00"},{"v":0,"d":"0.00"},0.3]
[{"$f":"SUBTOTAL(3,$B$7:B1072)","v":20},"TXL2-165拆","辅助船法敷设登陆海缆 自航船","端",null,{"v":10,"d":"10.00"},{"v":150,"d":"150.00"},{"v":0,"d":"0.00"},{"v":0,"d":"0.00"},0.3]
[{"$f":"SUBTOTAL(3,$B$7:B1073)","v":20},"TXL2-166拆","辅助船法敷设登陆海缆 驳船","端",null,{"v":10,"d":"10.00"},{"v":150,"d":"150.00"},{"v":0,"d":"0.00"},{"v":0,"d":"0.00"},0.3]
[{"$f":"SUBTOTAL(3,$B$7:B1074)","v":20},"TXL2-167拆","浮球法敷设登陆海缆 自航船","端",null,{"v":30,"d":"30.00"},{"v":150,"d":"150.00"},{"v":0,"d":"0.00"},{"v":0,"d":"0.00"},0.3]
[{"$f":"SUBTOTAL(3,$B$7:B1075)","v":20},"TXL2-168拆","浮球法敷设登陆海缆 驳船","端",null,{"v":30,"d":"30.00"},{"v":150,"d":"150.00"},{"v":0,"d":"0.00"},{"v":0,"d":"0.00"},0.3]
[{"$f":"SUBTOTAL(3,$B$7:B1076)","v":20},"TXL2-169拆","海底光缆冲埋 水深 20m 以下","百米条",null,{"v":10,"d":"10.00"},{"v":0,"d":"0.00"},{"v":0,"d":"0.00"},{"v":0,"d":"0.00"},0.3]
[{"$f":"SUBTOTAL(3,$B$7:B1077)","v":20},"TXL2-170拆","海底光缆冲埋 水深 20～30m","百米条",null,{"v":15,"d":"15.00"},{"v":0,"d":"0.00"},{"v":0,"d":"0.00"},{"v":0,"d":"0.00"},0.3]
[{"$f":"SUBTOTAL(3,$B$7:B1078)","v":20},"TXL2-171拆","水下机器人（ROV）后冲埋海底光缆 自航船","百米条",null,0.08,{"v":0,"d":"0.00"},{"v":0,"d":"0.00"},{"v":0,"d":"0.00"},0.3]
[{"$f":"SUBTOTAL(3,$B$7:B1079)","v":20},"TXL2-172拆","水下机器人（ROV）后冲埋海底光缆 驳船","百米条",null,0.08,{"v":0,"d":"0.00"},{"$f":"E1079*F1079*J1079","v":{"v":0,"d":"0.00"}},{"$f":"E1079*G1079*J1079","v":{"v":0,"d":"0.00"}},0.3]
[{"$f":"SUBTOTAL(3,$B$7:B1080)","v":20},"TXL2-173拆","水下安装 关节套管","m",null,{"v":0.5,"d":"0.50"},{"v":0.5,"d":"0.50"},{"v":0,"d":"0.00"},{"v":0,"d":"0.00"},0.3]
[{"$f":"SUBTOTAL(3,$B$7:B1081)","v":20},"TXL2-174拆","安装海缆铠装 固定装置","条",null,{"v":3,"d":"3.00"},{"v":10,"d":"10.00"},{"v":0,"d":"0.00"},{"v":0,"d":"0.00"},0.3]
[{"$f":"SUBTOTAL(3,$B$7:B1082)","v":20},"TXL2-175拆","铺水泥沙浆袋","m",null,{"v":0.1,"d":"0.10"},{"v":0.2,"d":"0.20"},{"v":0,"d":"0.00"},{"v":0,"d":"0.00"},0.3]
[{"$f":"SUBTOTAL(3,$B$7:B1083)","v":20},"TXL2-176拆","安装关节型套管","m",null,{"v":0.1,"d":"0.10"},{"v":0.1,"d":"0.10"},{"v":0,"d":"0.00"},{"v":0,"d":"0.00"},0.3]
[{"$f":"SUBTOTAL(3,$B$7:B1084)","v":20},"TXL2-177拆","安装水线地锚","个",null,{"v":5,"d":"5.00"},{"v":2,"d":"2.00"},{"v":0,"d":"0.00"},{"v":0,"d":"0.00"},0.3]
[{"$f":"SUBTOTAL(3,$B$7:B1085)","v":20},"TXL2-178拆","安装水下永久标桩","个",null,{"v":2,"d":"2.00"},{"v":2,"d":"2.00"},{"v":0,"d":"0.00"},{"v":0,"d":"0.00"},0.3]
[{"$f":"SUBTOTAL(3,$B$7:B1086)","v":20},"TXL2-179拆","安装霓虹灯 标志牌","块",null,{"v":15,"d":"15.00"},{"v":18,"d":"18.00"},{"v":0,"d":"0.00"},{"v":0,"d":"0.00"},0.3]
[{"$f":"SUBTOTAL(3,$B$7:B1087)","v":20},"TXL2-180拆","安装水线标志牌 8m 单杆边长 1.2m（无信号灯） 木质","块",null,{"v":6,"d":"6.00"},{"v":6,"d":"6.00"},{"v":0,"d":"0.00"},{"v":0,"d":"0.00"},0.3]
[{"$f":"SUBTOTAL(3,$B$7:B1088)","v":20},"TXL2-181拆","安装水线标志牌 8m 单杆边长 1.2m（无信号灯） 铁质","块",null,{"v":6,"d":"6.00"},{"v":6,"d":"6.00"},{"v":0,"d":"0.00"},{"v":0,"d":"0.00"},0.3]
[{"$f":"SUBTOTAL(3,$B$7:B1089)","v":20},"TXL2-182拆","安装水线标志牌 10m 以下双杆边长 2m（无信号灯） 木质","块",null,{"v":10,"d":"10.00"},{"v":10,"d":"10.00"},{"v":0,"d":"0.00"},{"v":0,"d":"0.00"},0.3]
[{"$f":"SUBTOTAL(3,$B$7:B1090)","v":20},"TXL2-183拆","安装水线标志牌 10m 以下双杆边长 2m（无信号灯） 铁质","块",null,{"v":10,"d":"10.00"},{"v":10,"d":"10.00"},{"v":0,"d":"0.00"},{"v":0,"d":"0.00"},0.3]
[{"$f":"SUBTOTAL(3,$B$7:B1091)","v":20},"TXL2-184拆","安装水线标志牌 10m 以下双杆边长 3m（无信号灯） 木质","块",null,{"v":10,"d":"10.00"},{"v":10,"d":"10.00"},{"v":0,"d":"0.00"},{"v":0,"d":"0.00"},0.3]
[{"$f":"SUBTOTAL(3,$B$7:B1092)","v":20},"TXL2-185拆","安装水线标志牌 10m 以下双杆边长 3m（无信号灯） 铁质","块",null,{"v":10,"d":"10.00"},{"v":10,"d":"10.00"},{"v":0,"d":"0.00"},{"v":0,"d":"0.00"},0.3]
[{"$f":"SUBTOTAL(3,$B$7:B1093)","v":20},"TXL2-186拆","安装水线标志牌 12m 以下双杆边长 3m（无信号灯） 木质","块",null,{"v":12,"d":"12.00"},{"v":14,"d":"14.00"},{"v":0,"d":"0.00"},{"v":0,"d":"0.00"},0.3]
[{"$f":"SUBTOTAL(3,$B$7:B1094)","v":20},"TXL2-187拆","安装水线标志牌 12m 以下双杆边长 3m（无信号灯） 铁质","块",null,{"v":12,"d":"12.00"},{"v":14,"d":"14.00"},{"v":0,"d":"0.00"},{"v":0,"d":"0.00"},0.3]
[{"$f":"SUBTOTAL(3,$B$7:B1095)","v":20},"TXL2-188拆","安装水线标志牌 安装标志牌 信号灯","块",null,{"v":1,"d":"1.00"},{"v":0,"d":"0.00"},{"v":0,"d":"0.00"},{"v":0,"d":"0.00"},0.3]
[{"$f":"SUBTOTAL(3,$B$7:B1096)","v":20},"TXL3-001拆","立 9m 以下水泥杆 综合土(丘陵*1.3系数)","根",0,0.52,0.56,{"$f":"E1096*F1096*J1096*1.3","v":{"v":0,"d":"0.00"}},{"$f":"E1096*G1096*J1096*1.3","v":{"v":0,"d":"0.00"}},0.7]
[{"$f":"SUBTOTAL(3,$B$7:B1097)","v":20},"TXL3-002拆","立 9m 以下水泥杆 软石","根",null,{"v":0.6,"d":"0.60"},0.65,{"v":0,"d":"0.00"},{"v":0,"d":"0.00"},0.3]
[{"$f":"SUBTOTAL(3,$B$7:B1098)","v":20},"TXL3-003拆","立 9m 以下水泥杆 坚石","根",null,0.69,0.81,{"v":0,"d":"0.00"},{"v":0,"d":"0.00"},0.3]
[{"$f":"SUBTOTAL(3,$B$7:B1099)","v":20},"TXL3-004拆","立 11m 以下水泥杆 综合土(丘陵*1.3系数)","根",null,0.77,0.85,{"$f":"E1099*F1099*J1099*1.3","v":{"v":0,"d":"0.00"}},{"$f":"E1099*G1099*J1099*1.3","v":{"v":0,"d":"0.00"}},0.7]
[{"$f":"SUBTOTAL(3,$B$7:B1100)","v":20},"TXL3-005拆","立 11m 以下水泥杆 软石","根",null,0.85,0.98,{"v":0,"d":"0.00"},{"v":0,"d":"0.00"},0.3]
[{"$f":"SUBTOTAL(3,$B$7:B1101)","v":20},"TXL3-006拆","立 11m 以下水泥杆 坚石","根",null,0.94,1.27,{"v":0,"d":"0.00"},{"v":0,"d":"0.00"},0.3]
[{"$f":"SUBTOTAL(3,$B$7:B1102)","v":20},"TXL3-007拆","立 13m 以下水泥杆 综合土","根",null,1.02,1.23,{"v":0,"d":"0.00"},{"v":0,"d":"0.00"},0.3]
[{"$f":"SUBTOTAL(3,$B$7:B1103)","v":20},"TXL3-008拆","立 13m 以下水泥杆 软石","根",null,1.27,1.48,{"v":0,"d":"0.00"},{"v":0,"d":"0.00"},0.3]
[{"$f":"SUBTOTAL(3,$B$7:B1104)","v":20},"TXL3-009拆","立 13m 以下水泥杆 坚石","根",null,1.52,2.06,{"v":0,"d":"0.00"},{"v":0,"d":"0.00"},0.3]
[{"$f":"SUBTOTAL(3,$B$7:B1105)","v":20},"TXL3-010拆","立 13m 以下水泥 H 杆 综合土","座",null,1.92,3.38,{"v":0,"d":"0.00"},{"v":0,"d":"0.00"},0.3]
[{"$f":"SUBTOTAL(3,$B$7:B1106)","v":20},"TXL3-011拆","立 13m 以下水泥 H 杆 软石","座",null,2.02,3.92,{"v":0,"d":"0.00"},{"v":0,"d":"0.00"},0.3]
[{"$f":"SUBTOTAL(3,$B$7:B1107)","v":20},"TXL3-012拆","立 13m 以下水泥 H 杆 坚石","座",null,2.25,4.54,{"v":0,"d":"0.00"},{"v":0,"d":"0.00"},0.3]
[{"$f":"SUBTOTAL(3,$B$7:B1108)","v":20},"TXL3-013拆","立 8.5m 以下木电杆 综合土","根",null,0.36,0.36,{"v":0,"d":"0.00"},{"v":0,"d":"0.00"},0.3]
[{"$f":"SUBTOTAL(3,$B$7:B1109)","v":20},"TXL3-014拆","立 8.5m 以下木电杆 软石","根",null,0.52,1.33,{"v":0,"d":"0.00"},{"v":0,"d":"0.00"},0.3]
[{"$f":"SUBTOTAL(3,$B$7:B1110)","v":20},"TXL3-015拆","立 8.5m 以下木电杆 坚石","根",null,1.12,1.55,{"v":0,"d":"0.00"},{"v":0,"d":"0.00"},0.3]
[{"$f":"SUBTOTAL(3,$B$7:B1111)","v":20},"TXL3-016拆","立 10m 以下木电杆 综合土","根",null,0.52,0.52,{"v":0,"d":"0.00"},{"v":0,"d":"0.00"},0.3]
[{"$f":"SUBTOTAL(3,$B$7:B1112)","v":20},"TXL3-017拆","立 10m 以下木电杆 软石","根",null,0.82,{"v":2.2,"d":"2.20"},{"v":0,"d":"0.00"},{"v":0,"d":"0.00"},0.3]
[{"$f":"SUBTOTAL(3,$B$7:B1113)","v":20},"TXL3-018拆","立 10m 以下木电杆 坚石","根",null,1.67,2.31,{"v":0,"d":"0.00"},{"v":0,"d":"0.00"},0.3]
[{"$f":"SUBTOTAL(3,$B$7:B1114)","v":20},"TXL3-019拆","立 15m 以下品接杆 综合土","座",null,2.35,2.35,{"v":0,"d":"0.00"},{"v":0,"d":"0.00"},0.3]
[{"$f":"SUBTOTAL(3,$B$7:B1115)","v":20},"TXL3-020拆","立 15m 以下品接杆 软石","座",null,2.73,7.17,{"v":0,"d":"0.00"},{"v":0,"d":"0.00"},0.3]
[{"$f":"SUBTOTAL(3,$B$7:B1116)","v":20},"TXL3-021拆","立 15m 以下品接杆 坚石","座",null,4.46,7.81,{"v":0,"d":"0.00"},{"v":0,"d":"0.00"},0.3]
[{"$f":"SUBTOTAL(3,$B$7:B1117)","v":20},"TXL3-022拆","立 24m 以下特种品接杆 综合土","座",null,2.95,2.95,{"v":0,"d":"0.00"},{"v":0,"d":"0.00"},0.3]
[{"$f":"SUBTOTAL(3,$B$7:B1118)","v":20},"TXL3-023拆","立 24m 以下特种品接杆 软石","座",null,3.13,7.97,{"v":0,"d":"0.00"},{"v":0,"d":"0.00"},0.3]
[{"$f":"SUBTOTAL(3,$B$7:B1119)","v":20},"TXL3-024拆","立 24m 以下特种品接杆 坚石","座",null,6.06,8.41,{"v":0,"d":"0.00"},{"v":0,"d":"0.00"},0.3]
[{"$f":"SUBTOTAL(3,$B$7:B1120)","v":20},"TXL3-025拆","立 10m 以下 H 杆 综合土","座",null,1.54,1.54,{"v":0,"d":"0.00"},{"v":0,"d":"0.00"},0.3]
[{"$f":"SUBTOTAL(3,$B$7:B1121)","v":20},"TXL3-026拆","立 10m 以下 H 杆 软石","座",null,2.15,6.01,{"v":0,"d":"0.00"},{"v":0,"d":"0.00"},0.3]
[{"$f":"SUBTOTAL(3,$B$7:B1122)","v":20},"TXL3-027拆","立 10m 以下 H 杆 坚石","座",null,4.96,7.96,{"v":0,"d":"0.00"},{"v":0,"d":"0.00"},0.3]
[{"$f":"SUBTOTAL(3,$B$7:B1123)","v":20},"TXL3-028拆","立 15m 以下品接 H 杆 综合土","座",null,{"v":5.2,"d":"5.20"},{"v":5.2,"d":"5.20"},{"v":0,"d":"0.00"},{"v":0,"d":"0.00"},0.3]
[{"$f":"SUBTOTAL(3,$B$7:B1124)","v":20},"TXL3-029拆","立 15m 以下品接 H 杆 软石","座",null,5.42,13.12,{"v":0,"d":"0.00"},{"v":0,"d":"0.00"},0.3]
[{"$f":"SUBTOTAL(3,$B$7:B1125)","v":20},"TXL3-030拆","立 15m 以下品接 H 杆 坚石","座",null,10.58,{"v":14,"d":"14.00"},{"v":0,"d":"0.00"},{"v":0,"d":"0.00"},0.3]
[{"$f":"SUBTOTAL(3,$B$7:B1126)","v":20},"TXL3-031拆","立 24m 以下特种品接 H 杆 综合土","座",null,{"v":6.4,"d":"6.40"},{"v":6.4,"d":"6.40"},{"v":0,"d":"0.00"},{"v":0,"d":"0.00"},0.3]
[{"$f":"SUBTOTAL(3,$B$7:B1127)","v":20},"TXL3-032拆","立 24m 以下特种品接 H 杆 软石","座",null,6.22,14.72,{"v":0,"d":"0.00"},{"v":0,"d":"0.00"},0.3]
[{"$f":"SUBTOTAL(3,$B$7:B1128)","v":20},"TXL3-033拆","立 24m 以下特种品接 H 杆 坚石","座",null,11.78,{"v":15.2,"d":"15.20"},{"v":0,"d":"0.00"},{"v":0,"d":"0.00"},0.3]
[{"$f":"SUBTOTAL(3,$B$7:B1129)","v":20},"TXL3-034拆","电杆根部加固及保护 护桩","处",null,0.13,0.25,{"v":0,"d":"0.00"},{"v":0,"d":"0.00"},0.3]
[{"$f":"SUBTOTAL(3,$B$7:B1130)","v":20},"TXL3-035拆","电杆根部加固及保护 木围桩","处",null,1.87,{"v":3.6,"d":"3.60"},{"v":0,"d":"0.00"},{"v":0,"d":"0.00"},0.3]
[{"$f":"SUBTOTAL(3,$B$7:B1131)","v":20},"TXL3-036拆","电杆根部加固及保护 石笼","处",null,{"v":1.5,"d":"1.50"},{"v":3,"d":"3.00"},{"v":0,"d":"0.00"},{"v":0,"d":"0.00"},0.3]
[{"$f":"SUBTOTAL(3,$B$7:B1132)","v":20},"TXL3-037拆","电杆根部加固及保护 石护墩","处",null,{"v":1.9,"d":"1.90"},{"v":3.6,"d":"3.60"},{"v":0,"d":"0.00"},{"v":0,"d":"0.00"},0.3]
[{"$f":"SUBTOTAL(3,$B$7:B1133)","v":20},"TXL3-038拆","电杆根部加固及保护 卡盘","块",null,{"v":0.1,"d":"0.10"},0.25,{"v":0,"d":"0.00"},{"v":0,"d":"0.00"},0.3]
[{"$f":"SUBTOTAL(3,$B$7:B1134)","v":20},"TXL3-039拆","电杆根部加固及保护 底盘","块",null,{"v":0.1,"d":"0.10"},0.25,{"v":0,"d":"0.00"},{"v":0,"d":"0.00"},0.3]
[{"$f":"SUBTOTAL(3,$B$7:B1135)","v":20},"TXL3-040拆","电杆根部加固及保护 水泥帮桩","根",null,0.33,0.42,{"v":0,"d":"0.00"},{"v":0,"d":"0.00"},0.3]
[{"$f":"SUBTOTAL(3,$B$7:B1136)","v":20},"TXL3-041拆","电杆根部加固及保护 木帮桩","根",null,0.33,0.42,{"v":0,"d":"0.00"},{"v":0,"d":"0.00"},0.3]
[{"$f":"SUBTOTAL(3,$B$7:B1137)","v":20},"TXL3-042拆","电杆根部加固及保护 打桩单杆","处",null,{"v":12,"d":"12.00"},{"v":16.8,"d":"16.80"},{"v":0,"d":"0.00"},{"v":0,"d":"0.00"},0.3]
[{"$f":"SUBTOTAL(3,$B$7:B1138)","v":20},"TXL3-043拆","电杆根部加固及保护 打桩品接杆","处",null,25.68,35.52,{"v":0,"d":"0.00"},{"v":0,"d":"0.00"},0.3]
[{"$f":"SUBTOTAL(3,$B$7:B1139)","v":20},"TXL3-044拆","电杆根部加固及保护 打桩分水架","处",null,28.08,42.12,{"v":0,"d":"0.00"},{"v":0,"d":"0.00"},0.3]
[{"$f":"SUBTOTAL(3,$B$7:B1140)","v":20},"TXL3-045拆","装木撑杆 综合土","根",null,0.56,0.56,{"v":0,"d":"0.00"},{"v":0,"d":"0.00"},0.3]
[{"$f":"SUBTOTAL(3,$B$7:B1141)","v":20},"TXL3-046拆","装木撑杆 软石","根",null,0.57,{"v":1.1,"d":"1.10"},{"v":0,"d":"0.00"},{"v":0,"d":"0.00"},0.3]
[{"$f":"SUBTOTAL(3,$B$7:B1142)","v":20},"TXL3-047拆","装木撑杆 坚石","根",null,1.18,1.06,{"v":0,"d":"0.00"},{"v":0,"d":"0.00"},0.3]
[{"$f":"SUBTOTAL(3,$B$7:B1143)","v":20},"TXL3-048拆","装水泥撑杆 综合土","根",null,0.62,0.62,{"$f":"E1143*F1143*J1143","v":{"v":0,"d":"0.00"}},{"$f":"E1143*G1143*J1143","v":{"v":0,"d":"0.00"}},0.3]
[{"$f":"SUBTOTAL(3,$B$7:B1144)","v":20},"TXL3-049拆","装水泥撑杆 软石","根",null,0.73,1.42,{"v":0,"d":"0.00"},{"v":0,"d":"0.00"},0.3]
[{"$f":"SUBTOTAL(3,$B$7:B1145)","v":20},"TXL3-050拆","装水泥撑杆 坚石","根",null,1.46,1.32,{"v":0,"d":"0.00"},{"v":0,"d":"0.00"},0.3]
[{"$f":"SUBTOTAL(3,$B$7:B1146)","v":20},"TXL3-051拆","水泥杆夹板法装 7/2.2 单股拉线 综合土","条",null,0.78,{"v":0.6,"d":"0.60"},{"v":0,"d":"0.00"},{"v":0,"d":"0.00"},0.3]
[{"$f":"SUBTOTAL(3,$B$7:B1147)","v":20},"TXL3-052拆","水泥杆夹板法装 7/2.2 单股拉线 软石","条",null,0.94,1.63,{"v":0,"d":"0.00"},{"v":0,"d":"0.00"},0.3]
[{"$f":"SUBTOTAL(3,$B$7:B1148)","v":20},"TXL3-053拆","水泥杆夹板法装 7/2.2 单股拉线 坚石","条",null,1.76,0.07,{"v":0,"d":"0.00"},{"v":0,"d":"0.00"},0.3]
[{"$f":"SUBTOTAL(3,$B$7:B1149)","v":20},"TXL3-054拆","水泥杆夹板法装 7/2.6 单股拉线 综合土(丘陵*1.3系数)","条",0,0.84,{"v":0.6,"d":"0.60"},{"$f":"E1149*F1149*J1149*1.3","v":{"v":0,"d":"0.00"}},{"$f":"E1149*G1149*J1149*1.3","v":{"v":0,"d":"0.00"}},0.7]
[{"$f":"SUBTOTAL(3,$B$7:B1150)","v":20},"TXL3-055拆","水泥杆夹板法装 7/2.6 单股拉线 软石","条",null,1.01,1.73,{"v":0,"d":"0.00"},{"v":0,"d":"0.00"},0.3]
[{"$f":"SUBTOTAL(3,$B$7:B1151)","v":20},"TXL3-056拆","水泥杆夹板法装 7/2.6 单股拉线 坚石","条",null,1.82,0.11,{"v":0,"d":"0.00"},{"v":0,"d":"0.00"},0.3]
[{"$f":"SUBTOTAL(3,$B$7:B1152)","v":20},"TXL3-057拆","水泥杆夹板法装 7/3.0 单股拉线 综合土","条",null,0.98,{"v":0.6,"d":"0.60"},{"v":0,"d":"0.00"},{"v":0,"d":"0.00"},0.3]
[{"$f":"SUBTOTAL(3,$B$7:B1153)","v":20},"TXL3-058拆","水泥杆夹板法装 7/3.0 单股拉线 软石","条",null,1.16,1.83,{"v":0,"d":"0.00"},{"v":0,"d":"0.00"},0.3]
[{"$f":"SUBTOTAL(3,$B$7:B1154)","v":20},"TXL3-059拆","水泥杆夹板法装 7/3.0 单股拉线 坚石","条",null,1.96,0.11,{"v":0,"d":"0.00"},{"v":0,"d":"0.00"},0.3]
[{"$f":"SUBTOTAL(3,$B$7:B1155)","v":20},"TXL3-060拆","水泥杆另缠法装 7/2.2 单股拉线 综合土","条",null,0.86,{"v":0.6,"d":"0.60"},{"v":0,"d":"0.00"},{"v":0,"d":"0.00"},0.3]
[{"$f":"SUBTOTAL(3,$B$7:B1156)","v":20},"TXL3-061拆","水泥杆另缠法装 7/2.2 单股拉线 软石","条",null,1.03,1.63,{"v":0,"d":"0.00"},{"v":0,"d":"0.00"},0.3]
[{"$f":"SUBTOTAL(3,$B$7:B1157)","v":20},"TXL3-062拆","水泥杆另缠法装 7/2.2 单股拉线 坚石","条",null,1.76,0.06,{"v":0,"d":"0.00"},{"v":0,"d":"0.00"},0.3]
[{"$f":"SUBTOTAL(3,$B$7:B1158)","v":20},"TXL3-063拆","水泥杆另缠法装 7/2.6 单股拉线 综合土","条",null,0.92,{"v":0.6,"d":"0.60"},{"v":0,"d":"0.00"},{"v":0,"d":"0.00"},0.3]
[{"$f":"SUBTOTAL(3,$B$7:B1159)","v":20},"TXL3-064拆","水泥杆另缠法装 7/2.6 单股拉线 软石","条",null,1.16,1.73,{"v":0,"d":"0.00"},{"v":0,"d":"0.00"},0.3]
[{"$f":"SUBTOTAL(3,$B$7:B1160)","v":20},"TXL3-065拆","水泥杆另缠法装 7/2.6 单股拉线 坚石","条",null,1.82,0.07,{"v":0,"d":"0.00"},{"v":0,"d":"0.00"},0.3]
[{"$f":"SUBTOTAL(3,$B$7:B1161)","v":20},"TXL3-066拆","水泥杆另缠法装 7/3.0 单股拉线 综合土","条",null,1.08,{"v":0.6,"d":"0.60"},{"v":0,"d":"0.00"},{"v":0,"d":"0.00"},0.3]
[{"$f":"SUBTOTAL(3,$B$7:B1162)","v":20},"TXL3-067拆","水泥杆另缠法装 7/3.0 单股拉线 软石","条",null,1.27,1.83,{"v":0,"d":"0.00"},{"v":0,"d":"0.00"},0.3]
[{"$f":"SUBTOTAL(3,$B$7:B1163)","v":20},"TXL3-068拆","水泥杆另缠法装 7/3.0 单股拉线 坚石","条",null,1.96,0.09,{"v":0,"d":"0.00"},{"v":0,"d":"0.00"},0.3]
[{"$f":"SUBTOTAL(3,$B$7:B1164)","v":20},"TXL3-069拆","水泥杆卡固法装 7/2.2 单股拉线 综合土","条",null,0.62,{"v":0.6,"d":"0.60"},{"v":0,"d":"0.00"},{"v":0,"d":"0.00"},0.3]
[{"$f":"SUBTOTAL(3,$B$7:B1165)","v":20},"TXL3-070拆","水泥杆卡固法装 7/2.2 单股拉线 软石","条",null,0.77,1.63,{"v":0,"d":"0.00"},{"v":0,"d":"0.00"},0.3]
[{"$f":"SUBTOTAL(3,$B$7:B1166)","v":20},"TXL3-071拆","水泥杆卡固法装 7/2.2 单股拉线 坚石","条",null,1.76,0.06,{"v":0,"d":"0.00"},{"v":0,"d":"0.00"},0.3]
[{"$f":"SUBTOTAL(3,$B$7:B1167)","v":20},"TXL3-072拆","水泥杆卡固法装 7/2.6 单股拉线 综合土","条",null,0.68,{"v":0.6,"d":"0.60"},{"v":0,"d":"0.00"},{"v":0,"d":"0.00"},0.3]
[{"$f":"SUBTOTAL(3,$B$7:B1168)","v":20},"TXL3-073拆","水泥杆卡固法装 7/2.6 单股拉线 软石","条",null,0.83,1.73,{"v":0,"d":"0.00"},{"v":0,"d":"0.00"},0.3]
[{"$f":"SUBTOTAL(3,$B$7:B1169)","v":20},"TXL3-074拆","水泥杆卡固法装 7/2.6 单股拉线 坚石","条",null,1.82,0.07,{"v":0,"d":"0.00"},{"v":0,"d":"0.00"},0.3]
[{"$f":"SUBTOTAL(3,$B$7:B1170)","v":20},"TXL3-075拆","水泥杆卡固法装 7/3.0 单股拉线 综合土","条",null,0.78,{"v":0.6,"d":"0.60"},{"v":0,"d":"0.00"},{"v":0,"d":"0.00"},0.3]
[{"$f":"SUBTOTAL(3,$B$7:B1171)","v":20},"TXL3-076拆","水泥杆卡固法装 7/3.0 单股拉线 软石","条",null,0.95,1.83,{"v":0,"d":"0.00"},{"v":0,"d":"0.00"},0.3]
[{"$f":"SUBTOTAL(3,$B$7:B1172)","v":20},"TXL3-077拆","水泥杆卡固法装 7/3.0 单股拉线 坚石","条",null,1.96,0.09,{"v":0,"d":"0.00"},{"v":0,"d":"0.00"},0.3]
[{"$f":"SUBTOTAL(3,$B$7:B1173)","v":20},"TXL3-078拆","木杆夹板法装 7/2.2 单股拉线 综合土","条",null,0.86,{"v":0.6,"d":"0.60"},{"v":0,"d":"0.00"},{"v":0,"d":"0.00"},0.3]
[{"$f":"SUBTOTAL(3,$B$7:B1174)","v":20},"TXL3-079拆","木杆夹板法装 7/2.2 单股拉线 软石","条",null,1.03,1.63,{"v":0,"d":"0.00"},{"v":0,"d":"0.00"},0.3]
[{"$f":"SUBTOTAL(3,$B$7:B1175)","v":20},"TXL3-080拆","木杆夹板法装 7/2.2 单股拉线 坚石","条",null,1.94,0.07,{"v":0,"d":"0.00"},{"v":0,"d":"0.00"},0.3]
[{"$f":"SUBTOTAL(3,$B$7:B1176)","v":20},"TXL3-081拆","木杆夹板法装 7/2.6 单股拉线 综合土","条",null,0.92,{"v":0.6,"d":"0.60"},{"v":0,"d":"0.00"},{"v":0,"d":"0.00"},0.3]
[{"$f":"SUBTOTAL(3,$B$7:B1177)","v":20},"TXL3-082拆","木杆夹板法装 7/2.6 单股拉线 软石","条",null,1.01,1.73,{"v":0,"d":"0.00"},{"v":0,"d":"0.00"},0.3]
[{"$f":"SUBTOTAL(3,$B$7:B1178)","v":20},"TXL3-083拆","木杆夹板法装 7/2.6 单股拉线 坚石","条",null,{"v":2,"d":"2.00"},0.11,{"v":0,"d":"0.00"},{"v":0,"d":"0.00"},0.3]
[{"$f":"SUBTOTAL(3,$B$7:B1179)","v":20},"TXL3-084拆","木杆夹板法装 7/3.0 单股拉线 综合土","条",null,1.08,{"v":0.6,"d":"0.60"},{"v":0,"d":"0.00"},{"v":0,"d":"0.00"},0.3]
[{"$f":"SUBTOTAL(3,$B$7:B1180)","v":20},"TXL3-085拆","木杆夹板法装 7/3.0 单股拉线 软石","条",null,1.27,1.83,{"v":0,"d":"0.00"},{"v":0,"d":"0.00"},0.3]
[{"$f":"SUBTOTAL(3,$B$7:B1181)","v":20},"TXL3-086拆","木杆夹板法装 7/3.0 单股拉线 坚石","条",null,2.12,0.11,{"v":0,"d":"0.00"},{"v":0,"d":"0.00"},0.3]
[{"$f":"SUBTOTAL(3,$B$7:B1182)","v":20},"TXL3-087拆","木杆另缠法装 7/2.2 单股拉线 综合土","条",null,0.95,{"v":0.6,"d":"0.60"},{"v":0,"d":"0.00"},{"v":0,"d":"0.00"},0.3]
[{"$f":"SUBTOTAL(3,$B$7:B1183)","v":20},"TXL3-088拆","木杆另缠法装 7/2.2 单股拉线 软石","条",null,1.59,1.63,{"v":0,"d":"0.00"},{"v":0,"d":"0.00"},0.3]
[{"$f":"SUBTOTAL(3,$B$7:B1184)","v":20},"TXL3-089拆","木杆另缠法装 7/2.2 单股拉线 坚石","条",null,1.94,0.06,{"v":0,"d":"0.00"},{"v":0,"d":"0.00"},0.3]
[{"$f":"SUBTOTAL(3,$B$7:B1185)","v":20},"TXL3-090拆","木杆另缠法装 7/2.6 单股拉线 综合土","条",null,1.05,{"v":0.6,"d":"0.60"},{"v":0,"d":"0.00"},{"v":0,"d":"0.00"},0.3]
[{"$f":"SUBTOTAL(3,$B$7:B1186)","v":20},"TXL3-091拆","木杆另缠法装 7/2.6 单股拉线 软石","条",null,1.49,1.73,{"v":0,"d":"0.00"},{"v":0,"d":"0.00"},0.3]
[{"$f":"SUBTOTAL(3,$B$7:B1187)","v":20},"TXL3-092拆","木杆另缠法装 7/2.6 单股拉线 坚石","条",null,{"v":2,"d":"2.00"},0.07,{"v":0,"d":"0.00"},{"v":0,"d":"0.00"},0.3]
[{"$f":"SUBTOTAL(3,$B$7:B1188)","v":20},"TXL3-093拆","木杆另缠法装 7/3.0 单股拉线 综合土","条",null,1.25,{"v":0.6,"d":"0.60"},{"v":0,"d":"0.00"},{"v":0,"d":"0.00"},0.3]
[{"$f":"SUBTOTAL(3,$B$7:B1189)","v":20},"TXL3-094拆","木杆另缠法装 7/3.0 单股拉线 软石","条",null,1.59,1.83,{"v":0,"d":"0.00"},{"v":0,"d":"0.00"},0.3]
[{"$f":"SUBTOTAL(3,$B$7:B1190)","v":20},"TXL3-095拆","木杆另缠法装 7/3.0 单股拉线 坚石","条",null,2.12,0.09,{"v":0,"d":"0.00"},{"v":0,"d":"0.00"},0.3]
[{"$f":"SUBTOTAL(3,$B$7:B1191)","v":20},"TXL3-096拆","木杆卡固法装 7/2.2 单股拉线 综合土","条",null,{"v":0.7,"d":"0.70"},{"v":0.6,"d":"0.60"},{"v":0,"d":"0.00"},{"v":0,"d":"0.00"},0.3]
[{"$f":"SUBTOTAL(3,$B$7:B1192)","v":20},"TXL3-097拆","木杆卡固法装 7/2.2 单股拉线 软石","条",null,0.85,1.63,{"v":0,"d":"0.00"},{"v":0,"d":"0.00"},0.3]
[{"$f":"SUBTOTAL(3,$B$7:B1193)","v":20},"TXL3-098拆","木杆卡固法装 7/2.2 单股拉线 坚石","条",null,1.76,0.07,{"v":0,"d":"0.00"},{"v":0,"d":"0.00"},0.3]
[{"$f":"SUBTOTAL(3,$B$7:B1194)","v":20},"TXL3-099拆","木杆卡固法装 7/2.6 单股拉线 综合土","条",null,0.75,{"v":0.6,"d":"0.60"},{"v":0,"d":"0.00"},{"v":0,"d":"0.00"},0.3]
[{"$f":"SUBTOTAL(3,$B$7:B1195)","v":20},"TXL3-100拆","木杆卡固法装 7/2.6 单股拉线 软石","条",null,0.92,1.73,{"v":0,"d":"0.00"},{"v":0,"d":"0.00"},0.3]
[{"$f":"SUBTOTAL(3,$B$7:B1196)","v":20},"TXL3-101拆","木杆卡固法装 7/2.6 单股拉线 坚石","条",null,1.82,0.07,{"v":0,"d":"0.00"},{"v":0,"d":"0.00"},0.3]
[{"$f":"SUBTOTAL(3,$B$7:B1197)","v":20},"TXL3-102拆","木杆卡固法装 7/3.0 单股拉线 综合土","条",null,0.88,{"v":0.6,"d":"0.60"},{"v":0,"d":"0.00"},{"v":0,"d":"0.00"},0.3]
[{"$f":"SUBTOTAL(3,$B$7:B1198)","v":20},"TXL3-103拆","木杆卡固法装 7/3.0 单股拉线 软石","条",null,1.05,1.83,{"v":0,"d":"0.00"},{"v":0,"d":"0.00"},0.3]
[{"$f":"SUBTOTAL(3,$B$7:B1199)","v":20},"TXL3-104拆","木杆卡固法装 7/3.0 单股拉线 坚石","条",null,1.96,0.09,{"v":0,"d":"0.00"},{"v":0,"d":"0.00"},0.3]
[{"$f":"SUBTOTAL(3,$B$7:B1200)","v":20},"TXL3-105拆","装设 2×7/2.6 拉线 综合土","处",null,1.42,{"v":0.8,"d":"0.80"},{"v":0,"d":"0.00"},{"v":0,"d":"0.00"},0.3]
[{"$f":"SUBTOTAL(3,$B$7:B1201)","v":20},"TXL3-106拆","装设 2×7/2.6 拉线 软石","处",null,1.75,{"v":2.6,"d":"2.60"},{"v":0,"d":"0.00"},{"v":0,"d":"0.00"},0.3]
[{"$f":"SUBTOTAL(3,$B$7:B1202)","v":20},"TXL3-107拆","装设 2×7/2.6 拉线 坚石","处",null,2.38,0.13,{"v":0,"d":"0.00"},{"v":0,"d":"0.00"},0.3]
[{"$f":"SUBTOTAL(3,$B$7:B1203)","v":20},"TXL3-108拆","装设 2×7/3.0 拉线 综合土","处",null,1.67,{"v":1,"d":"1.00"},{"v":0,"d":"0.00"},{"v":0,"d":"0.00"},0.3]
[{"$f":"SUBTOTAL(3,$B$7:B1204)","v":20},"TXL3-109拆","装设 2×7/3.0 拉线 软石","处",null,1.81,{"v":2.8,"d":"2.80"},{"v":0,"d":"0.00"},{"v":0,"d":"0.00"},0.3]
[{"$f":"SUBTOTAL(3,$B$7:B1205)","v":20},"TXL3-110拆","装设 2×7/3.0 拉线 坚石","处",null,2.63,0.16,{"v":0,"d":"0.00"},{"v":0,"d":"0.00"},0.3]
[{"$f":"SUBTOTAL(3,$B$7:B1206)","v":20},"TXL3-111拆","装设 7/2.2V 型拉线 综合土","处",null,1.21,{"v":0.9,"d":"0.90"},{"v":0,"d":"0.00"},{"v":0,"d":"0.00"},0.3]
[{"$f":"SUBTOTAL(3,$B$7:B1207)","v":20},"TXL3-112拆","装设 7/2.2V 型拉线 软石","处",null,1.37,{"v":3,"d":"3.00"},{"$f":"E1207*F1207*J1207","v":{"v":0,"d":"0.00"}},{"$f":"E1207*G1207*J1207","v":{"v":0,"d":"0.00"}},0.3]
[{"$f":"SUBTOTAL(3,$B$7:B1208)","v":20},"TXL3-113拆","装设 7/2.2V 型拉线 坚石","处",null,2.17,0.11,{"v":0,"d":"0.00"},{"v":0,"d":"0.00"},0.3]
[{"$f":"SUBTOTAL(3,$B$7:B1209)","v":20},"TXL3-114拆","装设 7/2.6V 型拉线 综合土","处",null,1.57,{"v":0.9,"d":"0.90"},{"v":0,"d":"0.00"},{"v":0,"d":"0.00"},0.3]
[{"$f":"SUBTOTAL(3,$B$7:B1210)","v":20},"TXL3-115拆","装设 7/2.6V 型拉线 软石","处",null,1.74,{"v":3.2,"d":"3.20"},{"v":0,"d":"0.00"},{"v":0,"d":"0.00"},0.3]
[{"$f":"SUBTOTAL(3,$B$7:B1211)","v":20},"TXL3-116拆","装设 7/2.6V 型拉线 坚石","处",null,2.53,0.16,{"v":0,"d":"0.00"},{"v":0,"d":"0.00"},0.3]
[{"$f":"SUBTOTAL(3,$B$7:B1212)","v":20},"TXL3-117拆","装设 7/3.0V 型拉线 综合土","处",null,2.38,{"v":1.6,"d":"1.60"},{"v":0,"d":"0.00"},{"v":0,"d":"0.00"},0.3]
[{"$f":"SUBTOTAL(3,$B$7:B1213)","v":20},"TXL3-118拆","装设 7/3.0V 型拉线 软石","处",null,2.55,{"v":3.6,"d":"3.60"},{"v":0,"d":"0.00"},{"v":0,"d":"0.00"},0.3]
[{"$f":"SUBTOTAL(3,$B$7:B1214)","v":20},"TXL3-119拆","装设 7/3.0V 型拉线 坚石","处",null,3.33,0.25,{"v":0,"d":"0.00"},{"v":0,"d":"0.00"},0.3]
[{"$f":"SUBTOTAL(3,$B$7:B1215)","v":20},"TXL3-120拆","装设 7/2.6 上 2 下 1V 型拉线 综合土","处",null,2.54,{"v":1.6,"d":"1.60"},{"v":0,"d":"0.00"},{"v":0,"d":"0.00"},0.3]
[{"$f":"SUBTOTAL(3,$B$7:B1216)","v":20},"TXL3-121拆","装设 7/2.6 上 2 下 1V 型拉线 软石","处",null,2.81,{"v":4.3,"d":"4.30"},{"v":0,"d":"0.00"},{"v":0,"d":"0.00"},0.3]
[{"$f":"SUBTOTAL(3,$B$7:B1217)","v":20},"TXL3-122拆","装设 7/2.6 上 2 下 1V 型拉线 坚石","处",null,2.88,{"v":0.2,"d":"0.20"},{"v":0,"d":"0.00"},{"v":0,"d":"0.00"},0.3]
[{"$f":"SUBTOTAL(3,$B$7:B1218)","v":20},"TXL3-123拆","装设 7/3.0 上 2 下 1V 型拉线 综合土","处",null,{"v":3.3,"d":"3.30"},{"v":1.8,"d":"1.80"},{"v":0,"d":"0.00"},{"v":0,"d":"0.00"},0.3]
[{"$f":"SUBTOTAL(3,$B$7:B1219)","v":20},"TXL3-124拆","装设 7/3.0 上 2 下 1V 型拉线 软石","处",null,{"v":3.7,"d":"3.70"},{"v":4.6,"d":"4.60"},{"v":0,"d":"0.00"},{"v":0,"d":"0.00"},0.3]
[{"$f":"SUBTOTAL(3,$B$7:B1220)","v":20},"TXL3-125拆","装设 7/3.0 上 2 下 1V 型拉线 坚石","处",null,3.75,{"v":0.3,"d":"0.30"},{"v":0,"d":"0.00"},{"v":0,"d":"0.00"},0.3]
[{"$f":"SUBTOTAL(3,$B$7:B1221)","v":20},"TXL3-126拆","装设 7/2.2 吊板拉线 综合土","处",null,0.94,{"v":0.6,"d":"0.60"},{"v":0,"d":"0.00"},{"v":0,"d":"0.00"},0.3]
[{"$f":"SUBTOTAL(3,$B$7:B1222)","v":20},"TXL3-127拆","装设 7/2.2 吊板拉线 软石","处",null,1.11,1.63,{"v":0,"d":"0.00"},{"v":0,"d":"0.00"},0.3]
[{"$f":"SUBTOTAL(3,$B$7:B1223)","v":20},"TXL3-128拆","装设 7/2.2 吊板拉线 坚石","处",null,2.11,0.07,{"v":0,"d":"0.00"},{"v":0,"d":"0.00"},0.3]
[{"$f":"SUBTOTAL(3,$B$7:B1224)","v":20},"TXL3-129拆","装设 7/2.6 吊板拉线 综合土","处",null,{"v":1,"d":"1.00"},{"v":0.7,"d":"0.70"},{"v":0,"d":"0.00"},{"v":0,"d":"0.00"},0.3]
[{"$f":"SUBTOTAL(3,$B$7:B1225)","v":20},"TXL3-130拆","装设 7/2.6 吊板拉线 软石","处",null,1.19,1.93,{"v":0,"d":"0.00"},{"v":0,"d":"0.00"},0.3]
[{"$f":"SUBTOTAL(3,$B$7:B1226)","v":20},"TXL3-131拆","装设 7/2.6 吊板拉线 坚石","处",null,2.18,0.08,{"v":0,"d":"0.00"},{"v":0,"d":"0.00"},0.3]
[{"$f":"SUBTOTAL(3,$B$7:B1227)","v":20},"TXL3-132拆","装设 7/3.0 吊板拉线 综合土","处",null,1.18,{"v":0.7,"d":"0.70"},{"v":0,"d":"0.00"},{"v":0,"d":"0.00"},0.3]
[{"$f":"SUBTOTAL(3,$B$7:B1228)","v":20},"TXL3-133拆","装设 7/3.0 吊板拉线 软石","处",null,1.37,1.93,{"v":0,"d":"0.00"},{"v":0,"d":"0.00"},0.3]
[{"$f":"SUBTOTAL(3,$B$7:B1229)","v":20},"TXL3-134拆","装设 7/3.0 吊板拉线 坚石","处",null,2.35,{"v":0.1,"d":"0.10"},{"v":0,"d":"0.00"},{"v":0,"d":"0.00"},0.3]
[{"$f":"SUBTOTAL(3,$B$7:B1230)","v":20},"TXL3-135拆","制作横木拉线地锚 7/2.6单条单下","个",null,{"v":0.4,"d":"0.40"},{"v":0.2,"d":"0.20"},{"v":0,"d":"0.00"},{"v":0,"d":"0.00"},0.3]
[{"$f":"SUBTOTAL(3,$B$7:B1231)","v":20},"TXL3-136拆","制作横木拉线地锚 7/3.0单条单下","个",null,0.42,{"v":0.2,"d":"0.20"},{"v":0,"d":"0.00"},{"v":0,"d":"0.00"},0.3]
[{"$f":"SUBTOTAL(3,$B$7:B1232)","v":20},"TXL3-137拆","制作横木拉线地锚 7/2.2单条双下","个",null,{"v":0.3,"d":"0.30"},{"v":0.2,"d":"0.20"},{"v":0,"d":"0.00"},{"v":0,"d":"0.00"},0.3]
[{"$f":"SUBTOTAL(3,$B$7:B1233)","v":20},"TXL3-138拆","制作横木拉线地锚 7/2.6单条双下","个",null,0.32,{"v":0.2,"d":"0.20"},{"v":0,"d":"0.00"},{"v":0,"d":"0.00"},0.3]
[{"$f":"SUBTOTAL(3,$B$7:B1234)","v":20},"TXL3-139拆","制作横木拉线地锚 7/3.0单条双下","个",null,0.34,{"v":0.2,"d":"0.20"},{"v":0,"d":"0.00"},{"v":0,"d":"0.00"},0.3]
[{"$f":"SUBTOTAL(3,$B$7:B1235)","v":20},"TXL3-140拆","制作横木拉线地锚 7/3.0双条四下","个",null,0.41,0.24,{"v":0,"d":"0.00"},{"v":0,"d":"0.00"},0.3]
[{"$f":"SUBTOTAL(3,$B$7:B1236)","v":20},"TXL3-141拆","制作横木拉线地锚 7/3.0三条六下","个",null,0.49,0.28,{"v":0,"d":"0.00"},{"v":0,"d":"0.00"},0.3]
[{"$f":"SUBTOTAL(3,$B$7:B1237)","v":20},"TXL3-142拆","安装拉 线隔电子","处",null,0.24,{"v":0.1,"d":"0.10"},{"v":0,"d":"0.00"},{"v":0,"d":"0.00"},0.3]
[{"$f":"SUBTOTAL(3,$B$7:B1238)","v":20},"TXL3-143拆","安装拉 线警示 保护管","处",null,{"v":0.2,"d":"0.20"},{"v":0.2,"d":"0.20"},{"v":0,"d":"0.00"},{"v":0,"d":"0.00"},0.3]
[{"$f":"SUBTOTAL(3,$B$7:B1239)","v":20},"TXL3-144拆","电杆接高装置 单槽钢","处",null,0.24,0.24,{"v":0,"d":"0.00"},{"v":0,"d":"0.00"},0.3]
[{"$f":"SUBTOTAL(3,$B$7:B1240)","v":20},"TXL3-145拆","电杆接高装置 双槽钢","处",null,{"v":0.4,"d":"0.40"},{"v":0.4,"d":"0.40"},{"v":0,"d":"0.00"},{"v":0,"d":"0.00"},0.3]
[{"$f":"SUBTOTAL(3,$B$7:B1241)","v":20},"TXL3-146拆","电杆地线 拉线式","条",null,0.07,{"v":0,"d":"0.00"},{"v":0,"d":"0.00"},{"v":0,"d":"0.00"},0.3]
[{"$f":"SUBTOTAL(3,$B$7:B1242)","v":20},"TXL3-147拆","电杆地线 直埋式","条",null,0.18,0.18,{"v":0,"d":"0.00"},{"v":0,"d":"0.00"},0.3]
[{"$f":"SUBTOTAL(3,$B$7:B1243)","v":20},"TXL3-148拆","电杆地线 延伸式","条",null,0.18,0.38,{"v":0,"d":"0.00"},{"v":0,"d":"0.00"},0.3]
[{"$f":"SUBTOTAL(3,$B$7:B1244)","v":20},"TXL3-149拆","安装预留 缆架","架",null,{"v":0.1,"d":"0.10"},{"v":0.1,"d":"0.10"},{"v":0,"d":"0.00"},{"v":0,"d":"0.00"},0.3]
[{"$f":"SUBTOTAL(3,$B$7:B1245)","v":20},"TXL3-150拆","安装吊线 保护装置","m",null,0.05,0.05,{"v":0,"d":"0.00"},{"v":0,"d":"0.00"},0.3]
[{"$f":"SUBTOTAL(3,$B$7:B1246)","v":20},"TXL3-151拆","单装上杆钉 10 只以下","处",null,0.12,0.12,{"v":0,"d":"0.00"},{"v":0,"d":"0.00"},0.3]
[{"$f":"SUBTOTAL(3,$B$7:B1247)","v":20},"TXL3-152拆","单装上杆钉 10 只以上","处",null,{"v":0.2,"d":"0.20"},{"v":0.2,"d":"0.20"},{"v":0,"d":"0.00"},{"v":0,"d":"0.00"},0.3]
[{"$f":"SUBTOTAL(3,$B$7:B1248)","v":20},"TXL3-153拆","安装工作台及上杆钉 单杆","处",null,{"v":0.5,"d":"0.50"},{"v":0.5,"d":"0.50"},{"v":0,"d":"0.00"},{"v":0,"d":"0.00"},0.3]
[{"$f":"SUBTOTAL(3,$B$7:B1249)","v":20},"TXL3-154拆","安装工作台及上杆钉 H 杆","处",null,{"v":1.6,"d":"1.60"},{"v":1.6,"d":"1.60"},{"v":0,"d":"0.00"},{"v":0,"d":"0.00"},0.3]
[{"$f":"SUBTOTAL(3,$B$7:B1250)","v":20},"TXL3-155拆","线路整修","千米条",null,8.93,8.93,{"v":0,"d":"0.00"},{"v":0,"d":"0.00"},0.3]
[{"$f":"SUBTOTAL(3,$B$7:B1251)","v":20},"TXL3-156拆","木电杆架设 7/2.2 吊线 平原","千米条",null,{"v":3,"d":"3.00"},3.25,{"v":0,"d":"0.00"},{"v":0,"d":"0.00"},0.3]
[{"$f":"SUBTOTAL(3,$B$7:B1252)","v":20},"TXL3-157拆","木电杆架设 7/2.2 吊线 丘陵","千米条",null,4.25,4.54,{"v":0,"d":"0.00"},{"v":0,"d":"0.00"},0.3]
[{"$f":"SUBTOTAL(3,$B$7:B1253)","v":20},"TXL3-158拆","木电杆架设 7/2.2 吊线 山区","千米条",null,4.67,4.86,{"v":0,"d":"0.00"},{"v":0,"d":"0.00"},0.3]
[{"$f":"SUBTOTAL(3,$B$7:B1254)","v":20},"TXL3-159拆","木电杆架设 7/2.2 吊线 城区","千米条",null,{"v":4.5,"d":"4.50"},{"v":4.9,"d":"4.90"},{"v":0,"d":"0.00"},{"v":0,"d":"0.00"},0.3]
[{"$f":"SUBTOTAL(3,$B$7:B1255)","v":20},"TXL3-160拆","木电杆架设 7/2.6 吊线 平原","千米条",null,3.18,3.43,{"v":0,"d":"0.00"},{"v":0,"d":"0.00"},0.3]
[{"$f":"SUBTOTAL(3,$B$7:B1256)","v":20},"TXL3-161拆","木电杆架设 7/2.6 吊线 丘陵","千米条",null,4.28,4.64,{"v":0,"d":"0.00"},{"v":0,"d":"0.00"},0.3]
[{"$f":"SUBTOTAL(3,$B$7:B1257)","v":20},"TXL3-162拆","木电杆架设 7/2.6 吊线 山区","千米条",null,{"v":4.7,"d":"4.70"},4.96,{"v":0,"d":"0.00"},{"v":0,"d":"0.00"},0.3]
[{"$f":"SUBTOTAL(3,$B$7:B1258)","v":20},"TXL3-163拆","木电杆架设 7/2.6 吊线 城区","千米条",null,4.53,4.98,{"v":0,"d":"0.00"},{"v":0,"d":"0.00"},0.3]
[{"$f":"SUBTOTAL(3,$B$7:B1259)","v":20},"TXL3-164拆","木电杆架设 7/3.0 吊线 平原","千米条",null,3.24,3.43,{"v":0,"d":"0.00"},{"v":0,"d":"0.00"},0.3]
[{"$f":"SUBTOTAL(3,$B$7:B1260)","v":20},"TXL3-165拆","木电杆架设 7/3.0 吊线 丘陵","千米条",null,4.33,4.76,{"v":0,"d":"0.00"},{"v":0,"d":"0.00"},0.3]
[{"$f":"SUBTOTAL(3,$B$7:B1261)","v":20},"TXL3-166拆","木电杆架设 7/3.0 吊线 山区","千米条",null,4.59,5.15,{"v":0,"d":"0.00"},{"v":0,"d":"0.00"},0.3]
[{"$f":"SUBTOTAL(3,$B$7:B1262)","v":20},"TXL3-167拆","木电杆架设 7/3.0 吊线 城区","千米条",null,4.59,5.15,{"v":0,"d":"0.00"},{"v":0,"d":"0.00"},0.3]
[{"$f":"SUBTOTAL(3,$B$7:B1263)","v":20},"TXL3-168拆","水泥杆架设 7/2.2 吊线 平原","千米条",null,{"v":3,"d":"3.00"},3.25,{"v":0,"d":"0.00"},{"v":0,"d":"0.00"},0.3]
[{"$f":"SUBTOTAL(3,$B$7:B1264)","v":21},"TXL3-169拆","水泥杆架设 7/2.2 吊线 丘陵","千米条",{"v":0.1,"d":"0.100"},4.25,4.54,{"v":0.2975,"d":"0.30"},{"v":0.3178,"d":"0.32"},0.7]
[{"$f":"SUBTOTAL(3,$B$7:B1265)","v":21},"TXL3-170拆","水泥杆架设 7/2.2 吊线 山区","千米条",null,4.67,4.86,{"v":0,"d":"0.00"},{"v":0,"d":"0.00"},0.3]
[{"$f":"SUBTOTAL(3,$B$7:B1266)","v":21},"TXL3-171拆","水泥杆架设 7/2.2 吊线 城区","千米条",null,{"v":4.5,"d":"4.50"},{"v":4.9,"d":"4.90"},{"v":0,"d":"0.00"},{"v":0,"d":"0.00"},0.3]
[{"$f":"SUBTOTAL(3,$B$7:B1267)","v":21},"TXL3-172拆","水泥杆架设 7/2.6 吊线 平原","千米条",null,3.18,3.43,{"v":0,"d":"0.00"},{"v":0,"d":"0.00"},0.3]
[{"$f":"SUBTOTAL(3,$B$7:B1268)","v":21},"TXL3-173拆","水泥杆架设 7/2.6 吊线 丘陵","千米条",null,4.28,4.64,{"v":0,"d":"0.00"},{"v":0,"d":"0.00"},0.3]
[{"$f":"SUBTOTAL(3,$B$7:B1269)","v":21},"TXL3-174拆","水泥杆架设 7/2.6 吊线 山区","千米条",null,{"v":4.7,"d":"4.70"},4.96,{"v":0,"d":"0.00"},{"v":0,"d":"0.00"},0.3]
[{"$f":"SUBTOTAL(3,$B$7:B1270)","v":21},"TXL3-175拆","水泥杆架设 7/2.6 吊线 城区","千米条",null,4.53,4.98,{"v":0,"d":"0.00"},{"v":0,"d":"0.00"},0.3]
[{"$f":"SUBTOTAL(3,$B$7:B1271)","v":21},"TXL3-176拆","水泥杆架设 7/3.0 吊线 平原","千米条",null,3.24,3.43,{"$f":"E1271*F1271*J1271","v":{"v":0,"d":"0.00"}},{"$f":"E1271*G1271*J1271","v":{"v":0,"d":"0.00"}},0.3]
[{"$f":"SUBTOTAL(3,$B$7:B1272)","v":21},"TXL3-177拆","水泥杆架设 7/3.0 吊线 丘陵","千米条",null,4.33,4.76,{"v":0,"d":"0.00"},{"v":0,"d":"0.00"},0.3]
[{"$f":"SUBTOTAL(3,$B$7:B1273)","v":21},"TXL3-178拆","水泥杆架设 7/3.0 吊线 山区","千米条",null,4.59,5.15,{"v":0,"d":"0.00"},{"v":0,"d":"0.00"},0.3]
[{"$f":"SUBTOTAL(3,$B$7:B1274)","v":21},"TXL3-179拆","水泥杆架设 7/3.0 吊线 城区","千米条",null,4.59,5.15,{"v":0,"d":"0.00"},{"v":0,"d":"0.00"},0.3]
[{"$f":"SUBTOTAL(3,$B$7:B1275)","v":21},"TXL3-180拆","架设 100m 以内 辅助吊线","条档",null,{"v":1,"d":"1.00"},{"v":1,"d":"1.00"},{"v":0,"d":"0.00"},{"v":0,"d":"0.00"},0.3]
[{"$f":"SUBTOTAL(3,$B$7:B1276)","v":21},"TXL3-181拆","架设自承式架空光缆 36 芯以下","千米条",null,6.48,10.31,{"v":0,"d":"0.00"},{"v":0,"d":"0.00"},0.7]
[{"$f":"SUBTOTAL(3,$B$7:B1277)","v":21},"TXL3-182拆","架设自承式架空光缆 72 芯以下","千米条",null,7.35,11.68,{"v":0,"d":"0.00"},{"v":0,"d":"0.00"},0.7]
[{"$f":"SUBTOTAL(3,$B$7:B1278)","v":21},"TXL3-183拆","架设自承式架空光缆 144 芯以下","千米条",null,8.21,13.05,{"v":0,"d":"0.00"},{"v":0,"d":"0.00"},0.7]
[{"$f":"SUBTOTAL(3,$B$7:B1279)","v":21},"TXL3-184拆","架设自承式架空光缆 288 芯以下","千米条",null,{"v":9.5,"d":"9.50"},14.85,{"v":0,"d":"0.00"},{"v":0,"d":"0.00"},0.7]
[{"$f":"SUBTOTAL(3,$B$7:B1280)","v":21},"TXL3-185拆","架设自承式架空光缆 288 芯以上","千米条",null,10.82,16.65,{"v":0,"d":"0.00"},{"v":0,"d":"0.00"},0.7]
[{"$f":"SUBTOTAL(3,$B$7:B1281)","v":21},"TXL3-186拆","架设自承式蝶形光缆","百米条",null,0.75,{"v":0.9,"d":"0.90"},{"v":0,"d":"0.00"},{"v":0,"d":"0.00"},0.7]
[{"$f":"SUBTOTAL(3,$B$7:B1282)","v":21},"TXL3-187拆","挂钩法架设架空光缆 平原 36 芯以下","千米条",null,6.31,5.13,{"v":0,"d":"0.00"},{"v":0,"d":"0.00"},0.7]
[{"$f":"SUBTOTAL(3,$B$7:B1283)","v":21},"TXL3-188拆","挂钩法架设架空光缆 平原 72 芯以下","千米条",null,7.52,5.81,{"v":0,"d":"0.00"},{"v":0,"d":"0.00"},0.7]
[{"$f":"SUBTOTAL(3,$B$7:B1284)","v":21},"TXL3-189拆","挂钩法架设架空光缆 平原 144 芯以下","千米条",null,8.25,6.52,{"v":0,"d":"0.00"},{"v":0,"d":"0.00"},0.7]
[{"$f":"SUBTOTAL(3,$B$7:B1285)","v":21},"TXL3-190拆","挂钩法架设架空光缆 平原 288 芯以下","千米条",null,8.71,8.12,{"v":0,"d":"0.00"},{"v":0,"d":"0.00"},0.7]
[{"$f":"SUBTOTAL(3,$B$7:B1286)","v":21},"TXL3-191拆","挂钩法架设架空光缆 平原 288 芯以上","千米条",null,9.15,8.56,{"v":0,"d":"0.00"},{"v":0,"d":"0.00"},0.7]
[{"$f":"SUBTOTAL(3,$B$7:B1287)","v":22},"TXL3-192拆","挂钩法架设架空光缆 丘陵、城区、水田 36 芯以下","千米条",{"v":0.65,"d":"0.650"},8.68,6.86,{"v":3.9494,"d":"3.95"},{"v":3.1213,"d":"3.12"},0.7]
[{"$f":"SUBTOTAL(3,$B$7:B1288)","v":23},"TXL3-193拆","挂钩法架设架空光缆 丘陵、城区、水田 72 芯以下","千米条",{"v":0.3,"d":"0.300"},9.93,7.79,{"v":2.0853,"d":"2.09"},{"v":1.6359,"d":"1.64"},0.7]
[{"$f":"SUBTOTAL(3,$B$7:B1289)","v":23},"TXL3-194拆","挂钩法架设架空光缆 丘陵、城区、水田 144 芯以下","千米条",null,11.05,8.75,{"v":0,"d":"0.00"},{"v":0,"d":"0.00"},0.7]
[{"$f":"SUBTOTAL(3,$B$7:B1290)","v":23},"TXL3-195拆","挂钩法架设架空光缆 丘陵、城区、水田 288 芯以下","千米条",null,11.68,10.86,{"v":0,"d":"0.00"},{"v":0,"d":"0.00"},0.7]
[{"$f":"SUBTOTAL(3,$B$7:B1291)","v":23},"TXL3-196拆","挂钩法架设架空光缆 丘陵、城区、水田 288 芯以上","千米条",null,12.23,11.39,{"v":0,"d":"0.00"},{"v":0,"d":"0.00"},0.7]
[{"$f":"SUBTOTAL(3,$B$7:B1292)","v":23},"TXL3-197拆","挂钩法架设架空光缆 山区 36 芯以下","千米条",null,10.24,7.98,{"v":0,"d":"0.00"},{"v":0,"d":"0.00"},0.7]
[{"$f":"SUBTOTAL(3,$B$7:B1293)","v":23},"TXL3-198拆","挂钩法架设架空光缆 山区 72 芯以下","千米条",null,11.72,9.13,{"v":0,"d":"0.00"},{"v":0,"d":"0.00"},0.7]
[{"$f":"SUBTOTAL(3,$B$7:B1294)","v":23},"TXL3-199拆","挂钩法架设架空光缆 山区 144 芯以下","千米条",null,12.94,11.12,{"v":0,"d":"0.00"},{"v":0,"d":"0.00"},0.7]
[{"$f":"SUBTOTAL(3,$B$7:B1295)","v":23},"TXL3-200拆","挂钩法架设架空光缆 山区 288 芯以下","千米条",null,14.32,{"v":13.2,"d":"13.20"},{"v":0,"d":"0.00"},{"v":0,"d":"0.00"},0.7]
[{"$f":"SUBTOTAL(3,$B$7:B1296)","v":23},"TXL3-201拆","挂钩法架设架空光缆 山区 288 芯以上","千米条",null,15.25,{"v":14.1,"d":"14.10"},{"v":0,"d":"0.00"},{"v":0,"d":"0.00"},0.7]
[{"$f":"SUBTOTAL(3,$B$7:B1297)","v":23},"TXL3-202拆","挂钩法架设 蝶形光缆","百米条",null,0.85,0.61,{"v":0,"d":"0.00"},{"v":0,"d":"0.00"},0.7]
[{"$f":"SUBTOTAL(3,$B$7:B1298)","v":23},"TXL3-203拆","缠绕法架设架空光缆 平原 36 芯以下","千米条",null,{"v":7,"d":"7.00"},{"v":8,"d":"8.00"},{"v":0,"d":"0.00"},{"v":0,"d":"0.00"},0.7]
[{"$f":"SUBTOTAL(3,$B$7:B1299)","v":23},"TXL3-204拆","缠绕法架设架空光缆 平原 72 芯以下","千米条",null,{"v":7.9,"d":"7.90"},{"v":9.8,"d":"9.80"},{"v":0,"d":"0.00"},{"v":0,"d":"0.00"},0.7]
[{"$f":"SUBTOTAL(3,$B$7:B1300)","v":23},"TXL3-205拆","缠绕法架设架空光缆 平原 144 芯以下","千米条",null,{"v":8.8,"d":"8.80"},{"v":11.6,"d":"11.60"},{"v":0,"d":"0.00"},{"v":0,"d":"0.00"},0.7]
[{"$f":"SUBTOTAL(3,$B$7:B1301)","v":23},"TXL3-206拆","缠绕法架设架空光缆 平原 288 芯以下","千米条",null,{"v":9.7,"d":"9.70"},{"v":13.4,"d":"13.40"},{"v":0,"d":"0.00"},{"v":0,"d":"0.00"},0.7]
[{"$f":"SUBTOTAL(3,$B$7:B1302)","v":23},"TXL3-207拆","缠绕法架设架空光缆 平原 288 芯以上","千米条",null,{"v":10.6,"d":"10.60"},{"v":15.2,"d":"15.20"},{"v":0,"d":"0.00"},{"v":0,"d":"0.00"},0.7]
[{"$f":"SUBTOTAL(3,$B$7:B1303)","v":23},"TXL3-208拆","缠绕法架设架空光缆 丘陵、城区、水田 36 芯以下","千米条",null,{"v":9.8,"d":"9.80"},{"v":11.2,"d":"11.20"},{"v":0,"d":"0.00"},{"v":0,"d":"0.00"},0.7]
[{"$f":"SUBTOTAL(3,$B$7:B1304)","v":23},"TXL3-209拆","缠绕法架设架空光缆 丘陵、城区、水田 72 芯以下","千米条",null,{"v":10.7,"d":"10.70"},{"v":13,"d":"13.00"},{"v":0,"d":"0.00"},{"v":0,"d":"0.00"},0.7]
[{"$f":"SUBTOTAL(3,$B$7:B1305)","v":23},"TXL3-210拆","缠绕法架设架空光缆 丘陵、城区、水田 144 芯以下","千米条",null,{"v":11.6,"d":"11.60"},{"v":14.8,"d":"14.80"},{"v":0,"d":"0.00"},{"v":0,"d":"0.00"},0.7]
[{"$f":"SUBTOTAL(3,$B$7:B1306)","v":23},"TXL3-211拆","缠绕法架设架空光缆 丘陵、城区、水田 288 芯以下","千米条",null,{"v":12.5,"d":"12.50"},{"v":16.6,"d":"16.60"},{"v":0,"d":"0.00"},{"v":0,"d":"0.00"},0.7]
[{"$f":"SUBTOTAL(3,$B$7:B1307)","v":23},"TXL3-212拆","缠绕法架设架空光缆 丘陵、城区、水田 288 芯以上","千米条",null,{"v":13.4,"d":"13.40"},{"v":18.4,"d":"18.40"},{"v":0,"d":"0.00"},{"v":0,"d":"0.00"},0.7]
[{"$f":"SUBTOTAL(3,$B$7:B1308)","v":23},"TXL3-213拆","缠绕法架设架空光缆 山区 36 芯以下","千米条",null,{"v":11.9,"d":"11.90"},{"v":13.6,"d":"13.60"},{"v":0,"d":"0.00"},{"v":0,"d":"0.00"},0.7]
[{"$f":"SUBTOTAL(3,$B$7:B1309)","v":23},"TXL3-214拆","缠绕法架设架空光缆 山区 72 芯以下","千米条",null,{"v":12.8,"d":"12.80"},{"v":15.4,"d":"15.40"},{"v":0,"d":"0.00"},{"v":0,"d":"0.00"},0.7]
[{"$f":"SUBTOTAL(3,$B$7:B1310)","v":23},"TXL3-215拆","缠绕法架设架空光缆 山区 144 芯以下","千米条",null,{"v":13.7,"d":"13.70"},{"v":17.2,"d":"17.20"},{"v":0,"d":"0.00"},{"v":0,"d":"0.00"},0.7]
[{"$f":"SUBTOTAL(3,$B$7:B1311)","v":23},"TXL3-216拆","缠绕法架设架空光缆 山区 288 芯以下","千米条",null,{"v":14.6,"d":"14.60"},{"v":19,"d":"19.00"},{"v":0,"d":"0.00"},{"v":0,"d":"0.00"},0.7]
[{"$f":"SUBTOTAL(3,$B$7:B1312)","v":23},"TXL3-217拆","缠绕法架设架空光缆 山区 288 芯以上","千米条",null,{"v":15.5,"d":"15.50"},{"v":20.8,"d":"20.80"},{"v":0,"d":"0.00"},{"v":0,"d":"0.00"},0.7]
[{"$f":"SUBTOTAL(3,$B$7:B1313)","v":23},"TXL3-218拆","吊线式架空电缆 100 对以下","千米条",null,9.05,10.63,{"v":0,"d":"0.00"},{"v":0,"d":"0.00"},0.7]
[{"$f":"SUBTOTAL(3,$B$7:B1314)","v":23},"TXL3-219拆","吊线式架空电缆 200 对以下","千米条",null,11.84,13.89,{"v":0,"d":"0.00"},{"v":0,"d":"0.00"},0.7]
[{"$f":"SUBTOTAL(3,$B$7:B1315)","v":23},"TXL3-220拆","吊线式架空电缆 400 对以下","千米条",null,13.58,15.95,{"v":0,"d":"0.00"},{"v":0,"d":"0.00"},0.7]
[{"$f":"SUBTOTAL(3,$B$7:B1316)","v":23},"TXL3-221拆","架空自承式电缆 100 对以下","千米条",null,14.59,15.18,{"v":0,"d":"0.00"},{"v":0,"d":"0.00"},0.7]
[{"$f":"SUBTOTAL(3,$B$7:B1317)","v":23},"TXL3-222拆","架空自承式电缆 100 对以上","千米条",null,17.48,{"v":18.2,"d":"18.20"},{"v":0,"d":"0.00"},{"v":0,"d":"0.00"},0.7]
[{"$f":"SUBTOTAL(3,$B$7:B1318)","v":23},"TXL4-001拆","布放光（电）缆人孔抽水 积水","个",null,0.25,{"v":0.5,"d":"0.50"},{"v":0,"d":"0.00"},{"v":0,"d":"0.00"},0.3]
[{"$f":"SUBTOTAL(3,$B$7:B1319)","v":23},"TXL4-002拆","布放光（电）缆人孔抽水 流水","个",null,0.38,{"v":1,"d":"1.00"},{"v":0,"d":"0.00"},{"v":0,"d":"0.00"},0.3]
[{"$f":"SUBTOTAL(3,$B$7:B1320)","v":23},"TXL4-003拆","布放光（电）缆手孔抽水","个",null,0.13,0.25,{"v":0,"d":"0.00"},{"v":0,"d":"0.00"},0.3]
[{"$f":"SUBTOTAL(3,$B$7:B1321)","v":23},"TXL4-004拆","人工敷设塑料子管 1 孔子管","km",null,{"v":4,"d":"4.00"},5.57,{"v":0,"d":"0.00"},{"v":0,"d":"0.00"},0.3]
[{"$f":"SUBTOTAL(3,$B$7:B1322)","v":23},"TXL4-005拆","人工敷设塑料子管 2 孔子管","km",null,{"v":5.2,"d":"5.20"},8.13,{"v":0,"d":"0.00"},{"v":0,"d":"0.00"},0.3]
[{"$f":"SUBTOTAL(3,$B$7:B1323)","v":23},"TXL4-006拆","人工敷设塑料子管 3 孔子管","km",null,6.17,10.54,{"v":0,"d":"0.00"},{"v":0,"d":"0.00"},0.3]
[{"$f":"SUBTOTAL(3,$B$7:B1324)","v":23},"TXL4-007拆","人工敷设塑料子管 4 孔子管","km",null,7.13,12.96,{"v":0,"d":"0.00"},{"v":0,"d":"0.00"},0.3]
[{"$f":"SUBTOTAL(3,$B$7:B1325)","v":23},"TXL4-008拆","人工敷设塑料子管 5 孔子管","km",null,{"v":8.1,"d":"8.10"},15.37,{"v":0,"d":"0.00"},{"v":0,"d":"0.00"},0.3]
[{"$f":"SUBTOTAL(3,$B$7:B1326)","v":23},"TXL4-009拆","人工敷设一带纺织子管 空闲管孔中","km",null,3.63,5.15,{"v":0,"d":"0.00"},{"v":0,"d":"0.00"},0.3]
[{"$f":"SUBTOTAL(3,$B$7:B1327)","v":23},"TXL4-010拆","人工敷设一带纺织子管 非空闲管孔中","km",null,6.53,9.27,{"v":0,"d":"0.00"},{"v":0,"d":"0.00"},0.3]
[{"$f":"SUBTOTAL(3,$B$7:B1328)","v":23},"TXL4-011拆","敷设管道光缆 12 芯以下","千米条",null,{"v":5.5,"d":"5.50"},10.94,{"v":0,"d":"0.00"},{"v":0,"d":"0.00"},0.9]
[{"$f":"SUBTOTAL(3,$B$7:B1329)","v":23},"TXL4-012拆","敷设管道光缆 24 芯以下","千米条",null,6.83,13.08,{"v":0,"d":"0.00"},{"v":0,"d":"0.00"},0.9]
[{"$f":"SUBTOTAL(3,$B$7:B1330)","v":23},"TXL4-013拆","敷设管道光缆 48 芯以下","千米条",null,8.02,15.35,{"v":0,"d":"0.00"},{"v":0,"d":"0.00"},0.9]
[{"$f":"SUBTOTAL(3,$B$7:B1331)","v":23},"TXL4-014拆","敷设管道光缆 96 芯以下","千米条",null,9.02,17.62,{"v":0,"d":"0.00"},{"v":0,"d":"0.00"},0.9]
[{"$f":"SUBTOTAL(3,$B$7:B1332)","v":23},"TXL4-015拆","敷设管道光缆 144 芯以下","千米条",null,{"v":10.4,"d":"10.40"},19.87,{"v":0,"d":"0.00"},{"v":0,"d":"0.00"},0.9]
[{"$f":"SUBTOTAL(3,$B$7:B1333)","v":23},"TXL4-016拆","敷设管道光缆 288 芯以下","千米条",null,11.44,21.86,{"v":0,"d":"0.00"},{"v":0,"d":"0.00"},0.9]
[{"$f":"SUBTOTAL(3,$B$7:B1334)","v":23},"TXL4-017拆","敷设管道光缆 576 芯以下","千米条",null,14.82,28.41,{"v":0,"d":"0.00"},{"v":0,"d":"0.00"},0.9]
[{"$f":"SUBTOTAL(3,$B$7:B1335)","v":23},"TXL4-018拆","敷设管道光缆 576 芯以上","千米条",null,19.33,36.43,{"$f":"E1335*F1335*J1335","v":{"v":0,"d":"0.00"}},{"$f":"E1335*G1335*J1335","v":{"v":0,"d":"0.00"}},0.9]
[{"$f":"SUBTOTAL(3,$B$7:B1336)","v":23},"TXL4-019拆","人工敷设管道电缆 200 对以下","千米条",null,11.76,20.03,{"v":0,"d":"0.00"},{"v":0,"d":"0.00"},0.9]
[{"$f":"SUBTOTAL(3,$B$7:B1337)","v":23},"TXL4-020拆","人工敷设管道电缆 400 对以下","千米条",null,13.94,23.74,{"v":0,"d":"0.00"},{"v":0,"d":"0.00"},0.9]
[{"$f":"SUBTOTAL(3,$B$7:B1338)","v":23},"TXL4-021拆","人工敷设管道电缆 800 对以下","千米条",null,17.79,30.26,{"v":0,"d":"0.00"},{"v":0,"d":"0.00"},0.9]
[{"$f":"SUBTOTAL(3,$B$7:B1339)","v":23},"TXL4-022拆","人工敷设管道电缆 1200 对以下","千米条",null,21.63,36.83,{"v":0,"d":"0.00"},{"v":0,"d":"0.00"},0.9]
[{"$f":"SUBTOTAL(3,$B$7:B1340)","v":23},"TXL4-023拆","人工敷设管道电缆 1800 对以下","千米条",null,24.48,41.67,{"v":0,"d":"0.00"},{"v":0,"d":"0.00"},0.9]
[{"$f":"SUBTOTAL(3,$B$7:B1341)","v":23},"TXL4-024拆","人工敷设管道电缆 2400 对以下","千米条",null,28.84,49.11,{"v":0,"d":"0.00"},{"v":0,"d":"0.00"},0.9]
[{"$f":"SUBTOTAL(3,$B$7:B1342)","v":23},"TXL4-025拆","人工敷设管道电缆 2400 对以上","千米条",null,34.81,59.28,{"v":0,"d":"0.00"},{"v":0,"d":"0.00"},0.9]
[{"$f":"SUBTOTAL(3,$B$7:B1343)","v":23},"TXL4-026拆","机械敷设管道电缆 200 对以下","千米条",null,{"v":9.2,"d":"9.20"},15.67,{"v":0,"d":"0.00"},{"v":0,"d":"0.00"},0.9]
[{"$f":"SUBTOTAL(3,$B$7:B1344)","v":23},"TXL4-027拆","机械敷设管道电缆 400 对以下","千米条",null,10.51,17.89,{"v":0,"d":"0.00"},{"v":0,"d":"0.00"},0.9]
[{"$f":"SUBTOTAL(3,$B$7:B1345)","v":23},"TXL4-028拆","机械敷设管道电缆 800 对以下","千米条",null,13.33,22.71,{"v":0,"d":"0.00"},{"v":0,"d":"0.00"},0.9]
[{"$f":"SUBTOTAL(3,$B$7:B1346)","v":23},"TXL4-029拆","机械敷设管道电缆 1200 对以下","千米条",null,16.08,27.39,{"v":0,"d":"0.00"},{"v":0,"d":"0.00"},0.9]
[{"$f":"SUBTOTAL(3,$B$7:B1347)","v":23},"TXL4-030拆","机械敷设管道电缆 1800 对以下","千米条",null,19.06,32.46,{"v":0,"d":"0.00"},{"v":0,"d":"0.00"},0.9]
[{"$f":"SUBTOTAL(3,$B$7:B1348)","v":23},"TXL4-031拆","机械敷设管道电缆 2400 对以下","千米条",null,22.58,38.45,{"v":0,"d":"0.00"},{"v":0,"d":"0.00"},0.9]
[{"$f":"SUBTOTAL(3,$B$7:B1349)","v":23},"TXL4-032拆","机械敷设管道电缆 2400 对以上","千米条",null,{"v":27.5,"d":"27.50"},46.82,{"v":0,"d":"0.00"},{"v":0,"d":"0.00"},0.9]
[{"$f":"SUBTOTAL(3,$B$7:B1350)","v":23},"TXL4-033拆","打人（手）孔墙洞 砖砌人孔 ３孔管以下","处",null,0.36,0.36,{"v":0,"d":"0.00"},{"v":0,"d":"0.00"},0.3]
[{"$f":"SUBTOTAL(3,$B$7:B1351)","v":23},"TXL4-034拆","打人（手）孔墙洞 砖砌人孔 ３孔管以上","处",null,0.54,0.54,{"v":0,"d":"0.00"},{"v":0,"d":"0.00"},0.3]
[{"$f":"SUBTOTAL(3,$B$7:B1352)","v":23},"TXL4-035拆","打人（手）孔墙洞 混凝土人孔 ３孔管以下","处",null,{"v":0.6,"d":"0.60"},{"v":0.6,"d":"0.60"},{"v":0,"d":"0.00"},{"v":0,"d":"0.00"},0.3]
[{"$f":"SUBTOTAL(3,$B$7:B1353)","v":23},"TXL4-036拆","打人（手）孔墙洞 混凝土人孔 ３孔管以上","处",null,{"v":0.9,"d":"0.90"},{"v":0.9,"d":"0.90"},{"v":0,"d":"0.00"},{"v":0,"d":"0.00"},0.3]
[{"$f":"SUBTOTAL(3,$B$7:B1354)","v":23},"TXL4-037拆","打穿楼墙洞 砖墙","个",null,0.07,0.06,{"v":0,"d":"0.00"},{"v":0,"d":"0.00"},0.3]
[{"$f":"SUBTOTAL(3,$B$7:B1355)","v":23},"TXL4-038拆","打穿楼墙洞 混凝土墙","个",null,0.14,0.13,{"v":0,"d":"0.00"},{"v":0,"d":"0.00"},0.3]
[{"$f":"SUBTOTAL(3,$B$7:B1356)","v":23},"TXL4-039拆","打穿楼层洞 预制板 楼层","个",null,0.07,0.06,{"v":0,"d":"0.00"},{"v":0,"d":"0.00"},0.3]
[{"$f":"SUBTOTAL(3,$B$7:B1357)","v":23},"TXL4-040拆","打穿楼层洞 混凝土 楼层","个",null,0.14,0.13,{"v":0,"d":"0.00"},{"v":0,"d":"0.00"},0.3]
[{"$f":"SUBTOTAL(3,$B$7:B1358)","v":23},"TXL4-041拆","增装支撑物 终端支撑物","套",null,{"v":0.3,"d":"0.30"},{"v":0.3,"d":"0.30"},{"v":0,"d":"0.00"},{"v":0,"d":"0.00"},0.3]
[{"$f":"SUBTOTAL(3,$B$7:B1359)","v":23},"TXL4-042拆","增装支撑物 中间支撑物","套",null,0.15,0.15,{"v":0,"d":"0.00"},{"v":0,"d":"0.00"},0.3]
[{"$f":"SUBTOTAL(3,$B$7:B1360)","v":23},"TXL4-043拆","安装引上钢管（φ50 以下） 杆上","套",null,{"v":0.2,"d":"0.20"},{"v":0.2,"d":"0.20"},{"v":0,"d":"0.00"},{"v":0,"d":"0.00"},0.3]
[{"$f":"SUBTOTAL(3,$B$7:B1361)","v":23},"TXL4-044拆","安装引上钢管（φ50 以下） 墙上","套",null,0.25,0.25,{"v":0,"d":"0.00"},{"v":0,"d":"0.00"},0.3]
[{"$f":"SUBTOTAL(3,$B$7:B1362)","v":23},"TXL4-045拆","安装引上钢管（φ50 以上） 杆上","根",null,0.25,0.25,{"v":0,"d":"0.00"},{"v":0,"d":"0.00"},0.3]
[{"$f":"SUBTOTAL(3,$B$7:B1363)","v":23},"TXL4-046拆","安装引上钢管（φ50 以上） 墙上","根",null,0.35,0.35,{"v":0,"d":"0.00"},{"v":0,"d":"0.00"},0.3]
[{"$f":"SUBTOTAL(3,$B$7:B1364)","v":23},"TXL4-047拆","钉固塑料槽板","百米条",null,{"v":2.6,"d":"2.60"},{"v":2.6,"d":"2.60"},{"v":0,"d":"0.00"},{"v":0,"d":"0.00"},0.3]
[{"$f":"SUBTOTAL(3,$B$7:B1365)","v":23},"TXL4-048拆","进局光（电）缆防水封堵","处",null,0.13,0.13,{"v":0,"d":"0.00"},{"v":0,"d":"0.00"},0.3]
[{"$f":"SUBTOTAL(3,$B$7:B1366)","v":23},"TXL4-049拆","光（电）缆上线洞楼层间 防火封堵","处",null,0.06,0.06,{"v":0,"d":"0.00"},{"v":0,"d":"0.00"},0.3]
[{"$f":"SUBTOTAL(3,$B$7:B1367)","v":23},"TXL4-050拆","穿放引上光缆","条",null,0.52,0.52,{"v":0,"d":"0.00"},{"v":0,"d":"0.00"},0.7]
[{"$f":"SUBTOTAL(3,$B$7:B1368)","v":23},"TXL4-051拆","穿放引上电缆 200 对以下","条",null,0.42,0.42,{"v":0,"d":"0.00"},{"v":0,"d":"0.00"},0.7]
[{"$f":"SUBTOTAL(3,$B$7:B1369)","v":23},"TXL4-052拆","穿放引上电缆 200 对以上","条",null,0.46,0.46,{"v":0,"d":"0.00"},{"v":0,"d":"0.00"},0.7]
[{"$f":"SUBTOTAL(3,$B$7:B1370)","v":23},"TXL4-053拆","架设吊线式墙壁光缆","百米条",null,2.75,2.75,{"v":0,"d":"0.00"},{"v":0,"d":"0.00"},0.7]
[{"$f":"SUBTOTAL(3,$B$7:B1371)","v":23},"TXL4-054拆","布放钉固式墙壁光缆","百米条",null,1.76,1.76,{"v":0,"d":"0.00"},{"v":0,"d":"0.00"},0.7]
[{"$f":"SUBTOTAL(3,$B$7:B1372)","v":23},"TXL4-055拆","架挂自承式墙壁光缆","百米条",null,2.53,2.53,{"v":0,"d":"0.00"},{"v":0,"d":"0.00"},0.7]
[{"$f":"SUBTOTAL(3,$B$7:B1373)","v":23},"TXL4-056拆","墙壁方式敷设蝶形光缆","百米条",null,{"v":2,"d":"2.00"},{"v":2.5,"d":"2.50"},{"v":0,"d":"0.00"},{"v":0,"d":"0.00"},0.7]
[{"$f":"SUBTOTAL(3,$B$7:B1374)","v":23},"TXL4-057拆","架设吊线式墙壁电缆 200 对以下","百米条",null,5.23,5.23,{"v":0,"d":"0.00"},{"v":0,"d":"0.00"},0.7]
[{"$f":"SUBTOTAL(3,$B$7:B1375)","v":23},"TXL4-058拆","架设吊线式墙壁电缆 200 对以上","百米条",null,5.48,5.48,{"v":0,"d":"0.00"},{"v":0,"d":"0.00"},0.7]
[{"$f":"SUBTOTAL(3,$B$7:B1376)","v":23},"TXL4-059拆","布放钉固式墙壁电缆 200 对以下","百米条",null,3.34,3.34,{"v":0,"d":"0.00"},{"v":0,"d":"0.00"},0.7]
[{"$f":"SUBTOTAL(3,$B$7:B1377)","v":23},"TXL4-060拆","布放钉固式墙壁电缆 200 对以上","百米条",null,3.59,3.59,{"v":0,"d":"0.00"},{"v":0,"d":"0.00"},0.7]
[{"$f":"SUBTOTAL(3,$B$7:B1378)","v":23},"TXL4-061拆","架挂自承式墙壁电缆 100 对以下","百米条",null,4.81,4.81,{"v":0,"d":"0.00"},{"v":0,"d":"0.00"},0.7]
[{"$f":"SUBTOTAL(3,$B$7:B1379)","v":23},"TXL4-062拆","架挂自承式墙壁电缆 100 对以上","百米条",null,5.06,5.06,{"v":0,"d":"0.00"},{"v":0,"d":"0.00"},0.7]
[{"$f":"SUBTOTAL(3,$B$7:B1380)","v":23},"TXL5-001拆","城区气流法敷设微管 3 根以下","km",null,4.33,0.64,{"v":0,"d":"0.00"},{"v":0,"d":"0.00"},0.3]
[{"$f":"SUBTOTAL(3,$B$7:B1381)","v":23},"TXL5-002拆","城区气流法敷设微管 5 根以下","km",null,{"v":4.6,"d":"4.60"},{"v":1,"d":"1.00"},{"v":0,"d":"0.00"},{"v":0,"d":"0.00"},0.3]
[{"$f":"SUBTOTAL(3,$B$7:B1382)","v":23},"TXL5-003拆","城区气流法敷设微管 5 根以上","km",null,4.89,1.86,{"v":0,"d":"0.00"},{"v":0,"d":"0.00"},0.3]
[{"$f":"SUBTOTAL(3,$B$7:B1383)","v":23},"TXL5-004拆","非城区气流法敷设微管 3 根以下","km",null,3.76,0.56,{"v":0,"d":"0.00"},{"v":0,"d":"0.00"},0.3]
[{"$f":"SUBTOTAL(3,$B$7:B1384)","v":23},"TXL5-005拆","非城区气流法敷设微管 5 根以下","km",null,{"v":4,"d":"4.00"},0.87,{"v":0,"d":"0.00"},{"v":0,"d":"0.00"},0.3]
[{"$f":"SUBTOTAL(3,$B$7:B1385)","v":23},"TXL5-006拆","非城区气流法敷设微管 5 根以上","km",null,4.25,1.62,{"v":0,"d":"0.00"},{"v":0,"d":"0.00"},0.3]
[{"$f":"SUBTOTAL(3,$B$7:B1386)","v":23},"TXL5-007拆","城区人工布放微管 空闲保护管内 3 根以下","km",null,3.15,4.56,{"v":0,"d":"0.00"},{"v":0,"d":"0.00"},0.3]
[{"$f":"SUBTOTAL(3,$B$7:B1387)","v":23},"TXL5-008拆","城区人工布放微管 空闲保护管内 4 至 5 根","km",null,3.75,5.18,{"v":0,"d":"0.00"},{"v":0,"d":"0.00"},0.3]
[{"$f":"SUBTOTAL(3,$B$7:B1388)","v":23},"TXL5-009拆","城区人工布放微管 空闲保护管内 5 根以上每增加 2根","km",null,0.42,0.78,{"v":0,"d":"0.00"},{"v":0,"d":"0.00"},0.3]
[{"$f":"SUBTOTAL(3,$B$7:B1389)","v":23},"TXL5-010拆","城区人工布放微管 非空闲保护管内 3 根以下","km",null,6.55,{"v":7.5,"d":"7.50"},{"v":0,"d":"0.00"},{"v":0,"d":"0.00"},0.3]
[{"$f":"SUBTOTAL(3,$B$7:B1390)","v":23},"TXL5-011拆","城区人工布放微管 非空闲保护管内 4 至 5 根","km",null,{"v":7.1,"d":"7.10"},8.22,{"v":0,"d":"0.00"},{"v":0,"d":"0.00"},0.3]
[{"$f":"SUBTOTAL(3,$B$7:B1391)","v":23},"TXL5-012拆","城区人工布放微管 管道内人工布放 集束管","km",null,3.71,12.87,{"v":0,"d":"0.00"},{"v":0,"d":"0.00"},0.3]
[{"$f":"SUBTOTAL(3,$B$7:B1392)","v":23},"TXL5-013拆","保护管贯通","孔千米",null,{"v":0.8,"d":"0.80"},{"v":1.6,"d":"1.60"},{"v":0,"d":"0.00"},{"v":0,"d":"0.00"},0.3]
[{"$f":"SUBTOTAL(3,$B$7:B1393)","v":23},"TXL5-014拆","微管连接","处",null,{"v":0.3,"d":"0.30"},{"v":0.6,"d":"0.60"},{"v":0,"d":"0.00"},{"v":0,"d":"0.00"},0.3]
[{"$f":"SUBTOTAL(3,$B$7:B1394)","v":23},"TXL5-015拆","人（手）孔内安装微管保 护装置","套",null,{"v":1.1,"d":"1.10"},0.55,{"v":0,"d":"0.00"},{"v":0,"d":"0.00"},0.3]
[{"$f":"SUBTOTAL(3,$B$7:B1395)","v":23},"TXL5-016拆","混凝土路面开微槽 30m 以下","处",null,5.95,5.29,{"v":0,"d":"0.00"},{"v":0,"d":"0.00"},0.3]
[{"$f":"SUBTOTAL(3,$B$7:B1396)","v":23},"TXL5-017拆","混凝土路面开微槽 每增加 10m","10m",null,1.05,0.95,{"v":0,"d":"0.00"},{"v":0,"d":"0.00"},0.3]
[{"$f":"SUBTOTAL(3,$B$7:B1397)","v":23},"TXL5-018拆","沥青柏油路面开微槽 30m 以下","处",null,{"v":5.2,"d":"5.20"},4.75,{"v":0,"d":"0.00"},{"v":0,"d":"0.00"},0.3]
[{"$f":"SUBTOTAL(3,$B$7:B1398)","v":23},"TXL5-019拆","沥青柏油路面开微槽 每增加 10m","10m",null,{"v":0.9,"d":"0.90"},0.85,{"v":0,"d":"0.00"},{"v":0,"d":"0.00"},0.3]
[{"$f":"SUBTOTAL(3,$B$7:B1399)","v":23},"TXL5-020拆","平原地区气流法穿放光缆 36 芯以下","千米条",null,5.36,1.27,{"$f":"E1399*F1399*J1399","v":{"v":0,"d":"0.00"}},{"$f":"E1399*G1399*J1399","v":{"v":0,"d":"0.00"}},0.9]
[{"$f":"SUBTOTAL(3,$B$7:B1400)","v":23},"TXL5-021拆","平原地区气流法穿放光缆 72 芯以下","千米条",null,6.01,1.43,{"v":0,"d":"0.00"},{"v":0,"d":"0.00"},0.9]
[{"$f":"SUBTOTAL(3,$B$7:B1401)","v":23},"TXL5-022拆","平原地区气流法穿放光缆 144 芯以下","千米条",null,6.65,1.58,{"v":0,"d":"0.00"},{"v":0,"d":"0.00"},0.9]
[{"$f":"SUBTOTAL(3,$B$7:B1402)","v":23},"TXL5-023拆","平原地区气流法穿放光缆 288 芯以下","千米条",null,{"v":7.3,"d":"7.30"},1.74,{"v":0,"d":"0.00"},{"v":0,"d":"0.00"},0.9]
[{"$f":"SUBTOTAL(3,$B$7:B1403)","v":23},"TXL5-024拆","平原地区气流法穿放光缆 288 芯以上","千米条",null,7.94,1.89,{"v":0,"d":"0.00"},{"v":0,"d":"0.00"},0.9]
[{"$f":"SUBTOTAL(3,$B$7:B1404)","v":23},"TXL5-025拆","丘陵、城区、水田地区气流法穿放光缆 36 芯以下","千米条",null,6.16,1.47,{"v":0,"d":"0.00"},{"v":0,"d":"0.00"},0.9]
[{"$f":"SUBTOTAL(3,$B$7:B1405)","v":23},"TXL5-026拆","丘陵、城区、水田地区气流法穿放光缆 72 芯以下","千米条",null,6.91,1.65,{"v":0,"d":"0.00"},{"v":0,"d":"0.00"},0.9]
[{"$f":"SUBTOTAL(3,$B$7:B1406)","v":23},"TXL5-027拆","丘陵、城区、水田地区气流法穿放光缆 144 芯以下","千米条",null,7.65,1.82,{"v":0,"d":"0.00"},{"v":0,"d":"0.00"},0.9]
[{"$f":"SUBTOTAL(3,$B$7:B1407)","v":23},"TXL5-028拆","丘陵、城区、水田地区气流法穿放光缆 288 芯以下","千米条",null,8.39,{"v":2,"d":"2.00"},{"v":0,"d":"0.00"},{"v":0,"d":"0.00"},0.9]
[{"$f":"SUBTOTAL(3,$B$7:B1408)","v":23},"TXL5-029拆","丘陵、城区、水田地区气流法穿放光缆 288 芯以上","千米条",null,9.13,2.17,{"v":0,"d":"0.00"},{"v":0,"d":"0.00"},0.9]
[{"$f":"SUBTOTAL(3,$B$7:B1409)","v":23},"TXL5-030拆","山区气流法穿放光缆 36 芯以下","千米条",null,7.51,1.79,{"v":0,"d":"0.00"},{"v":0,"d":"0.00"},0.9]
[{"$f":"SUBTOTAL(3,$B$7:B1410)","v":23},"TXL5-031拆","山区气流法穿放光缆 72 芯以下","千米条",null,8.41,{"v":2,"d":"2.00"},{"v":0,"d":"0.00"},{"v":0,"d":"0.00"},0.9]
[{"$f":"SUBTOTAL(3,$B$7:B1411)","v":23},"TXL5-032拆","山区气流法穿放光缆 144 芯以下","千米条",null,9.31,2.22,{"v":0,"d":"0.00"},{"v":0,"d":"0.00"},0.9]
[{"$f":"SUBTOTAL(3,$B$7:B1412)","v":23},"TXL5-033拆","山区气流法穿放光缆 288 芯以下","千米条",null,10.22,2.43,{"v":0,"d":"0.00"},{"v":0,"d":"0.00"},0.9]
[{"$f":"SUBTOTAL(3,$B$7:B1413)","v":23},"TXL5-034拆","山区气流法穿放光缆 288 芯以上","千米条",null,11.12,2.65,{"v":0,"d":"0.00"},{"v":0,"d":"0.00"},0.9]
[{"$f":"SUBTOTAL(3,$B$7:B1414)","v":23},"TXL5-035拆","微管（集束管）贯通","孔千米",null,{"v":0.8,"d":"0.80"},{"v":1.5,"d":"1.50"},{"v":0,"d":"0.00"},{"v":0,"d":"0.00"},0.3]
[{"$f":"SUBTOTAL(3,$B$7:B1415)","v":23},"TXL5-036拆","人工敷设微槽 光缆","千米条",null,{"v":10.2,"d":"10.20"},1.85,{"v":0,"d":"0.00"},{"v":0,"d":"0.00"},0.9]
[{"$f":"SUBTOTAL(3,$B$7:B1416)","v":23},"TXL5-037拆","城区气流法敷设微型光缆 配盘长 2 公里以下","千米条",null,4.47,0.64,{"v":0,"d":"0.00"},{"v":0,"d":"0.00"},0.9]
[{"$f":"SUBTOTAL(3,$B$7:B1417)","v":23},"TXL5-038拆","城区气流法敷设微型光缆 配盘长 2 公里以上","千米条",null,6.71,0.96,{"v":0,"d":"0.00"},{"v":0,"d":"0.00"},0.9]
[{"$f":"SUBTOTAL(3,$B$7:B1418)","v":23},"TXL5-039拆","非城区气流法敷设微型光缆 配盘长 2 公里以下","千米条",null,3.01,0.46,{"v":0,"d":"0.00"},{"v":0,"d":"0.00"},0.9]
[{"$f":"SUBTOTAL(3,$B$7:B1419)","v":23},"TXL5-040拆","非城区气流法敷设微型光缆 配盘长 2 公里以上","千米条",null,4.52,0.65,{"v":0,"d":"0.00"},{"v":0,"d":"0.00"},0.9]
[{"$f":"SUBTOTAL(3,$B$7:B1420)","v":23},"TXL5-041拆","托板式敷设室内通道光缆","百米条",null,{"v":0.6,"d":"0.60"},{"v":1.2,"d":"1.20"},{"v":0,"d":"0.00"},{"v":0,"d":"0.00"},0.7]
[{"$f":"SUBTOTAL(3,$B$7:B1421)","v":23},"TXL5-042拆","定固式敷设室内通道光缆","百米条",null,{"v":1.2,"d":"1.20"},{"v":1.8,"d":"1.80"},{"v":0,"d":"0.00"},{"v":0,"d":"0.00"},0.7]
[{"$f":"SUBTOTAL(3,$B$7:B1422)","v":23},"TXL5-043拆","竖井引上光缆","百米条",null,{"v":1.5,"d":"1.50"},{"v":2,"d":"2.00"},{"v":0,"d":"0.00"},{"v":0,"d":"0.00"},0.7]
[{"$f":"SUBTOTAL(3,$B$7:B1423)","v":23},"TXL5-044拆","槽道光缆","百米条",null,{"v":0.5,"d":"0.50"},{"v":0.5,"d":"0.50"},{"v":0,"d":"0.00"},{"v":0,"d":"0.00"},0.7]
[{"$f":"SUBTOTAL(3,$B$7:B1424)","v":23},"TXL5-045拆","槽道电缆","百米条",null,0.65,0.65,{"v":0,"d":"0.00"},{"v":0,"d":"0.00"},0.7]
[{"$f":"SUBTOTAL(3,$B$7:B1425)","v":23},"TXL5-046拆","顶棚内光（电）缆","百米条",null,{"v":1,"d":"1.00"},{"v":1,"d":"1.00"},{"v":0,"d":"0.00"},{"v":0,"d":"0.00"},0.7]
[{"$f":"SUBTOTAL(3,$B$7:B1426)","v":23},"TXL5-047拆","开槽 砖槽","m",null,0.01,0.05,{"v":0,"d":"0.00"},{"v":0,"d":"0.00"},0.3]
[{"$f":"SUBTOTAL(3,$B$7:B1427)","v":23},"TXL5-048拆","开槽 混凝土槽","m",null,0.01,0.18,{"v":0,"d":"0.00"},{"v":0,"d":"0.00"},0.3]
[{"$f":"SUBTOTAL(3,$B$7:B1428)","v":23},"TXL5-049拆","敷设钢管 φ25 以下","100ｍ",null,{"v":1.5,"d":"1.50"},4.13,{"v":0,"d":"0.00"},{"v":0,"d":"0.00"},0.3]
[{"$f":"SUBTOTAL(3,$B$7:B1429)","v":23},"TXL5-050拆","敷设钢管 φ50 以下","100ｍ",null,{"v":2,"d":"2.00"},5.13,{"v":0,"d":"0.00"},{"v":0,"d":"0.00"},0.3]
[{"$f":"SUBTOTAL(3,$B$7:B1430)","v":23},"TXL5-051拆","敷设硬质 PVC 管 φ25 以下","100ｍ",null,0.94,{"v":3,"d":"3.00"},{"v":0,"d":"0.00"},{"v":0,"d":"0.00"},0.3]
[{"$f":"SUBTOTAL(3,$B$7:B1431)","v":23},"TXL5-052拆","敷设硬质 PVC 管 φ50 以下","100ｍ",null,{"v":1.5,"d":"1.50"},4.13,{"v":0,"d":"0.00"},{"v":0,"d":"0.00"},0.3]
[{"$f":"SUBTOTAL(3,$B$7:B1432)","v":23},"TXL5-053拆","敷设金属软管","根",null,{"v":0,"d":"0.00"},{"v":0.1,"d":"0.10"},{"v":0,"d":"0.00"},{"v":0,"d":"0.00"},0.3]
[{"$f":"SUBTOTAL(3,$B$7:B1433)","v":23},"TXL5-054拆","敷设金属线槽 150 宽以下","100m",null,3.27,6.63,{"v":0,"d":"0.00"},{"v":0,"d":"0.00"},0.3]
[{"$f":"SUBTOTAL(3,$B$7:B1434)","v":23},"TXL5-055拆","敷设金属线槽 300 宽以下","100m",null,4.17,8.43,{"v":0,"d":"0.00"},{"v":0,"d":"0.00"},0.3]
[{"$f":"SUBTOTAL(3,$B$7:B1435)","v":23},"TXL5-056拆","敷设金属线槽 300 宽以上","100m",null,7.13,11.38,{"v":0,"d":"0.00"},{"v":0,"d":"0.00"},0.3]
[{"$f":"SUBTOTAL(3,$B$7:B1436)","v":23},"TXL5-057拆","敷设塑料线槽 100 宽以下","100m",null,2.45,4.99,{"v":0,"d":"0.00"},{"v":0,"d":"0.00"},0.3]
[{"$f":"SUBTOTAL(3,$B$7:B1437)","v":23},"TXL5-058拆","敷设塑料线槽 100 宽以上","100m",null,2.65,5.38,{"v":0,"d":"0.00"},{"v":0,"d":"0.00"},0.3]
[{"$f":"SUBTOTAL(3,$B$7:B1438)","v":23},"TXL5-059拆","安装吊装式桥架 100 宽以下","10m",null,0.28,1.33,{"v":0,"d":"0.00"},{"v":0,"d":"0.00"},0.3]
[{"$f":"SUBTOTAL(3,$B$7:B1439)","v":23},"TXL5-060拆","安装吊装式桥架 300 宽以下","10m",null,0.32,1.46,{"v":0,"d":"0.00"},{"v":0,"d":"0.00"},0.3]
[{"$f":"SUBTOTAL(3,$B$7:B1440)","v":23},"TXL5-061拆","安装吊装式桥架 300 宽以上","10m",null,0.35,1.61,{"v":0,"d":"0.00"},{"v":0,"d":"0.00"},0.3]
[{"$f":"SUBTOTAL(3,$B$7:B1441)","v":23},"TXL5-062拆","安装支撑式桥架 100 宽以下","10m",null,0.22,1.01,{"v":0,"d":"0.00"},{"v":0,"d":"0.00"},0.3]
[{"$f":"SUBTOTAL(3,$B$7:B1442)","v":23},"TXL5-063拆","安装支撑式桥架 300 宽以下","10m",null,0.24,1.11,{"v":0,"d":"0.00"},{"v":0,"d":"0.00"},0.3]
[{"$f":"SUBTOTAL(3,$B$7:B1443)","v":23},"TXL5-064拆","安装支撑式桥架 300 宽以上","10m",null,0.26,1.22,{"v":0,"d":"0.00"},{"v":0,"d":"0.00"},0.3]
[{"$f":"SUBTOTAL(3,$B$7:B1444)","v":23},"TXL5-065拆","垂直安装桥架 100 宽以下","10m",null,0.13,0.54,{"v":0,"d":"0.00"},{"v":0,"d":"0.00"},0.3]
[{"$f":"SUBTOTAL(3,$B$7:B1445)","v":23},"TXL5-066拆","垂直安装桥架 300 宽以下","10m",null,0.17,0.71,{"v":0,"d":"0.00"},{"v":0,"d":"0.00"},0.3]
[{"$f":"SUBTOTAL(3,$B$7:B1446)","v":23},"TXL5-067拆","垂直安装桥架 300 宽以上","10m",null,0.22,0.92,{"v":0,"d":"0.00"},{"v":0,"d":"0.00"},0.3]
[{"$f":"SUBTOTAL(3,$B$7:B1447)","v":23},"TXL5-068拆","管、暗槽内穿 放光缆","百米条",null,0.49,0.49,{"v":0,"d":"0.00"},{"v":0,"d":"0.00"},0.7]
[{"$f":"SUBTOTAL(3,$B$7:B1448)","v":23},"TXL5-069拆","管、暗槽内穿放电缆 4 对对绞电缆","百米条",null,0.45,0.45,{"v":0,"d":"0.00"},{"v":0,"d":"0.00"},0.7]
[{"$f":"SUBTOTAL(3,$B$7:B1449)","v":23},"TXL5-070拆","管、暗槽内穿放电缆 非屏蔽 50 对以下","百米条",null,0.55,0.55,{"v":0,"d":"0.00"},{"v":0,"d":"0.00"},0.7]
[{"$f":"SUBTOTAL(3,$B$7:B1450)","v":23},"TXL5-071拆","管、暗槽内穿放电缆 非屏蔽 100 对以下","百米条",null,{"v":0.7,"d":"0.70"},{"v":0.7,"d":"0.70"},{"v":0,"d":"0.00"},{"v":0,"d":"0.00"},0.7]
[{"$f":"SUBTOTAL(3,$B$7:B1451)","v":23},"TXL5-072拆","管、暗槽内穿放电缆 屏蔽 50 对以下","百米条",null,0.65,0.65,{"v":0,"d":"0.00"},{"v":0,"d":"0.00"},0.7]
[{"$f":"SUBTOTAL(3,$B$7:B1452)","v":23},"TXL5-073拆","管、暗槽内穿放电缆 屏蔽 100 对以下","百米条",null,{"v":0.9,"d":"0.90"},{"v":0.9,"d":"0.90"},{"v":0,"d":"0.00"},{"v":0,"d":"0.00"},0.7]
[{"$f":"SUBTOTAL(3,$B$7:B1453)","v":23},"TXL5-074拆","桥架、线槽、 网络地板内明 布光缆","百米条",null,{"v":0.4,"d":"0.40"},{"v":0.4,"d":"0.40"},{"v":0,"d":"0.00"},{"v":0,"d":"0.00"},0.7]
[{"$f":"SUBTOTAL(3,$B$7:B1454)","v":23},"TXL5-075拆","桥架、线槽、网络地板内明布电缆 4 对对绞电缆","百米条",null,{"v":0.4,"d":"0.40"},{"v":0.4,"d":"0.40"},{"v":0,"d":"0.00"},{"v":0,"d":"0.00"},0.7]
[{"$f":"SUBTOTAL(3,$B$7:B1455)","v":23},"TXL5-076拆","桥架、线槽、网络地板内明布电缆 非屏蔽 50 对以下","百米条",null,{"v":0.5,"d":"0.50"},{"v":0.5,"d":"0.50"},{"v":0,"d":"0.00"},{"v":0,"d":"0.00"},0.7]
[{"$f":"SUBTOTAL(3,$B$7:B1456)","v":23},"TXL5-077拆","桥架、线槽、网络地板内明布电缆 非屏蔽 100 对以下","百米条",null,{"v":0.6,"d":"0.60"},{"v":0.6,"d":"0.60"},{"v":0,"d":"0.00"},{"v":0,"d":"0.00"},0.7]
[{"$f":"SUBTOTAL(3,$B$7:B1457)","v":23},"TXL5-078拆","桥架、线槽、网络地板内明布电缆 屏蔽 50 对以下","百米条",null,0.55,0.55,{"v":0,"d":"0.00"},{"v":0,"d":"0.00"},0.7]
[{"$f":"SUBTOTAL(3,$B$7:B1458)","v":23},"TXL5-079拆","桥架、线槽、网络地板内明布电缆 屏蔽 100 对以下","百米条",null,{"v":0.8,"d":"0.80"},{"v":0.8,"d":"0.80"},{"v":0,"d":"0.00"},{"v":0,"d":"0.00"},0.7]
[{"$f":"SUBTOTAL(3,$B$7:B1459)","v":23},"TXL6-001拆","光缆掏纤 4 芯以下","处",null,0.75,{"v":0,"d":"0.00"},{"v":0,"d":"0.00"},{"v":0,"d":"0.00"},0.3]
[{"$f":"SUBTOTAL(3,$B$7:B1460)","v":23},"TXL6-002拆","光缆掏纤 每增加 2 芯","芯",null,0.09,{"v":0,"d":"0.00"},{"v":0,"d":"0.00"},{"v":0,"d":"0.00"},0.3]
[{"$f":"SUBTOTAL(3,$B$7:B1461)","v":23},"TXL6-003拆","机械法光缆接续","芯",null,{"v":0.1,"d":"0.10"},{"v":0,"d":"0.00"},{"v":0,"d":"0.00"},{"v":0,"d":"0.00"},0.3]
[{"$f":"SUBTOTAL(3,$B$7:B1462)","v":23},"TXL6-004拆","现场组装光纤活 动连接器","芯",null,0.08,{"v":0,"d":"0.00"},{"v":0,"d":"0.00"},{"v":0,"d":"0.00"},0.3]
[{"$f":"SUBTOTAL(3,$B$7:B1463)","v":23},"TXL6-005拆","光缆成端接头 束状","芯",null,0.15,{"v":0,"d":"0.00"},{"$f":"E1463*F1463*J1463","v":{"v":0,"d":"0.00"}},{"$f":"E1463*G1463*J1463","v":{"v":0,"d":"0.00"}},0.3]
[{"$f":"SUBTOTAL(3,$B$7:B1464)","v":23},"TXL6-006拆","光缆成端接头 带状","芯",null,0.05,{"v":0,"d":"0.00"},{"v":0,"d":"0.00"},{"v":0,"d":"0.00"},0.3]
[{"$f":"SUBTOTAL(3,$B$7:B1465)","v":23},"TXL6-007拆","光缆接续 4 芯以下","头",null,{"v":0.5,"d":"0.50"},{"v":0,"d":"0.00"},{"v":0,"d":"0.00"},{"v":0,"d":"0.00"},0.3]
[{"$f":"SUBTOTAL(3,$B$7:B1466)","v":23},"TXL6-008拆","光缆接续 12 芯以下","头",null,{"v":1.5,"d":"1.50"},{"v":0,"d":"0.00"},{"v":0,"d":"0.00"},{"v":0,"d":"0.00"},0.3]
[{"$f":"SUBTOTAL(3,$B$7:B1467)","v":23},"TXL6-009拆","光缆接续 24 芯以下","头",null,2.49,{"v":0,"d":"0.00"},{"v":0,"d":"0.00"},{"v":0,"d":"0.00"},0.3]
[{"$f":"SUBTOTAL(3,$B$7:B1468)","v":23},"TXL6-010拆","光缆接续 36 芯以下","头",null,3.42,{"v":0,"d":"0.00"},{"v":0,"d":"0.00"},{"v":0,"d":"0.00"},0.3]
[{"$f":"SUBTOTAL(3,$B$7:B1469)","v":23},"TXL6-011拆","光缆接续 48 芯以下","头",null,4.29,{"v":0,"d":"0.00"},{"v":0,"d":"0.00"},{"v":0,"d":"0.00"},0.3]
[{"$f":"SUBTOTAL(3,$B$7:B1470)","v":23},"TXL6-012拆","光缆接续 60 芯以下","头",null,{"v":5.1,"d":"5.10"},{"v":0,"d":"0.00"},{"v":0,"d":"0.00"},{"v":0,"d":"0.00"},0.3]
[{"$f":"SUBTOTAL(3,$B$7:B1471)","v":23},"TXL6-013拆","光缆接续 72 芯以下","头",null,{"v":5.9,"d":"5.90"},{"v":0,"d":"0.00"},{"v":0,"d":"0.00"},{"v":0,"d":"0.00"},0.3]
[{"$f":"SUBTOTAL(3,$B$7:B1472)","v":23},"TXL6-014拆","光缆接续 84 芯以下","头",null,6.54,{"v":0,"d":"0.00"},{"v":0,"d":"0.00"},{"v":0,"d":"0.00"},0.3]
[{"$f":"SUBTOTAL(3,$B$7:B1473)","v":23},"TXL6-015拆","光缆接续 96 芯以下","头",null,7.17,{"v":0,"d":"0.00"},{"v":0,"d":"0.00"},{"v":0,"d":"0.00"},0.3]
[{"$f":"SUBTOTAL(3,$B$7:B1474)","v":23},"TXL6-016拆","光缆接续 108 芯以下","头",null,7.74,{"v":0,"d":"0.00"},{"v":0,"d":"0.00"},{"v":0,"d":"0.00"},0.3]
[{"$f":"SUBTOTAL(3,$B$7:B1475)","v":23},"TXL6-017拆","光缆接续 132 芯以下","头",null,{"v":7.8,"d":"7.80"},{"v":0,"d":"0.00"},{"v":0,"d":"0.00"},{"v":0,"d":"0.00"},0.3]
[{"$f":"SUBTOTAL(3,$B$7:B1476)","v":23},"TXL6-018拆","光缆接续 144 芯以下","头",null,{"v":8.1,"d":"8.10"},{"v":0,"d":"0.00"},{"v":0,"d":"0.00"},{"v":0,"d":"0.00"},0.3]
[{"$f":"SUBTOTAL(3,$B$7:B1477)","v":23},"TXL6-019拆","光缆接续 192 芯以下","头",null,8.91,{"v":0,"d":"0.00"},{"v":0,"d":"0.00"},{"v":0,"d":"0.00"},0.3]
[{"$f":"SUBTOTAL(3,$B$7:B1478)","v":23},"TXL6-020拆","光缆接续 288 芯以下","头",null,{"v":9.6,"d":"9.60"},{"v":0,"d":"0.00"},{"v":0,"d":"0.00"},{"v":0,"d":"0.00"},0.3]
[{"$f":"SUBTOTAL(3,$B$7:B1479)","v":23},"TXL6-021拆","光缆接续 288 芯以上","头",null,10.17,{"v":0,"d":"0.00"},{"v":0,"d":"0.00"},{"v":0,"d":"0.00"},0.3]
[{"$f":"SUBTOTAL(3,$B$7:B1480)","v":23},"TXL6-022拆","8 芯带以下带状光缆接续 48 芯以下","头",null,1.97,{"v":0,"d":"0.00"},{"v":0,"d":"0.00"},{"v":0,"d":"0.00"},0.3]
[{"$f":"SUBTOTAL(3,$B$7:B1481)","v":23},"TXL6-023拆","8 芯带以下带状光缆接续 72 芯以下","头",null,2.55,{"v":0,"d":"0.00"},{"v":0,"d":"0.00"},{"v":0,"d":"0.00"},0.3]
[{"$f":"SUBTOTAL(3,$B$7:B1482)","v":23},"TXL6-024拆","8 芯带以下带状光缆接续 96 芯以下","头",null,3.05,{"v":0,"d":"0.00"},{"v":0,"d":"0.00"},{"v":0,"d":"0.00"},0.3]
[{"$f":"SUBTOTAL(3,$B$7:B1483)","v":23},"TXL6-025拆","8 芯带以下带状光缆接续 108 芯以下","头",null,3.14,{"v":0,"d":"0.00"},{"v":0,"d":"0.00"},{"v":0,"d":"0.00"},0.3]
[{"$f":"SUBTOTAL(3,$B$7:B1484)","v":23},"TXL6-026拆","8 芯带以下带状光缆接续 120 芯以下","头",null,3.24,{"v":0,"d":"0.00"},{"v":0,"d":"0.00"},{"v":0,"d":"0.00"},0.3]
[{"$f":"SUBTOTAL(3,$B$7:B1485)","v":23},"TXL6-027拆","8 芯带以下带状光缆接续 144 芯以下","头",null,3.48,{"v":0,"d":"0.00"},{"v":0,"d":"0.00"},{"v":0,"d":"0.00"},0.3]
[{"$f":"SUBTOTAL(3,$B$7:B1486)","v":23},"TXL6-028拆","8 芯带以下带状光缆接续 192 芯以下","头",null,4.06,{"v":0,"d":"0.00"},{"v":0,"d":"0.00"},{"v":0,"d":"0.00"},0.3]
[{"$f":"SUBTOTAL(3,$B$7:B1487)","v":23},"TXL6-029拆","8 芯带以下带状光缆接续 288 芯以下","头",null,4.44,{"v":0,"d":"0.00"},{"v":0,"d":"0.00"},{"v":0,"d":"0.00"},0.3]
[{"$f":"SUBTOTAL(3,$B$7:B1488)","v":23},"TXL6-030拆","8 芯带以下带状光缆接续 288 芯以上","头",null,4.64,{"v":0,"d":"0.00"},{"v":0,"d":"0.00"},{"v":0,"d":"0.00"},0.3]
[{"$f":"SUBTOTAL(3,$B$7:B1489)","v":23},"TXL6-031拆","8 芯带以上带状光缆接续 48 芯以下","头",null,1.29,{"v":0,"d":"0.00"},{"v":0,"d":"0.00"},{"v":0,"d":"0.00"},0.3]
[{"$f":"SUBTOTAL(3,$B$7:B1490)","v":23},"TXL6-032拆","8 芯带以上带状光缆接续 72 芯以下","头",null,1.58,{"v":0,"d":"0.00"},{"v":0,"d":"0.00"},{"v":0,"d":"0.00"},0.3]
[{"$f":"SUBTOTAL(3,$B$7:B1491)","v":23},"TXL6-033拆","8 芯带以上带状光缆接续 96 芯以下","头",null,1.83,{"v":0,"d":"0.00"},{"v":0,"d":"0.00"},{"v":0,"d":"0.00"},0.3]
[{"$f":"SUBTOTAL(3,$B$7:B1492)","v":23},"TXL6-034拆","8 芯带以上带状光缆接续 108 芯以下","头",null,{"v":1.9,"d":"1.90"},{"v":0,"d":"0.00"},{"v":0,"d":"0.00"},{"v":0,"d":"0.00"},0.3]
[{"$f":"SUBTOTAL(3,$B$7:B1493)","v":23},"TXL6-035拆","8 芯带以上带状光缆接续 120 芯以下","头",null,1.95,{"v":0,"d":"0.00"},{"v":0,"d":"0.00"},{"v":0,"d":"0.00"},0.3]
[{"$f":"SUBTOTAL(3,$B$7:B1494)","v":23},"TXL6-036拆","8 芯带以上带状光缆接续 144 芯以下","头",null,2.15,{"v":0,"d":"0.00"},{"v":0,"d":"0.00"},{"v":0,"d":"0.00"},0.3]
[{"$f":"SUBTOTAL(3,$B$7:B1495)","v":23},"TXL6-037拆","8 芯带以上带状光缆接续 192 芯以下","头",null,2.57,{"v":0,"d":"0.00"},{"v":0,"d":"0.00"},{"v":0,"d":"0.00"},0.3]
[{"$f":"SUBTOTAL(3,$B$7:B1496)","v":23},"TXL6-038拆","8 芯带以上带状光缆接续 288 芯以下","头",null,2.94,{"v":0,"d":"0.00"},{"v":0,"d":"0.00"},{"v":0,"d":"0.00"},0.3]
[{"$f":"SUBTOTAL(3,$B$7:B1497)","v":23},"TXL6-039拆","8 芯带以上带状光缆接续 384 芯以下","头",null,3.27,{"v":0,"d":"0.00"},{"v":0,"d":"0.00"},{"v":0,"d":"0.00"},0.3]
[{"$f":"SUBTOTAL(3,$B$7:B1498)","v":23},"TXL6-040拆","8 芯带以上带状光缆接续 480 芯以下","头",null,3.96,{"v":0,"d":"0.00"},{"v":0,"d":"0.00"},{"v":0,"d":"0.00"},0.3]
[{"$f":"SUBTOTAL(3,$B$7:B1499)","v":23},"TXL6-041拆","8 芯带以上带状光缆接续 576 芯以下","头",null,4.56,{"v":0,"d":"0.00"},{"v":0,"d":"0.00"},{"v":0,"d":"0.00"},0.3]
[{"$f":"SUBTOTAL(3,$B$7:B1500)","v":23},"TXL6-042拆","8 芯带以上带状光缆接续 576 芯以上","头",null,5.07,{"v":0,"d":"0.00"},{"v":0,"d":"0.00"},{"v":0,"d":"0.00"},0.3]
[{"$f":"SUBTOTAL(3,$B$7:B1501)","v":23},"TXL6-043拆","40km 以上中继段光缆测试 12 芯以下","中继段",null,2.21,{"v":0,"d":"0.00"},{"v":0,"d":"0.00"},{"v":0,"d":"0.00"},0.3]
[{"$f":"SUBTOTAL(3,$B$7:B1502)","v":23},"TXL6-044拆","40km 以上中继段光缆测试 24 芯以下","中继段",null,{"v":3.1,"d":"3.10"},{"v":0,"d":"0.00"},{"v":0,"d":"0.00"},{"v":0,"d":"0.00"},0.3]
[{"$f":"SUBTOTAL(3,$B$7:B1503)","v":23},"TXL6-045拆","40km 以上中继段光缆测试 36 芯以下","中继段",null,4.39,{"v":0,"d":"0.00"},{"v":0,"d":"0.00"},{"v":0,"d":"0.00"},0.3]
[{"$f":"SUBTOTAL(3,$B$7:B1504)","v":23},"TXL6-046拆","40km 以上中继段光缆测试 48 芯以下","中继段",null,5.47,{"v":0,"d":"0.00"},{"v":0,"d":"0.00"},{"v":0,"d":"0.00"},0.3]
[{"$f":"SUBTOTAL(3,$B$7:B1505)","v":23},"TXL6-047拆","40km 以上中继段光缆测试 60 芯以下","中继段",null,6.48,{"v":0,"d":"0.00"},{"v":0,"d":"0.00"},{"v":0,"d":"0.00"},0.3]
[{"$f":"SUBTOTAL(3,$B$7:B1506)","v":23},"TXL6-048拆","40km 以上中继段光缆测试 72 芯以下","中继段",null,7.27,{"v":0,"d":"0.00"},{"v":0,"d":"0.00"},{"v":0,"d":"0.00"},0.3]
[{"$f":"SUBTOTAL(3,$B$7:B1507)","v":23},"TXL6-049拆","40km 以上中继段光缆测试 84 芯以下","中继段",null,7.85,{"v":0,"d":"0.00"},{"v":0,"d":"0.00"},{"v":0,"d":"0.00"},0.3]
[{"$f":"SUBTOTAL(3,$B$7:B1508)","v":23},"TXL6-050拆","40km 以上中继段光缆测试 96 芯以下","中继段",null,8.28,{"v":0,"d":"0.00"},{"v":0,"d":"0.00"},{"v":0,"d":"0.00"},0.3]
[{"$f":"SUBTOTAL(3,$B$7:B1509)","v":23},"TXL6-051拆","40km 以上中继段光缆测试 108 芯以下","中继段",null,8.57,{"v":0,"d":"0.00"},{"v":0,"d":"0.00"},{"v":0,"d":"0.00"},0.3]
[{"$f":"SUBTOTAL(3,$B$7:B1510)","v":23},"TXL6-052拆","40km 以上中继段光缆测试 132 芯以下","中继段",null,9.17,{"v":0,"d":"0.00"},{"v":0,"d":"0.00"},{"v":0,"d":"0.00"},0.3]
[{"$f":"SUBTOTAL(3,$B$7:B1511)","v":23},"TXL6-053拆","40km 以上中继段光缆测试 144 芯以下","中继段",null,9.41,{"v":0,"d":"0.00"},{"v":0,"d":"0.00"},{"v":0,"d":"0.00"},0.3]
[{"$f":"SUBTOTAL(3,$B$7:B1512)","v":23},"TXL6-054拆","40km 以上中继段光缆测试 168 芯以下","中继段",null,10.03,{"v":0,"d":"0.00"},{"v":0,"d":"0.00"},{"v":0,"d":"0.00"},0.3]
[{"$f":"SUBTOTAL(3,$B$7:B1513)","v":23},"TXL6-055拆","40km 以上中继段光缆测试 192 芯以下","中继段",null,10.85,{"v":0,"d":"0.00"},{"v":0,"d":"0.00"},{"v":0,"d":"0.00"},0.3]
[{"$f":"SUBTOTAL(3,$B$7:B1514)","v":23},"TXL6-056拆","40km 以上中继段光缆测试 216 芯以下","中继段",null,11.54,{"v":0,"d":"0.00"},{"v":0,"d":"0.00"},{"v":0,"d":"0.00"},0.3]
[{"$f":"SUBTOTAL(3,$B$7:B1515)","v":23},"TXL6-057拆","40km 以上中继段光缆测试 240 芯以下","中继段",null,{"v":12.1,"d":"12.10"},{"v":0,"d":"0.00"},{"v":0,"d":"0.00"},{"v":0,"d":"0.00"},0.3]
[{"$f":"SUBTOTAL(3,$B$7:B1516)","v":23},"TXL6-058拆","40km 以上光缆中继段测试 264 芯以下","中继段",null,12.89,{"v":0,"d":"0.00"},{"v":0,"d":"0.00"},{"v":0,"d":"0.00"},0.3]
[{"$f":"SUBTOTAL(3,$B$7:B1517)","v":23},"TXL6-059拆","40km 以上光缆中继段测试 288 芯以下","中继段",null,13.58,{"v":0,"d":"0.00"},{"v":0,"d":"0.00"},{"v":0,"d":"0.00"},0.3]
[{"$f":"SUBTOTAL(3,$B$7:B1518)","v":23},"TXL6-060拆","40km 以上光缆中继段测试 312 芯以下","中继段",null,14.23,{"v":0,"d":"0.00"},{"v":0,"d":"0.00"},{"v":0,"d":"0.00"},0.3]
[{"$f":"SUBTOTAL(3,$B$7:B1519)","v":23},"TXL6-061拆","40km 以上光缆中继段测试 336 芯以下","中继段",null,14.83,{"v":0,"d":"0.00"},{"v":0,"d":"0.00"},{"v":0,"d":"0.00"},0.3]
[{"$f":"SUBTOTAL(3,$B$7:B1520)","v":23},"TXL6-062拆","40km 以上光缆中继段测试 360 芯以下","中继段",null,15.36,{"v":0,"d":"0.00"},{"v":0,"d":"0.00"},{"v":0,"d":"0.00"},0.3]
[{"$f":"SUBTOTAL(3,$B$7:B1521)","v":23},"TXL6-063拆","40km 以上光缆中继段测试 384 芯以下","中继段",null,15.82,{"v":0,"d":"0.00"},{"v":0,"d":"0.00"},{"v":0,"d":"0.00"},0.3]
[{"$f":"SUBTOTAL(3,$B$7:B1522)","v":23},"TXL6-064拆","40km 以上光缆中继段测试 408 芯以下","中继段",null,16.25,{"v":0,"d":"0.00"},{"v":0,"d":"0.00"},{"v":0,"d":"0.00"},0.3]
[{"$f":"SUBTOTAL(3,$B$7:B1523)","v":23},"TXL6-065拆","40km 以上光缆中继段测试 432 芯以下","中继段",null,16.58,{"v":0,"d":"0.00"},{"v":0,"d":"0.00"},{"v":0,"d":"0.00"},0.3]
[{"$f":"SUBTOTAL(3,$B$7:B1524)","v":23},"TXL6-066拆","40km 以上光缆中继段测试 456 芯以下","中继段",null,16.87,{"v":0,"d":"0.00"},{"v":0,"d":"0.00"},{"v":0,"d":"0.00"},0.3]
[{"$f":"SUBTOTAL(3,$B$7:B1525)","v":23},"TXL6-067拆","40km 以上光缆中继段测试 480 芯以下","中继段",null,17.09,{"v":0,"d":"0.00"},{"v":0,"d":"0.00"},{"v":0,"d":"0.00"},0.3]
[{"$f":"SUBTOTAL(3,$B$7:B1526)","v":23},"TXL6-068拆","40km 以上光缆中继段测试 504 芯以下","中继段",null,{"v":17.4,"d":"17.40"},{"v":0,"d":"0.00"},{"v":0,"d":"0.00"},{"v":0,"d":"0.00"},0.3]
[{"$f":"SUBTOTAL(3,$B$7:B1527)","v":23},"TXL6-069拆","40km 以上光缆中继段测试 528 芯以下","中继段",null,17.64,{"v":0,"d":"0.00"},{"$f":"E1527*F1527*J1527","v":{"v":0,"d":"0.00"}},{"$f":"E1527*G1527*J1527","v":{"v":0,"d":"0.00"}},0.3]
[{"$f":"SUBTOTAL(3,$B$7:B1528)","v":23},"TXL6-070拆","40km 以上光缆中继段测试 576 芯以下","中继段",null,17.83,{"v":0,"d":"0.00"},{"v":0,"d":"0.00"},{"v":0,"d":"0.00"},0.3]
[{"$f":"SUBTOTAL(3,$B$7:B1529)","v":23},"TXL6-071拆","40km 以上光缆中继段测试 576 芯以上","中继段",null,17.98,{"v":0,"d":"0.00"},{"v":0,"d":"0.00"},{"v":0,"d":"0.00"},0.3]
[{"$f":"SUBTOTAL(3,$B$7:B1530)","v":23},"TXL6-072拆","40km 以下光缆中继段测试 12 芯以下","中继段",null,1.84,{"v":0,"d":"0.00"},{"v":0,"d":"0.00"},{"v":0,"d":"0.00"},0.3]
[{"$f":"SUBTOTAL(3,$B$7:B1531)","v":23},"TXL6-073拆","40km 以下光缆中继段测试 24 芯以下","中继段",null,2.58,{"v":0,"d":"0.00"},{"v":0,"d":"0.00"},{"v":0,"d":"0.00"},0.3]
[{"$f":"SUBTOTAL(3,$B$7:B1532)","v":23},"TXL6-074拆","40km 以下光缆中继段测试 36 芯以下","中继段",null,3.66,{"v":0,"d":"0.00"},{"v":0,"d":"0.00"},{"v":0,"d":"0.00"},0.3]
[{"$f":"SUBTOTAL(3,$B$7:B1533)","v":23},"TXL6-075拆","40km 以下光缆中继段测试 48 芯以下","中继段",null,4.56,{"v":0,"d":"0.00"},{"v":0,"d":"0.00"},{"v":0,"d":"0.00"},0.3]
[{"$f":"SUBTOTAL(3,$B$7:B1534)","v":23},"TXL6-076拆","40km 以下光缆中继段测试 60 芯以下","中继段",null,{"v":5.4,"d":"5.40"},{"v":0,"d":"0.00"},{"v":0,"d":"0.00"},{"v":0,"d":"0.00"},0.3]
[{"$f":"SUBTOTAL(3,$B$7:B1535)","v":23},"TXL6-077拆","40km 以下光缆中继段测试 72 芯以下","中继段",null,6.06,{"v":0,"d":"0.00"},{"v":0,"d":"0.00"},{"v":0,"d":"0.00"},0.3]
[{"$f":"SUBTOTAL(3,$B$7:B1536)","v":23},"TXL6-078拆","40km 以下光缆中继段测试 84 芯以下","中继段",null,6.54,{"v":0,"d":"0.00"},{"v":0,"d":"0.00"},{"v":0,"d":"0.00"},0.3]
[{"$f":"SUBTOTAL(3,$B$7:B1537)","v":23},"TXL6-079拆","40km 以下光缆中继段测试 96 芯以下","中继段",null,{"v":6.9,"d":"6.90"},{"v":0,"d":"0.00"},{"v":0,"d":"0.00"},{"v":0,"d":"0.00"},0.3]
[{"$f":"SUBTOTAL(3,$B$7:B1538)","v":23},"TXL6-080拆","40km 以下光缆中继段测试 108 芯以下","中继段",null,7.14,{"v":0,"d":"0.00"},{"v":0,"d":"0.00"},{"v":0,"d":"0.00"},0.3]
[{"$f":"SUBTOTAL(3,$B$7:B1539)","v":23},"TXL6-081拆","40km 以下光缆中继段测试 132 芯以下","中继段",null,7.64,{"v":0,"d":"0.00"},{"v":0,"d":"0.00"},{"v":0,"d":"0.00"},0.3]
[{"$f":"SUBTOTAL(3,$B$7:B1540)","v":23},"TXL6-082拆","40km 以下光缆中继段测试 144 芯以下","中继段",null,7.84,{"v":0,"d":"0.00"},{"v":0,"d":"0.00"},{"v":0,"d":"0.00"},0.3]
[{"$f":"SUBTOTAL(3,$B$7:B1541)","v":23},"TXL6-083拆","40km 以下光缆中继段测试 168 芯以下","中继段",null,8.36,{"v":0,"d":"0.00"},{"v":0,"d":"0.00"},{"v":0,"d":"0.00"},0.3]
[{"$f":"SUBTOTAL(3,$B$7:B1542)","v":23},"TXL6-084拆","40km 以下光缆中继段测试 192 芯以下","中继段",null,9.04,{"v":0,"d":"0.00"},{"v":0,"d":"0.00"},{"v":0,"d":"0.00"},0.3]
[{"$f":"SUBTOTAL(3,$B$7:B1543)","v":23},"TXL6-085拆","40km 以下光缆中继段测试 216 芯以下","中继段",null,9.62,{"v":0,"d":"0.00"},{"v":0,"d":"0.00"},{"v":0,"d":"0.00"},0.3]
[{"$f":"SUBTOTAL(3,$B$7:B1544)","v":23},"TXL6-086拆","40km 以下光缆中继段测试 240 芯以下","中继段",null,10.08,{"v":0,"d":"0.00"},{"v":0,"d":"0.00"},{"v":0,"d":"0.00"},0.3]
[{"$f":"SUBTOTAL(3,$B$7:B1545)","v":23},"TXL6-087拆","40km 以下光缆中继段测试 264 芯以下","中继段",null,10.74,{"v":0,"d":"0.00"},{"v":0,"d":"0.00"},{"v":0,"d":"0.00"},0.3]
[{"$f":"SUBTOTAL(3,$B$7:B1546)","v":23},"TXL6-088拆","40km 以下光缆中继段测试 288 芯以下","中继段",null,11.32,{"v":0,"d":"0.00"},{"v":0,"d":"0.00"},{"v":0,"d":"0.00"},0.3]
[{"$f":"SUBTOTAL(3,$B$7:B1547)","v":23},"TXL6-089拆","40km 以下光缆中继段测试 312 芯以下","中继段",null,11.86,{"v":0,"d":"0.00"},{"v":0,"d":"0.00"},{"v":0,"d":"0.00"},0.3]
[{"$f":"SUBTOTAL(3,$B$7:B1548)","v":23},"TXL6-090拆","40km 以下光缆中继段测试 336 芯以下","中继段",null,12.36,{"v":0,"d":"0.00"},{"v":0,"d":"0.00"},{"v":0,"d":"0.00"},0.3]
[{"$f":"SUBTOTAL(3,$B$7:B1549)","v":23},"TXL6-091拆","40km 以下光缆中继段测试 360 芯以下","中继段",null,{"v":12.8,"d":"12.80"},{"v":0,"d":"0.00"},{"v":0,"d":"0.00"},{"v":0,"d":"0.00"},0.3]
[{"$f":"SUBTOTAL(3,$B$7:B1550)","v":23},"TXL6-092拆","40km 以下光缆中继段测试 384 芯以下","中继段",null,13.18,{"v":0,"d":"0.00"},{"v":0,"d":"0.00"},{"v":0,"d":"0.00"},0.3]
[{"$f":"SUBTOTAL(3,$B$7:B1551)","v":23},"TXL6-093拆","40km 以下光缆中继段测试 408 芯以下","中继段",null,13.54,{"v":0,"d":"0.00"},{"v":0,"d":"0.00"},{"v":0,"d":"0.00"},0.3]
[{"$f":"SUBTOTAL(3,$B$7:B1552)","v":23},"TXL6-094拆","40km 以下光缆中继段测试 432 芯以下","中继段",null,13.82,{"v":0,"d":"0.00"},{"v":0,"d":"0.00"},{"v":0,"d":"0.00"},0.3]
[{"$f":"SUBTOTAL(3,$B$7:B1553)","v":23},"TXL6-095拆","40km 以下光缆中继段测试 456 芯以下","中继段",null,14.06,{"v":0,"d":"0.00"},{"v":0,"d":"0.00"},{"v":0,"d":"0.00"},0.3]
[{"$f":"SUBTOTAL(3,$B$7:B1554)","v":23},"TXL6-096拆","40km 以下光缆中继段测试 480 芯以下","中继段",null,14.24,{"v":0,"d":"0.00"},{"v":0,"d":"0.00"},{"v":0,"d":"0.00"},0.3]
[{"$f":"SUBTOTAL(3,$B$7:B1555)","v":23},"TXL6-097拆","40km 以下光缆中继段测试 504 芯以下","中继段",null,{"v":14.5,"d":"14.50"},{"v":0,"d":"0.00"},{"v":0,"d":"0.00"},{"v":0,"d":"0.00"},0.3]
[{"$f":"SUBTOTAL(3,$B$7:B1556)","v":23},"TXL6-098拆","40km 以下光缆中继段测试 528 芯以下","中继段",null,{"v":14.7,"d":"14.70"},{"v":0,"d":"0.00"},{"v":0,"d":"0.00"},{"v":0,"d":"0.00"},0.3]
[{"$f":"SUBTOTAL(3,$B$7:B1557)","v":23},"TXL6-099拆","40km 以下光缆中继段测试 576 芯以下","中继段",null,14.86,{"v":0,"d":"0.00"},{"v":0,"d":"0.00"},{"v":0,"d":"0.00"},0.3]
[{"$f":"SUBTOTAL(3,$B$7:B1558)","v":23},"TXL6-100拆","40km 以下光缆中继段测试 576 芯以上","中继段",null,14.98,{"v":0,"d":"0.00"},{"v":0,"d":"0.00"},{"v":0,"d":"0.00"},0.3]
[{"$f":"SUBTOTAL(3,$B$7:B1559)","v":23},"TXL6-101拆","用户光缆测试 2 芯以下","段",null,0.26,{"v":0,"d":"0.00"},{"v":0,"d":"0.00"},{"v":0,"d":"0.00"},0.3]
[{"$f":"SUBTOTAL(3,$B$7:B1560)","v":23},"TXL6-102拆","用户光缆测试 6 芯以下","段",null,{"v":0.5,"d":"0.50"},{"v":0,"d":"0.00"},{"v":0,"d":"0.00"},{"v":0,"d":"0.00"},0.3]
[{"$f":"SUBTOTAL(3,$B$7:B1561)","v":23},"TXL6-103拆","用户光缆测试 12 芯以下","段",null,0.92,{"v":0,"d":"0.00"},{"v":0,"d":"0.00"},{"v":0,"d":"0.00"},0.3]
[{"$f":"SUBTOTAL(3,$B$7:B1562)","v":23},"TXL6-104拆","用户光缆测试 24 芯以下","段",null,1.29,{"v":0,"d":"0.00"},{"v":0,"d":"0.00"},{"v":0,"d":"0.00"},0.3]
[{"$f":"SUBTOTAL(3,$B$7:B1563)","v":23},"TXL6-105拆","用户光缆测试 36 芯以下","段",null,1.83,{"v":0,"d":"0.00"},{"v":0,"d":"0.00"},{"v":0,"d":"0.00"},0.3]
[{"$f":"SUBTOTAL(3,$B$7:B1564)","v":23},"TXL6-106拆","用户光缆测试 48 芯以下","段",null,2.28,{"v":0,"d":"0.00"},{"v":0,"d":"0.00"},{"v":0,"d":"0.00"},0.3]
[{"$f":"SUBTOTAL(3,$B$7:B1565)","v":23},"TXL6-107拆","用户光缆测试 60 芯以下","段",null,{"v":2.7,"d":"2.70"},{"v":0,"d":"0.00"},{"v":0,"d":"0.00"},{"v":0,"d":"0.00"},0.3]
[{"$f":"SUBTOTAL(3,$B$7:B1566)","v":23},"TXL6-108拆","用户光缆测试 72 芯以下","段",null,3.03,{"v":0,"d":"0.00"},{"v":0,"d":"0.00"},{"v":0,"d":"0.00"},0.3]
[{"$f":"SUBTOTAL(3,$B$7:B1567)","v":23},"TXL6-109拆","用户光缆测试 84 芯以下","段",null,3.27,{"v":0,"d":"0.00"},{"v":0,"d":"0.00"},{"v":0,"d":"0.00"},0.3]
[{"$f":"SUBTOTAL(3,$B$7:B1568)","v":23},"TXL6-110拆","用户光缆测试 96 芯以下","段",null,3.45,{"v":0,"d":"0.00"},{"v":0,"d":"0.00"},{"v":0,"d":"0.00"},0.3]
[{"$f":"SUBTOTAL(3,$B$7:B1569)","v":23},"TXL6-111拆","用户光缆测试 108 芯以下","段",null,3.57,{"v":0,"d":"0.00"},{"v":0,"d":"0.00"},{"v":0,"d":"0.00"},0.3]
[{"$f":"SUBTOTAL(3,$B$7:B1570)","v":23},"TXL6-112拆","用户光缆测试 132 芯以下","段",null,3.82,{"v":0,"d":"0.00"},{"v":0,"d":"0.00"},{"v":0,"d":"0.00"},0.3]
[{"$f":"SUBTOTAL(3,$B$7:B1571)","v":23},"TXL6-113拆","用户光缆测试 144 芯以下","段",null,3.92,{"v":0,"d":"0.00"},{"v":0,"d":"0.00"},{"v":0,"d":"0.00"},0.3]
[{"$f":"SUBTOTAL(3,$B$7:B1572)","v":23},"TXL6-114拆","用户光缆测试 168 芯以下","段",null,4.18,{"v":0,"d":"0.00"},{"v":0,"d":"0.00"},{"v":0,"d":"0.00"},0.3]
[{"$f":"SUBTOTAL(3,$B$7:B1573)","v":23},"TXL6-115拆","用户光缆测试 192 芯以下","段",null,4.52,{"v":0,"d":"0.00"},{"v":0,"d":"0.00"},{"v":0,"d":"0.00"},0.3]
[{"$f":"SUBTOTAL(3,$B$7:B1574)","v":23},"TXL6-116拆","用户光缆测试 216 芯以下","段",null,4.81,{"v":0,"d":"0.00"},{"v":0,"d":"0.00"},{"v":0,"d":"0.00"},0.3]
[{"$f":"SUBTOTAL(3,$B$7:B1575)","v":23},"TXL6-117拆","用户光缆测试 240 芯以下","段",null,5.04,{"v":0,"d":"0.00"},{"v":0,"d":"0.00"},{"v":0,"d":"0.00"},0.3]
[{"$f":"SUBTOTAL(3,$B$7:B1576)","v":23},"TXL6-118拆","用户光缆测试 264 芯以下","段",null,5.37,{"v":0,"d":"0.00"},{"v":0,"d":"0.00"},{"v":0,"d":"0.00"},0.3]
[{"$f":"SUBTOTAL(3,$B$7:B1577)","v":23},"TXL6-119拆","用户光缆测试 288 芯以下","段",null,5.66,{"v":0,"d":"0.00"},{"v":0,"d":"0.00"},{"v":0,"d":"0.00"},0.3]
[{"$f":"SUBTOTAL(3,$B$7:B1578)","v":23},"TXL6-120拆","用户光缆测试 312 芯以下","段",null,5.93,{"v":0,"d":"0.00"},{"v":0,"d":"0.00"},{"v":0,"d":"0.00"},0.3]
[{"$f":"SUBTOTAL(3,$B$7:B1579)","v":23},"TXL6-121拆","用户光缆测试 336 芯以下","段",null,6.18,{"v":0,"d":"0.00"},{"v":0,"d":"0.00"},{"v":0,"d":"0.00"},0.3]
[{"$f":"SUBTOTAL(3,$B$7:B1580)","v":23},"TXL6-122拆","用户光缆测试 360 芯以下","段",null,{"v":6.4,"d":"6.40"},{"v":0,"d":"0.00"},{"v":0,"d":"0.00"},{"v":0,"d":"0.00"},0.3]
[{"$f":"SUBTOTAL(3,$B$7:B1581)","v":23},"TXL6-123拆","用户光缆测试 384 芯以下","段",null,6.59,{"v":0,"d":"0.00"},{"v":0,"d":"0.00"},{"v":0,"d":"0.00"},0.3]
[{"$f":"SUBTOTAL(3,$B$7:B1582)","v":23},"TXL6-124拆","用户光缆测试 408 芯以下","段",null,6.77,{"v":0,"d":"0.00"},{"v":0,"d":"0.00"},{"v":0,"d":"0.00"},0.3]
[{"$f":"SUBTOTAL(3,$B$7:B1583)","v":23},"TXL6-125拆","用户光缆测试 432 芯以下","段",null,6.91,{"v":0,"d":"0.00"},{"v":0,"d":"0.00"},{"v":0,"d":"0.00"},0.3]
[{"$f":"SUBTOTAL(3,$B$7:B1584)","v":23},"TXL6-126拆","用户光缆测试 456 芯以下","段",null,7.03,{"v":0,"d":"0.00"},{"v":0,"d":"0.00"},{"v":0,"d":"0.00"},0.3]
[{"$f":"SUBTOTAL(3,$B$7:B1585)","v":23},"TXL6-127拆","用户光缆测试 480 芯以下","段",null,7.12,{"v":0,"d":"0.00"},{"v":0,"d":"0.00"},{"v":0,"d":"0.00"},0.3]
[{"$f":"SUBTOTAL(3,$B$7:B1586)","v":23},"TXL6-128拆","用户光缆测试 504 芯以下","段",null,7.25,{"v":0,"d":"0.00"},{"v":0,"d":"0.00"},{"v":0,"d":"0.00"},0.3]
[{"$f":"SUBTOTAL(3,$B$7:B1587)","v":23},"TXL6-129拆","用户光缆测试 528 芯以下","段",null,7.35,{"v":0,"d":"0.00"},{"v":0,"d":"0.00"},{"v":0,"d":"0.00"},0.3]
[{"$f":"SUBTOTAL(3,$B$7:B1588)","v":23},"TXL6-130拆","用户光缆测试 552 芯以下","段",null,7.43,{"v":0,"d":"0.00"},{"v":0,"d":"0.00"},{"v":0,"d":"0.00"},0.3]
[{"$f":"SUBTOTAL(3,$B$7:B1589)","v":23},"TXL6-131拆","用户光缆测试 576 芯以上","段",null,7.49,{"v":0,"d":"0.00"},{"v":0,"d":"0.00"},{"v":0,"d":"0.00"},0.3]
[{"$f":"SUBTOTAL(3,$B$7:B1590)","v":23},"TXL6-132拆","光分配网（ODN）光纤链路全程测试 光纤链路衰减测试 1:2","链路组",null,{"v":0.3,"d":"0.30"},{"v":0,"d":"0.00"},{"v":0,"d":"0.00"},{"v":0,"d":"0.00"},0.3]
[{"$f":"SUBTOTAL(3,$B$7:B1591)","v":23},"TXL6-133拆","光分配网（ODN）光纤链路全程测试 光纤链路衰减测试 1:4","链路组",null,0.45,{"v":0,"d":"0.00"},{"$f":"E1591*F1591*J1591","v":{"v":0,"d":"0.00"}},{"$f":"E1591*G1591*J1591","v":{"v":0,"d":"0.00"}},0.3]
[{"$f":"SUBTOTAL(3,$B$7:B1592)","v":23},"TXL6-134拆","光分配网（ODN）光纤链路全程测试 光纤链路衰减测试 1:8","链路组",null,{"v":0.6,"d":"0.60"},{"v":0,"d":"0.00"},{"v":0,"d":"0.00"},{"v":0,"d":"0.00"},0.3]
[{"$f":"SUBTOTAL(3,$B$7:B1593)","v":23},"TXL6-135拆","光分配网（ODN）光纤链路全程测试 光纤链路衰减测试 1:16","链路组",null,0.75,{"v":0,"d":"0.00"},{"v":0,"d":"0.00"},{"v":0,"d":"0.00"},0.3]
[{"$f":"SUBTOTAL(3,$B$7:B1594)","v":23},"TXL6-136拆","光分配网（ODN）光纤链路全程测试 光纤链路衰减测试 1:32","链路组",null,0.85,{"v":0,"d":"0.00"},{"v":0,"d":"0.00"},{"v":0,"d":"0.00"},0.3]
[{"$f":"SUBTOTAL(3,$B$7:B1595)","v":23},"TXL6-137拆","光分配网（ODN）光纤链路全程测试 光纤链路衰减测试 1:64","链路组",null,0.93,{"v":0,"d":"0.00"},{"v":0,"d":"0.00"},{"v":0,"d":"0.00"},0.3]
[{"$f":"SUBTOTAL(3,$B$7:B1596)","v":23},"TXL6-138拆","光分配网（ODN）光纤链路全程测试 光纤链路衰减测试 1:128","链路组",null,{"v":1,"d":"1.00"},{"v":0,"d":"0.00"},{"v":0,"d":"0.00"},{"v":0,"d":"0.00"},0.3]
[{"$f":"SUBTOTAL(3,$B$7:B1597)","v":23},"TXL6-139拆","光分配网（ODN）光纤链路全程测试 光纤链路回 波损耗测试","链路组",null,{"v":0.1,"d":"0.10"},{"v":0,"d":"0.00"},{"v":0,"d":"0.00"},{"v":0,"d":"0.00"},0.3]
[{"$f":"SUBTOTAL(3,$B$7:B1598)","v":23},"TXL6-140拆","成端电缆芯线接续 0.6 以下","百对",null,{"v":1.2,"d":"1.20"},{"v":0,"d":"0.00"},{"v":0,"d":"0.00"},{"v":0,"d":"0.00"},0.4]
[{"$f":"SUBTOTAL(3,$B$7:B1599)","v":23},"TXL6-141拆","成端电缆芯线接续 0.9 以下","百对",null,1.35,{"v":0,"d":"0.00"},{"v":0,"d":"0.00"},{"v":0,"d":"0.00"},0.4]
[{"$f":"SUBTOTAL(3,$B$7:B1600)","v":23},"TXL6-142拆","电缆芯线接续 0.6 以下 接线子式","百对",null,{"v":1.1,"d":"1.10"},{"v":0,"d":"0.00"},{"v":0,"d":"0.00"},{"v":0,"d":"0.00"},0.3]
[{"$f":"SUBTOTAL(3,$B$7:B1601)","v":23},"TXL6-143拆","电缆芯线接续 0.6 以下 模块式","百对",null,0.66,{"v":0,"d":"0.00"},{"v":0,"d":"0.00"},{"v":0,"d":"0.00"},0.3]
[{"$f":"SUBTOTAL(3,$B$7:B1602)","v":23},"TXL6-144拆","电缆芯线接续 0.9 以下 接线子式","百对",null,{"v":1.4,"d":"1.40"},{"v":0,"d":"0.00"},{"v":0,"d":"0.00"},{"v":0,"d":"0.00"},0.3]
[{"$f":"SUBTOTAL(3,$B$7:B1603)","v":23},"TXL6-145拆","电缆芯线接续 0.9 以下 模块式","百对",null,0.84,{"v":0,"d":"0.00"},{"v":0,"d":"0.00"},{"v":0,"d":"0.00"},0.3]
[{"$f":"SUBTOTAL(3,$B$7:B1604)","v":23},"TXL6-146拆","电缆芯线改接 0.6 以下","百对",null,{"v":3.5,"d":"3.50"},{"v":0,"d":"0.00"},{"v":0,"d":"0.00"},{"v":0,"d":"0.00"},0.3]
[{"$f":"SUBTOTAL(3,$B$7:B1605)","v":23},"TXL6-147拆","电缆芯线改接 0.9 以下","百对",null,{"v":4,"d":"4.00"},{"v":0,"d":"0.00"},{"v":0,"d":"0.00"},{"v":0,"d":"0.00"},0.3]
[{"$f":"SUBTOTAL(3,$B$7:B1606)","v":23},"TXL6-148拆","卡接 4 对对绞电缆（配线架侧） 非屏蔽","条",null,0.06,{"v":0,"d":"0.00"},{"v":0,"d":"0.00"},{"v":0,"d":"0.00"},0.3]
[{"$f":"SUBTOTAL(3,$B$7:B1607)","v":23},"TXL6-149拆","卡接 4 对对绞电缆（配线架侧） 屏蔽","条",null,0.08,{"v":0,"d":"0.00"},{"v":0,"d":"0.00"},{"v":0,"d":"0.00"},0.3]
[{"$f":"SUBTOTAL(3,$B$7:B1608)","v":23},"TXL6-150拆","卡接大对数对绞电缆（配线架侧） 非屏蔽","百对",null,1.13,{"v":0,"d":"0.00"},{"v":0,"d":"0.00"},{"v":0,"d":"0.00"},0.3]
[{"$f":"SUBTOTAL(3,$B$7:B1609)","v":23},"TXL6-151拆","卡接大对数对绞电缆（配线架侧） 屏蔽","百对",null,{"v":1.5,"d":"1.50"},{"v":0,"d":"0.00"},{"v":0,"d":"0.00"},{"v":0,"d":"0.00"},0.3]
[{"$f":"SUBTOTAL(3,$B$7:B1610)","v":23},"TXL6-152拆","布放总配线架成端电缆 200 对以下","条",null,3.12,{"v":0,"d":"0.00"},{"v":0,"d":"0.00"},{"v":0,"d":"0.00"},0.4]
[{"$f":"SUBTOTAL(3,$B$7:B1611)","v":23},"TXL6-153拆","布放总配线架成端电缆 400 对以下","条",null,6.08,{"v":0,"d":"0.00"},{"v":0,"d":"0.00"},{"v":0,"d":"0.00"},0.4]
[{"$f":"SUBTOTAL(3,$B$7:B1612)","v":23},"TXL6-154拆","布放总配线架成端电缆 600 对以下","条",null,9.12,{"v":0,"d":"0.00"},{"v":0,"d":"0.00"},{"v":0,"d":"0.00"},0.4]
[{"$f":"SUBTOTAL(3,$B$7:B1613)","v":23},"TXL6-155拆","布放总配线架成端电缆 800 对以下","条",null,11.52,{"v":0,"d":"0.00"},{"v":0,"d":"0.00"},{"v":0,"d":"0.00"},0.4]
[{"$f":"SUBTOTAL(3,$B$7:B1614)","v":23},"TXL6-156拆","布放总配线架成端电缆 1200 对以下","条",null,16.32,{"v":0,"d":"0.00"},{"v":0,"d":"0.00"},{"v":0,"d":"0.00"},0.4]
[{"$f":"SUBTOTAL(3,$B$7:B1615)","v":23},"TXL6-157拆","布放总配线架成端电缆 1600 对以下","条",null,21.12,{"v":0,"d":"0.00"},{"v":0,"d":"0.00"},{"v":0,"d":"0.00"},0.4]
[{"$f":"SUBTOTAL(3,$B$7:B1616)","v":23},"TXL6-158拆","布放总配线架成端电缆 2400 对以下","条",null,30.72,{"v":0,"d":"0.00"},{"v":0,"d":"0.00"},{"v":0,"d":"0.00"},0.4]
[{"$f":"SUBTOTAL(3,$B$7:B1617)","v":23},"TXL6-159拆","布放交接箱成端电缆 100 对以下","条",null,1.55,{"v":0,"d":"0.00"},{"v":0,"d":"0.00"},{"v":0,"d":"0.00"},0.4]
[{"$f":"SUBTOTAL(3,$B$7:B1618)","v":23},"TXL6-160拆","布放交接箱成端电缆 200 对以下","条",null,{"v":2.6,"d":"2.60"},{"v":0,"d":"0.00"},{"v":0,"d":"0.00"},{"v":0,"d":"0.00"},0.4]
[{"$f":"SUBTOTAL(3,$B$7:B1619)","v":23},"TXL6-161拆","布放交接箱成端电缆 300 对以下","条",null,{"v":3.8,"d":"3.80"},{"v":0,"d":"0.00"},{"v":0,"d":"0.00"},{"v":0,"d":"0.00"},0.4]
[{"$f":"SUBTOTAL(3,$B$7:B1620)","v":23},"TXL6-162拆","布放交接箱成端电缆 400 对以下","条",null,{"v":5.2,"d":"5.20"},{"v":0,"d":"0.00"},{"v":0,"d":"0.00"},{"v":0,"d":"0.00"},0.4]
[{"$f":"SUBTOTAL(3,$B$7:B1621)","v":23},"TXL6-163拆","布放交接箱成端电缆 600 对以下","条",null,{"v":7.6,"d":"7.60"},{"v":0,"d":"0.00"},{"v":0,"d":"0.00"},{"v":0,"d":"0.00"},0.4]
[{"$f":"SUBTOTAL(3,$B$7:B1622)","v":23},"TXL6-164拆","布放交接箱成端电缆 800 对以下","条",null,{"v":10.4,"d":"10.40"},{"v":0,"d":"0.00"},{"v":0,"d":"0.00"},{"v":0,"d":"0.00"},0.4]
[{"$f":"SUBTOTAL(3,$B$7:B1623)","v":23},"TXL6-165拆","布放组线箱成端电缆 10 对以下","条",null,{"v":0.3,"d":"0.30"},{"v":0,"d":"0.00"},{"v":0,"d":"0.00"},{"v":0,"d":"0.00"},0.4]
[{"$f":"SUBTOTAL(3,$B$7:B1624)","v":23},"TXL6-166拆","布放组线箱成端电缆 20 对以下","条",null,0.46,{"v":0,"d":"0.00"},{"v":0,"d":"0.00"},{"v":0,"d":"0.00"},0.4]
[{"$f":"SUBTOTAL(3,$B$7:B1625)","v":23},"TXL6-167拆","布放组线箱成端电缆 30 对以下","条",null,0.61,{"v":0,"d":"0.00"},{"v":0,"d":"0.00"},{"v":0,"d":"0.00"},0.4]
[{"$f":"SUBTOTAL(3,$B$7:B1626)","v":23},"TXL6-168拆","布放组线箱成端电缆 50 对以下","条",null,1.08,{"v":0,"d":"0.00"},{"v":0,"d":"0.00"},{"v":0,"d":"0.00"},0.4]
[{"$f":"SUBTOTAL(3,$B$7:B1627)","v":23},"TXL6-169拆","布放组线箱成端电缆 100 对以下","条",null,1.55,{"v":0,"d":"0.00"},{"v":0,"d":"0.00"},{"v":0,"d":"0.00"},0.4]
[{"$f":"SUBTOTAL(3,$B$7:B1628)","v":23},"TXL6-170拆","布放组线箱成端电缆 100 对以上","条",null,{"v":2.6,"d":"2.60"},{"v":0,"d":"0.00"},{"v":0,"d":"0.00"},{"v":0,"d":"0.00"},0.4]
[{"$f":"SUBTOTAL(3,$B$7:B1629)","v":23},"TXL6-171拆","电缆跳线","条",null,0.08,{"v":0,"d":"0.00"},{"v":0,"d":"0.00"},{"v":0,"d":"0.00"},0.3]
[{"$f":"SUBTOTAL(3,$B$7:B1630)","v":23},"TXL6-172拆","堵塞成端套管 φ50×900以下","个",null,1.15,{"v":0,"d":"0.00"},{"v":0,"d":"0.00"},{"v":0,"d":"0.00"},0.3]
[{"$f":"SUBTOTAL(3,$B$7:B1631)","v":23},"TXL6-173拆","堵塞成端套管 φ70×900以下","个",null,{"v":1.3,"d":"1.30"},{"v":0,"d":"0.00"},{"v":0,"d":"0.00"},{"v":0,"d":"0.00"},0.3]
[{"$f":"SUBTOTAL(3,$B$7:B1632)","v":23},"TXL6-174拆","堵塞成端套管 φ90×900以下","个",null,{"v":1.7,"d":"1.70"},{"v":0,"d":"0.00"},{"v":0,"d":"0.00"},{"v":0,"d":"0.00"},0.3]
[{"$f":"SUBTOTAL(3,$B$7:B1633)","v":23},"TXL6-175拆","堵塞成端套管 φ110×900以下","个",null,{"v":2.1,"d":"2.10"},{"v":0,"d":"0.00"},{"v":0,"d":"0.00"},{"v":0,"d":"0.00"},0.3]
[{"$f":"SUBTOTAL(3,$B$7:B1634)","v":23},"TXL6-176拆","堵塞成端套管 φ130×900以下","个",null,{"v":2.3,"d":"2.30"},{"v":0,"d":"0.00"},{"v":0,"d":"0.00"},{"v":0,"d":"0.00"},0.3]
[{"$f":"SUBTOTAL(3,$B$7:B1635)","v":23},"TXL6-177拆","堵塞成端套管 φ150×900以下","个",null,{"v":2.7,"d":"2.70"},{"v":0,"d":"0.00"},{"v":0,"d":"0.00"},{"v":0,"d":"0.00"},0.3]
[{"$f":"SUBTOTAL(3,$B$7:B1636)","v":23},"TXL6-178拆","堵塞成端套管 φ170×900以下","个",null,{"v":2.9,"d":"2.90"},{"v":0,"d":"0.00"},{"v":0,"d":"0.00"},{"v":0,"d":"0.00"},0.3]
[{"$f":"SUBTOTAL(3,$B$7:B1637)","v":23},"TXL6-179拆","堵塞成端套管 φ180×900以下","个",null,{"v":3.2,"d":"3.20"},{"v":0,"d":"0.00"},{"v":0,"d":"0.00"},{"v":0,"d":"0.00"},0.3]
[{"$f":"SUBTOTAL(3,$B$7:B1638)","v":23},"TXL6-180拆","充油膏套管接续 φ50×500以下","个",null,0.68,0.17,{"v":0,"d":"0.00"},{"v":0,"d":"0.00"},0.3]
[{"$f":"SUBTOTAL(3,$B$7:B1639)","v":23},"TXL6-181拆","充油膏套管接续 φ70×500以下","个",null,0.87,0.22,{"v":0,"d":"0.00"},{"v":0,"d":"0.00"},0.3]
[{"$f":"SUBTOTAL(3,$B$7:B1640)","v":23},"TXL6-182拆","充油膏套管接续 φ90×500以下","个",null,1.15,0.29,{"v":0,"d":"0.00"},{"v":0,"d":"0.00"},0.3]
[{"$f":"SUBTOTAL(3,$B$7:B1641)","v":23},"TXL6-183拆","充油膏套管接续 φ110×900以下","个",null,1.35,0.33,{"v":0,"d":"0.00"},{"v":0,"d":"0.00"},0.3]
[{"$f":"SUBTOTAL(3,$B$7:B1642)","v":23},"TXL6-184拆","充油膏套管接续 φ130×900以下","个",null,1.53,0.38,{"v":0,"d":"0.00"},{"v":0,"d":"0.00"},0.3]
[{"$f":"SUBTOTAL(3,$B$7:B1643)","v":23},"TXL6-185拆","充油膏套管接续 φ150×900以下","个",null,1.83,0.46,{"v":0,"d":"0.00"},{"v":0,"d":"0.00"},0.3]
[{"$f":"SUBTOTAL(3,$B$7:B1644)","v":23},"TXL6-186拆","充油膏套管接续 φ170×900以下","个",null,1.92,0.48,{"v":0,"d":"0.00"},{"v":0,"d":"0.00"},0.3]
[{"$f":"SUBTOTAL(3,$B$7:B1645)","v":23},"TXL6-187拆","充油膏套管接续 φ180×900以下","个",null,2.12,0.53,{"v":0,"d":"0.00"},{"v":0,"d":"0.00"},0.3]
[{"$f":"SUBTOTAL(3,$B$7:B1646)","v":23},"TXL6-188拆","封焊热可缩套（包）管 φ50×900以下","个",null,0.56,0.14,{"v":0,"d":"0.00"},{"v":0,"d":"0.00"},0.3]
[{"$f":"SUBTOTAL(3,$B$7:B1647)","v":23},"TXL6-189拆","封焊热可缩套（包）管 φ70×900以下","个",null,0.72,0.18,{"v":0,"d":"0.00"},{"v":0,"d":"0.00"},0.3]
[{"$f":"SUBTOTAL(3,$B$7:B1648)","v":23},"TXL6-190拆","封焊热可缩套（包）管 φ90×900以下","个",null,0.96,0.24,{"v":0,"d":"0.00"},{"v":0,"d":"0.00"},0.3]
[{"$f":"SUBTOTAL(3,$B$7:B1649)","v":23},"TXL6-191拆","封焊热可缩套（包）管 φ110×900以下","个",null,1.12,0.28,{"v":0,"d":"0.00"},{"v":0,"d":"0.00"},0.3]
[{"$f":"SUBTOTAL(3,$B$7:B1650)","v":23},"TXL6-192拆","封焊热可缩套（包）管 φ130×900以下","个",null,1.28,0.32,{"v":0,"d":"0.00"},{"v":0,"d":"0.00"},0.3]
[{"$f":"SUBTOTAL(3,$B$7:B1651)","v":23},"TXL6-193拆","封焊热可缩套（包）管 φ150×900以下","个",null,1.52,0.38,{"v":0,"d":"0.00"},{"v":0,"d":"0.00"},0.3]
[{"$f":"SUBTOTAL(3,$B$7:B1652)","v":23},"TXL6-194拆","封焊热可缩套（包）管 φ170×900以下","个",null,{"v":1.6,"d":"1.60"},{"v":0.4,"d":"0.40"},{"v":0,"d":"0.00"},{"v":0,"d":"0.00"},0.3]
[{"$f":"SUBTOTAL(3,$B$7:B1653)","v":23},"TXL6-195拆","封焊热可缩套（包）管 φ180×900以下","个",null,1.76,0.44,{"v":0,"d":"0.00"},{"v":0,"d":"0.00"},0.3]
[{"$f":"SUBTOTAL(3,$B$7:B1654)","v":23},"TXL6-196拆","包封 C 型套管 φ65×500 以下","个",null,0.24,0.06,{"v":0,"d":"0.00"},{"v":0,"d":"0.00"},0.3]
[{"$f":"SUBTOTAL(3,$B$7:B1655)","v":23},"TXL6-197拆","包封 C 型套管 φ85×500 以下","个",null,0.28,0.07,{"$f":"E1655*F1655*J1655","v":{"v":0,"d":"0.00"}},{"$f":"E1655*G1655*J1655","v":{"v":0,"d":"0.00"}},0.3]
[{"$f":"SUBTOTAL(3,$B$7:B1656)","v":23},"TXL6-198拆","包封 C 型套管 φ90×600 以下","个",null,0.32,0.08,{"v":0,"d":"0.00"},{"v":0,"d":"0.00"},0.3]
[{"$f":"SUBTOTAL(3,$B$7:B1657)","v":23},"TXL6-199拆","安装多用 接头盒","个",null,{"v":1.1,"d":"1.10"},0.28,{"v":0,"d":"0.00"},{"v":0,"d":"0.00"},0.3]
[{"$f":"SUBTOTAL(3,$B$7:B1658)","v":23},"TXL6-200拆","安装接线筒","个",null,2.65,0.66,{"v":0,"d":"0.00"},{"v":0,"d":"0.00"},0.3]
[{"$f":"SUBTOTAL(3,$B$7:B1659)","v":23},"TXL6-201拆","安装开启式套管","个",null,{"v":1.1,"d":"1.10"},0.28,{"v":0,"d":"0.00"},{"v":0,"d":"0.00"},0.3]
[{"$f":"SUBTOTAL(3,$B$7:B1660)","v":23},"TXL6-202拆","制作热可缩套管气闭头 φ50 以下","个",null,0.67,0.17,{"v":0,"d":"0.00"},{"v":0,"d":"0.00"},0.3]
[{"$f":"SUBTOTAL(3,$B$7:B1661)","v":23},"TXL6-203拆","制作热可缩套管气闭头 φ70 以下","个",null,0.86,0.22,{"v":0,"d":"0.00"},{"v":0,"d":"0.00"},0.3]
[{"$f":"SUBTOTAL(3,$B$7:B1662)","v":23},"TXL6-204拆","制作热可缩套管气闭头 φ90 以下","个",null,1.15,0.29,{"v":0,"d":"0.00"},{"v":0,"d":"0.00"},0.3]
[{"$f":"SUBTOTAL(3,$B$7:B1663)","v":23},"TXL6-205拆","制作热可缩套管气闭头 φ110 以下","个",null,1.43,0.35,{"v":0,"d":"0.00"},{"v":0,"d":"0.00"},0.3]
[{"$f":"SUBTOTAL(3,$B$7:B1664)","v":23},"TXL6-206拆","制作热可缩套管气闭头 φ130 以下","个",null,1.54,0.38,{"v":0,"d":"0.00"},{"v":0,"d":"0.00"},0.3]
[{"$f":"SUBTOTAL(3,$B$7:B1665)","v":23},"TXL6-207拆","制作热可缩套管气闭头 φ150 以下","个",null,1.82,0.45,{"v":0,"d":"0.00"},{"v":0,"d":"0.00"},0.3]
[{"$f":"SUBTOTAL(3,$B$7:B1666)","v":23},"TXL6-208拆","制作热可缩套管气闭头 φ170 以下","个",null,1.92,0.48,{"v":0,"d":"0.00"},{"v":0,"d":"0.00"},0.3]
[{"$f":"SUBTOTAL(3,$B$7:B1667)","v":23},"TXL6-209拆","制作热可缩套管气闭头 φ180 以下","个",null,2.11,0.53,{"v":0,"d":"0.00"},{"v":0,"d":"0.00"},0.3]
[{"$f":"SUBTOTAL(3,$B$7:B1668)","v":23},"TXL6-210拆","电缆链路 测试","链路",null,{"v":0.1,"d":"0.10"},{"v":0,"d":"0.00"},{"v":0,"d":"0.00"},{"v":0,"d":"0.00"},0.3]
[{"$f":"SUBTOTAL(3,$B$7:B1669)","v":23},"TXL6-211拆","配线电缆 测试","百对",null,{"v":1.5,"d":"1.50"},{"v":0,"d":"0.00"},{"v":0,"d":"0.00"},{"v":0,"d":"0.00"},0.3]
[{"$f":"SUBTOTAL(3,$B$7:B1670)","v":23},"TXL6-212拆","中 继 电 缆 5km 以下","百对",null,{"v":7,"d":"7.00"},{"v":0,"d":"0.00"},{"v":0,"d":"0.00"},{"v":0,"d":"0.00"},0.3]
[{"$f":"SUBTOTAL(3,$B$7:B1671)","v":23},"TXL6-213拆","中 继 电 缆 5km 以上","百对",null,16.25,{"v":0,"d":"0.00"},{"v":0,"d":"0.00"},{"v":0,"d":"0.00"},0.3]
[{"$f":"SUBTOTAL(3,$B$7:B1672)","v":23},"TXL7-001拆","安装光（电）缆承托铁架","米条",null,0.15,0.15,{"v":0,"d":"0.00"},{"v":0,"d":"0.00"},0.3]
[{"$f":"SUBTOTAL(3,$B$7:B1673)","v":23},"TXL7-002拆","安装光（电）缆托架","根",null,0.07,0.07,{"v":0,"d":"0.00"},{"v":0,"d":"0.00"},0.3]
[{"$f":"SUBTOTAL(3,$B$7:B1674)","v":23},"TXL7-003拆","安装固定光缆盘","套",null,0.35,0.35,{"v":0,"d":"0.00"},{"v":0,"d":"0.00"},0.3]
[{"$f":"SUBTOTAL(3,$B$7:B1675)","v":23},"TXL7-004拆","安装机柜、机架 落地式","架",null,1.25,0.67,{"v":0,"d":"0.00"},{"v":0,"d":"0.00"},0.3]
[{"$f":"SUBTOTAL(3,$B$7:B1676)","v":23},"TXL7-005拆","安装机柜、机架 墙挂式","架",null,2.25,{"v":1,"d":"1.00"},{"v":0,"d":"0.00"},{"v":0,"d":"0.00"},0.3]
[{"$f":"SUBTOTAL(3,$B$7:B1677)","v":23},"TXL7-006拆","制作安装抗震底座","个",null,1.67,0.83,{"v":0,"d":"0.00"},{"v":0,"d":"0.00"},0.3]
[{"$f":"SUBTOTAL(3,$B$7:B1678)","v":23},"TXL7-007拆","安装过线（路）盒（半周长） 200 以下","十个",null,{"v":0,"d":"0.00"},{"v":0.4,"d":"0.40"},{"v":0,"d":"0.00"},{"v":0,"d":"0.00"},0.3]
[{"$f":"SUBTOTAL(3,$B$7:B1679)","v":23},"TXL7-008拆","安装过线（路）盒（半周长） 200 以上","十个",null,{"v":0.9,"d":"0.90"},{"v":0.4,"d":"0.40"},{"v":0,"d":"0.00"},{"v":0,"d":"0.00"},0.3]
[{"$f":"SUBTOTAL(3,$B$7:B1680)","v":23},"TXL7-009拆","安装信息插座底盒 明装","十个",null,{"v":0,"d":"0.00"},{"v":0.4,"d":"0.40"},{"v":0,"d":"0.00"},{"v":0,"d":"0.00"},0.3]
[{"$f":"SUBTOTAL(3,$B$7:B1681)","v":23},"TXL7-010拆","安装信息插座底盒 砖墙内","十个",null,{"v":0,"d":"0.00"},0.98,{"v":0,"d":"0.00"},{"v":0,"d":"0.00"},0.3]
[{"$f":"SUBTOTAL(3,$B$7:B1682)","v":23},"TXL7-011拆","安装信息插座底盒 混凝土墙内","十个",null,{"v":0,"d":"0.00"},1.37,{"v":0,"d":"0.00"},{"v":0,"d":"0.00"},0.3]
[{"$f":"SUBTOTAL(3,$B$7:B1683)","v":23},"TXL7-012拆","安装信息插座底盒 木地板内","十个",null,{"v":0,"d":"0.00"},0.84,{"v":0,"d":"0.00"},{"v":0,"d":"0.00"},0.3]
[{"$f":"SUBTOTAL(3,$B$7:B1684)","v":23},"TXL7-013拆","安装信息插座底盒 防静电钢质 地板内","十个",null,{"v":0,"d":"0.00"},1.68,{"v":0,"d":"0.00"},{"v":0,"d":"0.00"},0.3]
[{"$f":"SUBTOTAL(3,$B$7:B1685)","v":23},"TXL7-014拆","安装 8 位模块式信息插座 单口 非屏蔽","十个",null,0.45,0.07,{"v":0,"d":"0.00"},{"v":0,"d":"0.00"},0.3]
[{"$f":"SUBTOTAL(3,$B$7:B1686)","v":23},"TXL7-015拆","安装 8 位模块式信息插座 单口 屏蔽","十个",null,0.55,0.07,{"v":0,"d":"0.00"},{"v":0,"d":"0.00"},0.3]
[{"$f":"SUBTOTAL(3,$B$7:B1687)","v":23},"TXL7-016拆","安装 8 位模块式信息插座 双口 非屏蔽","十个",null,0.75,0.07,{"v":0,"d":"0.00"},{"v":0,"d":"0.00"},0.3]
[{"$f":"SUBTOTAL(3,$B$7:B1688)","v":23},"TXL7-017拆","安装 8 位模块式信息插座 双口 屏蔽","十个",null,0.95,0.07,{"v":0,"d":"0.00"},{"v":0,"d":"0.00"},0.3]
[{"$f":"SUBTOTAL(3,$B$7:B1689)","v":23},"TXL7-018拆","安装光纤信息插座 双口以下","十个",null,{"v":0.3,"d":"0.30"},{"v":0,"d":"0.00"},{"v":0,"d":"0.00"},{"v":0,"d":"0.00"},0.3]
[{"$f":"SUBTOTAL(3,$B$7:B1690)","v":23},"TXL7-019拆","安装光纤信息插座 四口以下","十个",null,{"v":0.4,"d":"0.40"},{"v":0,"d":"0.00"},{"v":0,"d":"0.00"},{"v":0,"d":"0.00"},0.3]
[{"$f":"SUBTOTAL(3,$B$7:B1691)","v":23},"TXL7-020拆","安装落地式室外综合机柜 宽 800 以下","套",null,1.45,1.45,{"v":0,"d":"0.00"},{"v":0,"d":"0.00"},0.3]
[{"$f":"SUBTOTAL(3,$B$7:B1692)","v":23},"TXL7-021拆","安装落地式室外综合机柜 宽 800 以上","套",null,2.25,2.25,{"v":0,"d":"0.00"},{"v":0,"d":"0.00"},0.3]
[{"$f":"SUBTOTAL(3,$B$7:B1693)","v":23},"TXL7-022拆","安装架空式室外综合机柜","套",null,{"v":3.5,"d":"3.50"},{"v":3.5,"d":"3.50"},{"v":0,"d":"0.00"},{"v":0,"d":"0.00"},0.3]
[{"$f":"SUBTOTAL(3,$B$7:B1694)","v":23},"TXL7-023拆","安装光分纤箱、光分路箱 架空式","套",null,0.56,0.56,{"v":0,"d":"0.00"},{"v":0,"d":"0.00"},0.3]
[{"$f":"SUBTOTAL(3,$B$7:B1695)","v":23},"TXL7-024拆","安装光分纤箱、光分路箱 墙壁式","套",null,{"v":0.5,"d":"0.50"},{"v":0.5,"d":"0.50"},{"v":0,"d":"0.00"},{"v":0,"d":"0.00"},0.3]
[{"$f":"SUBTOTAL(3,$B$7:B1696)","v":23},"TXL7-025拆","安装光缆终端盒","套",null,{"v":0.3,"d":"0.30"},{"v":0.3,"d":"0.30"},{"v":0,"d":"0.00"},{"v":0,"d":"0.00"},0.3]
[{"$f":"SUBTOTAL(3,$B$7:B1697)","v":23},"TXL7-026拆","安装光缆接线箱","套",null,0.55,0.55,{"v":0,"d":"0.00"},{"v":0,"d":"0.00"},0.3]
[{"$f":"SUBTOTAL(3,$B$7:B1698)","v":23},"TXL7-027拆","增（扩）装光纤一体 化熔接托盘","套",null,{"v":0.1,"d":"0.10"},{"v":0,"d":"0.00"},{"v":0,"d":"0.00"},{"v":0,"d":"0.00"},0.3]
[{"$f":"SUBTOTAL(3,$B$7:B1699)","v":23},"TXL7-028拆","机架（箱）内安装光分路器 安装高度 1.5m 以下","台",null,{"v":0.2,"d":"0.20"},{"v":0,"d":"0.00"},{"v":0,"d":"0.00"},{"v":0,"d":"0.00"},0.3]
[{"$f":"SUBTOTAL(3,$B$7:B1700)","v":23},"TXL7-029拆","机架（箱）内安装光分路器 安装高度 1.5m 以上","台",null,{"v":0.4,"d":"0.40"},{"v":0,"d":"0.00"},{"v":0,"d":"0.00"},{"v":0,"d":"0.00"},0.3]
[{"$f":"SUBTOTAL(3,$B$7:B1701)","v":23},"TXL7-030拆","光分路器与光纤线路插接","端口",null,0.03,{"v":0,"d":"0.00"},{"v":0,"d":"0.00"},{"v":0,"d":"0.00"},0.3]
[{"$f":"SUBTOTAL(3,$B$7:B1702)","v":23},"TXL7-031拆","光分路器本机测试① 1:2","套",null,0.16,{"v":0,"d":"0.00"},{"v":0,"d":"0.00"},{"v":0,"d":"0.00"},0.3]
[{"$f":"SUBTOTAL(3,$B$7:B1703)","v":23},"TXL7-032拆","光分路器本机测试① 1:4","套",null,0.29,{"v":0,"d":"0.00"},{"v":0,"d":"0.00"},{"v":0,"d":"0.00"},0.3]
[{"$f":"SUBTOTAL(3,$B$7:B1704)","v":23},"TXL7-033拆","光分路器本机测试① 1:8","套",null,{"v":0.4,"d":"0.40"},{"v":0,"d":"0.00"},{"v":0,"d":"0.00"},{"v":0,"d":"0.00"},0.3]
[{"$f":"SUBTOTAL(3,$B$7:B1705)","v":23},"TXL7-034拆","光分路器本机测试① 1:16","套",null,{"v":0.5,"d":"0.50"},{"v":0,"d":"0.00"},{"v":0,"d":"0.00"},{"v":0,"d":"0.00"},0.3]
[{"$f":"SUBTOTAL(3,$B$7:B1706)","v":23},"TXL7-035拆","光分路器本机测试① 1:32","套",null,0.61,{"v":0,"d":"0.00"},{"v":0,"d":"0.00"},{"v":0,"d":"0.00"},0.3]
[{"$f":"SUBTOTAL(3,$B$7:B1707)","v":23},"TXL7-036拆","光分路器本机测试① 1:64","套",null,{"v":0.7,"d":"0.70"},{"v":0,"d":"0.00"},{"v":0,"d":"0.00"},{"v":0,"d":"0.00"},0.3]
[{"$f":"SUBTOTAL(3,$B$7:B1708)","v":23},"TXL7-037拆","光分路器本机测试① 1:128","套",null,{"v":0.8,"d":"0.80"},{"v":0,"d":"0.00"},{"v":0,"d":"0.00"},{"v":0,"d":"0.00"},0.3]
[{"$f":"SUBTOTAL(3,$B$7:B1709)","v":23},"TXL7-038拆","浇筑交接箱基座","m",null,0.92,0.92,{"v":0,"d":"0.00"},{"v":0,"d":"0.00"},0.3]
[{"$f":"SUBTOTAL(3,$B$7:B1710)","v":23},"TXL7-039拆","砌筑交接箱基座","m",null,1.67,1.67,{"v":0,"d":"0.00"},{"v":0,"d":"0.00"},0.3]
[{"$f":"SUBTOTAL(3,$B$7:B1711)","v":23},"TXL7-040拆","砂浆抹面（1:2.5）","m2",null,{"v":0.1,"d":"0.10"},0.15,{"v":0,"d":"0.00"},{"v":0,"d":"0.00"},0.3]
[{"$f":"SUBTOTAL(3,$B$7:B1712)","v":23},"TXL7-041拆","交接箱地线保护","处",null,{"v":1.3,"d":"1.30"},{"v":1.9,"d":"1.90"},{"v":0,"d":"0.00"},{"v":0,"d":"0.00"},0.3]
[{"$f":"SUBTOTAL(3,$B$7:B1713)","v":23},"TXL7-042拆","安装光缆落地式交接箱 144 芯以下","个",null,0.67,0.67,{"v":0,"d":"0.00"},{"v":0,"d":"0.00"},0.3]
[{"$f":"SUBTOTAL(3,$B$7:B1714)","v":23},"TXL7-043拆","安装光缆落地式交接箱 288 芯以下","个",null,0.78,0.78,{"v":0,"d":"0.00"},{"v":0,"d":"0.00"},0.3]
[{"$f":"SUBTOTAL(3,$B$7:B1715)","v":23},"TXL7-044拆","安装光缆落地式交接箱 288 芯以上","个",null,0.94,0.94,{"v":0,"d":"0.00"},{"v":0,"d":"0.00"},0.3]
[{"$f":"SUBTOTAL(3,$B$7:B1716)","v":23},"TXL7-045拆","安装壁挂式光缆交接箱 144 芯以下","个",null,1.07,1.07,{"v":0,"d":"0.00"},{"v":0,"d":"0.00"},0.3]
[{"$f":"SUBTOTAL(3,$B$7:B1717)","v":23},"TXL7-046拆","安装壁挂式光缆交接箱 288 芯以下","个",null,1.34,1.34,{"v":0,"d":"0.00"},{"v":0,"d":"0.00"},0.3]
[{"$f":"SUBTOTAL(3,$B$7:B1718)","v":23},"TXL7-047拆","安装架空式光缆交接箱 288 芯以下","个",null,1.98,1.98,{"v":0,"d":"0.00"},{"v":0,"d":"0.00"},0.3]
[{"$f":"SUBTOTAL(3,$B$7:B1719)","v":23},"TXL7-048拆","安装架空式光缆交接箱 288 芯以上","个",null,2.25,2.25,{"$f":"E1719*F1719*J1719","v":{"v":0,"d":"0.00"}},{"$f":"E1719*G1719*J1719","v":{"v":0,"d":"0.00"}},0.3]
[{"$f":"SUBTOTAL(3,$B$7:B1720)","v":23},"TXL7-049拆","安装架空式交接箱 600 对以下","个",null,4.09,4.09,{"v":0,"d":"0.00"},{"v":0,"d":"0.00"},0.3]
[{"$f":"SUBTOTAL(3,$B$7:B1721)","v":23},"TXL7-050拆","安装架空式交接箱 1200 对以下","个",null,5.35,5.35,{"v":0,"d":"0.00"},{"v":0,"d":"0.00"},0.3]
[{"$f":"SUBTOTAL(3,$B$7:B1722)","v":23},"TXL7-051拆","安装架空式交接箱 2400 对以下","个",null,7.18,7.18,{"v":0,"d":"0.00"},{"v":0,"d":"0.00"},0.3]
[{"$f":"SUBTOTAL(3,$B$7:B1723)","v":23},"TXL7-052拆","安装架空式交接箱 2400 对以上","个",null,8.09,8.09,{"v":0,"d":"0.00"},{"v":0,"d":"0.00"},0.3]
[{"$f":"SUBTOTAL(3,$B$7:B1724)","v":23},"TXL7-053拆","安装落地式交接箱 1200 对以下","个",null,{"v":3.2,"d":"3.20"},{"v":3.2,"d":"3.20"},{"v":0,"d":"0.00"},{"v":0,"d":"0.00"},0.3]
[{"$f":"SUBTOTAL(3,$B$7:B1725)","v":23},"TXL7-054拆","安装落地式交接箱 2400 对以下","个",null,{"v":4.1,"d":"4.10"},{"v":4.1,"d":"4.10"},{"v":0,"d":"0.00"},{"v":0,"d":"0.00"},0.3]
[{"$f":"SUBTOTAL(3,$B$7:B1726)","v":23},"TXL7-055拆","安装落地式交接箱 3600 对以下","个",null,{"v":5,"d":"5.00"},{"v":5,"d":"5.00"},{"v":0,"d":"0.00"},{"v":0,"d":"0.00"},0.3]
[{"$f":"SUBTOTAL(3,$B$7:B1727)","v":23},"TXL7-056拆","安装墙挂式交接箱 600 对以下","个",null,{"v":2.9,"d":"2.90"},{"v":2.9,"d":"2.90"},{"v":0,"d":"0.00"},{"v":0,"d":"0.00"},0.3]
[{"$f":"SUBTOTAL(3,$B$7:B1728)","v":23},"TXL7-057拆","安装墙挂式交接箱 1200 对以下","个",null,3.85,3.85,{"v":0,"d":"0.00"},{"v":0,"d":"0.00"},0.3]
[{"$f":"SUBTOTAL(3,$B$7:B1729)","v":23},"TXL7-058拆","安装墙挂式交接箱 2400 对以下","个",null,4.76,4.76,{"v":0,"d":"0.00"},{"v":0,"d":"0.00"},0.3]
[{"$f":"SUBTOTAL(3,$B$7:B1730)","v":23},"TXL7-059拆","交接箱改接跳线","百条",null,{"v":6,"d":"6.00"},{"v":0,"d":"0.00"},{"v":0,"d":"0.00"},{"v":0,"d":"0.00"},0.3]
[{"$f":"SUBTOTAL(3,$B$7:B1731)","v":23},"TXL7-060拆","制装塑缆分线箱 10 对以下","个",null,0.65,0.27,{"v":0,"d":"0.00"},{"v":0,"d":"0.00"},0.3]
[{"$f":"SUBTOTAL(3,$B$7:B1732)","v":23},"TXL7-061拆","制装塑缆分线箱 20 对以下","个",null,0.86,0.36,{"v":0,"d":"0.00"},{"v":0,"d":"0.00"},0.3]
[{"$f":"SUBTOTAL(3,$B$7:B1733)","v":23},"TXL7-062拆","制装塑缆分线箱 30 对以下","个",null,1.02,0.48,{"v":0,"d":"0.00"},{"v":0,"d":"0.00"},0.3]
[{"$f":"SUBTOTAL(3,$B$7:B1734)","v":23},"TXL7-063拆","制装塑缆分线箱 50 对以下","个",null,1.45,0.66,{"v":0,"d":"0.00"},{"v":0,"d":"0.00"},0.3]
[{"$f":"SUBTOTAL(3,$B$7:B1735)","v":23},"TXL7-064拆","制装塑缆分线盒 10 对以下","个",null,0.48,0.19,{"v":0,"d":"0.00"},{"v":0,"d":"0.00"},0.3]
[{"$f":"SUBTOTAL(3,$B$7:B1736)","v":23},"TXL7-065拆","制装塑缆分线盒 20 对以下","个",null,0.66,0.28,{"v":0,"d":"0.00"},{"v":0,"d":"0.00"},0.3]
[{"$f":"SUBTOTAL(3,$B$7:B1737)","v":23},"TXL7-066拆","制装塑缆分线盒 30 对以下","个",null,1.03,0.36,{"v":0,"d":"0.00"},{"v":0,"d":"0.00"},0.3]
[{"$f":"SUBTOTAL(3,$B$7:B1738)","v":23},"TXL7-067拆","制装塑缆分线盒 50 对以下","个",null,1.27,0.54,{"v":0,"d":"0.00"},{"v":0,"d":"0.00"},0.3]
[{"$f":"SUBTOTAL(3,$B$7:B1739)","v":23},"TXL7-068拆","制装环氧树脂堵塞分线箱 10 对以下","个",null,0.73,0.32,{"v":0,"d":"0.00"},{"v":0,"d":"0.00"},0.3]
[{"$f":"SUBTOTAL(3,$B$7:B1740)","v":23},"TXL7-069拆","制装环氧树脂堵塞分线箱 20 对以下","个",null,0.98,0.41,{"v":0,"d":"0.00"},{"v":0,"d":"0.00"},0.3]
[{"$f":"SUBTOTAL(3,$B$7:B1741)","v":23},"TXL7-070拆","制装环氧树脂堵塞分线箱 30 对以下","个",null,1.34,0.53,{"v":0,"d":"0.00"},{"v":0,"d":"0.00"},0.3]
[{"$f":"SUBTOTAL(3,$B$7:B1742)","v":23},"TXL7-071拆","制装环氧树脂堵塞分线箱 50 对以下","个",null,{"v":1.6,"d":"1.60"},0.92,{"v":0,"d":"0.00"},{"v":0,"d":"0.00"},0.3]
[{"$f":"SUBTOTAL(3,$B$7:B1743)","v":23},"TXL7-072拆","制装环氧树脂堵塞分线盒 10 对以下","个",null,0.59,0.23,{"v":0,"d":"0.00"},{"v":0,"d":"0.00"},0.3]
[{"$f":"SUBTOTAL(3,$B$7:B1744)","v":23},"TXL7-073拆","制装环氧树脂堵塞分线盒 20 对以下","个",null,0.76,0.31,{"v":0,"d":"0.00"},{"v":0,"d":"0.00"},0.3]
[{"$f":"SUBTOTAL(3,$B$7:B1745)","v":23},"TXL7-074拆","制装环氧树脂堵塞分线盒 30 对以下","个",null,1.17,{"v":0.4,"d":"0.40"},{"v":0,"d":"0.00"},{"v":0,"d":"0.00"},0.3]
[{"$f":"SUBTOTAL(3,$B$7:B1746)","v":23},"TXL7-075拆","制装环氧树脂堵塞分线盒 50 对以下","个",null,{"v":1.4,"d":"1.40"},0.79,{"v":0,"d":"0.00"},{"v":0,"d":"0.00"},0.3]
[{"$f":"SUBTOTAL(3,$B$7:B1747)","v":23},"TXL7-076拆","安装明挂式 组线箱体","个",null,1.55,0.58,{"v":0,"d":"0.00"},{"v":0,"d":"0.00"},0.3]
[{"$f":"SUBTOTAL(3,$B$7:B1748)","v":23},"TXL7-077拆","安装测试 100 回线保 安排试验排","块",null,0.75,{"v":0,"d":"0.00"},{"v":0,"d":"0.00"},{"v":0,"d":"0.00"},0.3]
[{"$f":"SUBTOTAL(3,$B$7:B1749)","v":23},"TXL7-078拆","安装组线箱 端子板","块",null,{"v":0.3,"d":"0.30"},{"v":0,"d":"0.00"},{"v":0,"d":"0.00"},{"v":0,"d":"0.00"},0.3]
[{"$f":"SUBTOTAL(3,$B$7:B1750)","v":23},"TXL7-079拆","安装交接间配线架 3600 对","座",null,3.65,{"v":0,"d":"0.00"},{"v":0,"d":"0.00"},{"v":0,"d":"0.00"},0.3]
[{"$f":"SUBTOTAL(3,$B$7:B1751)","v":23},"TXL7-080拆","安装交接间配线架 4800 对","座",null,4.67,{"v":0,"d":"0.00"},{"v":0,"d":"0.00"},{"v":0,"d":"0.00"},0.3]
[{"$f":"SUBTOTAL(3,$B$7:B1752)","v":23},"TXL7-081拆","安装交接间配线架 7200 对","座",null,7.22,{"v":0,"d":"0.00"},{"v":0,"d":"0.00"},{"v":0,"d":"0.00"},0.3]
[{"$f":"SUBTOTAL(3,$B$7:B1753)","v":23},"TXL7-082拆","安装测试 100 回线接 线排","块",null,{"v":0.4,"d":"0.40"},{"v":0,"d":"0.00"},{"v":0,"d":"0.00"},{"v":0,"d":"0.00"},0.3]
[{"$f":"SUBTOTAL(3,$B$7:B1754)","v":23},"TXL7-083拆","安装充气设备 12 路以下","套",null,{"v":11.9,"d":"11.90"},{"v":2.1,"d":"2.10"},{"v":0,"d":"0.00"},{"v":0,"d":"0.00"},0.3]
[{"$f":"SUBTOTAL(3,$B$7:B1755)","v":23},"TXL7-084拆","安装充气设备 24 路以下","套",null,{"v":18.4,"d":"18.40"},{"v":4.6,"d":"4.60"},{"v":0,"d":"0.00"},{"v":0,"d":"0.00"},0.3]
[{"$f":"SUBTOTAL(3,$B$7:B1756)","v":23},"TXL7-085拆","安装充气设备 36 路以下","套",null,{"v":27.2,"d":"27.20"},{"v":6.8,"d":"6.80"},{"v":0,"d":"0.00"},{"v":0,"d":"0.00"},0.3]
[{"$f":"SUBTOTAL(3,$B$7:B1757)","v":23},"TXL7-086拆","安装充气设备 48 路以下","套",null,{"v":36.8,"d":"36.80"},{"v":9.2,"d":"9.20"},{"v":0,"d":"0.00"},{"v":0,"d":"0.00"},0.3]
[{"$f":"SUBTOTAL(3,$B$7:B1758)","v":23},"TXL7-087拆","增装气压表","块",null,0.68,0.37,{"v":0,"d":"0.00"},{"v":0,"d":"0.00"},0.3]
[{"$f":"SUBTOTAL(3,$B$7:B1759)","v":23},"TXL7-088拆","单装气门","个",null,{"v":0.4,"d":"0.40"},{"v":0.1,"d":"0.10"},{"v":0,"d":"0.00"},{"v":0,"d":"0.00"},0.3]
[{"$f":"SUBTOTAL(3,$B$7:B1760)","v":23},"TXL7-089拆","布放安装输气管","20m/条",null,0.45,0.15,{"v":0,"d":"0.00"},{"v":0,"d":"0.00"},0.3]
[{"$f":"SUBTOTAL(3,$B$7:B1761)","v":23},"TXL7-090拆","安装告警器","个",null,{"v":0.9,"d":"0.90"},{"v":0.3,"d":"0.30"},{"v":0,"d":"0.00"},{"v":0,"d":"0.00"},0.3]
[{"$f":"SUBTOTAL(3,$B$7:B1762)","v":23},"TXL7-091拆","电缆全程充气","千米条",null,{"v":2,"d":"2.00"},{"v":0,"d":"0.00"},{"$f":"E1762*F1762*J1762","v":{"v":0,"d":"0.00"}},{"$f":"E1762*G1762*J1762","v":{"v":0,"d":"0.00"}},0.3]
[{"$f":"SUBTOTAL(3,$B$7:B1763)","v":23},"TSY1—029拆","安装光分配架-整架","个",null,2.42,0,{"v":0,"d":"0.00"},{"v":0,"d":"0.00"},0.3]
[{"$f":"SUBTOTAL(3,$B$7:B1764)","v":23},"TSY1—030拆","安装光分配架-子架","个",null,0.19,{"v":0,"d":"0.00"},{"v":0,"d":"0.00"},{"v":0,"d":"0.00"},0.3]
[{"$f":"SUBTOTAL(3,$B$7:B1765)","v":24},"TGD1-006","人工开挖路面 砂石 100 以下","100m2",0.27,1.04,6.29,{"$f":"E1765*F1765","v":{"v":0.2808,"d":"0.28"}},{"$f":"E1765*G1765","v":{"v":1.6983,"d":"1.70"}}]
[{"$f":"SUBTOTAL(3,$B$7:B1766)","v":25},"TGD1-019","人工开挖管道沟及人（手）孔坑 砂砾土","100m3",0.24876,{"v":0,"d":"0.00"},62.92,{"v":0,"d":"0.00"},{"v":15.6519792,"d":"15.65"}]
[{"$f":"SUBTOTAL(3,$B$7:B1767)","v":26},"TGD1-028","回填土石方 夯填原土","100m3",0.199008,{"v":0,"d":"0.00"},21.25,{"v":0,"d":"0.00"},{"v":4.22892,"d":"4.23"}]
[{"$f":"SUBTOTAL(3,$B$7:B1768)","v":27},"TGD1-034","手推车倒运土方","100m3",0.049752,{"v":0,"d":"0.00"},{"v":12,"d":"12.00"},{"v":0,"d":"0.00"},{"v":0.597024,"d":"0.60"}]
[{"$f":"SUBTOTAL(3,$B$7:B1769)","v":28},"TGD2-113","铺设镀锌钢管管道 2 孔（2×1）","100m",0.45,0.92,1.19,{"v":0.414,"d":"0.41"},{"v":0.5355,"d":"0.54"}]
[{"$f":"SUBTOTAL(3,$B$7:B1770)","v":29},"TGD3-026","砖砌手孔（现场浇筑上覆） 90×120","个",2,3.75,4.15,{"v":7.5,"d":"7.50"},{"v":8.3,"d":"8.30"}]
[{"$nulls":9},{"$f":"SUM(H1772,I1772)","v":286.2254132}]
[null,null,"小   计",{"$nulls":4},{"$f":"SUM(H7:H1771)","v":{"v":200.25429,"d":"200.25"}},{"$f":"SUM(I7:I1771)","v":{"v":85.9711232,"d":"85.97"}},{"$f":"IF(J1771<100,\"1\",\"0\")","v":"0"}]
[null,null,"总工日少于100工日增调15.00%",{"$nulls":4},{"$f":"H1772*15%*J1772","v":{"v":0,"d":"0.00"}},{"$f":"I1772*15%*J1772","v":{"v":0,"d":"0.00"}},{"$f":"IF(AND(J1771>=100,J1771<250),1,0)","v":0}]
[null,null,"总工日少于250工日增调10.00%",{"$nulls":4},{"$f":"H1772*10%*J1773","v":{"v":0,"d":"0.00"}},{"$f":"I1772*10%*J1773","v":{"v":0,"d":"0.00"}}]
[null,null,"合  计",{"$nulls":4},{"$f":"SUM(H1773:H1774)","v":{"v":0,"d":"0.00"}},{"$f":"SUM(I1773:I1774)","v":{"v":0,"d":"0.00"}}]
[null,null,"合  计",null,".",null,null,{"$f":"SUM(H1772:H1774)","v":{"v":200.25429,"d":"200.25"}},{"$f":"SUM(I1772:I1774)","v":{"v":85.9711232,"d":"85.97"}}]

{"sheet":"Sheet1","index":4,"n_rows":35,"n_cols":33,"rows_kept":35,"hidden":true}
[null,null,"架空","引上","管道","埋","进","小计","2进2出接头","3进3出接头",null,null,"挂钩1公里300个",null,"尾纤－方","尾纤－圆","熔接",{"$nulls":7},"管道","人孔","拉线","立杆",null,"拆杆","拆吊线","拆拉线","拆机柜"]
[null,"4d-53",{"$nulls":5},{"$f":"SUM(C2:G2)","v":0},null,null,{"$f":"I2*4","v":{"v":0,"d":"0.00"}},{"$f":"A2*4","v":{"v":0,"d":"0.00"}},{"$f":"G10*0.3","v":114},{"$nulls":10},"谷田",{"v":60,"d":"60.00"},{"v":2,"d":"2.00"},{"v":2,"d":"2.00"},{"v":3,"d":"3.00"},null,{"v":2,"d":"2.00"},{"v":65,"d":"65.00"},{"v":2,"d":"2.00"},{"v":0,"d":"0.00"}]
[null,"6d-53",{"$nulls":5},{"$f":"SUM(C3:G3)","v":0},null,null,{"$f":"I3*6","v":{"v":0,"d":"0.00"}},{"$f":"A3*6","v":{"v":0,"d":"0.00"}},{"$nulls":11},"杨畈",{"v":90,"d":"90.00"},{"v":3,"d":"3.00"},{"v":2,"d":"2.00"},{"v":1,"d":"1.00"},null,{"v":2,"d":"2.00"},{"v":92,"d":"92.00"},{"v":1,"d":"1.00"},{"v":0,"d":"0.00"}]
[{"v":2,"d":"2.00"},"8d-53",{"$f":"2*52","v":104},{"$f":"2*12","v":24},{"$f":"2*45","v":90},null,{"$f":"2*20","v":40},258,{"v":4,"d":"4.00"},null,{"$f":"I4*8","v":{"v":32,"d":"32.00"}},{"$f":"A4*8","v":{"v":16,"d":"16.00"}},{"$nulls":11},"白广",{"v":90,"d":"90.00"},{"v":2,"d":"2.00"},{"v":2,"d":"2.00"},{"v":1,"d":"1.00"},null,{"v":1,"d":"1.00"},{"v":90,"d":"90.00"},{"v":0,"d":"0.00"},{"v":0,"d":"0.00"}]
[{"v":2,"d":"2.00"},"12d-B",{"$f":"2*52","v":104},{"$f":"2*12","v":24},{"$f":"2*45","v":90},null,{"$f":"2*20","v":40},258,{"v":4,"d":"4.00"},null,{"$f":"I5*12","v":{"v":48,"d":"48.00"}},{"$f":"A5*12","v":{"v":24,"d":"24.00"}},{"$nulls":11},"江罗",{"v":67,"d":"67.00"},{"v":2,"d":"2.00"},{"v":2,"d":"2.00"},{"v":1,"d":"1.00"},null,{"v":1,"d":"1.00"},{"v":67,"d":"67.00"},{"v":0,"d":"0.00"},{"v":0,"d":"0.00"}]
[{"v":9,"d":"9.00"},"24d-B",{"$f":"9*52","v":468},{"$f":"9*12","v":108},{"$f":"9*45","v":405},null,{"$f":"9*20","v":180},1161,{"v":18,"d":"18.00"},null,{"$f":"I6*24","v":{"v":432,"d":"432.00"}},{"$f":"A6*24","v":{"v":216,"d":"216.00"}},{"$nulls":11},"茅庐岗",{"v":106,"d":"106.00"},{"v":2,"d":"2.00"},{"v":2,"d":"2.00"},{"v":2,"d":"2.00"},null,{"v":2,"d":"2.00"},{"v":106,"d":"106.00"},{"v":0,"d":"0.00"},{"v":1,"d":"1.00"}]
[null,"36d-53",{"$nulls":5},0,null,null,{"$f":"I7*36","v":{"v":0,"d":"0.00"}},{"$f":"A7*36","v":{"v":0,"d":"0.00"}},{"$nulls":8},"拉线","数量",null,"梅花园",{"v":110,"d":"110.00"},{"v":2,"d":"2.00"},{"v":2,"d":"2.00"},{"v":2,"d":"2.00"},null,{"v":1,"d":"1.00"},{"v":110,"d":"110.00"},{"v":0,"d":"0.00"},{"v":0,"d":"0.00"}]
[{"v":6,"d":"6.00"},"48d-B",{"$f":"6*52","v":312},{"$f":"6*12","v":72},{"$f":"6*45","v":270},null,{"$f":"6*20","v":120},774,{"v":12,"d":"12.00"},null,{"$f":"I8*48","v":{"v":576,"d":"576.00"}},{"$f":"A8*48","v":{"v":288,"d":"288.00"}},{"$nulls":6},"拉线抱箍（164）",1,{"v":8,"d":"8.00"},{"$f":"T8*U8","v":8},null,"工棚",{"v":165,"d":"165.00"},{"v":3,"d":"3.00"},{"v":0,"d":"0.00"},{"v":0,"d":"0.00"},null,{"v":0,"d":"0.00"},{"v":0,"d":"0.00"},{"v":0,"d":"0.00"},{"v":0,"d":"0.00"}]
[null,"96d-53",{"$nulls":5},0,null,null,{"$f":"I9*96","v":{"v":0,"d":"0.00"}},{"$f":"A9*96","v":{"v":0,"d":"0.00"}},{"$nulls":6},"双槽夹板",2,{"v":8,"d":"8.00"},16,null,"曹家",{"v":117.8,"d":"117.80"},{"v":2,"d":"2.00"},{"v":2,"d":"2.00"},{"v":2,"d":"2.00"},null,{"v":2,"d":"2.00"},{"v":70,"d":"70.00"},{"v":2,"d":"2.00"},{"v":0,"d":"0.00"}]
[null,null,{"$f":"SUM(C2:C9)","v":{"v":988,"d":"988.00"}},{"$f":"SUM(D2:D9)","v":{"v":228,"d":"228.00"}},{"$f":"SUM(E2:E9)","v":{"v":855,"d":"855.00"}},{"$f":"SUM(F2:F9)","v":{"v":0,"d":"0.00"}},{"$f":"SUM(G2:G9)","v":{"v":380,"d":"380.00"}},{"$nulls":11},"地锚块",1,{"v":8,"d":"8.00"},8,null,"村委会",{"v":105,"d":"105.00"},{"v":2,"d":"2.00"},{"v":2,"d":"2.00"},{"v":2,"d":"2.00"},null,{"v":3,"d":"3.00"},{"v":52,"d":"52.00"},{"v":2,"d":"2.00"},{"v":0,"d":"0.00"}]
[null,null,182,"新增吊线","数量",{"$nulls":13},"地锚棒",1,{"v":8,"d":"8.00"},8]
[null,null,{"$f":"C10-C11","v":{"v":806,"d":"806.00"}},104,null,null,{"v":125,"d":"125.00"},{"$f":"G10/50","v":{"v":7.6,"d":"7.60"}},{"$nulls":10},"拉线衬圈",2,{"v":8,"d":"8.00"},16,null,"小计",{"$f":"SUM(Y2:Y10)","v":{"v":910.8,"d":"910.80"}},{"v":20,"d":"20.00"},{"v":16,"d":"16.00"},{"v":14,"d":"14.00"},{"v":0,"d":"0.00"},{"v":14,"d":"14.00"},{"v":652,"d":"652.00"},{"v":7,"d":"7.00"},{"v":1,"d":"1.00"}]
[null,"钢绞2.2",0.22,104,{"$f":"C13*D13","v":22.88},{"$nulls":3},"15个人井60公分",{"$f":"60*30","v":{"v":1800,"d":"1800.00"}},{"$nulls":8},"钢绞2.6",5,{"v":8,"d":"8.00"},40]
[null,"铁线3.0",0.03,104,{"$f":"C14*D14","v":3.12},{"$nulls":3},"个电杆30公分"]
[null,"挂钩",2.5,104,{"$f":"C15*D15","v":260},{"$nulls":12},"架","引上","管道","进","小计"]
[null,"单槽抱箍（电力杆184）",null,{"$f":"表四甲!E73","v":0},{"$f":"D12/40","v":2.6},{"$nulls":11},"4d-B",{"$nulls":4},{"$f":"R16+S16+T16+U16","v":{"v":0,"d":"0.00"}},{"$nulls":3},"序号","项目名称","单位","数量"]
[null,"保护套",null,null,{"$f":"D12","v":104},{"$nulls":9},{"v":496,"d":"496.00"},null,"6d-B",{"$nulls":4},{"v":0,"d":"0.00"}]
[null,"单槽夹板",null,null,{"$f":"E16","v":2.6},{"$nulls":3},"费用名称","金额","占比",{"$nulls":3},{"v":224,"d":"224.00"},null,"8d-B",{"$f":"2*50","v":100},{"$nulls":3},{"v":100,"d":"100.00"},{"$nulls":3},1,"光（电）缆工程施工测量（管道）","100m",18.967]
[null,"双槽夹板",{"$nulls":6},"小型建筑工程费",0,{"v":0,"d":"0.00%"},{"$nulls":3},{"$f":"O17-O18","v":{"v":272,"d":"272.00"}},null,"12d-B",{"$f":"2*50","v":100},{"$nulls":3},{"v":100,"d":"100.00"},{"$nulls":3},2,"单盘检验 光缆","芯盘",342]
[null,"镀锌滚花膨胀螺栓",null,null,{"$f":"E16*3+V9*3","v":55.8},{"$nulls":3},"需要安装的设备费",0,{"v":0,"d":"0.00%"},{"$nulls":5},"24d-B",{"$f":"9*50","v":450},{"$nulls":3},{"v":450,"d":"450.00"},{"$nulls":3},3,"敷设管道光缆（12芯以下）","千米条",16.3467]
[{"$nulls":8},"不需要安装的设备、工器具费",0,{"v":0,"d":"0.00%"},{"$nulls":5},"36d-B",{"$nulls":4},{"v":0,"d":"0.00"},{"$nulls":3},4,"敷设管道光缆（24芯以下）","千米条",5.3634]
[null,null,{"v":4,"d":"4.00"},{"$nulls":5},"建筑安装工程费",{"$f":"表一!G7","v":100014.500808032},{"$f":"J22/J28","v":{"v":0.980392156862745,"d":"98.04%"}},{"$nulls":5},"48d-B",{"$f":"6*50","v":300},{"$nulls":3},{"v":300,"d":"300.00"},{"$nulls":3},5,"敷设管道光缆（24芯以下）","千米条",0.145]
[{"$nulls":8},"其他费用",{"$f":"表一!H9","v":2000.29001616064},{"$f":"J23/J28","v":{"v":0.0196078431372549,"d":"1.96%"}},{"$nulls":5},"72d-B",{"$nulls":4},{"v":0,"d":"0.00"},{"$nulls":3},6,"敷设管道光缆（48芯以下）","千米条",1.2429]
[{"$nulls":8},"其中：勘察、设计费",{"$f":"表五甲!F11","v":{"v":0,"d":"0.00"}},{"$f":"J24/J28","v":{"v":0,"d":"0.00%"}},{"$nulls":6},{"$f":"SUM(R16:R23)","v":{"v":950,"d":"950.00"}},{"$f":"SUM(S16:S23)","v":{"v":0,"d":"0.00"}},{"$f":"SUM(T16:T23)","v":{"v":0,"d":"0.00"}},{"$f":"SUM(U16:U23)","v":{"v":0,"d":"0.00"}},{"$nulls":4},7,"敷设管道光缆（96芯以下）","千米条",0.6772]
[{"$nulls":8},"      监理费",{"$f":"表五甲!F13","v":{"v":0,"d":"0.00"}},{"$f":"J25/J28","v":{"v":0,"d":"0.00%"}},{"$nulls":14},8,"敷设管道光缆（144芯以下）","千米条",0.9175]
[{"$nulls":3},{"$f":"D10/6","v":{"v":38,"d":"38.00"}},{"$nulls":4},"      安全生产费",{"$f":"表五甲!F14","v":{"v":2060.29871664546,"d":"2060.30"}},{"$f":"J26/J28","v":{"v":0.0201960784313725,"d":"2.02%"}},{"$nulls":14},9,"穿放引上光缆","条",32]
[{"$nulls":8},"预备费",{"$nulls":16},10,"穿放引上光缆","条",18]
[{"$nulls":8},"总投资",{"$f":"表一!L12","v":102014.790824193},{"$nulls":5},"新增吊线 1495",{"$nulls":9},11,"安装光缆落地式交接箱（288芯以上）","个",3]
[{"$nulls":15},"新增电杆 31",{"$nulls":9},12,"安装光分配架-子架","个",2]
[{"$nulls":8},"技工","普工",{"$nulls":5},"新增拉线11",{"$nulls":9},13,"安装光分配架-子架","个",2]
[{"$nulls":8},{"$f":"'[1]表三 甲'!H1770","v":{"v":7.878144,"d":"7.88"}},{"$f":"'[1]表三 甲'!I1770","v":{"v":3.848613,"d":"3.85"}},{"$nulls":5},"新增撑杆1"]
[]
[{"$nulls":15},"拆吊线 1431.5"]
[{"$nulls":15},"拆电杆 32"]
[{"$nulls":15},"拆拉线 4"]

{"sheet":"表三乙","index":5,"n_rows":691,"n_cols":11,"rows_kept":691,"merged":[[0,0,0,9],[3,0,4,0],[3,1,4,1],[3,2,4,2],[3,3,4,3],[3,4,4,4],[3,5,4,5],[3,6,3,7],[3,8,3,9]]}
["建筑安装工程机械使用费用预算表（表三）乙"]
[{"$f":"ASC(综合信息表!C3)","v":"建设项目名称:"}]
[{"$f":"ASC(综合信息表!C4)","v":"单项工程名称:2023年景德镇电信乐平水利枢纽工程建设杆线迁改工程"},{"$nulls":4},{"$f":"ASC(综合信息表!C6)","v":"建设单位名称:中国电信股份有限公司景德镇分公司"},null,null,{"$f":"ASC(综合信息表!G7)","v":"表格编号:TXL-3乙"},"第全页"]
["序号","定额编号","项目名称","单位","数量","机械名称","单位定额值（工日）",null,"合计值"]
[{"$nulls":6},"数量（台班）","单价（元）","数量（台班）","合价（元）"]
["Ⅰ","Ⅱ","Ⅲ","Ⅳ","Ⅴ","Ⅵ","Ⅶ","Ⅷ","Ⅸ","Ⅹ"]
[{"$f":"SUBTOTAL(3,$B7:B$7)","v":0},"TSY5-027","安装摄像机防护罩 室外","机",null,"汽车升降机",0.2,517,{"$f":"E7*G7","v":0},{"$f":"H7*I7","v":0}]
[{"$f":"SUBTOTAL(3,$B$7:B8)","v":0},"TXL1-004","光（电）缆工程施工测量 海上","机",{"$f":"'表三 甲'!E10","v":{"v":0,"d":"0.00"}},"海缆施工驳船 500t 以下带拖轮",0.02,0,{"$f":"E8*G8","v":0},{"$f":"H8*I8","v":0}]
[{"$f":"SUBTOTAL(3,$B$7:B9)","v":0},"TXL1-004","光（电）缆工程施工测量 海上","机",{"$f":"E8","v":{"v":0,"d":"0.00"}},"海缆施工自航船 5000t 以下",0.02,0,0,0]
[{"$f":"SUBTOTAL(3,$B$7:B10)","v":0},"TXL1-008","人工开挖路面 混凝土 100 以下","机",{"$f":"'表三 甲'!E14","v":{"v":0,"d":"0.00"}},"燃油式空气压缩机 (含风镐) 6m³/min",0.85,372,0,0]
[{"$f":"SUBTOTAL(3,$B$7:B11)","v":0},"TXL1-008","人工开挖路面 混凝土 100 以下","机",{"$f":"E10","v":{"v":0,"d":"0.00"}},"路面切割机",0.5,210,0,0]
[{"$f":"SUBTOTAL(3,$B$7:B12)","v":0},"TXL1-009","人工开挖路面 混凝土 每增加 10","机",{"$f":"'表三 甲'!E15","v":{"v":0,"d":"0.00"}},"燃油式空气压缩机 (含风镐) 6m³/min",0.1,372,0,0]
[{"$f":"SUBTOTAL(3,$B$7:B13)","v":0},"TXL1-010","人工开挖路面 沥青柏油 100 以下","机",{"$f":"'表三 甲'!E16","v":{"v":0,"d":"0.00"}},"燃油式空气压缩机 (含风镐) 6m³/min",0.35,372,0,0]
[{"$f":"SUBTOTAL(3,$B$7:B14)","v":0},"TXL1-010","人工开挖路面 沥青柏油 100 以下","机",{"$f":"E13","v":{"v":0,"d":"0.00"}},"路面切割机",0.5,210,0,0]
[{"$f":"SUBTOTAL(3,$B$7:B15)","v":0},"TXL1-011","人工开挖路面 沥青柏油 每增加 10","机",{"$f":"'表三 甲'!E17","v":{"v":0,"d":"0.00"}},"燃油式空气压缩机 (含风镐) 6m³/min",0.04,372,0,0]
[{"$f":"SUBTOTAL(3,$B$7:B16)","v":0},"TXL1-012","人工开挖路面 砂石 100 以下","机",{"$f":"'表三 甲'!E18","v":{"v":0,"d":"0.00"}},"燃油式空气压缩机 (含风镐) 6m³/min",0.2,372,0,0]
[{"$f":"SUBTOTAL(3,$B$7:B17)","v":0},"TXL1-013","人工开挖路面 砂石 每增加 10","机",{"$f":"'表三 甲'!E19","v":{"v":0,"d":"0.00"}},"燃油式空气压缩机 (含风镐) 6m³/min",0.02,372,0,0]
[{"$f":"SUBTOTAL(3,$B$7:B18)","v":0},"TXL1-017","机械开挖路面 混凝土 100 以下","机",{"$f":"'表三 甲'!E23","v":{"v":0,"d":"0.00"}},"破碎锤(含机身)",0.4,768,0,0]
[{"$f":"SUBTOTAL(3,$B$7:B19)","v":0},"TXL1-017","机械开挖路面 混凝土 100 以下","机",{"$f":"E18","v":{"v":0,"d":"0.00"}},"挖掘机 0.6m3",0.3,743,0,0]
[{"$f":"SUBTOTAL(3,$B$7:B20)","v":0},"TXL1-017","机械开挖路面 混凝土 100 以下","机",{"$f":"E19","v":{"v":0,"d":"0.00"}},"路面切割机",0.5,210,0,0]
[{"$f":"SUBTOTAL(3,$B$7:B21)","v":0},"TXL1-018","机械开挖路面 混凝土 每增加 10","机",{"$f":"'表三 甲'!E24","v":{"v":0,"d":"0.00"}},"挖掘机 0.6m3",0.03,743,0,0]
[{"$f":"SUBTOTAL(3,$B$7:B22)","v":0},"TXL1-018","机械开挖路面 混凝土 每增加 10","机",{"$f":"E21","v":{"v":0,"d":"0.00"}},"破碎锤(含机身)",0.04,768,0,0]
[{"$f":"SUBTOTAL(3,$B$7:B23)","v":0},"TXL1-019","机械开挖路面 沥青柏油 100 以下","机",{"$f":"'表三 甲'!E25","v":{"v":0,"d":"0.00"}},"挖掘机 0.6m3",0.24,743,0,0]
[{"$f":"SUBTOTAL(3,$B$7:B24)","v":0},"TXL1-019","机械开挖路面 沥青柏油 100 以下","机",{"$f":"E23","v":{"v":0,"d":"0.00"}},"路面切割机",0.5,210,0,0]
[{"$f":"SUBTOTAL(3,$B$7:B25)","v":0},"TXL1-019","机械开挖路面 沥青柏油 100 以下","机",{"$f":"E23","v":{"v":0,"d":"0.00"}},"破碎锤(含机身)",0.11,768,0,0]
[{"$f":"SUBTOTAL(3,$B$7:B26)","v":0},"TXL1-020","机械开挖路面 沥青柏油 每增加 10","机",{"$f":"'表三 甲'!E26","v":{"v":0,"d":"0.00"}},"破碎锤(含机身)",0.01,768,0,0]
[{"$f":"SUBTOTAL(3,$B$7:B27)","v":0},"TXL1-020","机械开挖路面 沥青柏油 每增加 10","机",{"$f":"'表三 甲'!E26","v":{"v":0,"d":"0.00"}},"挖掘机 0.6m3",0.02,743,0,0]
[{"$f":"SUBTOTAL(3,$B$7:B28)","v":0},"TXL1-021","机械开挖路面 砂石 100 以下","机",{"$f":"'表三 甲'!E27","v":{"v":0,"d":"0.00"}},"挖掘机 0.6m3",0.21,743,0,0]
[{"$f":"SUBTOTAL(3,$B$7:B29)","v":0},"TXL1-022","机械开挖路面 砂石 每增加 10","机",{"$f":"'表三 甲'!E28","v":{"v":0,"d":"0.00"}},"挖掘机 0.6m3",0.02,743,0,0]
[{"$f":"SUBTOTAL(3,$B$7:B30)","v":0},"TXL2-005","挖、松填光（电）缆沟及接头坑 软石","机",{"$f":"'表三 甲'!E33","v":{"v":0,"d":"0.00"}},"燃油式空气压缩机 (含风镐) 6m³/min",3,372,0,0]
[{"$f":"SUBTOTAL(3,$B$7:B31)","v":0},"TXL2-006","挖、松填光（电）缆沟及接头坑 坚石（人工）","机",{"$f":"'表三 甲'!E34","v":{"v":0,"d":"0.00"}},"燃油式空气压缩机 (含风镐) 6m³/min",10,372,0,0]
[{"$f":"SUBTOTAL(3,$B$7:B32)","v":0},"TXL2-007","挖、夯填光（电）缆沟及接头坑 普通土","机",{"$f":"'表三 甲'!E35","v":{"v":0,"d":"0.00"}},"夯实机",0.75,117,0,0]
[{"$f":"SUBTOTAL(3,$B$7:B33)","v":0},"TXL2-008","挖、夯填光（电）缆沟及接头坑 硬土","机",{"$f":"'表三 甲'!E36","v":{"v":0,"d":"0.00"}},"夯实机",0.75,117,0,0]
[{"$f":"SUBTOTAL(3,$B$7:B34)","v":0},"TXL2-009","挖、夯填光（电）缆沟及接头坑 砂砾土","机",{"$f":"'表三 甲'!E37","v":{"v":0,"d":"0.00"}},"夯实机",0.75,117,0,0]
[{"$f":"SUBTOTAL(3,$B$7:B35)","v":0},"TXL2-011","挖、夯填光（电）缆沟及接头坑 软石","机",{"$f":"'表三 甲'!E39","v":{"v":0,"d":"0.00"}},"燃油式空气压缩机 (含风镐) 6m³/min",3,372,0,0]
[{"$f":"SUBTOTAL(3,$B$7:B36)","v":0},"TXL2-012","挖、夯填光（电）缆沟及接头坑 坚石（人工）","机",{"$f":"'表三 甲'!E40","v":{"v":0,"d":"0.00"}},"燃油式空气压缩机 (含风镐) 6m³/min",10,372,0,0]
[{"$f":"SUBTOTAL(3,$B$7:B37)","v":0},"TXL2-041","埋设定型手孔","机",{"$f":"'表三 甲'!E69","v":{"v":0,"d":"0.00"}},"载重汽车 5t",0.1,372,0,0]
[{"$f":"SUBTOTAL(3,$B$7:B38)","v":0},"TXL2-041","埋设定型手孔","机",{"$f":"E37","v":{"v":0,"d":"0.00"}},"汽车式起重机 5t",0.1,516,0,0]
[{"$f":"SUBTOTAL(3,$B$7:B39)","v":0},"TXL2-090","小口径塑料管试通","机",{"$f":"'表三 甲'!E118","v":{"v":0,"d":"0.00"}},"气流敷设设备(敷设光缆)",0.08,1007,0,0]
[{"$f":"SUBTOTAL(3,$B$7:B40)","v":0},"TXL2-090","小口径塑料管试通","机",{"$f":"E39","v":{"v":0,"d":"0.00"}},"载重汽车 5t",0.08,372,0,0]
[{"$f":"SUBTOTAL(3,$B$7:B41)","v":0},"TXL2-091","小口径塑料管道充气试验","机",{"$f":"'表三 甲'!E119","v":{"v":0,"d":"0.00"}},"载重汽车 5t",0.12,372,0,0]
[{"$f":"SUBTOTAL(3,$B$7:B42)","v":0},"TXL2-091","小口径塑料管道充气试验","机",{"$f":"E41","v":{"v":0,"d":"0.00"}},"燃油式空气压缩机",0.12,368,0,0]
[{"$f":"SUBTOTAL(3,$B$7:B43)","v":0},"TXL2-092","地下定向钻孔敷管 工作孔径φ120mm 以下 30m 以下","机",{"$f":"'表三 甲'!E120","v":{"v":0,"d":"0.00"}},"汽车式起重机 8t",1,636,0,0]
[{"$f":"SUBTOTAL(3,$B$7:B44)","v":0},"TXL2-092","地下定向钻孔敷管 工作孔径φ120mm 以下 30m 以下","机",{"$f":"E43","v":{"v":0,"d":"0.00"}},"载重汽车 8t",1,456,0,0]
[{"$f":"SUBTOTAL(3,$B$7:B45)","v":0},"TXL2-092","地下定向钻孔敷管 工作孔径φ120mm 以下 30m 以下","机",{"$f":"E43","v":{"v":0,"d":"0.00"}},"微控钻孔敷管设备（25t以下）",1.07,0,0,0]
[{"$f":"SUBTOTAL(3,$B$7:B46)","v":0},"TXL2-093","地下定向钻孔敷管 工作孔径φ120mm 以下 每增加 10m","机",{"$f":"'表三 甲'!E121","v":{"v":0,"d":"0.00"}},"载重汽车 8t",0.2,456,0,0]
[{"$f":"SUBTOTAL(3,$B$7:B47)","v":0},"TXL2-093","地下定向钻孔敷管 工作孔径φ120mm 以下 每增加 10m","机",{"$f":"E46","v":{"v":0,"d":"0.00"}},"微控钻孔敷管设备（25t以下）",0.21,0,0,0]
[{"$f":"SUBTOTAL(3,$B$7:B48)","v":0},"TXL2-093","地下定向钻孔敷管 工作孔径φ120mm 以下 每增加 10m","机",{"$f":"E46","v":{"v":0,"d":"0.00"}},"汽车式起重机 8t",0.2,636,0,0]
[{"$f":"SUBTOTAL(3,$B$7:B49)","v":0},"TXL2-094","地下定向钻孔敷管 工作孔径φ240mm 以下 30m 以下","机",{"$f":"'表三 甲'!E122","v":{"v":0,"d":"0.00"}},"载重汽车 8t",1.4,456,0,0]
[{"$f":"SUBTOTAL(3,$B$7:B50)","v":0},"TXL2-094","地下定向钻孔敷管 工作孔径φ240mm 以下 30m 以下","机",{"$f":"E49","v":{"v":0,"d":"0.00"}},"微控钻孔敷管设备（25t以下）",1.5,0,0,0]
[{"$f":"SUBTOTAL(3,$B$7:B51)","v":0},"TXL2-094","地下定向钻孔敷管 工作孔径φ240mm 以下 30m 以下","机",{"$f":"E49","v":{"v":0,"d":"0.00"}},"汽车式起重机 8t",1.4,636,0,0]
[{"$f":"SUBTOTAL(3,$B$7:B52)","v":0},"TXL2-095","地下定向钻孔敷管 工作孔径φ240mm 以下 每增加 10m","机",{"$f":"'表三 甲'!E123","v":{"v":0,"d":"0.00"}},"载重汽车 8t",0.28,456,0,0]
[{"$f":"SUBTOTAL(3,$B$7:B53)","v":0},"TXL2-095","地下定向钻孔敷管 工作孔径φ240mm 以下 每增加 10m","机",{"$f":"E52","v":{"v":0,"d":"0.00"}},"微控钻孔敷管设备（25t以下）",0.3,0,0,0]
[{"$f":"SUBTOTAL(3,$B$7:B54)","v":0},"TXL2-095","地下定向钻孔敷管 工作孔径φ240mm 以下 每增加 10m","机",{"$f":"E52","v":{"v":0,"d":"0.00"}},"汽车式起重机 8t",0.28,636,0,0]
[{"$f":"SUBTOTAL(3,$B$7:B55)","v":0},"TXL2-096","地下定向钻孔敷管 工作孔径φ360mm 以下 30m 以下","机",{"$f":"'表三 甲'!E124","v":{"v":0,"d":"0.00"}},"载重汽车 8t",1.96,456,0,0]
[{"$f":"SUBTOTAL(3,$B$7:B56)","v":0},"TXL2-096","地下定向钻孔敷管 工作孔径φ360mm 以下 30m 以下","机",{"$f":"E55","v":{"v":0,"d":"0.00"}},"汽车式起重机 8t",1.96,636,0,0]
[{"$f":"SUBTOTAL(3,$B$7:B57)","v":0},"TXL2-096","地下定向钻孔敷管 工作孔径φ360mm 以下 30m 以下","机",{"$f":"E56","v":{"v":0,"d":"0.00"}},"微控钻孔敷管设备（25t以下）",2.1,0,0,0]
[{"$f":"SUBTOTAL(3,$B$7:B58)","v":0},"TXL2-097","地下定向钻孔敷管 工作孔径φ360mm 以下 每增加 10m","机",{"$f":"'表三 甲'!E125","v":{"v":0,"d":"0.00"}},"微控钻孔敷管设备（25t以下)",0.42,0,0,0]
[{"$f":"SUBTOTAL(3,$B$7:B59)","v":0},"TXL2-097","地下定向钻孔敷管 工作孔径φ360mm 以下 每增加 10m","机",{"$f":"E58","v":{"v":0,"d":"0.00"}},"载重汽车 8t",0.39,456,0,0]
[{"$f":"SUBTOTAL(3,$B$7:B60)","v":0},"TXL2-097","地下定向钻孔敷管 工作孔径φ360mm 以下 每增加 10m","机",{"$f":"E58","v":{"v":0,"d":"0.00"}},"汽车式起重机 8t",0.39,636,0,0]
[{"$f":"SUBTOTAL(3,$B$7:B61)","v":0},"TXL2-098","地下定向钻孔敷管 工作孔径φ600mm 以下 30m 以下","机",{"$f":"'表三 甲'!E126","v":{"v":0,"d":"0.00"}},"微控钻孔敷管设备 (25t以上)",2.94,0,0,0]
[{"$f":"SUBTOTAL(3,$B$7:B62)","v":0},"TXL2-098","地下定向钻孔敷管 工作孔径φ600mm 以下 30m 以下","机",{"$f":"E61","v":{"v":0,"d":"0.00"}},"汽车式起重机 16t",2.74,768,0,0]
[{"$f":"SUBTOTAL(3,$B$7:B63)","v":0},"TXL2-098","地下定向钻孔敷管 工作孔径φ600mm 以下 30m 以下","机",{"$f":"E61","v":{"v":0,"d":"0.00"}},"载重汽车 12t",2.74,582,0,0]
[{"$f":"SUBTOTAL(3,$B$7:B64)","v":0},"TXL2-099","地下定向钻孔敷管 工作孔径φ600mm 以下 每增加 10m","机",{"$f":"'表三 甲'!E127","v":{"v":0,"d":"0.00"}},"微控钻孔敷管设备 (25t以上)",0.59,0,0,0]
[{"$f":"SUBTOTAL(3,$B$7:B65)","v":0},"TXL2-099","地下定向钻孔敷管 工作孔径φ600mm 以下 每增加 10m","机",{"$f":"E64","v":{"v":0,"d":"0.00"}},"汽车式起重机 16t",0.55,768,0,0]
[{"$f":"SUBTOTAL(3,$B$7:B66)","v":0},"TXL2-099","地下定向钻孔敷管 工作孔径φ600mm 以下 每增加 10m","机",{"$f":"E64","v":{"v":0,"d":"0.00"}},"载重汽车 12t",0.55,582,0,0]
[{"$f":"SUBTOTAL(3,$B$7:B67)","v":0},"TXL2-100","地下定向钻孔敷管 工作孔径φ840mm 以下 30m 以下","机",{"$f":"'表三 甲'!E128","v":{"v":0,"d":"0.00"}},"微控钻孔敷管设备 (25t以上)",4.12,0,0,0]
[{"$f":"SUBTOTAL(3,$B$7:B68)","v":0},"TXL2-100","地下定向钻孔敷管 工作孔径φ840mm 以下 30m 以下","机",{"$f":"E67","v":{"v":0,"d":"0.00"}},"载重汽车 12t",3.84,582,0,0]
[{"$f":"SUBTOTAL(3,$B$7:B69)","v":0},"TXL2-100","地下定向钻孔敷管 工作孔径φ840mm 以下 30m 以下","机",{"$f":"E68","v":{"v":0,"d":"0.00"}},"汽车式起重机 16t",3.84,768,0,0]
[{"$f":"SUBTOTAL(3,$B$7:B70)","v":0},"TXL2-101","地下定向钻孔敷管 工作孔径φ840mm 以下 每增加 10m","机",{"$f":"'表三 甲'!E129","v":{"v":0,"d":"0.00"}},"载重汽车 12t",0.77,582,0,0]
[{"$f":"SUBTOTAL(3,$B$7:B71)","v":0},"TXL2-101","地下定向钻孔敷管 工作孔径φ840mm 以下 每增加 10m","机",{"$f":"E70","v":{"v":0,"d":"0.00"}},"汽车式起重机 16t",0.77,768,0,0]
[{"$f":"SUBTOTAL(3,$B$7:B72)","v":0},"TXL2-101","地下定向钻孔敷管 工作孔径φ840mm 以下 每增加 10m","机",{"$f":"E70","v":{"v":0,"d":"0.00"}},"微控钻孔敷管设备 (25t以上)",0.82,0,{"$f":"E72*G72","v":0},{"$f":"H72*I72","v":0}]
[{"$f":"SUBTOTAL(3,$B$7:B73)","v":0},"TXL2-102","地下定向钻孔敷管 工作孔径φ950mm 以下 30m 以下","机",{"$f":"'表三 甲'!E130","v":{"v":0,"d":"0.00"}},"汽车式起重机 16t",4.61,768,0,0]
[{"$f":"SUBTOTAL(3,$B$7:B74)","v":0},"TXL2-102","地下定向钻孔敷管 工作孔径φ950mm 以下 30m 以下","机",{"$f":"E73","v":{"v":0,"d":"0.00"}},"微控钻孔敷管设备 (25t以上)",5.22,0,0,0]
[{"$f":"SUBTOTAL(3,$B$7:B75)","v":0},"TXL2-102","地下定向钻孔敷管 工作孔径φ950mm 以下 30m 以下","机",{"$f":"E73","v":{"v":0,"d":"0.00"}},"载重汽车 12t",4.61,582,0,0]
[{"$f":"SUBTOTAL(3,$B$7:B76)","v":0},"TXL2-103","地下定向钻孔敷管 工作孔径φ950mm 以下 每增加 10m","机",{"$f":"'表三 甲'!E131","v":{"v":0,"d":"0.00"}},"汽车式起重机 16t",1.06,768,0,0]
[{"$f":"SUBTOTAL(3,$B$7:B77)","v":0},"TXL2-103","地下定向钻孔敷管 工作孔径φ950mm 以下 每增加 10m","机",{"$f":"E76","v":{"v":0,"d":"0.00"}},"微控钻孔敷管设备(25t以上)",1.1,0,0,0]
[{"$f":"SUBTOTAL(3,$B$7:B78)","v":0},"TXL2-103","地下定向钻孔敷管 工作孔径φ950mm 以下 每增加 10m","机",{"$f":"E76","v":{"v":0,"d":"0.00"}},"载重汽车 12t",1.06,582,0,0]
[{"$f":"SUBTOTAL(3,$B$7:B79)","v":0},"TXL2-108","机械顶管","机",{"$f":"'表三 甲'!E136","v":{"v":0,"d":"0.00"}},"液压顶管机 5t",0.15,444,0,0]
[{"$f":"SUBTOTAL(3,$B$7:B80)","v":0},"TXL2-136","水泵冲槽","机",{"$f":"'表三 甲'!E164","v":{"v":0,"d":"0.00"}},"水泵冲槽设备（套）",10,645,0,0]
[{"$f":"SUBTOTAL(3,$B$7:B81)","v":0},"TXL2-145","96 芯以下光缆 平河水 普通土","机",{"$f":"'表三 甲'!E173","v":{"v":0,"d":"0.00"}},"水下光(电)缆沟 挖冲机",2.5,677,0,0]
[{"$f":"SUBTOTAL(3,$B$7:B82)","v":0},"TXL2-146","96 芯以下光缆 平河水 硬土","机",{"$f":"'表三 甲'!E174","v":{"v":0,"d":"0.00"}},"水下光(电)缆沟 挖冲机",3.75,677,0,0]
[{"$f":"SUBTOTAL(3,$B$7:B83)","v":0},"TXL2-147","96 芯以下光缆 潮河水 普通土","机",{"$f":"'表三 甲'!E175","v":{"v":0,"d":"0.00"}},"水下光(电)缆沟 挖冲机",3.75,677,0,0]
[{"$f":"SUBTOTAL(3,$B$7:B84)","v":0},"TXL2-148","96 芯以下光缆 潮河水 硬土","机",{"$f":"'表三 甲'!E176","v":{"v":0,"d":"0.00"}},"水下光(电)缆沟 挖冲机",5.63,677,0,0]
[{"$f":"SUBTOTAL(3,$B$7:B85)","v":0},"TXL2-149","96 芯以上光缆 平河水 普通土","机",{"$f":"'表三 甲'!E177","v":{"v":0,"d":"0.00"}},"水下光(电)缆沟 挖冲机",2.5,677,0,0]
[{"$f":"SUBTOTAL(3,$B$7:B86)","v":0},"TXL2-150","96 芯以上光缆 平河水 硬土","机",{"$f":"'表三 甲'!E178","v":{"v":0,"d":"0.00"}},"水下光(电)缆沟 挖冲机",3.75,677,0,0]
[{"$f":"SUBTOTAL(3,$B$7:B87)","v":0},"TXL2-151","96 芯以上光缆 潮河水 普通土","机",{"$f":"'表三 甲'!E179","v":{"v":0,"d":"0.00"}},"水下光(电)缆沟 挖冲机",3.75,677,0,0]
[{"$f":"SUBTOTAL(3,$B$7:B88)","v":0},"TXL2-152","96 芯以上光缆 潮河水 硬土","机",{"$f":"'表三 甲'!E180","v":{"v":0,"d":"0.00"}},"水下光(电)缆沟 挖冲机",5.63,677,0,0]
[{"$f":"SUBTOTAL(3,$B$7:B89)","v":0},"TXL2-153","海缆装船 自航船","机",{"$f":"'表三 甲'!E181","v":{"v":0,"d":"0.00"}},"辅助船",0.13,0,0,0]
[{"$f":"SUBTOTAL(3,$B$7:B90)","v":0},"TXL2-153","海缆装船 自航船","机",{"$f":"E89","v":{"v":0,"d":"0.00"}},"海缆施工自航船 （5000t以下）",0.13,0,0,0]
[{"$f":"SUBTOTAL(3,$B$7:B91)","v":0},"TXL2-154","海缆装船 驳船","机",{"$f":"'表三 甲'!E182","v":{"v":0,"d":"0.00"}},"辅助船",0.13,0,0,0]
[{"$f":"SUBTOTAL(3,$B$7:B92)","v":0},"TXL2-154","海缆装船 驳船","机",{"$f":"E91","v":{"v":0,"d":"0.00"}},"海缆施工驳船（500t以下）带拖轮",0.13,0,0,0]
[{"$f":"SUBTOTAL(3,$B$7:B93)","v":0},"TXL2-155","航行 自航船","机",{"$f":"'表三 甲'!E183","v":{"v":0,"d":"0.00"}},"海缆施工自航船 （5000t以下）",0.65,0,0,0]
[{"$f":"SUBTOTAL(3,$B$7:B94)","v":0},"TXL2-156","航行 驳船","机",{"$f":"'表三 甲'!E184","v":{"v":0,"d":"0.00"}},"海缆施工驳船 （500t 以下）带拖轮",1.6,0,0,0]
[{"$f":"SUBTOTAL(3,$B$7:B95)","v":0},"TXL2-157","海中敷设海缆 自航船","机",{"$f":"'表三 甲'!E185","v":{"v":0,"d":"0.00"}},"海缆施工自航船 （5000t 以下）",0.03,0,0,0]
[{"$f":"SUBTOTAL(3,$B$7:B96)","v":0},"TXL2-158","海中敷设海缆 驳船","机",{"$f":"'表三 甲'!E186","v":{"v":0,"d":"0.00"}},"海缆施工驳船 （500t 以下）带拖轮",0.03,0,0,0]
[{"$f":"SUBTOTAL(3,$B$7:B97)","v":0},"TXL2-159","海中埋设海缆 自航船 埋深 3m 以上","机",{"$f":"'表三 甲'!E187","v":{"v":0,"d":"0.00"}},"海缆施工自航船 （5000t以下）",0.9,0,0,0]
[{"$f":"SUBTOTAL(3,$B$7:B98)","v":0},"TXL2-160","海中埋设海缆 自航船 埋深 3m 以下","机",{"$f":"'表三 甲'!E188","v":{"v":0,"d":"0.00"}},"海缆施工自航船 （5000t 以下）",0.3,0,0,0]
[{"$f":"SUBTOTAL(3,$B$7:B99)","v":0},"TXL2-161","海中埋设海缆 驳船 埋深 3m 以上","机",{"$f":"'表三 甲'!E189","v":{"v":0,"d":"0.00"}},"海缆施工驳船 （500t 以下）带拖轮",0.9,0,0,0]
[{"$f":"SUBTOTAL(3,$B$7:B100)","v":0},"TXL2-162","海中埋设海缆 驳船 埋深 3m 以下","机",{"$f":"'表三 甲'!E190","v":{"v":0,"d":"0.00"}},"海缆施工驳船 （500t 以下）带拖轮",0.45,0,0,0]
[{"$f":"SUBTOTAL(3,$B$7:B101)","v":0},"TXL2-163","海底光缆接续 自航船","机",{"$f":"'表三 甲'!E191","v":{"v":0,"d":"0.00"}},"接头设备",3,0,0,0]
[{"$f":"SUBTOTAL(3,$B$7:B102)","v":0},"TXL2-163","海底光缆接续 自航船","机",{"$f":"E101","v":{"v":0,"d":"0.00"}},"海缆施工自航船 （5000t 以下）",3,0,0,0]
[{"$f":"SUBTOTAL(3,$B$7:B103)","v":0},"TXL2-164","海底光缆接续 驳船","机",{"$f":"'表三 甲'!E192","v":{"v":0,"d":"0.00"}},"海缆施工驳船（ 500t 以下）带拖轮",3,0,0,0]
[{"$f":"SUBTOTAL(3,$B$7:B104)","v":0},"TXL2-164","海底光缆接续 驳船","机",{"$f":"E103","v":{"v":0,"d":"0.00"}},"接头设备",3,0,0,0]
[{"$f":"SUBTOTAL(3,$B$7:B105)","v":0},"TXL2-165","辅助船法敷设登陆海缆 自航船","机",{"$f":"'表三 甲'!E193","v":{"v":0,"d":"0.00"}},"辅助船",2,0,0,0]
[{"$f":"SUBTOTAL(3,$B$7:B106)","v":0},"TXL2-165","辅助船法敷设登陆海缆 自航船","机",{"$f":"E105","v":{"v":0,"d":"0.00"}},"海缆施工自航船 （5000t 以下）",1,0,0,0]
[{"$f":"SUBTOTAL(3,$B$7:B107)","v":0},"TXL2-166","辅助船法敷设登陆海缆 驳船","机",{"$f":"'表三 甲'!E194","v":{"v":0,"d":"0.00"}},"海缆施工驳船（500t 以下）带拖轮",1,0,0,0]
[{"$f":"SUBTOTAL(3,$B$7:B108)","v":0},"TXL2-166","辅助船法敷设登陆海缆 驳船","机",{"$f":"E107","v":{"v":0,"d":"0.00"}},"辅助船",2,0,0,0]
[{"$f":"SUBTOTAL(3,$B$7:B109)","v":0},"TXL2-167","浮球法敷设登陆海缆 自航船","机",{"$f":"'表三 甲'!E195","v":{"v":0,"d":"0.00"}},"海缆施工自航船 （5000t 以下）",1,0,0,0]
[{"$f":"SUBTOTAL(3,$B$7:B110)","v":0},"TXL2-167","浮球法敷设登陆海缆 自航船","机",{"$f":"E109","v":{"v":0,"d":"0.00"}},"辅助船",3,0,0,0]
[{"$f":"SUBTOTAL(3,$B$7:B111)","v":0},"TXL2-167","浮球法敷设登陆海缆 自航船","机",{"$f":"E109","v":{"v":0,"d":"0.00"}},"机械牵引设备",1,0,0,0]
[{"$f":"SUBTOTAL(3,$B$7:B112)","v":0},"TXL2-168","浮球法敷设登陆海缆 驳船","机",{"$f":"'表三 甲'!E196","v":{"v":0,"d":"0.00"}},"辅助船",3,0,0,0]
[{"$f":"SUBTOTAL(3,$B$7:B113)","v":0},"TXL2-168","浮球法敷设登陆海缆 驳船","机",{"$f":"E112","v":{"v":0,"d":"0.00"}},"机械牵引设备",1,0,0,0]
[{"$f":"SUBTOTAL(3,$B$7:B114)","v":0},"TXL2-168","浮球法敷设登陆海缆 驳船","机",{"$f":"E112","v":{"v":0,"d":"0.00"}},"海缆施工驳船 (500t 以下)带拖轮",1,0,0,0]
[{"$f":"SUBTOTAL(3,$B$7:B115)","v":0},"TXL2-169","海底光缆冲埋 水深 20m 以下","机",{"$f":"'表三 甲'!E197","v":{"v":0,"d":"0.00"}},"辅助船",6,0,0,0]
[{"$f":"SUBTOTAL(3,$B$7:B116)","v":0},"TXL2-169","海底光缆冲埋 水深 20m 以下","机",{"$f":"E115","v":{"v":0,"d":"0.00"}},"海缆施工驳船 (500t 以下)带拖轮",3,0,0,0]
[{"$f":"SUBTOTAL(3,$B$7:B117)","v":0},"TXL2-170","海底光缆冲埋 水深 20～30m","机",{"$f":"'表三 甲'!E198","v":{"v":0,"d":"0.00"}},"海缆施工驳船 (500t 以下)带拖轮",5,0,0,0]
[{"$f":"SUBTOTAL(3,$B$7:B118)","v":0},"TXL2-170","海底光缆冲埋 水深 20～30m","机",{"$f":"E117","v":{"v":0,"d":"0.00"}},"辅助船",10,0,0,0]
[{"$f":"SUBTOTAL(3,$B$7:B119)","v":0},"TXL2-171","水下机器人（ROV）后冲埋海底光缆 自航船","机",{"$f":"'表三 甲'!E199","v":{"v":0,"d":"0.00"}},"海缆施工自航船 (5000t 以下)",0.05,0,0,0]
[{"$f":"SUBTOTAL(3,$B$7:B120)","v":0},"TXL2-171","水下机器人（ROV）后冲埋海底光缆 自航船","机",{"$f":"E119","v":{"v":0,"d":"0.00"}},"冲埋设备",0.05,0,0,0]
[{"$f":"SUBTOTAL(3,$B$7:B121)","v":0},"TXL2-172","水下机器人（ROV）后冲埋海底光缆 驳船","机",{"$f":"'表三 甲'!E200","v":{"v":0,"d":"0.00"}},"海缆施工驳船 (500t 以下)带拖轮",0.05,0,0,0]
[{"$f":"SUBTOTAL(3,$B$7:B122)","v":0},"TXL2-172","水下机器人（ROV）后冲埋海底光缆 驳船","机",{"$f":"E121","v":{"v":0,"d":"0.00"}},"冲埋设备",0.05,0,0,0]
[{"$f":"SUBTOTAL(3,$B$7:B123)","v":0},"TXL2-173","水下安装 关节套管","机",{"$f":"'表三 甲'!E201","v":{"v":0,"d":"0.00"}},"海缆施工自航船 (5000t 以下)",0.2,0,0,0]
[{"$f":"SUBTOTAL(3,$B$7:B124)","v":1},"TXL3-001","立 9m 以下水泥杆 综合土","机",{"$f":"'表三 甲'!E217","v":{"v":6,"d":"6.00"}},"汽车式起重机 5t",0.04,516,0.24,123.84]
[{"$f":"SUBTOTAL(3,$B$7:B125)","v":1},"TXL3-002","立 9m 以下水泥杆 软石","机",{"$f":"'表三 甲'!E218","v":{"v":0,"d":"0.00"}},"汽车式起重机 5t",0.04,516,0,0]
[{"$f":"SUBTOTAL(3,$B$7:B126)","v":1},"TXL3-003","立 9m 以下水泥杆 坚石","机",{"$f":"'表三 甲'!E219","v":{"v":0,"d":"0.00"}},"汽车式起重机 5t",0.04,516,0,0]
[{"$f":"SUBTOTAL(3,$B$7:B127)","v":1},"TXL3-004","立 11m 以下水泥杆 综合土","机",{"$f":"'表三 甲'!E220","v":{"v":0,"d":"0.00"}},"汽车式起重机 5t",0.04,516,0,0]
[{"$f":"SUBTOTAL(3,$B$7:B128)","v":1},"TXL3-005","立 11m 以下水泥杆 软石","机",{"$f":"'表三 甲'!E221","v":{"v":0,"d":"0.00"}},"汽车式起重机 5t",0.04,516,0,0]
[{"$f":"SUBTOTAL(3,$B$7:B129)","v":1},"TXL3-006","立 11m 以下水泥杆 坚石","机",{"$f":"'表三 甲'!E222","v":{"v":0,"d":"0.00"}},"汽车式起重机 5t",0.04,516,0,0]
[{"$f":"SUBTOTAL(3,$B$7:B130)","v":1},"TXL3-007","立 13m 以下水泥杆 综合土","机",{"$f":"'表三 甲'!E223","v":{"v":0,"d":"0.00"}},"汽车式起重机 5t",0.06,516,0,0]
[{"$f":"SUBTOTAL(3,$B$7:B131)","v":1},"TXL3-008","立 13m 以下水泥杆 软石","机",{"$f":"'表三 甲'!E224","v":{"v":0,"d":"0.00"}},"汽车式起重机 5t",0.06,516,0,0]
[{"$f":"SUBTOTAL(3,$B$7:B132)","v":1},"TXL3-009","立 13m 以下水泥杆 坚石","机",{"$f":"'表三 甲'!E225","v":{"v":0,"d":"0.00"}},"汽车式起重机 5t",0.06,516,0,0]
[{"$f":"SUBTOTAL(3,$B$7:B133)","v":1},"TXL3-010","立 13m 以下水泥 H 杆 综合土","机",{"$f":"'表三 甲'!E226","v":{"v":0,"d":"0.00"}},"汽车式起重机 5t",0.12,516,0,0]
[{"$f":"SUBTOTAL(3,$B$7:B134)","v":1},"TXL3-011","立 13m 以下水泥 H 杆 软石","机",{"$f":"'表三 甲'!E227","v":{"v":0,"d":"0.00"}},"汽车式起重机 5t",0.12,516,0,0]
[{"$f":"SUBTOTAL(3,$B$7:B135)","v":1},"TXL3-012","立 13m 以下水泥 H 杆 坚石","机",{"$f":"'表三 甲'!E228","v":{"v":0,"d":"0.00"}},"汽车式起重机 5t",0.12,516,0,0]
[{"$f":"SUBTOTAL(3,$B$7:B136)","v":1},"TXL3-048","装水泥撑杆 综合土","机",{"$f":"'表三 甲'!E264","v":{"v":0,"d":"0.00"}},"汽车式起重机（5t）",0.05,516,{"$f":"E136*G136","v":0},{"$f":"H136*I136","v":0}]
[{"$f":"SUBTOTAL(3,$B$7:B137)","v":1},"TXL3-049","装水泥撑杆 软石","机",{"$f":"'表三 甲'!E265","v":{"v":0,"d":"0.00"}},"汽车式起重机（5t）",0.05,516,0,0]
[{"$f":"SUBTOTAL(3,$B$7:B138)","v":1},"TXL3-050","装水泥撑杆 坚石","机",{"$f":"'表三 甲'!E266","v":{"v":0,"d":"0.00"}},"汽车式起重机（5t）",0.05,516,0,0]
[{"$f":"SUBTOTAL(3,$B$7:B139)","v":1},"TXL3-203","缠绕法架设架空光缆 平原 36 芯以下","机",{"$f":"'表三 甲'!E419","v":{"v":0,"d":"0.00"}},"缠绕机",0.3,137,0,0]
[{"$f":"SUBTOTAL(3,$B$7:B140)","v":1},"TXL3-204","缠绕法架设架空光缆 平原 72 芯以下","机",{"$f":"'表三 甲'!E420","v":{"v":0,"d":"0.00"}},"缠绕机",0.3,137,0,0]
[{"$f":"SUBTOTAL(3,$B$7:B141)","v":1},"TXL3-205","缠绕法架设架空光缆 平原 144 芯以下","机",{"$f":"'表三 甲'!E421","v":{"v":0,"d":"0.00"}},"缠绕机",0.3,137,0,0]
[{"$f":"SUBTOTAL(3,$B$7:B142)","v":1},"TXL3-206","缠绕法架设架空光缆 平原 288 芯以下","机",{"$f":"'表三 甲'!E422","v":{"v":0,"d":"0.00"}},"缠绕机",0.3,137,0,0]
[{"$f":"SUBTOTAL(3,$B$7:B143)","v":1},"TXL3-207","缠绕法架设架空光缆 平原 288 芯以上","机",{"$f":"'表三 甲'!E423","v":{"v":0,"d":"0.00"}},"缠绕机",0.3,137,0,0]
[{"$f":"SUBTOTAL(3,$B$7:B144)","v":1},"TXL3-208","缠绕法架设架空光缆 丘陵、城区、水田 36 芯以下","机",{"$f":"'表三 甲'!E424","v":{"v":0,"d":"0.00"}},"缠绕机",0.35,137,0,0]
[{"$f":"SUBTOTAL(3,$B$7:B145)","v":1},"TXL3-209","缠绕法架设架空光缆 丘陵、城区、水田 72 芯以下","机",{"$f":"'表三 甲'!E425","v":{"v":0,"d":"0.00"}},"缠绕机",0.35,137,0,0]
[{"$f":"SUBTOTAL(3,$B$7:B146)","v":1},"TXL3-210","缠绕法架设架空光缆 丘陵、城区、水田 144 芯以下","机",{"$f":"'表三 甲'!E426","v":{"v":0,"d":"0.00"}},"缠绕机",0.35,137,0,0]
[{"$f":"SUBTOTAL(3,$B$7:B147)","v":1},"TXL3-211","缠绕法架设架空光缆 丘陵、城区、水田 288 芯以下","机",{"$f":"'表三 甲'!E427","v":{"v":0,"d":"0.00"}},"缠绕机",0.35,137,0,0]
[{"$f":"SUBTOTAL(3,$B$7:B148)","v":1},"TXL3-212","缠绕法架设架空光缆 丘陵、城区、水田 288 芯以上","机",{"$f":"'表三 甲'!E428","v":{"v":0,"d":"0.00"}},"缠绕机",0.35,137,0,0]
[{"$f":"SUBTOTAL(3,$B$7:B149)","v":1},"TXL3-213","缠绕法架设架空光缆 山区 36 芯以下","机",{"$f":"'表三 甲'!E429","v":{"v":0,"d":"0.00"}},"缠绕机",0.42,137,0,0]
[{"$f":"SUBTOTAL(3,$B$7:B150)","v":1},"TXL3-214","缠绕法架设架空光缆 山区 72 芯以下","机",{"$f":"'表三 甲'!E430","v":{"v":0,"d":"0.00"}},"缠绕机",0.42,137,0,0]
[{"$f":"SUBTOTAL(3,$B$7:B151)","v":1},"TXL3-215","缠绕法架设架空光缆 山区 144 芯以下","机",{"$f":"'表三 甲'!E431","v":{"v":0,"d":"0.00"}},"缠绕机",0.42,137,0,0]
[{"$f":"SUBTOTAL(3,$B$7:B152)","v":1},"TXL3-216","缠绕法架设架空光缆 山区 288 芯以下","机",{"$f":"'表三 甲'!E432","v":{"v":0,"d":"0.00"}},"缠绕机",0.42,137,0,0]
[{"$f":"SUBTOTAL(3,$B$7:B153)","v":1},"TXL3-217","缠绕法架设架空光缆 山区 288 芯以上","机",{"$f":"'表三 甲'!E433","v":{"v":0,"d":"0.00"}},"缠绕机",0.42,137,0,0]
[{"$f":"SUBTOTAL(3,$B$7:B154)","v":1},"TXL4-001","布放光（电）缆人孔抽水 积水","机",{"$f":"'表三 甲'!E439","v":{"v":0,"d":"0.00"}},"抽水机",0.2,119,0,0]
[{"$f":"SUBTOTAL(3,$B$7:B155)","v":1},"TXL4-002","布放光（电）缆人孔抽水 流水","机",{"$f":"'表三 甲'!E440","v":{"v":0,"d":"0.00"}},"抽水机",0.5,119,0,0]
[{"$f":"SUBTOTAL(3,$B$7:B156)","v":1},"TXL4-003","布放光（电）缆手孔抽水","机",{"$f":"'表三 甲'!E441","v":{"v":0,"d":"0.00"}},"抽水机",0.1,119,0,0]
[{"$f":"SUBTOTAL(3,$B$7:B157)","v":1},"TXL4-026","机械敷设管道电缆 200 对以下","机",{"$f":"'表三 甲'!E464","v":{"v":0,"d":"0.00"}},"电缆拖车",0.4,138,0,0]
[{"$f":"SUBTOTAL(3,$B$7:B158)","v":1},"TXL4-026","机械敷设管道电缆 200 对以下","机",{"$f":"E157","v":{"v":0,"d":"0.00"}},"载重汽车 (5t)",0.4,372,0,0]
[{"$f":"SUBTOTAL(3,$B$7:B159)","v":1},"TXL4-027","机械敷设管道电缆 400 对以下","机",{"$f":"'表三 甲'!E465","v":{"v":0,"d":"0.00"}},"电缆拖车",0.55,138,0,0]
[{"$f":"SUBTOTAL(3,$B$7:B160)","v":1},"TXL4-027","机械敷设管道电缆 400 对以下","机",{"$f":"E159","v":{"v":0,"d":"0.00"}},"载重汽车 (5t)",0.55,372,0,0]
[{"$f":"SUBTOTAL(3,$B$7:B161)","v":1},"TXL4-028","机械敷设管道电缆 800 对以下","机",{"$f":"'表三 甲'!E466","v":{"v":0,"d":"0.00"}},"电缆拖车",0.75,138,0,0]
[{"$f":"SUBTOTAL(3,$B$7:B162)","v":1},"TXL4-028","机械敷设管道电缆 800 对以下","机",{"$f":"E161","v":{"v":0,"d":"0.00"}},"载重汽车 (5t)",0.75,372,0,0]
[{"$f":"SUBTOTAL(3,$B$7:B163)","v":1},"TXL4-029","机械敷设管道电缆 1200 对以下","机",{"$f":"'表三 甲'!E467","v":{"v":0,"d":"0.00"}},"电缆拖车",0.9,138,0,0]
[{"$f":"SUBTOTAL(3,$B$7:B164)","v":1},"TXL4-029","机械敷设管道电缆 1200 对以下","机",{"$f":"E163","v":{"v":0,"d":"0.00"}},"载重汽车 (5t)",0.9,372,0,0]
[{"$f":"SUBTOTAL(3,$B$7:B165)","v":1},"TXL4-030","机械敷设管道电缆 1800 对以下","机",{"$f":"'表三 甲'!E468","v":{"v":0,"d":"0.00"}},"载重汽车 (5t)",1.1,372,0,0]
[{"$f":"SUBTOTAL(3,$B$7:B166)","v":1},"TXL4-030","机械敷设管道电缆 1800 对以下","机",{"$f":"E165","v":{"v":0,"d":"0.00"}},"电缆拖车",1.1,138,0,0]
[{"$f":"SUBTOTAL(3,$B$7:B167)","v":1},"TXL4-031","机械敷设管道电缆 2400 对以下","机",{"$f":"'表三 甲'!E469","v":{"v":0,"d":"0.00"}},"载重汽车 (5t)",1.4,372,0,0]
[{"$f":"SUBTOTAL(3,$B$7:B168)","v":1},"TXL4-031","机械敷设管道电缆 2400 对以下","机",{"$f":"E167","v":{"v":0,"d":"0.00"}},"电缆拖车",1.4,138,0,0]
[{"$f":"SUBTOTAL(3,$B$7:B169)","v":1},"TXL4-032","机械敷设管道电缆 2400 对以上","机",{"$f":"'表三 甲'!E470","v":{"v":0,"d":"0.00"}},"载重汽车 (5t)",2,372,0,0]
[{"$f":"SUBTOTAL(3,$B$7:B170)","v":1},"TXL4-032","机械敷设管道电缆 2400 对以上","机",{"$f":"E169","v":{"v":0,"d":"0.00"}},"电缆拖车",2,138,0,0]
[{"$f":"SUBTOTAL(3,$B$7:B171)","v":1},"TXL5-001","城区气流法敷设微管 3 根以下","机",{"$f":"'表三 甲'!E501","v":{"v":0,"d":"0.00"}},"气流敷设设备(敷设微管微缆)",0.23,814,0,0]
[{"$f":"SUBTOTAL(3,$B$7:B172)","v":1},"TXL5-001","城区气流法敷设微管 3 根以下","机",{"$f":"E171","v":{"v":0,"d":"0.00"}},"载重汽车 （5t）",0.46,372,0,0]
[{"$f":"SUBTOTAL(3,$B$7:B173)","v":1},"TXL5-001","城区气流法敷设微管 3 根以下","机",{"$f":"E171","v":{"v":0,"d":"0.00"}},"汽车式起重机 （5t）",0.18,516,0,0]
[{"$f":"SUBTOTAL(3,$B$7:B174)","v":1},"TXL5-002","城区气流法敷设微管 5 根以下","机",{"$f":"'表三 甲'!E502","v":{"v":0,"d":"0.00"}},"气流敷设设备(敷设微管微缆)",0.26,814,0,0]
[{"$f":"SUBTOTAL(3,$B$7:B175)","v":1},"TXL5-002","城区气流法敷设微管 5 根以下","机",{"$f":"E174","v":{"v":0,"d":"0.00"}},"汽车式起重机 （5t）",0.18,516,0,0]
[{"$f":"SUBTOTAL(3,$B$7:B176)","v":1},"TXL5-002","城区气流法敷设微管 5 根以下","机",{"$f":"E174","v":{"v":0,"d":"0.00"}},"载重汽车 （5t）",0.52,372,0,0]
[{"$f":"SUBTOTAL(3,$B$7:B177)","v":1},"TXL5-003","城区气流法敷设微管 5 根以上","机",{"$f":"'表三 甲'!E503","v":{"v":0,"d":"0.00"}},"汽车式起重机 （5t）",0.18,516,0,0]
[{"$f":"SUBTOTAL(3,$B$7:B178)","v":1},"TXL5-003","城区气流法敷设微管 5 根以上","机",{"$f":"E177","v":{"v":0,"d":"0.00"}},"载重汽车 （5t）",0.6,372,0,0]
[{"$f":"SUBTOTAL(3,$B$7:B179)","v":1},"TXL5-003","城区气流法敷设微管 5 根以上","机",{"$f":"E177","v":{"v":0,"d":"0.00"}},"气流敷设设备(敷设微管微缆)",0.3,814,0,0]
[{"$f":"SUBTOTAL(3,$B$7:B180)","v":1},"TXL5-004","非城区气流法敷设微管 3 根以下","机",{"$f":"'表三 甲'!E504","v":{"v":0,"d":"0.00"}},"汽车式起重机 （5t）",0.15,516,0,0]
[{"$f":"SUBTOTAL(3,$B$7:B181)","v":1},"TXL5-004","非城区气流法敷设微管 3 根以下","机",{"$f":"E180","v":{"v":0,"d":"0.00"}},"载重汽车 （5t）",0.4,372,0,0]
[{"$f":"SUBTOTAL(3,$B$7:B182)","v":1},"TXL5-004","非城区气流法敷设微管 3 根以下","机",{"$f":"E180","v":{"v":0,"d":"0.00"}},"气流敷设设备(敷设微管微缆)",0.2,814,0,0]
[{"$f":"SUBTOTAL(3,$B$7:B183)","v":1},"TXL5-005","非城区气流法敷设微管 5 根以下","机",{"$f":"'表三 甲'!E505","v":{"v":0,"d":"0.00"}},"汽车式起重机 （5t）",0.15,516,0,0]
[{"$f":"SUBTOTAL(3,$B$7:B184)","v":1},"TXL5-005","非城区气流法敷设微管 5 根以下","机",{"$f":"E183","v":{"v":0,"d":"0.00"}},"气流敷设设备(敷设微管微缆)",0.23,814,0,0]
[{"$f":"SUBTOTAL(3,$B$7:B185)","v":1},"TXL5-005","非城区气流法敷设微管 5 根以下","机",{"$f":"E183","v":{"v":0,"d":"0.00"}},"载重汽车 （5t）",0.46,372,0,0]
[{"$f":"SUBTOTAL(3,$B$7:B186)","v":1},"TXL5-006","非城区气流法敷设微管 5 根以上","机",{"$f":"'表三 甲'!E506","v":{"v":0,"d":"0.00"}},"气流敷设设备(敷设微管微缆)",0.26,814,0,0]
[{"$f":"SUBTOTAL(3,$B$7:B187)","v":1},"TXL5-006","非城区气流法敷设微管 5 根以上","机",{"$f":"E186","v":{"v":0,"d":"0.00"}},"汽车式起重机 （5t）",0.15,516,0,0]
[{"$f":"SUBTOTAL(3,$B$7:B188)","v":1},"TXL5-006","非城区气流法敷设微管 5 根以上","机",{"$f":"E186","v":{"v":0,"d":"0.00"}},"载重汽车 （5t）",0.52,372,0,0]
[{"$f":"SUBTOTAL(3,$B$7:B189)","v":1},"TXL5-010","城区人工布放微管 非空闲保护管内 3 根以下","机",{"$f":"'表三 甲'!E510","v":{"v":0,"d":"0.00"}},"燃油式空气压缩机",0.1,368,0,0]
[{"$f":"SUBTOTAL(3,$B$7:B190)","v":1},"TXL5-011","城区人工布放微管 非空闲保护管内 4 至 5 根","机",{"$f":"'表三 甲'!E511","v":{"v":0,"d":"0.00"}},"燃油式空气压缩机",0.12,368,0,0]
[{"$f":"SUBTOTAL(3,$B$7:B191)","v":1},"TXL5-013","保护管贯通","机",{"$f":"'表三 甲'!E513","v":{"v":0,"d":"0.00"}},"载重汽车 （5t）",0.08,372,0,0]
[{"$f":"SUBTOTAL(3,$B$7:B192)","v":1},"TXL5-013","保护管贯通","机",{"$f":"E191","v":{"v":0,"d":"0.00"}},"气流敷设设备(敷设微管微缆)",0.08,814,0,0]
[{"$f":"SUBTOTAL(3,$B$7:B193)","v":1},"TXL5-016","混凝土路面开微槽 30m 以下","机",{"$f":"'表三 甲'!E516","v":{"v":0,"d":"0.00"}},"燃油式空气压缩机 (含风镐)",0.44,372,0,0]
[{"$f":"SUBTOTAL(3,$B$7:B194)","v":1},"TXL5-016","混凝土路面开微槽 30m 以下","机",{"$f":"E193","v":{"v":0,"d":"0.00"}},"真空泵",0.63,137,0,0]
[{"$f":"SUBTOTAL(3,$B$7:B195)","v":1},"TXL5-016","混凝土路面开微槽 30m 以下","机",{"$f":"E193","v":{"v":0,"d":"0.00"}},"路面切割机",0.7,210,0,0]
[{"$f":"SUBTOTAL(3,$B$7:B196)","v":1},"TXL5-016","混凝土路面开微槽 30m 以下","机",{"$f":"E193","v":{"v":0,"d":"0.00"}},"汽油发电机（10kW）",0.84,202,0,0]
[{"$f":"SUBTOTAL(3,$B$7:B197)","v":1},"TXL5-017","混凝土路面开微槽 每增加 10m","机",{"$f":"'表三 甲'!E517","v":{"v":0,"d":"0.00"}},"汽油发电机（10kW）",0.17,202,0,0]
[{"$f":"SUBTOTAL(3,$B$7:B198)","v":1},"TXL5-017","混凝土路面开微槽 每增加 10m","机",{"$f":"E197","v":{"v":0,"d":"0.00"}},"燃油式空气压缩机 (含风镐)",0.08,372,0,0]
[{"$f":"SUBTOTAL(3,$B$7:B199)","v":1},"TXL5-017","混凝土路面开微槽 每增加 10m","机",{"$f":"E197","v":{"v":0,"d":"0.00"}},"真空泵",0.1,137,0,0]
[{"$f":"SUBTOTAL(3,$B$7:B200)","v":1},"TXL5-017","混凝土路面开微槽 每增加 10m","机",{"$f":"E197","v":{"v":0,"d":"0.00"}},"路面切割机",0.11,210,{"$f":"E200*G200","v":0},{"$f":"H200*I200","v":0}]
[{"$f":"SUBTOTAL(3,$B$7:B201)","v":1},"TXL5-018","沥青柏油路面开微槽 30m 以下","机",{"$f":"'表三 甲'!E518","v":{"v":0,"d":"0.00"}},"路面切割机",0.7,210,0,0]
[{"$f":"SUBTOTAL(3,$B$7:B202)","v":1},"TXL5-018","沥青柏油路面开微槽 30m 以下","机",{"$f":"E201","v":{"v":0,"d":"0.00"}},"真空泵",0.63,137,0,0]
[{"$f":"SUBTOTAL(3,$B$7:B203)","v":1},"TXL5-018","沥青柏油路面开微槽 30m 以下","机",{"$f":"E201","v":{"v":0,"d":"0.00"}},"燃油式空气压缩机 (含风镐)",0.44,372,0,0]
[{"$f":"SUBTOTAL(3,$B$7:B204)","v":1},"TXL5-018","沥青柏油路面开微槽 30m 以下","机",{"$f":"E201","v":{"v":0,"d":"0.00"}},"汽油发电机（10kW）",0.84,202,0,0]
[{"$f":"SUBTOTAL(3,$B$7:B205)","v":1},"TXL5-019","沥青柏油路面开微槽 每增加 10m","机",{"$f":"'表三 甲'!E519","v":{"v":0,"d":"0.00"}},"真空泵",0.1,137,0,0]
[{"$f":"SUBTOTAL(3,$B$7:B206)","v":1},"TXL5-019","沥青柏油路面开微槽 每增加 10m","机",{"$f":"E205","v":{"v":0,"d":"0.00"}},"路面切割机",0.11,210,0,0]
[{"$f":"SUBTOTAL(3,$B$7:B207)","v":1},"TXL5-019","沥青柏油路面开微槽 每增加 10m","机",{"$f":"E205","v":{"v":0,"d":"0.00"}},"汽油发电机 10kW",0.17,202,0,0]
[{"$f":"SUBTOTAL(3,$B$7:B208)","v":1},"TXL5-019","沥青柏油路面开微槽 每增加 10m","机",{"$f":"E205","v":{"v":0,"d":"0.00"}},"燃油式空气压缩机 (含风镐)",0.08,372,0,0]
[{"$f":"SUBTOTAL(3,$B$7:B209)","v":1},"TXL5-020","平原地区气流法穿放光缆 36 芯以下","机",{"$f":"'表三 甲'!E520","v":{"v":0,"d":"0.00"}},"气流敷设设备(敷设光缆)",0.2,1007,0,0]
[{"$f":"SUBTOTAL(3,$B$7:B210)","v":1},"TXL5-020","平原地区气流法穿放光缆 36 芯以下","机",{"$f":"E209","v":{"v":0,"d":"0.00"}},"汽车式起重机 (5t)",0.2,516,0,0]
[{"$f":"SUBTOTAL(3,$B$7:B211)","v":1},"TXL5-020","平原地区气流法穿放光缆 36 芯以下","机",{"$f":"E209","v":{"v":0,"d":"0.00"}},"载重汽车 (5t)",0.2,372,0,0]
[{"$f":"SUBTOTAL(3,$B$7:B212)","v":1},"TXL5-021","平原地区气流法穿放光缆 72 芯以下","机",{"$f":"'表三 甲'!E521","v":{"v":0,"d":"0.00"}},"载重汽车 (5t)",0.23,372,0,0]
[{"$f":"SUBTOTAL(3,$B$7:B213)","v":1},"TXL5-021","平原地区气流法穿放光缆 72 芯以下","机",{"$f":"E212","v":{"v":0,"d":"0.00"}},"气流敷设设备(敷设光缆)",0.23,1007,0,0]
[{"$f":"SUBTOTAL(3,$B$7:B214)","v":1},"TXL5-021","平原地区气流法穿放光缆 72 芯以下","机",{"$f":"E212","v":{"v":0,"d":"0.00"}},"汽车式起重机 (5t)",0.23,516,0,0]
[{"$f":"SUBTOTAL(3,$B$7:B215)","v":1},"TXL5-022","平原地区气流法穿放光缆 144 芯以下","机",{"$f":"'表三 甲'!E522","v":{"v":0,"d":"0.00"}},"载重汽车 (5t)",0.26,372,0,0]
[{"$f":"SUBTOTAL(3,$B$7:B216)","v":1},"TXL5-022","平原地区气流法穿放光缆 144 芯以下","机",{"$f":"E215","v":{"v":0,"d":"0.00"}},"气流敷设设备(敷设光缆)",0.26,1007,0,0]
[{"$f":"SUBTOTAL(3,$B$7:B217)","v":1},"TXL5-022","平原地区气流法穿放光缆 144 芯以下","机",{"$f":"E215","v":{"v":0,"d":"0.00"}},"汽车式起重机 (5t）",0.26,516,0,0]
[{"$f":"SUBTOTAL(3,$B$7:B218)","v":1},"TXL5-023","平原地区气流法穿放光缆 288 芯以下","机",{"$f":"'表三 甲'!E523","v":{"v":0,"d":"0.00"}},"汽车式起重机 （5t）",0.29,516,0,0]
[{"$f":"SUBTOTAL(3,$B$7:B219)","v":1},"TXL5-023","平原地区气流法穿放光缆 288 芯以下","机",{"$f":"E218","v":{"v":0,"d":"0.00"}},"气流敷设设备(敷设光缆)",0.29,1007,0,0]
[{"$f":"SUBTOTAL(3,$B$7:B220)","v":1},"TXL5-023","平原地区气流法穿放光缆 288 芯以下","机",{"$f":"E218","v":{"v":0,"d":"0.00"}},"载重汽车 （5t）",0.29,372,0,0]
[{"$f":"SUBTOTAL(3,$B$7:B221)","v":1},"TXL5-024","平原地区气流法穿放光缆 288 芯以上","机",{"$f":"'表三 甲'!E524","v":{"v":0,"d":"0.00"}},"汽车式起重机 （5t)",0.32,516,0,0]
[{"$f":"SUBTOTAL(3,$B$7:B222)","v":1},"TXL5-024","平原地区气流法穿放光缆 288 芯以上","机",{"$f":"E221","v":{"v":0,"d":"0.00"}},"载重汽车 (5t)",0.32,372,0,0]
[{"$f":"SUBTOTAL(3,$B$7:B223)","v":1},"TXL5-024","平原地区气流法穿放光缆 288 芯以上","机",{"$f":"E221","v":{"v":0,"d":"0.00"}},"气流敷设设备(敷设光缆)",0.32,1007,0,0]
[{"$f":"SUBTOTAL(3,$B$7:B224)","v":1},"TXL5-025","丘陵、城区、水田地区气流法穿放光缆 36 芯以下","机",{"$f":"'表三 甲'!E525","v":{"v":0,"d":"0.00"}},"气流敷设设备(敷设光缆)",0.23,1007,0,0]
[{"$f":"SUBTOTAL(3,$B$7:B225)","v":1},"TXL5-025","丘陵、城区、水田地区气流法穿放光缆 36 芯以下","机",{"$f":"E224","v":{"v":0,"d":"0.00"}},"汽车式起重机 (5t)",0.23,516,0,0]
[{"$f":"SUBTOTAL(3,$B$7:B226)","v":1},"TXL5-025","丘陵、城区、水田地区气流法穿放光缆 36 芯以下","机",{"$f":"E224","v":{"v":0,"d":"0.00"}},"载重汽车 (5t)",0.23,372,0,0]
[{"$f":"SUBTOTAL(3,$B$7:B227)","v":1},"TXL5-026","丘陵、城区、水田地区气流法穿放光缆 72 芯以下","机",{"$f":"'表三 甲'!E526","v":{"v":0,"d":"0.00"}},"载重汽车 (5t)",0.27,372,0,0]
[{"$f":"SUBTOTAL(3,$B$7:B228)","v":1},"TXL5-026","丘陵、城区、水田地区气流法穿放光缆 72 芯以下","机",{"$f":"E227","v":{"v":0,"d":"0.00"}},"汽车式起重机 (5t)",0.27,516,0,0]
[{"$f":"SUBTOTAL(3,$B$7:B229)","v":1},"TXL5-026","丘陵、城区、水田地区气流法穿放光缆 72 芯以下","机",{"$f":"E227","v":{"v":0,"d":"0.00"}},"气流敷设设备(敷设光缆)",0.27,1007,0,0]
[{"$f":"SUBTOTAL(3,$B$7:B230)","v":1},"TXL5-027","丘陵、城区、水田地区气流法穿放光缆 144 芯以下","机",{"$f":"'表三 甲'!E527","v":{"v":0,"d":"0.00"}},"汽车式起重机 (5t)",0.3,516,0,0]
[{"$f":"SUBTOTAL(3,$B$7:B231)","v":1},"TXL5-027","丘陵、城区、水田地区气流法穿放光缆 144 芯以下","机",{"$f":"E230","v":{"v":0,"d":"0.00"}},"载重汽车 (5t)",0.3,372,0,0]
[{"$f":"SUBTOTAL(3,$B$7:B232)","v":1},"TXL5-027","丘陵、城区、水田地区气流法穿放光缆 144 芯以下","机",{"$f":"E230","v":{"v":0,"d":"0.00"}},"气流敷设设备(敷设光缆)",0.3,1007,0,0]
[{"$f":"SUBTOTAL(3,$B$7:B233)","v":1},"TXL5-028","丘陵、城区、水田地区气流法穿放光缆 288 芯以下","机",{"$f":"'表三 甲'!E528","v":{"v":0,"d":"0.00"}},"汽车式起重机 (5t)",0.33,516,0,0]
[{"$f":"SUBTOTAL(3,$B$7:B234)","v":1},"TXL5-028","丘陵、城区、水田地区气流法穿放光缆 288 芯以下","机",{"$f":"E233","v":{"v":0,"d":"0.00"}},"气流敷设设备(敷设光缆)",0.33,1007,0,0]
[{"$f":"SUBTOTAL(3,$B$7:B235)","v":1},"TXL5-028","丘陵、城区、水田地区气流法穿放光缆 288 芯以下","机",{"$f":"E233","v":{"v":0,"d":"0.00"}},"载重汽车 (5t)",0.33,372,0,0]
[{"$f":"SUBTOTAL(3,$B$7:B236)","v":1},"TXL5-029","丘陵、城区、水田地区气流法穿放光缆 288 芯以上","机",{"$f":"'表三 甲'!E529","v":{"v":0,"d":"0.00"}},"气流敷设设备(敷设光缆)",0.37,1007,0,0]
[{"$f":"SUBTOTAL(3,$B$7:B237)","v":1},"TXL5-029","丘陵、城区、水田地区气流法穿放光缆 288 芯以上","机",{"$f":"E236","v":{"v":0,"d":"0.00"}},"载重汽车 (5t)",0.37,372,0,0]
[{"$f":"SUBTOTAL(3,$B$7:B238)","v":1},"TXL5-029","丘陵、城区、水田地区气流法穿放光缆 288 芯以上","机",{"$f":"E236","v":{"v":0,"d":"0.00"}},"汽车式起重机 (5t)",0.37,516,0,0]
[{"$f":"SUBTOTAL(3,$B$7:B239)","v":1},"TXL5-030","山区气流法穿放光缆 36 芯以下","机",{"$f":"'表三 甲'!E530","v":{"v":0,"d":"0.00"}},"载重汽车 (5t)",0.28,372,0,0]
[{"$f":"SUBTOTAL(3,$B$7:B240)","v":1},"TXL5-030","山区气流法穿放光缆 36 芯以下","机",{"$f":"E239","v":{"v":0,"d":"0.00"}},"气流敷设设备(敷设光缆)",0.28,1007,0,0]
[{"$f":"SUBTOTAL(3,$B$7:B241)","v":1},"TXL5-030","山区气流法穿放光缆 36 芯以下","机",{"$f":"E239","v":{"v":0,"d":"0.00"}},"汽车式起重机 (5t)",0.28,516,0,0]
[{"$f":"SUBTOTAL(3,$B$7:B242)","v":1},"TXL5-031","山区气流法穿放光缆 72 芯以下","机",{"$f":"'表三 甲'!E531","v":{"v":0,"d":"0.00"}},"汽车式起重机 (5t)",0.32,516,0,0]
[{"$f":"SUBTOTAL(3,$B$7:B243)","v":1},"TXL5-031","山区气流法穿放光缆 72 芯以下","机",{"$f":"E242","v":{"v":0,"d":"0.00"}},"载重汽车 (5t)",0.32,372,0,0]
[{"$f":"SUBTOTAL(3,$B$7:B244)","v":1},"TXL5-031","山区气流法穿放光缆 72 芯以下","机",{"$f":"E242","v":{"v":0,"d":"0.00"}},"气流敷设设备(敷设光缆)",0.32,1007,0,0]
[{"$f":"SUBTOTAL(3,$B$7:B245)","v":1},"TXL5-032","山区气流法穿放光缆 144 芯以下","机",{"$f":"'表三 甲'!E532","v":{"v":0,"d":"0.00"}},"载重汽车 (5t)",0.36,372,0,0]
[{"$f":"SUBTOTAL(3,$B$7:B246)","v":1},"TXL5-032","山区气流法穿放光缆 144 芯以下","机",{"$f":"E245","v":{"v":0,"d":"0.00"}},"气流敷设设备(敷设光缆)",0.36,1007,0,0]
[{"$f":"SUBTOTAL(3,$B$7:B247)","v":1},"TXL5-032","山区气流法穿放光缆 144 芯以下","机",{"$f":"E245","v":{"v":0,"d":"0.00"}},"汽车式起重机 (5t)",0.36,516,0,0]
[{"$f":"SUBTOTAL(3,$B$7:B248)","v":1},"TXL5-033","山区气流法穿放光缆 288 芯以下","机",{"$f":"'表三 甲'!E533","v":{"v":0,"d":"0.00"}},"载重汽车 (5t)",0.41,372,0,0]
[{"$f":"SUBTOTAL(3,$B$7:B249)","v":1},"TXL5-033","山区气流法穿放光缆 288 芯以下","机",{"$f":"E248","v":{"v":0,"d":"0.00"}},"气流敷设设备(敷设光缆)",0.41,1007,0,0]
[{"$f":"SUBTOTAL(3,$B$7:B250)","v":1},"TXL5-033","山区气流法穿放光缆 288 芯以下","机",{"$f":"E248","v":{"v":0,"d":"0.00"}},"汽车式起重机 (5t)",0.41,516,0,0]
[{"$f":"SUBTOTAL(3,$B$7:B251)","v":1},"TXL5-034","山区气流法穿放光缆 288 芯以上","机",{"$f":"'表三 甲'!E534","v":{"v":0,"d":"0.00"}},"气流敷设设备(敷设光缆)",0.45,1007,0,0]
[{"$f":"SUBTOTAL(3,$B$7:B252)","v":1},"TXL5-034","山区气流法穿放光缆 288 芯以上","机",{"$f":"E251","v":{"v":0,"d":"0.00"}},"载重汽车 (5t)",0.45,372,0,0]
[{"$f":"SUBTOTAL(3,$B$7:B253)","v":1},"TXL5-034","山区气流法穿放光缆 288 芯以上","机",{"$f":"E251","v":{"v":0,"d":"0.00"}},"汽车式起重机 (5t)",0.45,516,0,0]
[{"$f":"SUBTOTAL(3,$B$7:B254)","v":1},"TXL5-035","微管（集束管）贯通","机",{"$f":"'表三 甲'!E535","v":{"v":0,"d":"0.00"}},"气流敷设设备(敷设微管微缆)",0.06,814,0,0]
[{"$f":"SUBTOTAL(3,$B$7:B255)","v":1},"TXL5-037","城区气流法敷设微型光缆 配盘长 2 公里以下","机",{"$f":"'表三 甲'!E537","v":{"v":0,"d":"0.00"}},"气流敷设设备(敷设微管微缆)",0.38,814,0,0]
[{"$f":"SUBTOTAL(3,$B$7:B256)","v":1},"TXL5-038","城区气流法敷设微型光缆 配盘长 2 公里以上","机",{"$f":"'表三 甲'!E538","v":{"v":0,"d":"0.00"}},"气流敷设设备(敷设微管微缆)",0.46,814,0,0]
[{"$f":"SUBTOTAL(3,$B$7:B257)","v":1},"TXL5-039","非城区气流法敷设微型光缆 配盘长 2 公里以下","机",{"$f":"'表三 甲'!E539","v":{"v":0,"d":"0.00"}},"气流敷设设备(敷设微管微缆)",0.25,814,0,0]
[{"$f":"SUBTOTAL(3,$B$7:B258)","v":1},"TXL5-040","非城区气流法敷设微型光缆 配盘长 2 公里以上","机",{"$f":"'表三 甲'!E540","v":{"v":0,"d":"0.00"}},"气流敷设设备(敷设微管微缆)",0.3,814,0,0]
[{"$f":"SUBTOTAL(3,$B$7:B259)","v":1},"TXL5-049","敷设钢管 φ25 以下","机",{"$f":"'表三 甲'!E549","v":{"v":0,"d":"0.00"}},"交流弧焊机 (21kVA)",0.3,120,0,0]
[{"$f":"SUBTOTAL(3,$B$7:B260)","v":1},"TXL5-050","敷设钢管 φ50 以下","机",{"$f":"'表三 甲'!E550","v":{"v":0,"d":"0.00"}},"交流弧焊机 (21kVA)",0.5,120,0,0]
[{"$f":"SUBTOTAL(3,$B$7:B261)","v":1},"TXL6-005","光缆成端接头 束状","机",{"$f":"'表三 甲'!E584","v":{"v":0,"d":"0.00"}},"光纤熔接机",0.03,144,0,0]
[{"$f":"SUBTOTAL(3,$B$7:B262)","v":1},"TXL6-006","光缆成端接头 带状","机",{"$f":"'表三 甲'!E585","v":{"v":0,"d":"0.00"}},"带状光纤熔接机",0.01,209,0,0]
[{"$f":"SUBTOTAL(3,$B$7:B263)","v":1},"TXL6-007","光缆接续 4 芯以下","机",{"$f":"'表三 甲'!E586","v":{"v":0,"d":"0.00"}},"光纤熔接机",0.15,144,0,0]
[{"$f":"SUBTOTAL(3,$B$7:B264)","v":1},"TXL6-007","光缆接续 4 芯以下","机",{"$f":"'表三 甲'!E586","v":{"v":0,"d":"0.00"}},"汽油发电机 (10kW)",0.08,202,{"$f":"E264*G264","v":0},{"$f":"H264*I264","v":0}]
[{"$f":"SUBTOTAL(3,$B$7:B265)","v":2},"TXL6-008","光缆接续 12 芯以下","机",{"$f":"'表三 甲'!E587","v":{"v":8,"d":"8.00"}},"汽油发电机 (10kW)",0.1,202,0.8,161.6]
[{"$f":"SUBTOTAL(3,$B$7:B266)","v":3},"TXL6-008","光缆接续 12 芯以下","机",{"$f":"'表三 甲'!E587","v":{"v":8,"d":"8.00"}},"光纤熔接机",0.2,144,1.6,230.4]
[{"$f":"SUBTOTAL(3,$B$7:B267)","v":4},"TXL6-009","光缆接续 24 芯以下","机",{"$f":"'表三 甲'!E588","v":{"v":18,"d":"18.00"}},"汽油发电机 (10kW)",0.15,202,2.7,545.4]
[{"$f":"SUBTOTAL(3,$B$7:B268)","v":5},"TXL6-009","光缆接续 24 芯以下","机",{"$f":"'表三 甲'!E588","v":{"v":18,"d":"18.00"}},"光纤熔接机",0.3,144,5.4,777.6]
[{"$f":"SUBTOTAL(3,$B$7:B269)","v":5},"TXL6-010","光缆接续 36 芯以下","机",{"$f":"'表三 甲'!E589","v":{"v":0,"d":"0.00"}},"光纤熔接机",0.45,144,0,0]
[{"$f":"SUBTOTAL(3,$B$7:B270)","v":5},"TXL6-010","光缆接续 36 芯以下","机",{"$f":"'表三 甲'!E589","v":{"v":0,"d":"0.00"}},"汽油发电机 (10kW)",0.25,202,0,0]
[{"$f":"SUBTOTAL(3,$B$7:B271)","v":6},"TXL6-011","光缆接续 48 芯以下","机",{"$f":"'表三 甲'!E590","v":{"v":12,"d":"12.00"}},"汽油发电机 (10kW)",0.3,202,3.6,727.2]
[{"$f":"SUBTOTAL(3,$B$7:B272)","v":7},"TXL6-011","光缆接续 48 芯以下","机",{"$f":"'表三 甲'!E590","v":{"v":12,"d":"12.00"}},"光纤熔接机",0.55,144,6.6,950.4]
[{"$f":"SUBTOTAL(3,$B$7:B273)","v":7},"TXL6-012","光缆接续 60 芯以下","机",{"$f":"'表三 甲'!E591","v":{"v":0,"d":"0.00"}},"汽油发电机 (10kW)",0.35,202,0,0]
[{"$f":"SUBTOTAL(3,$B$7:B274)","v":7},"TXL6-012","光缆接续 60 芯以下","机",{"$f":"'表三 甲'!E591","v":{"v":0,"d":"0.00"}},"光纤熔接机",0.7,144,0,0]
[{"$f":"SUBTOTAL(3,$B$7:B275)","v":7},"TXL6-013","光缆接续 72 芯以下","机",{"$f":"'表三 甲'!E592","v":{"v":0,"d":"0.00"}},"汽油发电机 (10kW)",0.4,202,0,0]
[{"$f":"SUBTOTAL(3,$B$7:B276)","v":7},"TXL6-013","光缆接续 72 芯以下","机",{"$f":"'表三 甲'!E592","v":{"v":0,"d":"0.00"}},"光纤熔接机",0.8,144,0,0]
[{"$f":"SUBTOTAL(3,$B$7:B277)","v":7},"TXL6-014","光缆接续 84 芯以下","机",{"$f":"'表三 甲'!E593","v":{"v":0,"d":"0.00"}},"汽油发电机 (10kW)",0.45,202,0,0]
[{"$f":"SUBTOTAL(3,$B$7:B278)","v":7},"TXL6-014","光缆接续 84 芯以下","机",{"$f":"'表三 甲'!E593","v":{"v":0,"d":"0.00"}},"光纤熔接机",0.95,144,0,0]
[{"$f":"SUBTOTAL(3,$B$7:B279)","v":7},"TXL6-015","光缆接续 96 芯以下","机",{"$f":"'表三 甲'!E594","v":{"v":0,"d":"0.00"}},"光纤熔接机",1.1,144,0,0]
[{"$f":"SUBTOTAL(3,$B$7:B280)","v":7},"TXL6-015","光缆接续 96 芯以下","机",{"$f":"'表三 甲'!E594","v":{"v":0,"d":"0.00"}},"汽油发电机 (10kW)",0.5,202,0,0]
[{"$f":"SUBTOTAL(3,$B$7:B281)","v":7},"TXL6-016","光缆接续 108 芯以下","机",{"$f":"'表三 甲'!E595","v":{"v":0,"d":"0.00"}},"汽油发电机 (10kW)",0.6,202,0,0]
[{"$f":"SUBTOTAL(3,$B$7:B282)","v":7},"TXL6-016","光缆接续 108 芯以下","机",{"$f":"'表三 甲'!E595","v":{"v":0,"d":"0.00"}},"光纤熔接机",1.2,144,0,0]
[{"$f":"SUBTOTAL(3,$B$7:B283)","v":7},"TXL6-017","光缆接续 132 芯以下","机",{"$f":"'表三 甲'!E596","v":{"v":0,"d":"0.00"}},"汽油发电机 (10kW)",0.65,202,0,0]
[{"$f":"SUBTOTAL(3,$B$7:B284)","v":7},"TXL6-017","光缆接续 132 芯以下","机",{"$f":"'表三 甲'!E596","v":{"v":0,"d":"0.00"}},"光纤熔接机",1.3,144,0,0]
[{"$f":"SUBTOTAL(3,$B$7:B285)","v":7},"TXL6-018","光缆接续 144 芯以下","机",{"$f":"'表三 甲'!E597","v":{"v":0,"d":"0.00"}},"汽油发电机 (10kW)",0.7,202,0,0]
[{"$f":"SUBTOTAL(3,$B$7:B286)","v":7},"TXL6-018","光缆接续 144 芯以下","机",{"$f":"'表三 甲'!E597","v":{"v":0,"d":"0.00"}},"光纤熔接机",1.4,144,0,0]
[{"$f":"SUBTOTAL(3,$B$7:B287)","v":7},"TXL6-019","光缆接续 192 芯以下","机",{"$f":"'表三 甲'!E598","v":{"v":0,"d":"0.00"}},"光纤熔接机",2.05,144,0,0]
[{"$f":"SUBTOTAL(3,$B$7:B288)","v":7},"TXL6-019","光缆接续 192 芯以下","机",{"$f":"'表三 甲'!E598","v":{"v":0,"d":"0.00"}},"汽油发电机 (10kW)",1.05,202,0,0]
[{"$f":"SUBTOTAL(3,$B$7:B289)","v":7},"TXL6-020","光缆接续 288 芯以下","机",{"$f":"'表三 甲'!E599","v":{"v":0,"d":"0.00"}},"光纤熔接机",3.05,144,0,0]
[{"$f":"SUBTOTAL(3,$B$7:B290)","v":7},"TXL6-020","光缆接续 288 芯以下","机",{"$f":"'表三 甲'!E599","v":{"v":0,"d":"0.00"}},"汽油发电机 (10kW)",1.55,202,0,0]
[{"$f":"SUBTOTAL(3,$B$7:B291)","v":7},"TXL6-021","光缆接续 288 芯以上","机",{"$f":"'表三 甲'!E600","v":{"v":0,"d":"0.00"}},"汽油发电机 (10kW)",1.6,202,0,0]
[{"$f":"SUBTOTAL(3,$B$7:B292)","v":7},"TXL6-021","光缆接续 288 芯以上","机",{"$f":"'表三 甲'!E600","v":{"v":0,"d":"0.00"}},"光纤熔接机",3.2,144,0,0]
[{"$f":"SUBTOTAL(3,$B$7:B293)","v":7},"TXL6-022","8 芯带以下带状光缆接续 48 芯以下","机",{"$f":"'表三 甲'!E601","v":{"v":0,"d":"0.00"}},"汽油发电机 (10kW)",0.25,202,0,0]
[{"$f":"SUBTOTAL(3,$B$7:B294)","v":7},"TXL6-022","8 芯带以下带状光缆接续 48 芯以下","机",{"$f":"'表三 甲'!E601","v":{"v":0,"d":"0.00"}},"带状光纤熔接机",0.5,209,0,0]
[{"$f":"SUBTOTAL(3,$B$7:B295)","v":7},"TXL6-023","8 芯带以下带状光缆接续 72 芯以下","机",{"$f":"'表三 甲'!E602","v":{"v":0,"d":"0.00"}},"汽油发电机 (10kW)",0.35,202,0,0]
[{"$f":"SUBTOTAL(3,$B$7:B296)","v":7},"TXL6-023","8 芯带以下带状光缆接续 72 芯以下","机",{"$f":"'表三 甲'!E602","v":{"v":0,"d":"0.00"}},"带状光纤熔接机",0.75,209,0,0]
[{"$f":"SUBTOTAL(3,$B$7:B297)","v":7},"TXL6-024","8 芯带以下带状光缆接续 96 芯以下","机",{"$f":"'表三 甲'!E603","v":{"v":0,"d":"0.00"}},"汽油发电机 (10kW)",0.5,202,0,0]
[{"$f":"SUBTOTAL(3,$B$7:B298)","v":7},"TXL6-024","8 芯带以下带状光缆接续 96 芯以下","机",{"$f":"'表三 甲'!E603","v":{"v":0,"d":"0.00"}},"带状光纤熔接机",1,209,0,0]
[{"$f":"SUBTOTAL(3,$B$7:B299)","v":7},"TXL6-025","8 芯带以下带状光缆接续 108 芯以下","机",{"$f":"'表三 甲'!E604","v":{"v":0,"d":"0.00"}},"汽油发电机 (10kW)",0.6,202,0,0]
[{"$f":"SUBTOTAL(3,$B$7:B300)","v":7},"TXL6-025","8 芯带以下带状光缆接续 108 芯以下","机",{"$f":"'表三 甲'!E604","v":{"v":0,"d":"0.00"}},"带状光纤熔接机",1.15,209,0,0]
[{"$f":"SUBTOTAL(3,$B$7:B301)","v":7},"TXL6-026","8 芯带以下带状光缆接续 120 芯以下","机",{"$f":"'表三 甲'!E605","v":{"v":0,"d":"0.00"}},"带状光纤熔接机",1.3,209,0,0]
[{"$f":"SUBTOTAL(3,$B$7:B302)","v":7},"TXL6-026","8 芯带以下带状光缆接续 120 芯以下","机",{"$f":"'表三 甲'!E605","v":{"v":0,"d":"0.00"}},"汽油发电机 (10kW)",0.65,202,0,0]
[{"$f":"SUBTOTAL(3,$B$7:B303)","v":7},"TXL6-027","8 芯带以下带状光缆接续 144 芯以下","机",{"$f":"'表三 甲'!E606","v":{"v":0,"d":"0.00"}},"带状光纤熔接机",1.4,209,0,0]
[{"$f":"SUBTOTAL(3,$B$7:B304)","v":7},"TXL6-027","8 芯带以下带状光缆接续 144 芯以下","机",{"$f":"'表三 甲'!E606","v":{"v":0,"d":"0.00"}},"汽油发电机 (10kW)",0.7,202,0,0]
[{"$f":"SUBTOTAL(3,$B$7:B305)","v":7},"TXL6-028","8 芯带以下带状光缆接续 192 芯以下","机",{"$f":"'表三 甲'!E607","v":{"v":0,"d":"0.00"}},"汽油发电机 (10kW)",0.8,202,0,0]
[{"$f":"SUBTOTAL(3,$B$7:B306)","v":7},"TXL6-028","8 芯带以下带状光缆接续 192 芯以下","机",{"$f":"'表三 甲'!E607","v":{"v":0,"d":"0.00"}},"带状光纤熔接机",1.55,209,0,0]
[{"$f":"SUBTOTAL(3,$B$7:B307)","v":7},"TXL6-029","8 芯带以下带状光缆接续 288 芯以下","机",{"$f":"'表三 甲'!E608","v":{"v":0,"d":"0.00"}},"带状光纤熔接机",1.75,209,0,0]
[{"$f":"SUBTOTAL(3,$B$7:B308)","v":7},"TXL6-029","8 芯带以下带状光缆接续 288 芯以下","机",{"$f":"'表三 甲'!E608","v":{"v":0,"d":"0.00"}},"汽油发电机 (10kW)",0.85,202,0,0]
[{"$f":"SUBTOTAL(3,$B$7:B309)","v":7},"TXL6-030","8 芯带以下带状光缆接续 288 芯以上","机",{"$f":"'表三 甲'!E609","v":{"v":0,"d":"0.00"}},"带状光纤熔接机",1.85,209,0,0]
[{"$f":"SUBTOTAL(3,$B$7:B310)","v":7},"TXL6-030","8 芯带以下带状光缆接续 288 芯以上","机",{"$f":"'表三 甲'!E609","v":{"v":0,"d":"0.00"}},"汽油发电机 (10kW)",0.95,202,0,0]
[{"$f":"SUBTOTAL(3,$B$7:B311)","v":7},"TXL6-031","8 芯带以上带状光缆接续 48 芯以下","机",{"$f":"'表三 甲'!E610","v":{"v":0,"d":"0.00"}},"汽油发电机 (10kW)",0.2,202,0,0]
[{"$f":"SUBTOTAL(3,$B$7:B312)","v":7},"TXL6-031","8 芯带以上带状光缆接续 48 芯以下","机",{"$f":"'表三 甲'!E610","v":{"v":0,"d":"0.00"}},"带状光纤熔接机",0.45,209,0,0]
[{"$f":"SUBTOTAL(3,$B$7:B313)","v":7},"TXL6-032","8 芯带以上带状光缆接续 72 芯以下","机",{"$f":"'表三 甲'!E611","v":{"v":0,"d":"0.00"}},"带状光纤熔接机",0.7,209,0,0]
[{"$f":"SUBTOTAL(3,$B$7:B314)","v":7},"TXL6-032","8 芯带以上带状光缆接续 72 芯以下","机",{"$f":"'表三 甲'!E611","v":{"v":0,"d":"0.00"}},"汽油发电机 (10kW)",0.35,202,0,0]
[{"$f":"SUBTOTAL(3,$B$7:B315)","v":7},"TXL6-033","8 芯带以上带状光缆接续 96 芯以下","机",{"$f":"'表三 甲'!E612","v":{"v":0,"d":"0.00"}},"汽油发电机 (10kW)",0.45,202,0,0]
[{"$f":"SUBTOTAL(3,$B$7:B316)","v":7},"TXL6-033","8 芯带以上带状光缆接续 96 芯以下","机",{"$f":"'表三 甲'!E612","v":{"v":0,"d":"0.00"}},"带状光纤熔接机",0.9,209,0,0]
[{"$f":"SUBTOTAL(3,$B$7:B317)","v":7},"TXL6-034","8 芯带以上带状光缆接续 108 芯以下","机",{"$f":"'表三 甲'!E613","v":{"v":0,"d":"0.00"}},"带状光纤熔接机",1.05,209,0,0]
[{"$f":"SUBTOTAL(3,$B$7:B318)","v":7},"TXL6-034","8 芯带以上带状光缆接续 108 芯以下","机",{"$f":"'表三 甲'!E613","v":{"v":0,"d":"0.00"}},"汽油发电机 (10kW)",0.55,202,0,0]
[{"$f":"SUBTOTAL(3,$B$7:B319)","v":7},"TXL6-035","8 芯带以上带状光缆接续 120 芯以下","机",{"$f":"'表三 甲'!E614","v":{"v":0,"d":"0.00"}},"汽油发电机 (10kW)",0.6,202,0,0]
[{"$f":"SUBTOTAL(3,$B$7:B320)","v":7},"TXL6-035","8 芯带以上带状光缆接续 120 芯以下","机",{"$f":"'表三 甲'!E614","v":{"v":0,"d":"0.00"}},"带状光纤熔接机",1.15,209,0,0]
[{"$f":"SUBTOTAL(3,$B$7:B321)","v":7},"TXL6-036","8 芯带以上带状光缆接续 144 芯以下","机",{"$f":"'表三 甲'!E615","v":{"v":0,"d":"0.00"}},"汽油发电机 (10kW)",0.65,202,0,0]
[{"$f":"SUBTOTAL(3,$B$7:B322)","v":7},"TXL6-036","8 芯带以上带状光缆接续 144 芯以下","机",{"$f":"'表三 甲'!E615","v":{"v":0,"d":"0.00"}},"带状光纤熔接机",1.25,209,0,0]
[{"$f":"SUBTOTAL(3,$B$7:B323)","v":7},"TXL6-037","8 芯带以上带状光缆接续 192 芯以下","机",{"$f":"'表三 甲'!E616","v":{"v":0,"d":"0.00"}},"汽油发电机 (10kW)",0.7,202,0,0]
[{"$f":"SUBTOTAL(3,$B$7:B324)","v":7},"TXL6-037","8 芯带以上带状光缆接续 192 芯以下","机",{"$f":"'表三 甲'!E616","v":{"v":0,"d":"0.00"}},"带状光纤熔接机",1.4,209,0,0]
[{"$f":"SUBTOTAL(3,$B$7:B325)","v":7},"TXL6-038","8 芯带以上带状光缆接续 288 芯以下","机",{"$f":"'表三 甲'!E617","v":{"v":0,"d":"0.00"}},"带状光纤熔接机",1.6,209,0,0]
[{"$f":"SUBTOTAL(3,$B$7:B326)","v":7},"TXL6-038","8 芯带以上带状光缆接续 288 芯以下","机",{"$f":"'表三 甲'!E617","v":{"v":0,"d":"0.00"}},"汽油发电机 (10kW)",0.8,202,0,0]
[{"$f":"SUBTOTAL(3,$B$7:B327)","v":7},"TXL6-039","8 芯带以上带状光缆接续 384 芯以下","机",{"$f":"'表三 甲'!E618","v":{"v":0,"d":"0.00"}},"带状光纤熔接机",1.85,209,0,0]
[{"$f":"SUBTOTAL(3,$B$7:B328)","v":7},"TXL6-039","8 芯带以上带状光缆接续 384 芯以下","机",{"$f":"'表三 甲'!E618","v":{"v":0,"d":"0.00"}},"汽油发电机 (10kW)",0.9,202,{"$f":"E328*G328","v":0},{"$f":"H328*I328","v":0}]
[{"$f":"SUBTOTAL(3,$B$7:B329)","v":7},"TXL6-040","8 芯带以上带状光缆接续 480 芯以下","机",{"$f":"'表三 甲'!E619","v":{"v":0,"d":"0.00"}},"汽油发电机 (10kW)",1.05,202,0,0]
[{"$f":"SUBTOTAL(3,$B$7:B330)","v":7},"TXL6-040","8 芯带以上带状光缆接续 480 芯以下","机",{"$f":"'表三 甲'!E619","v":{"v":0,"d":"0.00"}},"带状光纤熔接机",2.05,209,0,0]
[{"$f":"SUBTOTAL(3,$B$7:B331)","v":7},"TXL6-041","8 芯带以上带状光缆接续 576 芯以下","机",{"$f":"'表三 甲'!E620","v":{"v":0,"d":"0.00"}},"带状光纤熔接机",2.2,209,0,0]
[{"$f":"SUBTOTAL(3,$B$7:B332)","v":7},"TXL6-041","8 芯带以上带状光缆接续 576 芯以下","机",{"$f":"'表三 甲'!E620","v":{"v":0,"d":"0.00"}},"汽油发电机 (10kW)",1.1,202,0,0]
[{"$f":"SUBTOTAL(3,$B$7:B333)","v":7},"TXL6-042","8 芯带以上带状光缆接续 576 芯以上","机",{"$f":"'表三 甲'!E621","v":{"v":0,"d":"0.00"}},"带状光纤熔接机",2.35,209,0,0]
[{"$f":"SUBTOTAL(3,$B$7:B334)","v":7},"TXL6-042","8 芯带以上带状光缆接续 576 芯以上","机",{"$f":"'表三 甲'!E621","v":{"v":0,"d":"0.00"}},"汽油发电机 (10kW)",1.15,202,0,0]
[{"$f":"SUBTOTAL(3,$B$7:B335)","v":7},"TXL7-020","安装落地式室外综合机柜 宽 800 以下","机",{"$f":"'表三 甲'!E812","v":{"v":0,"d":"0.00"}},"汽车式起重机 (5t)",0.2,516,0,0]
[{"$f":"SUBTOTAL(3,$B$7:B336)","v":7},"TXL7-021","安装落地式室外综合机柜 宽 800 以上","机",{"$f":"'表三 甲'!E813","v":{"v":0,"d":"0.00"}},"汽车式起重机 (5t)",0.2,516,0,0]
[{"$f":"SUBTOTAL(3,$B$7:B337)","v":7},"TXL7-022","安装架空式室外综合机柜","机",{"$f":"'表三 甲'!E814","v":{"v":0,"d":"0.00"}},"汽车式起重机 (5t)",0.35,516,0,0]
[{"$f":"SUBTOTAL(3,$B$7:B338)","v":7},"TXL7-049","安装架空式交接箱 600 对以下","机",{"$f":"'表三 甲'!E841","v":{"v":0,"d":"0.00"}},"汽车式起重机 (5t)",0.25,516,0,0]
[{"$f":"SUBTOTAL(3,$B$7:B339)","v":7},"TXL7-050","安装架空式交接箱 1200 对以下","机",{"$f":"'表三 甲'!E842","v":{"v":0,"d":"0.00"}},"汽车式起重机 (5t)",0.25,516,0,0]
[{"$f":"SUBTOTAL(3,$B$7:B340)","v":7},"TXL7-051","安装架空式交接箱 2400 对以下","机",{"$f":"'表三 甲'!E843","v":{"v":0,"d":"0.00"}},"汽车式起重机 (5t)",0.25,516,0,0]
[{"$f":"SUBTOTAL(3,$B$7:B341)","v":7},"TXL7-052","安装架空式交接箱 2400 对以上","机",{"$f":"'表三 甲'!E844","v":{"v":0,"d":"0.00"}},"汽车式起重机 (5t)",0.25,516,0,0]
[{"$f":"SUBTOTAL(3,$B$7:B342)","v":7},"TXL7-053","安装落地式交接箱 1200 对以下","机",{"$f":"'表三 甲'!E845","v":{"v":0,"d":"0.00"}},"汽车式起重机 (5t)",0.25,516,0,0]
[{"$f":"SUBTOTAL(3,$B$7:B343)","v":7},"TXL7-054","安装落地式交接箱 2400 对以下","机",{"$f":"'表三 甲'!E846","v":{"v":0,"d":"0.00"}},"汽车式起重机 (5t)",0.25,516,0,0]
[{"$f":"SUBTOTAL(3,$B$7:B344)","v":7},"TXL7-055","安装落地式交接箱 3600 对以下","机",{"$f":"'表三 甲'!E847","v":{"v":0,"d":"0.00"}},"汽车式起重机 (5t)",0.25,516,0,0]
[{"$f":"SUBTOTAL(3,$B$7:B345)","v":7},"TXL7-056","安装墙挂式交接箱 600 对以下","机",{"$f":"'表三 甲'!E848","v":{"v":0,"d":"0.00"}},"汽车式起重机 (5t)",0.25,516,0,0]
[{"$f":"SUBTOTAL(3,$B$7:B346)","v":7},"TXL7-057","安装墙挂式交接箱 1200 对以下","机",{"$f":"'表三 甲'!E849","v":{"v":0,"d":"0.00"}},"汽车式起重机 (5t)",0.25,516,0,0]
[{"$f":"SUBTOTAL(3,$B$7:B347)","v":7},"TXL7-058","安装墙挂式交接箱 2400 对以下","机",{"$f":"'表三 甲'!E850","v":{"v":0,"d":"0.00"}},"汽车式起重机 (5t)",0.25,516,0,0]
[{"$f":"SUBTOTAL(3,$B$7:B348)","v":7},"TSY5-027拆","安装摄像机防护罩 室外","机",null,"汽车升降机",0.2,517,{"$f":"E348*G348*K348","v":0},0,0.3]
[{"$f":"SUBTOTAL(3,$B$7:B349)","v":7},"TXL1-004拆","光（电）缆工程施工测量 海上","机",{"$f":"'表三 甲'!E889","v":{"v":0,"d":"0.00"}},"海缆施工驳船 500t 以下带拖轮",0.02,0,{"$f":"E349*G349*K349","v":0},0,0.3]
[{"$f":"SUBTOTAL(3,$B$7:B350)","v":7},"TXL1-004拆","光（电）缆工程施工测量 海上","机",{"$f":"E349","v":{"v":0,"d":"0.00"}},"海缆施工自航船 5000t 以下",0.02,0,0,0,0.3]
[{"$f":"SUBTOTAL(3,$B$7:B351)","v":7},"TXL1-008拆","人工开挖路面 混凝土 100 以下","机",{"$f":"'表三 甲'!E893","v":{"v":0,"d":"0.00"}},"燃油式空气压缩机 (含风镐) 6m³/min",0.85,372,0,0,0.3]
[{"$f":"SUBTOTAL(3,$B$7:B352)","v":7},"TXL1-008拆","人工开挖路面 混凝土 100 以下","机",{"$f":"E351","v":{"v":0,"d":"0.00"}},"路面切割机",0.5,210,0,0,0.3]
[{"$f":"SUBTOTAL(3,$B$7:B353)","v":7},"TXL1-009拆","人工开挖路面 混凝土 每增加 10","机",{"$f":"'表三 甲'!E894","v":{"v":0,"d":"0.00"}},"燃油式空气压缩机 (含风镐) 6m³/min",0.1,372,0,0,0.3]
[{"$f":"SUBTOTAL(3,$B$7:B354)","v":7},"TXL1-010拆","人工开挖路面 沥青柏油 100 以下","机",{"$f":"'表三 甲'!E895","v":{"v":0,"d":"0.00"}},"燃油式空气压缩机 (含风镐) 6m³/min",0.35,372,0,0,0.3]
[{"$f":"SUBTOTAL(3,$B$7:B355)","v":7},"TXL1-010拆","人工开挖路面 沥青柏油 100 以下","机",{"$f":"E354","v":{"v":0,"d":"0.00"}},"路面切割机",0.5,210,0,0,0.3]
[{"$f":"SUBTOTAL(3,$B$7:B356)","v":7},"TXL1-011拆","人工开挖路面 沥青柏油 每增加 10","机",{"$f":"'表三 甲'!E896","v":{"v":0,"d":"0.00"}},"燃油式空气压缩机 (含风镐) 6m³/min",0.04,372,0,0,0.3]
[{"$f":"SUBTOTAL(3,$B$7:B357)","v":7},"TXL1-012拆","人工开挖路面 砂石 100 以下","机",{"$f":"'表三 甲'!E897","v":{"v":0,"d":"0.00"}},"燃油式空气压缩机 (含风镐) 6m³/min",0.2,372,0,0,0.3]
[{"$f":"SUBTOTAL(3,$B$7:B358)","v":7},"TXL1-013拆","人工开挖路面 砂石 每增加 10","机",{"$f":"'表三 甲'!E898","v":{"v":0,"d":"0.00"}},"燃油式空气压缩机 (含风镐) 6m³/min",0.02,372,0,0,0.3]
[{"$f":"SUBTOTAL(3,$B$7:B359)","v":7},"TXL1-017拆","机械开挖路面 混凝土 100 以下","机",{"$f":"'表三 甲'!E902","v":{"v":0,"d":"0.00"}},"破碎锤(含机身)",0.4,768,0,0,0.3]
[{"$f":"SUBTOTAL(3,$B$7:B360)","v":7},"TXL1-017拆","机械开挖路面 混凝土 100 以下","机",{"$f":"E359","v":{"v":0,"d":"0.00"}},"挖掘机 0.6m3",0.3,743,0,0,0.3]
[{"$f":"SUBTOTAL(3,$B$7:B361)","v":7},"TXL1-017拆","机械开挖路面 混凝土 100 以下","机",{"$f":"E359","v":{"v":0,"d":"0.00"}},"路面切割机",0.5,210,0,0,0.3]
[{"$f":"SUBTOTAL(3,$B$7:B362)","v":7},"TXL1-018拆","机械开挖路面 混凝土 每增加 10","机",{"$f":"'表三 甲'!E903","v":{"v":0,"d":"0.00"}},"挖掘机 0.6m3",0.03,743,0,0,0.3]
[{"$f":"SUBTOTAL(3,$B$7:B363)","v":7},"TXL1-018拆","机械开挖路面 混凝土 每增加 10","机",{"$f":"E362","v":{"v":0,"d":"0.00"}},"破碎锤(含机身)",0.04,768,0,0,0.3]
[{"$f":"SUBTOTAL(3,$B$7:B364)","v":7},"TXL1-019拆","机械开挖路面 沥青柏油 100 以下","机",{"$f":"'表三 甲'!E904","v":{"v":0,"d":"0.00"}},"挖掘机 0.6m3",0.24,743,0,0,0.3]
[{"$f":"SUBTOTAL(3,$B$7:B365)","v":7},"TXL1-019拆","机械开挖路面 沥青柏油 100 以下","机",{"$f":"E364","v":{"v":0,"d":"0.00"}},"路面切割机",0.5,210,0,0,0.3]
[{"$f":"SUBTOTAL(3,$B$7:B366)","v":7},"TXL1-019拆","机械开挖路面 沥青柏油 100 以下","机",{"$f":"E364","v":{"v":0,"d":"0.00"}},"破碎锤(含机身)",0.11,768,0,0,0.3]
[{"$f":"SUBTOTAL(3,$B$7:B367)","v":7},"TXL1-020拆","机械开挖路面 沥青柏油 每增加 10","机",{"$f":"'表三 甲'!E905","v":{"v":0,"d":"0.00"}},"破碎锤(含机身)",0.01,768,0,0,0.3]
[{"$f":"SUBTOTAL(3,$B$7:B368)","v":7},"TXL1-020拆","机械开挖路面 沥青柏油 每增加 10","机",{"$f":"E367","v":{"v":0,"d":"0.00"}},"挖掘机 0.6m3",0.02,743,0,0,0.3]
[{"$f":"SUBTOTAL(3,$B$7:B369)","v":7},"TXL1-021拆","机械开挖路面 砂石 100 以下","机",{"$f":"'表三 甲'!E906","v":{"v":0,"d":"0.00"}},"挖掘机 0.6m3",0.21,743,0,0,0.3]
[{"$f":"SUBTOTAL(3,$B$7:B370)","v":7},"TXL1-022拆","机械开挖路面 砂石 每增加 10","机",{"$f":"'表三 甲'!E907","v":{"v":0,"d":"0.00"}},"挖掘机 0.6m3",0.02,743,0,0,0.3]
[{"$f":"SUBTOTAL(3,$B$7:B371)","v":7},"TXL2-005拆","挖、松填光（电）缆沟及接头坑 软石","机",{"$f":"'表三 甲'!E912","v":{"v":0,"d":"0.00"}},"燃油式空气压缩机 (含风镐) 6m³/min",3,372,0,0,0.3]
[{"$f":"SUBTOTAL(3,$B$7:B372)","v":7},"TXL2-006拆","挖、松填光（电）缆沟及接头坑 坚石（人工）","机",{"$f":"'表三 甲'!E913","v":{"v":0,"d":"0.00"}},"燃油式空气压缩机 (含风镐) 6m³/min",10,372,0,0,0.3]
[{"$f":"SUBTOTAL(3,$B$7:B373)","v":7},"TXL2-007拆","挖、夯填光（电）缆沟及接头坑 普通土","机",{"$f":"'表三 甲'!E914","v":{"v":0,"d":"0.00"}},"夯实机",0.75,117,0,0,0.3]
[{"$f":"SUBTOTAL(3,$B$7:B374)","v":7},"TXL2-008拆","挖、夯填光（电）缆沟及接头坑 硬土","机",{"$f":"'表三 甲'!E915","v":{"v":0,"d":"0.00"}},"夯实机",0.75,117,0,0,0.3]
[{"$f":"SUBTOTAL(3,$B$7:B375)","v":7},"TXL2-009拆","挖、夯填光（电）缆沟及接头坑 砂砾土","机",{"$f":"'表三 甲'!E916","v":{"v":0,"d":"0.00"}},"夯实机",0.75,117,0,0,0.3]
[{"$f":"SUBTOTAL(3,$B$7:B376)","v":7},"TXL2-011拆","挖、夯填光（电）缆沟及接头坑 软石","机",{"$f":"'表三 甲'!E917","v":{"v":0,"d":"0.00"}},"燃油式空气压缩机 (含风镐) 6m³/min",3,372,0,0,0.3]
[{"$f":"SUBTOTAL(3,$B$7:B377)","v":7},"TXL2-012拆","挖、夯填光（电）缆沟及接头坑 坚石（人工）","机",{"$f":"'表三 甲'!E918","v":{"v":0,"d":"0.00"}},"燃油式空气压缩机 (含风镐) 6m³/min",10,372,0,0,0.3]
[{"$f":"SUBTOTAL(3,$B$7:B378)","v":7},"TXL2-041拆","埋设定型手孔","机",{"$f":"'表三 甲'!E948","v":{"v":0,"d":"0.00"}},"载重汽车 5t",0.1,372,0,0,0.3]
[{"$f":"SUBTOTAL(3,$B$7:B379)","v":7},"TXL2-041拆","埋设定型手孔","机",{"$f":"E378","v":{"v":0,"d":"0.00"}},"汽车式起重机 5t",{"v":0.1,"d":"0.10"},{"v":516,"d":"516.00"},0,0,0.3]
[{"$f":"SUBTOTAL(3,$B$7:B380)","v":7},"TXL2-090拆","小口径塑料管试通","机",{"$f":"'表三 甲'!E997","v":{"v":0,"d":"0.00"}},"气流敷设设备(敷设光缆)",0.08,{"v":1007,"d":"1007.00"},0,0,0.3]
[{"$f":"SUBTOTAL(3,$B$7:B381)","v":7},"TXL2-090拆","小口径塑料管试通","机",{"$f":"E380","v":{"v":0,"d":"0.00"}},"载重汽车 5t",0.08,{"v":372,"d":"372.00"},0,0,0.3]
[{"$f":"SUBTOTAL(3,$B$7:B382)","v":7},"TXL2-091拆","小口径塑料管道充气试验","机",{"$f":"'表三 甲'!E998","v":{"v":0,"d":"0.00"}},"载重汽车 5t",0.12,{"v":372,"d":"372.00"},0,0,0.3]
[{"$f":"SUBTOTAL(3,$B$7:B383)","v":7},"TXL2-091拆","小口径塑料管道充气试验","机",{"$f":"E382","v":{"v":0,"d":"0.00"}},"燃油式空气压缩机",0.12,{"v":368,"d":"368.00"},0,0,0.3]
[{"$f":"SUBTOTAL(3,$B$7:B384)","v":7},"TXL2-092拆","地下定向钻孔敷管 工作孔径φ120mm 以下 30m 以下","机",{"$f":"'表三 甲'!E999","v":{"v":0,"d":"0.00"}},"汽车式起重机 8t",{"v":1,"d":"1.00"},{"v":636,"d":"636.00"},0,0,0.3]
[{"$f":"SUBTOTAL(3,$B$7:B385)","v":7},"TXL2-092拆","地下定向钻孔敷管 工作孔径φ120mm 以下 30m 以下","机",{"$f":"E384","v":{"v":0,"d":"0.00"}},"载重汽车 8t",{"v":1,"d":"1.00"},{"v":456,"d":"456.00"},0,0,0.3]
[{"$f":"SUBTOTAL(3,$B$7:B386)","v":7},"TXL2-092拆","地下定向钻孔敷管 工作孔径φ120mm 以下 30m 以下","机",{"$f":"E384","v":{"v":0,"d":"0.00"}},"微控钻孔敷管设备（25t以下）",1.07,{"v":0,"d":"0.00"},0,0,0.3]
[{"$f":"SUBTOTAL(3,$B$7:B387)","v":7},"TXL2-093拆","地下定向钻孔敷管 工作孔径φ120mm 以下 每增加 10m","机",{"$f":"'表三 甲'!E1000","v":{"v":0,"d":"0.00"}},"载重汽车 8t",{"v":0.2,"d":"0.20"},{"v":456,"d":"456.00"},0,0,0.3]
[{"$f":"SUBTOTAL(3,$B$7:B388)","v":7},"TXL2-093拆","地下定向钻孔敷管 工作孔径φ120mm 以下 每增加 10m","机",{"$f":"E387","v":{"v":0,"d":"0.00"}},"微控钻孔敷管设备（25t以下）",0.21,{"v":0,"d":"0.00"},0,0,0.3]
[{"$f":"SUBTOTAL(3,$B$7:B389)","v":7},"TXL2-093拆","地下定向钻孔敷管 工作孔径φ120mm 以下 每增加 10m","机",{"$f":"E387","v":{"v":0,"d":"0.00"}},"汽车式起重机 8t",{"v":0.2,"d":"0.20"},{"v":636,"d":"636.00"},0,0,0.3]
[{"$f":"SUBTOTAL(3,$B$7:B390)","v":7},"TXL2-094拆","地下定向钻孔敷管 工作孔径φ240mm 以下 30m 以下","机",{"$f":"'表三 甲'!E1001","v":{"v":0,"d":"0.00"}},"载重汽车 8t",{"v":1.4,"d":"1.40"},{"v":456,"d":"456.00"},0,0,0.3]
[{"$f":"SUBTOTAL(3,$B$7:B391)","v":7},"TXL2-094拆","地下定向钻孔敷管 工作孔径φ240mm 以下 30m 以下","机",{"$f":"E390","v":{"v":0,"d":"0.00"}},"微控钻孔敷管设备（25t以下）",{"v":1.5,"d":"1.50"},{"v":0,"d":"0.00"},0,0,0.3]
[{"$f":"SUBTOTAL(3,$B$7:B392)","v":7},"TXL2-094拆","地下定向钻孔敷管 工作孔径φ240mm 以下 30m 以下","机",{"$f":"E390","v":{"v":0,"d":"0.00"}},"汽车式起重机 8t",{"v":1.4,"d":"1.40"},{"v":636,"d":"636.00"},0,{"$f":"H392*I392","v":0},0.3]
[{"$f":"SUBTOTAL(3,$B$7:B393)","v":7},"TXL2-095拆","地下定向钻孔敷管 工作孔径φ240mm 以下 每增加 10m","机",{"$f":"'表三 甲'!E1002","v":{"v":0,"d":"0.00"}},"载重汽车 8t",0.28,{"v":456,"d":"456.00"},0,0,0.3]
[{"$f":"SUBTOTAL(3,$B$7:B394)","v":7},"TXL2-095拆","地下定向钻孔敷管 工作孔径φ240mm 以下 每增加 10m","机",{"$f":"E393","v":{"v":0,"d":"0.00"}},"微控钻孔敷管设备（25t以下）",{"v":0.3,"d":"0.30"},{"v":0,"d":"0.00"},0,0,0.3]
[{"$f":"SUBTOTAL(3,$B$7:B395)","v":7},"TXL2-095拆","地下定向钻孔敷管 工作孔径φ240mm 以下 每增加 10m","机",{"$f":"E393","v":{"v":0,"d":"0.00"}},"汽车式起重机 8t",0.28,{"v":636,"d":"636.00"},0,0,0.3]
[{"$f":"SUBTOTAL(3,$B$7:B396)","v":7},"TXL2-096拆","地下定向钻孔敷管 工作孔径φ360mm 以下 30m 以下","机",{"$f":"'表三 甲'!E1003","v":{"v":0,"d":"0.00"}},"载重汽车 8t",1.96,{"v":456,"d":"456.00"},0,0,0.3]
[{"$f":"SUBTOTAL(3,$B$7:B397)","v":7},"TXL2-096拆","地下定向钻孔敷管 工作孔径φ360mm 以下 30m 以下","机",{"$f":"E396","v":{"v":0,"d":"0.00"}},"汽车式起重机 8t",1.96,{"v":636,"d":"636.00"},0,0,0.3]
[{"$f":"SUBTOTAL(3,$B$7:B398)","v":7},"TXL2-096拆","地下定向钻孔敷管 工作孔径φ360mm 以下 30m 以下","机",{"$f":"E396","v":{"v":0,"d":"0.00"}},"微控钻孔敷管设备（25t以下）",{"v":2.1,"d":"2.10"},{"v":0,"d":"0.00"},0,0,0.3]
[{"$f":"SUBTOTAL(3,$B$7:B399)","v":7},"TXL2-097拆","地下定向钻孔敷管 工作孔径φ360mm 以下 每增加 10m","机",{"$f":"'表三 甲'!E1004","v":{"v":0,"d":"0.00"}},"微控钻孔敷管设备（25t以下)",0.42,{"v":0,"d":"0.00"},0,0,0.3]
[{"$f":"SUBTOTAL(3,$B$7:B400)","v":7},"TXL2-097拆","地下定向钻孔敷管 工作孔径φ360mm 以下 每增加 10m","机",{"$f":"E399","v":{"v":0,"d":"0.00"}},"载重汽车 8t",0.39,{"v":456,"d":"456.00"},0,0,0.3]
[{"$f":"SUBTOTAL(3,$B$7:B401)","v":7},"TXL2-097拆","地下定向钻孔敷管 工作孔径φ360mm 以下 每增加 10m","机",{"$f":"E399","v":{"v":0,"d":"0.00"}},"汽车式起重机 8t",0.39,{"v":636,"d":"636.00"},0,0,0.3]
[{"$f":"SUBTOTAL(3,$B$7:B402)","v":7},"TXL2-098拆","地下定向钻孔敷管 工作孔径φ600mm 以下 30m 以下","机",{"$f":"'表三 甲'!E1005","v":{"v":0,"d":"0.00"}},"微控钻孔敷管设备 (25t以上)",2.94,{"v":0,"d":"0.00"},0,0,0.3]
[{"$f":"SUBTOTAL(3,$B$7:B403)","v":7},"TXL2-098拆","地下定向钻孔敷管 工作孔径φ600mm 以下 30m 以下","机",{"$f":"E402","v":{"v":0,"d":"0.00"}},"汽车式起重机 16t",2.74,{"v":768,"d":"768.00"},0,0,0.3]
[{"$f":"SUBTOTAL(3,$B$7:B404)","v":7},"TXL2-098拆","地下定向钻孔敷管 工作孔径φ600mm 以下 30m 以下","机",{"$f":"E402","v":{"v":0,"d":"0.00"}},"载重汽车 12t",2.74,{"v":582,"d":"582.00"},0,0,0.3]
[{"$f":"SUBTOTAL(3,$B$7:B405)","v":7},"TXL2-099拆","地下定向钻孔敷管 工作孔径φ600mm 以下 每增加 10m","机",{"$f":"'表三 甲'!E1006","v":{"v":0,"d":"0.00"}},"微控钻孔敷管设备 (25t以上)",0.59,{"v":0,"d":"0.00"},0,0,0.3]
[{"$f":"SUBTOTAL(3,$B$7:B406)","v":7},"TXL2-099拆","地下定向钻孔敷管 工作孔径φ600mm 以下 每增加 10m","机",{"$f":"E405","v":{"v":0,"d":"0.00"}},"汽车式起重机 16t",0.55,{"v":768,"d":"768.00"},0,0,0.3]
[{"$f":"SUBTOTAL(3,$B$7:B407)","v":7},"TXL2-099拆","地下定向钻孔敷管 工作孔径φ600mm 以下 每增加 10m","机",{"$f":"E405","v":{"v":0,"d":"0.00"}},"载重汽车 12t",0.55,{"v":582,"d":"582.00"},0,0,0.3]
[{"$f":"SUBTOTAL(3,$B$7:B408)","v":7},"TXL2-100拆","地下定向钻孔敷管 工作孔径φ840mm 以下 30m 以下","机",{"$f":"'表三 甲'!E1007","v":{"v":0,"d":"0.00"}},"微控钻孔敷管设备 (25t以上)",4.12,{"v":0,"d":"0.00"},0,0,0.3]
[{"$f":"SUBTOTAL(3,$B$7:B409)","v":7},"TXL2-100拆","地下定向钻孔敷管 工作孔径φ840mm 以下 30m 以下","机",{"$f":"E408","v":{"v":0,"d":"0.00"}},"载重汽车 12t",3.84,{"v":582,"d":"582.00"},0,0,0.3]
[{"$f":"SUBTOTAL(3,$B$7:B410)","v":7},"TXL2-100拆","地下定向钻孔敷管 工作孔径φ840mm 以下 30m 以下","机",{"$f":"E408","v":{"v":0,"d":"0.00"}},"汽车式起重机 16t",3.84,{"v":768,"d":"768.00"},0,0,0.3]
[{"$f":"SUBTOTAL(3,$B$7:B411)","v":7},"TXL2-101拆","地下定向钻孔敷管 工作孔径φ840mm 以下 每增加 10m","机",{"$f":"'表三 甲'!E1008","v":{"v":0,"d":"0.00"}},"载重汽车 12t",0.77,{"v":582,"d":"582.00"},0,0,0.3]
[{"$f":"SUBTOTAL(3,$B$7:B412)","v":7},"TXL2-101拆","地下定向钻孔敷管 工作孔径φ840mm 以下 每增加 10m","机",{"$f":"E411","v":{"v":0,"d":"0.00"}},"汽车式起重机 16t",0.77,{"v":768,"d":"768.00"},0,0,0.3]
[{"$f":"SUBTOTAL(3,$B$7:B413)","v":7},"TXL2-101拆","地下定向钻孔敷管 工作孔径φ840mm 以下 每增加 10m","机",{"$f":"E411","v":{"v":0,"d":"0.00"}},"微控钻孔敷管设备 (25t以上)",0.82,{"v":0,"d":"0.00"},{"$f":"E413*G413*K413","v":0},0,0.3]
[{"$f":"SUBTOTAL(3,$B$7:B414)","v":7},"TXL2-102拆","地下定向钻孔敷管 工作孔径φ950mm 以下 30m 以下","机",{"$f":"'表三 甲'!E1009","v":{"v":0,"d":"0.00"}},"汽车式起重机 16t",4.61,{"v":768,"d":"768.00"},0,0,0.3]
[{"$f":"SUBTOTAL(3,$B$7:B415)","v":7},"TXL2-102拆","地下定向钻孔敷管 工作孔径φ950mm 以下 30m 以下","机",{"$f":"E414","v":{"v":0,"d":"0.00"}},"微控钻孔敷管设备 (25t以上)",5.22,{"v":0,"d":"0.00"},0,0,0.3]
[{"$f":"SUBTOTAL(3,$B$7:B416)","v":7},"TXL2-102拆","地下定向钻孔敷管 工作孔径φ950mm 以下 30m 以下","机",{"$f":"E414","v":{"v":0,"d":"0.00"}},"载重汽车 12t",4.61,{"v":582,"d":"582.00"},0,0,0.3]
[{"$f":"SUBTOTAL(3,$B$7:B417)","v":7},"TXL2-103拆","地下定向钻孔敷管 工作孔径φ950mm 以下 每增加 10m","机",{"$f":"'表三 甲'!E1010","v":{"v":0,"d":"0.00"}},"汽车式起重机 16t",1.06,{"v":768,"d":"768.00"},0,0,0.3]
[{"$f":"SUBTOTAL(3,$B$7:B418)","v":7},"TXL2-103拆","地下定向钻孔敷管 工作孔径φ950mm 以下 每增加 10m","机",{"$f":"E417","v":{"v":0,"d":"0.00"}},"微控钻孔敷管设备(25t以上)",{"v":1.1,"d":"1.10"},{"v":0,"d":"0.00"},0,0,0.3]
[{"$f":"SUBTOTAL(3,$B$7:B419)","v":7},"TXL2-103拆","地下定向钻孔敷管 工作孔径φ950mm 以下 每增加 10m","机",{"$f":"E417","v":{"v":0,"d":"0.00"}},"载重汽车 12t",1.06,{"v":582,"d":"582.00"},0,0,0.3]
[{"$f":"SUBTOTAL(3,$B$7:B420)","v":7},"TXL2-108拆","机械顶管","机",{"$f":"'表三 甲'!E1015","v":{"v":0,"d":"0.00"}},"液压顶管机 5t",0.15,{"v":444,"d":"444.00"},0,0,0.3]
[{"$f":"SUBTOTAL(3,$B$7:B421)","v":7},"TXL2-136拆","水泵冲槽","机",{"$f":"'表三 甲'!E1043","v":{"v":0,"d":"0.00"}},"水泵冲槽设备（套）",{"v":10,"d":"10.00"},{"v":645,"d":"645.00"},0,0,0.3]
[{"$f":"SUBTOTAL(3,$B$7:B422)","v":7},"TXL2-145拆","96 芯以下光缆 平河水 普通土","机",{"$f":"'表三 甲'!E1052","v":{"v":0,"d":"0.00"}},"水下光(电)缆沟 挖冲机",{"v":2.5,"d":"2.50"},{"v":677,"d":"677.00"},0,0,0.3]
[{"$f":"SUBTOTAL(3,$B$7:B423)","v":7},"TXL2-146拆","96 芯以下光缆 平河水 硬土","机",{"$f":"'表三 甲'!E1053","v":{"v":0,"d":"0.00"}},"水下光(电)缆沟 挖冲机",3.75,{"v":677,"d":"677.00"},0,0,0.3]
[{"$f":"SUBTOTAL(3,$B$7:B424)","v":7},"TXL2-147拆","96 芯以下光缆 潮河水 普通土","机",{"$f":"'表三 甲'!E1054","v":{"v":0,"d":"0.00"}},"水下光(电)缆沟 挖冲机",3.75,{"v":677,"d":"677.00"},0,0,0.3]
[{"$f":"SUBTOTAL(3,$B$7:B425)","v":7},"TXL2-148拆","96 芯以下光缆 潮河水 硬土","机",{"$f":"'表三 甲'!E1055","v":{"v":0,"d":"0.00"}},"水下光(电)缆沟 挖冲机",5.63,{"v":677,"d":"677.00"},0,0,0.3]
[{"$f":"SUBTOTAL(3,$B$7:B426)","v":7},"TXL2-149拆","96 芯以上光缆 平河水 普通土","机",{"$f":"'表三 甲'!E1056","v":{"v":0,"d":"0.00"}},"水下光(电)缆沟 挖冲机",{"v":2.5,"d":"2.50"},{"v":677,"d":"677.00"},0,0,0.3]
[{"$f":"SUBTOTAL(3,$B$7:B427)","v":7},"TXL2-150拆","96 芯以上光缆 平河水 硬土","机",{"$f":"'表三 甲'!E1057","v":{"v":0,"d":"0.00"}},"水下光(电)缆沟 挖冲机",3.75,{"v":677,"d":"677.00"},0,0,0.3]
[{"$f":"SUBTOTAL(3,$B$7:B428)","v":7},"TXL2-151拆","96 芯以上光缆 潮河水 普通土","机",{"$f":"'表三 甲'!E1058","v":{"v":0,"d":"0.00"}},"水下光(电)缆沟 挖冲机",3.75,{"v":677,"d":"677.00"},0,0,0.3]
[{"$f":"SUBTOTAL(3,$B$7:B429)","v":7},"TXL2-152拆","96 芯以上光缆 潮河水 硬土","机",{"$f":"'表三 甲'!E1059","v":{"v":0,"d":"0.00"}},"水下光(电)缆沟 挖冲机",5.63,{"v":677,"d":"677.00"},0,0,0.3]
[{"$f":"SUBTOTAL(3,$B$7:B430)","v":7},"TXL2-153拆","海缆装船 自航船","机",{"$f":"'表三 甲'!E1060","v":{"v":0,"d":"0.00"}},"辅助船",0.13,{"v":0,"d":"0.00"},0,0,0.3]
[{"$f":"SUBTOTAL(3,$B$7:B431)","v":7},"TXL2-153拆","海缆装船 自航船","机",{"$f":"E430","v":{"v":0,"d":"0.00"}},"海缆施工自航船 （5000t以下）",0.13,{"v":0,"d":"0.00"},0,0,0.3]
[{"$f":"SUBTOTAL(3,$B$7:B432)","v":7},"TXL2-154拆","海缆装船 驳船","机",{"$f":"'表三 甲'!E1061","v":{"v":0,"d":"0.00"}},"辅助船",0.13,{"v":0,"d":"0.00"},0,0,0.3]
[{"$f":"SUBTOTAL(3,$B$7:B433)","v":7},"TXL2-154拆","海缆装船 驳船","机",{"$f":"E432","v":{"v":0,"d":"0.00"}},"海缆施工驳船（500t以下）带拖轮",0.13,{"v":0,"d":"0.00"},0,0,0.3]
[{"$f":"SUBTOTAL(3,$B$7:B434)","v":7},"TXL2-155拆","航行 自航船","机",{"$f":"'表三 甲'!E1062","v":{"v":0,"d":"0.00"}},"海缆施工自航船 （5000t以下）",0.65,{"v":0,"d":"0.00"},0,0,0.3]
[{"$f":"SUBTOTAL(3,$B$7:B435)","v":7},"TXL2-156拆","航行 驳船","机",{"$f":"'表三 甲'!E1063","v":{"v":0,"d":"0.00"}},"海缆施工驳船 （500t 以下）带拖轮",{"v":1.6,"d":"1.60"},{"v":0,"d":"0.00"},0,0,0.3]
[{"$f":"SUBTOTAL(3,$B$7:B436)","v":7},"TXL2-157拆","海中敷设海缆 自航船","机",{"$f":"'表三 甲'!E1064","v":{"v":0,"d":"0.00"}},"海缆施工自航船 （5000t 以下）",0.03,{"v":0,"d":"0.00"},0,0,0.3]
[{"$f":"SUBTOTAL(3,$B$7:B437)","v":7},"TXL2-158拆","海中敷设海缆 驳船","机",{"$f":"'表三 甲'!E1065","v":{"v":0,"d":"0.00"}},"海缆施工驳船 （500t 以下）带拖轮",0.03,{"v":0,"d":"0.00"},0,0,0.3]
[{"$f":"SUBTOTAL(3,$B$7:B438)","v":7},"TXL2-159拆","海中埋设海缆 自航船 埋深 3m 以上","机",{"$f":"'表三 甲'!E1066","v":{"v":0,"d":"0.00"}},"海缆施工自航船 （5000t以下）",{"v":0.9,"d":"0.90"},{"v":0,"d":"0.00"},0,0,0.3]
[{"$f":"SUBTOTAL(3,$B$7:B439)","v":7},"TXL2-160拆","海中埋设海缆 自航船 埋深 3m 以下","机",{"$f":"'表三 甲'!E1067","v":{"v":0,"d":"0.00"}},"海缆施工自航船 （5000t 以下）",{"v":0.3,"d":"0.30"},{"v":0,"d":"0.00"},0,0,0.3]
[{"$f":"SUBTOTAL(3,$B$7:B440)","v":7},"TXL2-161拆","海中埋设海缆 驳船 埋深 3m 以上","机",{"$f":"'表三 甲'!E1068","v":{"v":0,"d":"0.00"}},"海缆施工驳船 （500t 以下）带拖轮",{"v":0.9,"d":"0.90"},{"v":0,"d":"0.00"},0,0,0.3]
[{"$f":"SUBTOTAL(3,$B$7:B441)","v":7},"TXL2-162拆","海中埋设海缆 驳船 埋深 3m 以下","机",{"$f":"'表三 甲'!E1069","v":{"v":0,"d":"0.00"}},"海缆施工驳船 （500t 以下）带拖轮",0.45,{"v":0,"d":"0.00"},0,0,0.3]
[{"$f":"SUBTOTAL(3,$B$7:B442)","v":7},"TXL2-163拆","海底光缆接续 自航船","机",{"$f":"'表三 甲'!E1070","v":{"v":0,"d":"0.00"}},"接头设备",{"v":3,"d":"3.00"},{"v":0,"d":"0.00"},0,0,0.3]
[{"$f":"SUBTOTAL(3,$B$7:B443)","v":7},"TXL2-163拆","海底光缆接续 自航船","机",{"$f":"E442","v":{"v":0,"d":"0.00"}},"海缆施工自航船 （5000t 以下）",{"v":3,"d":"3.00"},{"v":0,"d":"0.00"},0,0,0.3]
[{"$f":"SUBTOTAL(3,$B$7:B444)","v":7},"TXL2-164拆","海底光缆接续 驳船","机",{"$f":"'表三 甲'!E1071","v":{"v":0,"d":"0.00"}},"海缆施工驳船（ 500t 以下）带拖轮",{"v":3,"d":"3.00"},{"v":0,"d":"0.00"},0,0,0.3]
[{"$f":"SUBTOTAL(3,$B$7:B445)","v":7},"TXL2-164拆","海底光缆接续 驳船","机",{"$f":"E444","v":{"v":0,"d":"0.00"}},"接头设备",{"v":3,"d":"3.00"},{"v":0,"d":"0.00"},0,0,0.3]
[{"$f":"SUBTOTAL(3,$B$7:B446)","v":7},"TXL2-165拆","辅助船法敷设登陆海缆 自航船","机",{"$f":"'表三 甲'!E1072","v":{"v":0,"d":"0.00"}},"辅助船",{"v":2,"d":"2.00"},{"v":0,"d":"0.00"},0,0,0.3]
[{"$f":"SUBTOTAL(3,$B$7:B447)","v":7},"TXL2-165拆","辅助船法敷设登陆海缆 自航船","机",{"$f":"E446","v":{"v":0,"d":"0.00"}},"海缆施工自航船 （5000t 以下）",{"v":1,"d":"1.00"},{"v":0,"d":"0.00"},0,0,0.3]
[{"$f":"SUBTOTAL(3,$B$7:B448)","v":7},"TXL2-166拆","辅助船法敷设登陆海缆 驳船","机",{"$f":"'表三 甲'!E1073","v":{"v":0,"d":"0.00"}},"海缆施工驳船（500t 以下）带拖轮",{"v":1,"d":"1.00"},{"v":0,"d":"0.00"},0,0,0.3]
[{"$f":"SUBTOTAL(3,$B$7:B449)","v":7},"TXL2-166拆","辅助船法敷设登陆海缆 驳船","机",{"$f":"E448","v":{"v":0,"d":"0.00"}},"辅助船",{"v":2,"d":"2.00"},{"v":0,"d":"0.00"},0,0,0.3]
[{"$f":"SUBTOTAL(3,$B$7:B450)","v":7},"TXL2-167拆","浮球法敷设登陆海缆 自航船","机",{"$f":"'表三 甲'!E1074","v":{"v":0,"d":"0.00"}},"海缆施工自航船 （5000t 以下）",{"v":1,"d":"1.00"},{"v":0,"d":"0.00"},0,0,0.3]
[{"$f":"SUBTOTAL(3,$B$7:B451)","v":7},"TXL2-167拆","浮球法敷设登陆海缆 自航船","机",{"$f":"E450","v":{"v":0,"d":"0.00"}},"辅助船",{"v":3,"d":"3.00"},{"v":0,"d":"0.00"},0,0,0.3]
[{"$f":"SUBTOTAL(3,$B$7:B452)","v":7},"TXL2-167拆","浮球法敷设登陆海缆 自航船","机",{"$f":"E450","v":{"v":0,"d":"0.00"}},"机械牵引设备",{"v":1,"d":"1.00"},{"v":0,"d":"0.00"},0,0,0.3]
[{"$f":"SUBTOTAL(3,$B$7:B453)","v":7},"TXL2-168拆","浮球法敷设登陆海缆 驳船","机",{"$f":"'表三 甲'!E1075","v":{"v":0,"d":"0.00"}},"辅助船",{"v":3,"d":"3.00"},{"v":0,"d":"0.00"},0,0,0.3]
[{"$f":"SUBTOTAL(3,$B$7:B454)","v":7},"TXL2-168拆","浮球法敷设登陆海缆 驳船","机",{"$f":"E453","v":{"v":0,"d":"0.00"}},"机械牵引设备",{"v":1,"d":"1.00"},{"v":0,"d":"0.00"},0,0,0.3]
[{"$f":"SUBTOTAL(3,$B$7:B455)","v":7},"TXL2-168拆","浮球法敷设登陆海缆 驳船","机",{"$f":"E453","v":{"v":0,"d":"0.00"}},"海缆施工驳船 (500t 以下)带拖轮",{"v":1,"d":"1.00"},{"v":0,"d":"0.00"},0,0,0.3]
[{"$f":"SUBTOTAL(3,$B$7:B456)","v":7},"TXL2-169拆","海底光缆冲埋 水深 20m 以下","机",{"$f":"'表三 甲'!E1076","v":{"v":0,"d":"0.00"}},"辅助船",{"v":6,"d":"6.00"},{"v":0,"d":"0.00"},0,{"$f":"H456*I456","v":0},0.3]
[{"$f":"SUBTOTAL(3,$B$7:B457)","v":7},"TXL2-169拆","海底光缆冲埋 水深 20m 以下","机",{"$f":"E456","v":{"v":0,"d":"0.00"}},"海缆施工驳船 (500t 以下)带拖轮",{"v":3,"d":"3.00"},{"v":0,"d":"0.00"},0,0,0.3]
[{"$f":"SUBTOTAL(3,$B$7:B458)","v":7},"TXL2-170拆","海底光缆冲埋 水深 20～30m","机",{"$f":"'表三 甲'!E1077","v":{"v":0,"d":"0.00"}},"海缆施工驳船 (500t 以下)带拖轮",{"v":5,"d":"5.00"},{"v":0,"d":"0.00"},0,0,0.3]
[{"$f":"SUBTOTAL(3,$B$7:B459)","v":7},"TXL2-170拆","海底光缆冲埋 水深 20～30m","机",{"$f":"E458","v":{"v":0,"d":"0.00"}},"辅助船",{"v":10,"d":"10.00"},{"v":0,"d":"0.00"},0,0,0.3]
[{"$f":"SUBTOTAL(3,$B$7:B460)","v":7},"TXL2-171拆","水下机器人（ROV）后冲埋海底光缆 自航船","机",{"$f":"'表三 甲'!E1078","v":{"v":0,"d":"0.00"}},"海缆施工自航船 (5000t 以下)",0.05,{"v":0,"d":"0.00"},0,0,0.3]
[{"$f":"SUBTOTAL(3,$B$7:B461)","v":7},"TXL2-171拆","水下机器人（ROV）后冲埋海底光缆 自航船","机",{"$f":"E460","v":{"v":0,"d":"0.00"}},"冲埋设备",0.05,{"v":0,"d":"0.00"},0,0,0.3]
[{"$f":"SUBTOTAL(3,$B$7:B462)","v":7},"TXL2-172拆","水下机器人（ROV）后冲埋海底光缆 驳船","机",{"$f":"'表三 甲'!E1079","v":{"v":0,"d":"0.00"}},"海缆施工驳船 (500t 以下)带拖轮",0.05,{"v":0,"d":"0.00"},0,0,0.3]
[{"$f":"SUBTOTAL(3,$B$7:B463)","v":7},"TXL2-172拆","水下机器人（ROV）后冲埋海底光缆 驳船","机",{"$f":"E462","v":{"v":0,"d":"0.00"}},"冲埋设备",0.05,{"v":0,"d":"0.00"},0,0,0.3]
[{"$f":"SUBTOTAL(3,$B$7:B464)","v":7},"TXL2-173拆","水下安装 关节套管","机",{"$f":"'表三 甲'!E1080","v":{"v":0,"d":"0.00"}},"海缆施工自航船 (5000t 以下)",{"v":0.2,"d":"0.20"},{"v":0,"d":"0.00"},0,0,0.3]
[{"$f":"SUBTOTAL(3,$B$7:B465)","v":7},"TXL3-001拆","立 9m 以下水泥杆 综合土","机",{"$f":"'表三 甲'!E1096","v":{"v":0,"d":"0.00"}},"汽车式起重机 5t",0.04,{"v":516,"d":"516.00"},0,0,0.7]
[{"$f":"SUBTOTAL(3,$B$7:B466)","v":7},"TXL3-002拆","立 9m 以下水泥杆 软石","机",{"$f":"'表三 甲'!E1097","v":{"v":0,"d":"0.00"}},"汽车式起重机 5t",0.04,{"v":516,"d":"516.00"},0,0,0.3]
[{"$f":"SUBTOTAL(3,$B$7:B467)","v":7},"TXL3-003拆","立 9m 以下水泥杆 坚石","机",{"$f":"'表三 甲'!E1098","v":{"v":0,"d":"0.00"}},"汽车式起重机 5t",0.04,{"v":516,"d":"516.00"},0,0,0.3]
[{"$f":"SUBTOTAL(3,$B$7:B468)","v":7},"TXL3-004拆","立 11m 以下水泥杆 综合土","机",{"$f":"'表三 甲'!E1099","v":{"v":0,"d":"0.00"}},"汽车式起重机 5t",0.04,{"v":516,"d":"516.00"},0,0,0.7]
[{"$f":"SUBTOTAL(3,$B$7:B469)","v":7},"TXL3-005拆","立 11m 以下水泥杆 软石","机",{"$f":"'表三 甲'!E1100","v":{"v":0,"d":"0.00"}},"汽车式起重机 5t",0.04,{"v":516,"d":"516.00"},0,0,0.3]
[{"$f":"SUBTOTAL(3,$B$7:B470)","v":7},"TXL3-006拆","立 11m 以下水泥杆 坚石","机",{"$f":"'表三 甲'!E1101","v":{"v":0,"d":"0.00"}},"汽车式起重机 5t",0.04,{"v":516,"d":"516.00"},0,0,0.3]
[{"$f":"SUBTOTAL(3,$B$7:B471)","v":7},"TXL3-007拆","立 13m 以下水泥杆 综合土","机",{"$f":"'表三 甲'!E1102","v":{"v":0,"d":"0.00"}},"汽车式起重机 5t",0.06,{"v":516,"d":"516.00"},0,0,0.3]
[{"$f":"SUBTOTAL(3,$B$7:B472)","v":7},"TXL3-008拆","立 13m 以下水泥杆 软石","机",{"$f":"'表三 甲'!E1103","v":{"v":0,"d":"0.00"}},"汽车式起重机 5t",0.06,{"v":516,"d":"516.00"},0,0,0.3]
[{"$f":"SUBTOTAL(3,$B$7:B473)","v":7},"TXL3-009拆","立 13m 以下水泥杆 坚石","机",{"$f":"'表三 甲'!E1104","v":{"v":0,"d":"0.00"}},"汽车式起重机 5t",0.06,{"v":516,"d":"516.00"},0,0,0.3]
[{"$f":"SUBTOTAL(3,$B$7:B474)","v":7},"TXL3-010拆","立 13m 以下水泥 H 杆 综合土","机",{"$f":"'表三 甲'!E1105","v":{"v":0,"d":"0.00"}},"汽车式起重机 5t",0.12,{"v":516,"d":"516.00"},0,0,0.3]
[{"$f":"SUBTOTAL(3,$B$7:B475)","v":7},"TXL3-011拆","立 13m 以下水泥 H 杆 软石","机",{"$f":"'表三 甲'!E1106","v":{"v":0,"d":"0.00"}},"汽车式起重机 5t",0.12,{"v":516,"d":"516.00"},0,0,0.3]
[{"$f":"SUBTOTAL(3,$B$7:B476)","v":7},"TXL3-012拆","立 13m 以下水泥 H 杆 坚石","机",{"$f":"'表三 甲'!E1107","v":{"v":0,"d":"0.00"}},"汽车式起重机 5t",0.12,{"v":516,"d":"516.00"},0,0,0.3]
[{"$f":"SUBTOTAL(3,$B$7:B477)","v":7},"TXL3-048拆","装水泥撑杆 综合土","机",{"$f":"'表三 甲'!E1143","v":{"v":0,"d":"0.00"}},"汽车式起重机（5t）",0.05,{"v":516,"d":"516.00"},{"$f":"E477*G477*K477","v":0},0,0.3]
[{"$f":"SUBTOTAL(3,$B$7:B478)","v":7},"TXL3-049拆","装水泥撑杆 软石","机",{"$f":"'表三 甲'!E1144","v":{"v":0,"d":"0.00"}},"汽车式起重机（5t）",0.05,{"v":516,"d":"516.00"},0,0,0.3]
[{"$f":"SUBTOTAL(3,$B$7:B479)","v":7},"TXL3-050拆","装水泥撑杆 坚石","机",{"$f":"'表三 甲'!E1145","v":{"v":0,"d":"0.00"}},"汽车式起重机（5t）",0.05,{"v":516,"d":"516.00"},0,0,0.3]
[{"$f":"SUBTOTAL(3,$B$7:B480)","v":7},"TXL3-203拆","缠绕法架设架空光缆 平原 36 芯以下","机",{"$f":"'表三 甲'!E1298","v":{"v":0,"d":"0.00"}},"缠绕机",{"v":0.3,"d":"0.30"},{"v":137,"d":"137.00"},0,0,0.7]
[{"$f":"SUBTOTAL(3,$B$7:B481)","v":7},"TXL3-204拆","缠绕法架设架空光缆 平原 72 芯以下","机",{"$f":"'表三 甲'!E1299","v":{"v":0,"d":"0.00"}},"缠绕机",{"v":0.3,"d":"0.30"},{"v":137,"d":"137.00"},0,0,0.7]
[{"$f":"SUBTOTAL(3,$B$7:B482)","v":7},"TXL3-205拆","缠绕法架设架空光缆 平原 144 芯以下","机",{"$f":"'表三 甲'!E1300","v":{"v":0,"d":"0.00"}},"缠绕机",{"v":0.3,"d":"0.30"},{"v":137,"d":"137.00"},0,0,0.7]
[{"$f":"SUBTOTAL(3,$B$7:B483)","v":7},"TXL3-206拆","缠绕法架设架空光缆 平原 288 芯以下","机",{"$f":"'表三 甲'!E1301","v":{"v":0,"d":"0.00"}},"缠绕机",{"v":0.3,"d":"0.30"},{"v":137,"d":"137.00"},0,0,0.7]
[{"$f":"SUBTOTAL(3,$B$7:B484)","v":7},"TXL3-207拆","缠绕法架设架空光缆 平原 288 芯以上","机",{"$f":"'表三 甲'!E1302","v":{"v":0,"d":"0.00"}},"缠绕机",{"v":0.3,"d":"0.30"},{"v":137,"d":"137.00"},0,0,0.7]
[{"$f":"SUBTOTAL(3,$B$7:B485)","v":7},"TXL3-208拆","缠绕法架设架空光缆 丘陵、城区、水田 36 芯以下","机",{"$f":"'表三 甲'!E1303","v":{"v":0,"d":"0.00"}},"缠绕机",0.35,{"v":137,"d":"137.00"},0,0,0.7]
[{"$f":"SUBTOTAL(3,$B$7:B486)","v":7},"TXL3-209拆","缠绕法架设架空光缆 丘陵、城区、水田 72 芯以下","机",{"$f":"'表三 甲'!E1304","v":{"v":0,"d":"0.00"}},"缠绕机",0.35,{"v":137,"d":"137.00"},0,0,0.7]
[{"$f":"SUBTOTAL(3,$B$7:B487)","v":7},"TXL3-210拆","缠绕法架设架空光缆 丘陵、城区、水田 144 芯以下","机",{"$f":"'表三 甲'!E1305","v":{"v":0,"d":"0.00"}},"缠绕机",0.35,{"v":137,"d":"137.00"},0,0,0.7]
[{"$f":"SUBTOTAL(3,$B$7:B488)","v":7},"TXL3-211拆","缠绕法架设架空光缆 丘陵、城区、水田 288 芯以下","机",{"$f":"'表三 甲'!E1306","v":{"v":0,"d":"0.00"}},"缠绕机",0.35,{"v":137,"d":"137.00"},0,0,0.7]
[{"$f":"SUBTOTAL(3,$B$7:B489)","v":7},"TXL3-212拆","缠绕法架设架空光缆 丘陵、城区、水田 288 芯以上","机",{"$f":"'表三 甲'!E1307","v":{"v":0,"d":"0.00"}},"缠绕机",0.35,{"v":137,"d":"137.00"},0,0,0.7]
[{"$f":"SUBTOTAL(3,$B$7:B490)","v":7},"TXL3-213拆","缠绕法架设架空光缆 山区 36 芯以下","机",{"$f":"'表三 甲'!E1308","v":{"v":0,"d":"0.00"}},"缠绕机",0.42,{"v":137,"d":"137.00"},0,0,0.7]
[{"$f":"SUBTOTAL(3,$B$7:B491)","v":7},"TXL3-214拆","缠绕法架设架空光缆 山区 72 芯以下","机",{"$f":"'表三 甲'!E1309","v":{"v":0,"d":"0.00"}},"缠绕机",0.42,{"v":137,"d":"137.00"},0,0,0.7]
[{"$f":"SUBTOTAL(3,$B$7:B492)","v":7},"TXL3-215拆","缠绕法架设架空光缆 山区 144 芯以下","机",{"$f":"'表三 甲'!E1310","v":{"v":0,"d":"0.00"}},"缠绕机",0.42,{"v":137,"d":"137.00"},0,0,0.7]
[{"$f":"SUBTOTAL(3,$B$7:B493)","v":7},"TXL3-216拆","缠绕法架设架空光缆 山区 288 芯以下","机",{"$f":"'表三 甲'!E1311","v":{"v":0,"d":"0.00"}},"缠绕机",0.42,{"v":137,"d":"137.00"},0,0,0.7]
[{"$f":"SUBTOTAL(3,$B$7:B494)","v":7},"TXL3-217拆","缠绕法架设架空光缆 山区 288 芯以上","机",{"$f":"'表三 甲'!E1312","v":{"v":0,"d":"0.00"}},"缠绕机",0.42,{"v":137,"d":"137.00"},0,0,0.7]
[{"$f":"SUBTOTAL(3,$B$7:B495)","v":7},"TXL4-001拆","布放光（电）缆人孔抽水 积水","机",{"$f":"'表三 甲'!E1318","v":{"v":0,"d":"0.00"}},"抽水机",{"v":0.2,"d":"0.20"},{"v":119,"d":"119.00"},0,0,0.3]
[{"$f":"SUBTOTAL(3,$B$7:B496)","v":7},"TXL4-002拆","布放光（电）缆人孔抽水 流水","机",{"$f":"'表三 甲'!E1319","v":{"v":0,"d":"0.00"}},"抽水机",{"v":0.5,"d":"0.50"},{"v":119,"d":"119.00"},0,0,0.3]
[{"$f":"SUBTOTAL(3,$B$7:B497)","v":7},"TXL4-003拆","布放光（电）缆手孔抽水","机",{"$f":"'表三 甲'!E1320","v":{"v":0,"d":"0.00"}},"抽水机",{"v":0.1,"d":"0.10"},{"v":119,"d":"119.00"},0,0,0.3]
[{"$f":"SUBTOTAL(3,$B$7:B498)","v":7},"TXL4-026拆","机械敷设管道电缆 200 对以下","机",{"$f":"'表三 甲'!E1343","v":{"v":0,"d":"0.00"}},"电缆拖车",{"v":0.4,"d":"0.40"},{"v":138,"d":"138.00"},0,0,0.9]
[{"$f":"SUBTOTAL(3,$B$7:B499)","v":7},"TXL4-026拆","机械敷设管道电缆 200 对以下","机",{"$f":"E498","v":{"v":0,"d":"0.00"}},"载重汽车 (5t)",{"v":0.4,"d":"0.40"},{"v":372,"d":"372.00"},0,0,0.9]
[{"$f":"SUBTOTAL(3,$B$7:B500)","v":7},"TXL4-027拆","机械敷设管道电缆 400 对以下","机",{"$f":"'表三 甲'!E1344","v":{"v":0,"d":"0.00"}},"电缆拖车",0.55,{"v":138,"d":"138.00"},0,0,0.9]
[{"$f":"SUBTOTAL(3,$B$7:B501)","v":7},"TXL4-027拆","机械敷设管道电缆 400 对以下","机",{"$f":"E500","v":{"v":0,"d":"0.00"}},"载重汽车 (5t)",0.55,{"v":372,"d":"372.00"},0,0,0.9]
[{"$f":"SUBTOTAL(3,$B$7:B502)","v":7},"TXL4-028拆","机械敷设管道电缆 800 对以下","机",{"$f":"'表三 甲'!E1345","v":{"v":0,"d":"0.00"}},"电缆拖车",0.75,{"v":138,"d":"138.00"},0,0,0.9]
[{"$f":"SUBTOTAL(3,$B$7:B503)","v":7},"TXL4-028拆","机械敷设管道电缆 800 对以下","机",{"$f":"E502","v":{"v":0,"d":"0.00"}},"载重汽车 (5t)",0.75,{"v":372,"d":"372.00"},0,0,0.9]
[{"$f":"SUBTOTAL(3,$B$7:B504)","v":7},"TXL4-029拆","机械敷设管道电缆 1200 对以下","机",{"$f":"'表三 甲'!E1346","v":{"v":0,"d":"0.00"}},"电缆拖车",{"v":0.9,"d":"0.90"},{"v":138,"d":"138.00"},0,0,0.9]
[{"$f":"SUBTOTAL(3,$B$7:B505)","v":7},"TXL4-029拆","机械敷设管道电缆 1200 对以下","机",{"$f":"E504","v":{"v":0,"d":"0.00"}},"载重汽车 (5t)",{"v":0.9,"d":"0.90"},{"v":372,"d":"372.00"},0,0,0.9]
[{"$f":"SUBTOTAL(3,$B$7:B506)","v":7},"TXL4-030拆","机械敷设管道电缆 1800 对以下","机",{"$f":"'表三 甲'!E1347","v":{"v":0,"d":"0.00"}},"载重汽车 (5t)",{"v":1.1,"d":"1.10"},{"v":372,"d":"372.00"},0,0,0.9]
[{"$f":"SUBTOTAL(3,$B$7:B507)","v":7},"TXL4-030拆","机械敷设管道电缆 1800 对以下","机",{"$f":"E506","v":{"v":0,"d":"0.00"}},"电缆拖车",{"v":1.1,"d":"1.10"},{"v":138,"d":"138.00"},0,0,0.9]
[{"$f":"SUBTOTAL(3,$B$7:B508)","v":7},"TXL4-031拆","机械敷设管道电缆 2400 对以下","机",{"$f":"'表三 甲'!E1348","v":{"v":0,"d":"0.00"}},"载重汽车 (5t)",{"v":1.4,"d":"1.40"},{"v":372,"d":"372.00"},0,0,0.9]
[{"$f":"SUBTOTAL(3,$B$7:B509)","v":7},"TXL4-031拆","机械敷设管道电缆 2400 对以下","机",{"$f":"E508","v":{"v":0,"d":"0.00"}},"电缆拖车",{"v":1.4,"d":"1.40"},{"v":138,"d":"138.00"},0,0,0.9]
[{"$f":"SUBTOTAL(3,$B$7:B510)","v":7},"TXL4-032拆","机械敷设管道电缆 2400 对以上","机",{"$f":"'表三 甲'!E1349","v":{"v":0,"d":"0.00"}},"载重汽车 (5t)",{"v":2,"d":"2.00"},{"v":372,"d":"372.00"},0,0,0.9]
[{"$f":"SUBTOTAL(3,$B$7:B511)","v":7},"TXL4-032拆","机械敷设管道电缆 2400 对以上","机",{"$f":"E510","v":{"v":0,"d":"0.00"}},"电缆拖车",{"v":2,"d":"2.00"},{"v":138,"d":"138.00"},0,0,0.9]
[{"$f":"SUBTOTAL(3,$B$7:B512)","v":7},"TXL5-001拆","城区气流法敷设微管 3 根以下","机",{"$f":"'表三 甲'!E1380","v":{"v":0,"d":"0.00"}},"气流敷设设备(敷设微管微缆)",0.23,{"v":814,"d":"814.00"},0,0,0.3]
[{"$f":"SUBTOTAL(3,$B$7:B513)","v":7},"TXL5-001拆","城区气流法敷设微管 3 根以下","机",{"$f":"E512","v":{"v":0,"d":"0.00"}},"载重汽车 （5t）",0.46,{"v":372,"d":"372.00"},0,0,0.3]
[{"$f":"SUBTOTAL(3,$B$7:B514)","v":7},"TXL5-001拆","城区气流法敷设微管 3 根以下","机",{"$f":"E512","v":{"v":0,"d":"0.00"}},"汽车式起重机 （5t）",0.18,{"v":516,"d":"516.00"},0,0,0.3]
[{"$f":"SUBTOTAL(3,$B$7:B515)","v":7},"TXL5-002拆","城区气流法敷设微管 5 根以下","机",{"$f":"'表三 甲'!E1381","v":{"v":0,"d":"0.00"}},"气流敷设设备(敷设微管微缆)",0.26,{"v":814,"d":"814.00"},0,0,0.3]
[{"$f":"SUBTOTAL(3,$B$7:B516)","v":7},"TXL5-002拆","城区气流法敷设微管 5 根以下","机",{"$f":"E515","v":{"v":0,"d":"0.00"}},"汽车式起重机 （5t）",0.18,{"v":516,"d":"516.00"},0,0,0.3]
[{"$f":"SUBTOTAL(3,$B$7:B517)","v":7},"TXL5-002拆","城区气流法敷设微管 5 根以下","机",{"$f":"E515","v":{"v":0,"d":"0.00"}},"载重汽车 （5t）",0.52,{"v":372,"d":"372.00"},0,0,0.3]
[{"$f":"SUBTOTAL(3,$B$7:B518)","v":7},"TXL5-003拆","城区气流法敷设微管 5 根以上","机",{"$f":"'表三 甲'!E1382","v":{"v":0,"d":"0.00"}},"汽车式起重机 （5t）",0.18,{"v":516,"d":"516.00"},0,0,0.3]
[{"$f":"SUBTOTAL(3,$B$7:B519)","v":7},"TXL5-003拆","城区气流法敷设微管 5 根以上","机",{"$f":"E518","v":{"v":0,"d":"0.00"}},"载重汽车 （5t）",{"v":0.6,"d":"0.60"},{"v":372,"d":"372.00"},0,0,0.3]
[{"$f":"SUBTOTAL(3,$B$7:B520)","v":7},"TXL5-003拆","城区气流法敷设微管 5 根以上","机",{"$f":"E518","v":{"v":0,"d":"0.00"}},"气流敷设设备(敷设微管微缆)",{"v":0.3,"d":"0.30"},{"v":814,"d":"814.00"},0,{"$f":"H520*I520","v":0},0.3]
[{"$f":"SUBTOTAL(3,$B$7:B521)","v":7},"TXL5-004拆","非城区气流法敷设微管 3 根以下","机",{"$f":"'表三 甲'!E1383","v":{"v":0,"d":"0.00"}},"汽车式起重机 （5t）",0.15,{"v":516,"d":"516.00"},0,0,0.3]
[{"$f":"SUBTOTAL(3,$B$7:B522)","v":7},"TXL5-004拆","非城区气流法敷设微管 3 根以下","机",{"$f":"E521","v":{"v":0,"d":"0.00"}},"载重汽车 （5t）",{"v":0.4,"d":"0.40"},{"v":372,"d":"372.00"},0,0,0.3]
[{"$f":"SUBTOTAL(3,$B$7:B523)","v":7},"TXL5-004拆","非城区气流法敷设微管 3 根以下","机",{"$f":"E521","v":{"v":0,"d":"0.00"}},"气流敷设设备(敷设微管微缆)",{"v":0.2,"d":"0.20"},{"v":814,"d":"814.00"},0,0,0.3]
[{"$f":"SUBTOTAL(3,$B$7:B524)","v":7},"TXL5-005拆","非城区气流法敷设微管 5 根以下","机",{"$f":"'表三 甲'!E1384","v":{"v":0,"d":"0.00"}},"汽车式起重机 （5t）",0.15,{"v":516,"d":"516.00"},0,0,0.3]
[{"$f":"SUBTOTAL(3,$B$7:B525)","v":7},"TXL5-005拆","非城区气流法敷设微管 5 根以下","机",{"$f":"E524","v":{"v":0,"d":"0.00"}},"气流敷设设备(敷设微管微缆)",0.23,{"v":814,"d":"814.00"},0,0,0.3]
[{"$f":"SUBTOTAL(3,$B$7:B526)","v":7},"TXL5-005拆","非城区气流法敷设微管 5 根以下","机",{"$f":"E524","v":{"v":0,"d":"0.00"}},"载重汽车 （5t）",0.46,{"v":372,"d":"372.00"},0,0,0.3]
[{"$f":"SUBTOTAL(3,$B$7:B527)","v":7},"TXL5-006拆","非城区气流法敷设微管 5 根以上","机",{"$f":"'表三 甲'!E1385","v":{"v":0,"d":"0.00"}},"气流敷设设备(敷设微管微缆)",0.26,{"v":814,"d":"814.00"},0,0,0.3]
[{"$f":"SUBTOTAL(3,$B$7:B528)","v":7},"TXL5-006拆","非城区气流法敷设微管 5 根以上","机",{"$f":"E527","v":{"v":0,"d":"0.00"}},"汽车式起重机 （5t）",0.15,{"v":516,"d":"516.00"},0,0,0.3]
[{"$f":"SUBTOTAL(3,$B$7:B529)","v":7},"TXL5-006拆","非城区气流法敷设微管 5 根以上","机",{"$f":"E527","v":{"v":0,"d":"0.00"}},"载重汽车 （5t）",0.52,{"v":372,"d":"372.00"},0,0,0.3]
[{"$f":"SUBTOTAL(3,$B$7:B530)","v":7},"TXL5-010拆","城区人工布放微管 非空闲保护管内 3 根以下","机",{"$f":"'表三 甲'!E1389","v":{"v":0,"d":"0.00"}},"燃油式空气压缩机",{"v":0.1,"d":"0.10"},{"v":368,"d":"368.00"},0,0,0.3]
[{"$f":"SUBTOTAL(3,$B$7:B531)","v":7},"TXL5-011拆","城区人工布放微管 非空闲保护管内 4 至 5 根","机",{"$f":"'表三 甲'!E1390","v":{"v":0,"d":"0.00"}},"燃油式空气压缩机",0.12,{"v":368,"d":"368.00"},0,0,0.3]
[{"$f":"SUBTOTAL(3,$B$7:B532)","v":7},"TXL5-013拆","保护管贯通","机",{"$f":"'表三 甲'!E1392","v":{"v":0,"d":"0.00"}},"载重汽车 （5t）",0.08,{"v":372,"d":"372.00"},0,0,0.3]
[{"$f":"SUBTOTAL(3,$B$7:B533)","v":7},"TXL5-013拆","保护管贯通","机",{"$f":"E532","v":{"v":0,"d":"0.00"}},"气流敷设设备(敷设微管微缆)",0.08,{"v":814,"d":"814.00"},0,0,0.3]
[{"$f":"SUBTOTAL(3,$B$7:B534)","v":7},"TXL5-016拆","混凝土路面开微槽 30m 以下","机",{"$f":"'表三 甲'!E1395","v":{"v":0,"d":"0.00"}},"燃油式空气压缩机 (含风镐)",0.44,{"v":372,"d":"372.00"},0,0,0.3]
[{"$f":"SUBTOTAL(3,$B$7:B535)","v":7},"TXL5-016拆","混凝土路面开微槽 30m 以下","机",{"$f":"E534","v":{"v":0,"d":"0.00"}},"真空泵",0.63,{"v":137,"d":"137.00"},0,0,0.3]
[{"$f":"SUBTOTAL(3,$B$7:B536)","v":7},"TXL5-016拆","混凝土路面开微槽 30m 以下","机",{"$f":"E534","v":{"v":0,"d":"0.00"}},"路面切割机",{"v":0.7,"d":"0.70"},{"v":210,"d":"210.00"},0,0,0.3]
[{"$f":"SUBTOTAL(3,$B$7:B537)","v":7},"TXL5-016拆","混凝土路面开微槽 30m 以下","机",{"$f":"E534","v":{"v":0,"d":"0.00"}},"汽油发电机（10kW）",0.84,{"v":202,"d":"202.00"},0,0,0.3]
[{"$f":"SUBTOTAL(3,$B$7:B538)","v":7},"TXL5-017拆","混凝土路面开微槽 每增加 10m","机",{"$f":"'表三 甲'!E1396","v":{"v":0,"d":"0.00"}},"汽油发电机（10kW）",0.17,{"v":202,"d":"202.00"},0,0,0.3]
[{"$f":"SUBTOTAL(3,$B$7:B539)","v":7},"TXL5-017拆","混凝土路面开微槽 每增加 10m","机",{"$f":"E538","v":{"v":0,"d":"0.00"}},"燃油式空气压缩机 (含风镐)",0.08,{"v":372,"d":"372.00"},0,0,0.3]
[{"$f":"SUBTOTAL(3,$B$7:B540)","v":7},"TXL5-017拆","混凝土路面开微槽 每增加 10m","机",{"$f":"E538","v":{"v":0,"d":"0.00"}},"真空泵",{"v":0.1,"d":"0.10"},{"v":137,"d":"137.00"},0,0,0.3]
[{"$f":"SUBTOTAL(3,$B$7:B541)","v":7},"TXL5-017拆","混凝土路面开微槽 每增加 10m","机",{"$f":"E538","v":{"v":0,"d":"0.00"}},"路面切割机",0.11,{"v":210,"d":"210.00"},{"$f":"E541*G541*K541","v":0},0,0.3]
[{"$f":"SUBTOTAL(3,$B$7:B542)","v":7},"TXL5-018拆","沥青柏油路面开微槽 30m 以下","机",{"$f":"'表三 甲'!E1397","v":{"v":0,"d":"0.00"}},"路面切割机",{"v":0.7,"d":"0.70"},{"v":210,"d":"210.00"},0,0,0.3]
[{"$f":"SUBTOTAL(3,$B$7:B543)","v":7},"TXL5-018拆","沥青柏油路面开微槽 30m 以下","机",{"$f":"E542","v":{"v":0,"d":"0.00"}},"真空泵",0.63,{"v":137,"d":"137.00"},0,0,0.3]
[{"$f":"SUBTOTAL(3,$B$7:B544)","v":7},"TXL5-018拆","沥青柏油路面开微槽 30m 以下","机",{"$f":"E542","v":{"v":0,"d":"0.00"}},"燃油式空气压缩机 (含风镐)",0.44,{"v":372,"d":"372.00"},0,0,0.3]
[{"$f":"SUBTOTAL(3,$B$7:B545)","v":7},"TXL5-018拆","沥青柏油路面开微槽 30m 以下","机",{"$f":"E542","v":{"v":0,"d":"0.00"}},"汽油发电机（10kW）",0.84,{"v":202,"d":"202.00"},0,0,0.3]
[{"$f":"SUBTOTAL(3,$B$7:B546)","v":7},"TXL5-019拆","沥青柏油路面开微槽 每增加 10m","机",{"$f":"'表三 甲'!E1398","v":{"v":0,"d":"0.00"}},"真空泵",{"v":0.1,"d":"0.10"},{"v":137,"d":"137.00"},0,0,0.3]
[{"$f":"SUBTOTAL(3,$B$7:B547)","v":7},"TXL5-019拆","沥青柏油路面开微槽 每增加 10m","机",{"$f":"E546","v":{"v":0,"d":"0.00"}},"路面切割机",0.11,{"v":210,"d":"210.00"},0,0,0.3]
[{"$f":"SUBTOTAL(3,$B$7:B548)","v":7},"TXL5-019拆","沥青柏油路面开微槽 每增加 10m","机",{"$f":"E546","v":{"v":0,"d":"0.00"}},"汽油发电机 10kW",0.17,{"v":202,"d":"202.00"},0,0,0.3]
[{"$f":"SUBTOTAL(3,$B$7:B549)","v":7},"TXL5-019拆","沥青柏油路面开微槽 每增加 10m","机",{"$f":"E546","v":{"v":0,"d":"0.00"}},"燃油式空气压缩机 (含风镐)",0.08,{"v":372,"d":"372.00"},0,0,0.3]
[{"$f":"SUBTOTAL(3,$B$7:B550)","v":7},"TXL5-020拆","平原地区气流法穿放光缆 36 芯以下","机",{"$f":"'表三 甲'!E1399","v":{"v":0,"d":"0.00"}},"气流敷设设备(敷设光缆)",{"v":0.2,"d":"0.20"},{"v":1007,"d":"1007.00"},0,0,0.9]
[{"$f":"SUBTOTAL(3,$B$7:B551)","v":7},"TXL5-020拆","平原地区气流法穿放光缆 36 芯以下","机",{"$f":"E550","v":{"v":0,"d":"0.00"}},"汽车式起重机 (5t)",{"v":0.2,"d":"0.20"},{"v":516,"d":"516.00"},0,0,0.9]
[{"$f":"SUBTOTAL(3,$B$7:B552)","v":7},"TXL5-020拆","平原地区气流法穿放光缆 36 芯以下","机",{"$f":"E550","v":{"v":0,"d":"0.00"}},"载重汽车 (5t)",{"v":0.2,"d":"0.20"},{"v":372,"d":"372.00"},0,0,0.9]
[{"$f":"SUBTOTAL(3,$B$7:B553)","v":7},"TXL5-021拆","平原地区气流法穿放光缆 72 芯以下","机",{"$f":"'表三 甲'!E1400","v":{"v":0,"d":"0.00"}},"载重汽车 (5t)",0.23,{"v":372,"d":"372.00"},0,0,0.9]
[{"$f":"SUBTOTAL(3,$B$7:B554)","v":7},"TXL5-021拆","平原地区气流法穿放光缆 72 芯以下","机",{"$f":"E553","v":{"v":0,"d":"0.00"}},"气流敷设设备(敷设光缆)",0.23,{"v":1007,"d":"1007.00"},0,0,0.9]
[{"$f":"SUBTOTAL(3,$B$7:B555)","v":7},"TXL5-021拆","平原地区气流法穿放光缆 72 芯以下","机",{"$f":"E553","v":{"v":0,"d":"0.00"}},"汽车式起重机 (5t)",0.23,{"v":516,"d":"516.00"},0,0,0.9]
[{"$f":"SUBTOTAL(3,$B$7:B556)","v":7},"TXL5-022拆","平原地区气流法穿放光缆 144 芯以下","机",{"$f":"'表三 甲'!E1401","v":{"v":0,"d":"0.00"}},"载重汽车 (5t)",0.26,{"v":372,"d":"372.00"},0,0,0.9]
[{"$f":"SUBTOTAL(3,$B$7:B557)","v":7},"TXL5-022拆","平原地区气流法穿放光缆 144 芯以下","机",{"$f":"E556","v":{"v":0,"d":"0.00"}},"气流敷设设备(敷设光缆)",0.26,{"v":1007,"d":"1007.00"},0,0,0.9]
[{"$f":"SUBTOTAL(3,$B$7:B558)","v":7},"TXL5-022拆","平原地区气流法穿放光缆 144 芯以下","机",{"$f":"E556","v":{"v":0,"d":"0.00"}},"汽车式起重机 (5t）",0.26,{"v":516,"d":"516.00"},0,0,0.9]
[{"$f":"SUBTOTAL(3,$B$7:B559)","v":7},"TXL5-023拆","平原地区气流法穿放光缆 288 芯以下","机",{"$f":"'表三 甲'!E1402","v":{"v":0,"d":"0.00"}},"汽车式起重机 （5t）",0.29,{"v":516,"d":"516.00"},0,0,0.9]
[{"$f":"SUBTOTAL(3,$B$7:B560)","v":7},"TXL5-023拆","平原地区气流法穿放光缆 288 芯以下","机",{"$f":"E559","v":{"v":0,"d":"0.00"}},"气流敷设设备(敷设光缆)",0.29,{"v":1007,"d":"1007.00"},0,0,0.9]
[{"$f":"SUBTOTAL(3,$B$7:B561)","v":7},"TXL5-023拆","平原地区气流法穿放光缆 288 芯以下","机",{"$f":"E559","v":{"v":0,"d":"0.00"}},"载重汽车 （5t）",0.29,{"v":372,"d":"372.00"},0,0,0.9]
[{"$f":"SUBTOTAL(3,$B$7:B562)","v":7},"TXL5-024拆","平原地区气流法穿放光缆 288 芯以上","机",{"$f":"'表三 甲'!E1403","v":{"v":0,"d":"0.00"}},"汽车式起重机 （5t)",0.32,{"v":516,"d":"516.00"},0,0,0.9]
[{"$f":"SUBTOTAL(3,$B$7:B563)","v":7},"TXL5-024拆","平原地区气流法穿放光缆 288 芯以上","机",{"$f":"E562","v":{"v":0,"d":"0.00"}},"载重汽车 (5t)",0.32,{"v":372,"d":"372.00"},0,0,0.9]
[{"$f":"SUBTOTAL(3,$B$7:B564)","v":7},"TXL5-024拆","平原地区气流法穿放光缆 288 芯以上","机",{"$f":"E562","v":{"v":0,"d":"0.00"}},"气流敷设设备(敷设光缆)",0.32,{"v":1007,"d":"1007.00"},0,0,0.9]
[{"$f":"SUBTOTAL(3,$B$7:B565)","v":7},"TXL5-025拆","丘陵、城区、水田地区气流法穿放光缆 36 芯以下","机",{"$f":"'表三 甲'!E1404","v":{"v":0,"d":"0.00"}},"气流敷设设备(敷设光缆)",0.23,{"v":1007,"d":"1007.00"},0,0,0.9]
[{"$f":"SUBTOTAL(3,$B$7:B566)","v":7},"TXL5-025拆","丘陵、城区、水田地区气流法穿放光缆 36 芯以下","机",{"$f":"E565","v":{"v":0,"d":"0.00"}},"汽车式起重机 (5t)",0.23,{"v":516,"d":"516.00"},0,0,0.9]
[{"$f":"SUBTOTAL(3,$B$7:B567)","v":7},"TXL5-025拆","丘陵、城区、水田地区气流法穿放光缆 36 芯以下","机",{"$f":"E565","v":{"v":0,"d":"0.00"}},"载重汽车 (5t)",0.23,{"v":372,"d":"372.00"},0,0,0.9]
[{"$f":"SUBTOTAL(3,$B$7:B568)","v":7},"TXL5-026拆","丘陵、城区、水田地区气流法穿放光缆 72 芯以下","机",{"$f":"'表三 甲'!E1405","v":{"v":0,"d":"0.00"}},"载重汽车 (5t)",0.27,{"v":372,"d":"372.00"},0,0,0.9]
[{"$f":"SUBTOTAL(3,$B$7:B569)","v":7},"TXL5-026拆","丘陵、城区、水田地区气流法穿放光缆 72 芯以下","机",{"$f":"E568","v":{"v":0,"d":"0.00"}},"汽车式起重机 (5t)",0.27,{"v":516,"d":"516.00"},0,0,0.9]
[{"$f":"SUBTOTAL(3,$B$7:B570)","v":7},"TXL5-026拆","丘陵、城区、水田地区气流法穿放光缆 72 芯以下","机",{"$f":"E568","v":{"v":0,"d":"0.00"}},"气流敷设设备(敷设光缆)",0.27,{"v":1007,"d":"1007.00"},0,0,0.9]
[{"$f":"SUBTOTAL(3,$B$7:B571)","v":7},"TXL5-027拆","丘陵、城区、水田地区气流法穿放光缆 144 芯以下","机",{"$f":"'表三 甲'!E1406","v":{"v":0,"d":"0.00"}},"汽车式起重机 (5t)",{"v":0.3,"d":"0.30"},{"v":516,"d":"516.00"},0,0,0.9]
[{"$f":"SUBTOTAL(3,$B$7:B572)","v":7},"TXL5-027拆","丘陵、城区、水田地区气流法穿放光缆 144 芯以下","机",{"$f":"E571","v":{"v":0,"d":"0.00"}},"载重汽车 (5t)",{"v":0.3,"d":"0.30"},{"v":372,"d":"372.00"},0,0,0.9]
[{"$f":"SUBTOTAL(3,$B$7:B573)","v":7},"TXL5-027拆","丘陵、城区、水田地区气流法穿放光缆 144 芯以下","机",{"$f":"E571","v":{"v":0,"d":"0.00"}},"气流敷设设备(敷设光缆)",{"v":0.3,"d":"0.30"},{"v":1007,"d":"1007.00"},0,0,0.9]
[{"$f":"SUBTOTAL(3,$B$7:B574)","v":7},"TXL5-028拆","丘陵、城区、水田地区气流法穿放光缆 288 芯以下","机",{"$f":"'表三 甲'!E1407","v":{"v":0,"d":"0.00"}},"汽车式起重机 (5t)",0.33,{"v":516,"d":"516.00"},0,0,0.9]
[{"$f":"SUBTOTAL(3,$B$7:B575)","v":7},"TXL5-028拆","丘陵、城区、水田地区气流法穿放光缆 288 芯以下","机",{"$f":"E574","v":{"v":0,"d":"0.00"}},"气流敷设设备(敷设光缆)",0.33,{"v":1007,"d":"1007.00"},0,0,0.9]
[{"$f":"SUBTOTAL(3,$B$7:B576)","v":7},"TXL5-028拆","丘陵、城区、水田地区气流法穿放光缆 288 芯以下","机",{"$f":"E574","v":{"v":0,"d":"0.00"}},"载重汽车 (5t)",0.33,{"v":372,"d":"372.00"},0,0,0.9]
[{"$f":"SUBTOTAL(3,$B$7:B577)","v":7},"TXL5-029拆","丘陵、城区、水田地区气流法穿放光缆 288 芯以上","机",{"$f":"'表三 甲'!E1408","v":{"v":0,"d":"0.00"}},"气流敷设设备(敷设光缆)",0.37,{"v":1007,"d":"1007.00"},0,0,0.9]
[{"$f":"SUBTOTAL(3,$B$7:B578)","v":7},"TXL5-029拆","丘陵、城区、水田地区气流法穿放光缆 288 芯以上","机",{"$f":"E577","v":{"v":0,"d":"0.00"}},"载重汽车 (5t)",0.37,{"v":372,"d":"372.00"},0,0,0.9]
[{"$f":"SUBTOTAL(3,$B$7:B579)","v":7},"TXL5-029拆","丘陵、城区、水田地区气流法穿放光缆 288 芯以上","机",{"$f":"E577","v":{"v":0,"d":"0.00"}},"汽车式起重机 (5t)",0.37,{"v":516,"d":"516.00"},0,0,0.9]
[{"$f":"SUBTOTAL(3,$B$7:B580)","v":7},"TXL5-030拆","山区气流法穿放光缆 36 芯以下","机",{"$f":"'表三 甲'!E1409","v":{"v":0,"d":"0.00"}},"载重汽车 (5t)",0.28,{"v":372,"d":"372.00"},0,0,0.9]
[{"$f":"SUBTOTAL(3,$B$7:B581)","v":7},"TXL5-030拆","山区气流法穿放光缆 36 芯以下","机",{"$f":"E580","v":{"v":0,"d":"0.00"}},"气流敷设设备(敷设光缆)",0.28,{"v":1007,"d":"1007.00"},0,0,0.9]
[{"$f":"SUBTOTAL(3,$B$7:B582)","v":7},"TXL5-030拆","山区气流法穿放光缆 36 芯以下","机",{"$f":"E580","v":{"v":0,"d":"0.00"}},"汽车式起重机 (5t)",0.28,{"v":516,"d":"516.00"},0,0,0.9]
[{"$f":"SUBTOTAL(3,$B$7:B583)","v":7},"TXL5-031拆","山区气流法穿放光缆 72 芯以下","机",{"$f":"'表三 甲'!E1410","v":{"v":0,"d":"0.00"}},"汽车式起重机 (5t)",0.32,{"v":516,"d":"516.00"},0,0,0.9]
[{"$f":"SUBTOTAL(3,$B$7:B584)","v":7},"TXL5-031拆","山区气流法穿放光缆 72 芯以下","机",{"$f":"E583","v":{"v":0,"d":"0.00"}},"载重汽车 (5t)",0.32,{"v":372,"d":"372.00"},0,{"$f":"H584*I584","v":0},0.9]
[{"$f":"SUBTOTAL(3,$B$7:B585)","v":7},"TXL5-031拆","山区气流法穿放光缆 72 芯以下","机",{"$f":"E583","v":{"v":0,"d":"0.00"}},"气流敷设设备(敷设光缆)",0.32,{"v":1007,"d":"1007.00"},0,0,0.9]
[{"$f":"SUBTOTAL(3,$B$7:B586)","v":7},"TXL5-032拆","山区气流法穿放光缆 144 芯以下","机",{"$f":"'表三 甲'!E1411","v":{"v":0,"d":"0.00"}},"载重汽车 (5t)",0.36,{"v":372,"d":"372.00"},0,0,0.9]
[{"$f":"SUBTOTAL(3,$B$7:B587)","v":7},"TXL5-032拆","山区气流法穿放光缆 144 芯以下","机",{"$f":"E586","v":{"v":0,"d":"0.00"}},"气流敷设设备(敷设光缆)",0.36,{"v":1007,"d":"1007.00"},0,0,0.9]
[{"$f":"SUBTOTAL(3,$B$7:B588)","v":7},"TXL5-032拆","山区气流法穿放光缆 144 芯以下","机",{"$f":"E586","v":{"v":0,"d":"0.00"}},"汽车式起重机 (5t)",0.36,{"v":516,"d":"516.00"},0,0,0.9]
[{"$f":"SUBTOTAL(3,$B$7:B589)","v":7},"TXL5-033拆","山区气流法穿放光缆 288 芯以下","机",{"$f":"'表三 甲'!E1412","v":{"v":0,"d":"0.00"}},"载重汽车 (5t)",0.41,{"v":372,"d":"372.00"},0,0,0.9]
[{"$f":"SUBTOTAL(3,$B$7:B590)","v":7},"TXL5-033拆","山区气流法穿放光缆 288 芯以下","机",{"$f":"E589","v":{"v":0,"d":"0.00"}},"气流敷设设备(敷设光缆)",0.41,{"v":1007,"d":"1007.00"},0,0,0.9]
[{"$f":"SUBTOTAL(3,$B$7:B591)","v":7},"TXL5-033拆","山区气流法穿放光缆 288 芯以下","机",{"$f":"E589","v":{"v":0,"d":"0.00"}},"汽车式起重机 (5t)",0.41,{"v":516,"d":"516.00"},0,0,0.9]
[{"$f":"SUBTOTAL(3,$B$7:B592)","v":7},"TXL5-034拆","山区气流法穿放光缆 288 芯以上","机",{"$f":"'表三 甲'!E1413","v":{"v":0,"d":"0.00"}},"气流敷设设备(敷设光缆)",0.45,{"v":1007,"d":"1007.00"},0,0,0.9]
[{"$f":"SUBTOTAL(3,$B$7:B593)","v":7},"TXL5-034拆","山区气流法穿放光缆 288 芯以上","机",{"$f":"E592","v":{"v":0,"d":"0.00"}},"载重汽车 (5t)",0.45,{"v":372,"d":"372.00"},0,0,0.9]
[{"$f":"SUBTOTAL(3,$B$7:B594)","v":7},"TXL5-034拆","山区气流法穿放光缆 288 芯以上","机",{"$f":"E592","v":{"v":0,"d":"0.00"}},"汽车式起重机 (5t)",0.45,{"v":516,"d":"516.00"},0,0,0.9]
[{"$f":"SUBTOTAL(3,$B$7:B595)","v":7},"TXL5-035拆","微管（集束管）贯通","机",{"$f":"'表三 甲'!E1414","v":{"v":0,"d":"0.00"}},"气流敷设设备(敷设微管微缆)",0.06,{"v":814,"d":"814.00"},0,0,0.3]
[{"$f":"SUBTOTAL(3,$B$7:B596)","v":7},"TXL5-037拆","城区气流法敷设微型光缆 配盘长 2 公里以下","机",{"$f":"'表三 甲'!E1416","v":{"v":0,"d":"0.00"}},"气流敷设设备(敷设微管微缆)",0.38,{"v":814,"d":"814.00"},0,0,0.9]
[{"$f":"SUBTOTAL(3,$B$7:B597)","v":7},"TXL5-038拆","城区气流法敷设微型光缆 配盘长 2 公里以上","机",{"$f":"'表三 甲'!E1417","v":{"v":0,"d":"0.00"}},"气流敷设设备(敷设微管微缆)",0.46,{"v":814,"d":"814.00"},0,0,0.9]
[{"$f":"SUBTOTAL(3,$B$7:B598)","v":7},"TXL5-039拆","非城区气流法敷设微型光缆 配盘长 2 公里以下","机",{"$f":"'表三 甲'!E1418","v":{"v":0,"d":"0.00"}},"气流敷设设备(敷设微管微缆)",0.25,{"v":814,"d":"814.00"},0,0,0.9]
[{"$f":"SUBTOTAL(3,$B$7:B599)","v":7},"TXL5-040拆","非城区气流法敷设微型光缆 配盘长 2 公里以上","机",{"$f":"'表三 甲'!E1419","v":{"v":0,"d":"0.00"}},"气流敷设设备(敷设微管微缆)",{"v":0.3,"d":"0.30"},{"v":814,"d":"814.00"},0,0,0.9]
[{"$f":"SUBTOTAL(3,$B$7:B600)","v":7},"TXL5-049拆","敷设钢管 φ25 以下","机",{"$f":"'表三 甲'!E1428","v":{"v":0,"d":"0.00"}},"交流弧焊机 (21kVA)",{"v":0.3,"d":"0.30"},{"v":120,"d":"120.00"},0,0,0.3]
[{"$f":"SUBTOTAL(3,$B$7:B601)","v":7},"TXL5-050拆","敷设钢管 φ50 以下","机",{"$f":"'表三 甲'!E1429","v":{"v":0,"d":"0.00"}},"交流弧焊机 (21kVA)",{"v":0.5,"d":"0.50"},{"v":120,"d":"120.00"},0,0,0.3]
[{"$f":"SUBTOTAL(3,$B$7:B602)","v":7},"TXL6-005拆","光缆成端接头 束状","机",{"$f":"'表三 甲'!E1463","v":{"v":0,"d":"0.00"}},"光纤熔接机",0.03,{"v":144,"d":"144.00"},0,0,0.3]
[{"$f":"SUBTOTAL(3,$B$7:B603)","v":7},"TXL6-006拆","光缆成端接头 带状","机",{"$f":"'表三 甲'!E1464","v":{"v":0,"d":"0.00"}},"带状光纤熔接机",0.01,{"v":209,"d":"209.00"},0,0,0.3]
[{"$f":"SUBTOTAL(3,$B$7:B604)","v":7},"TXL6-007拆","光缆接续 4 芯以下","机",{"$f":"'表三 甲'!E1465","v":{"v":0,"d":"0.00"}},"光纤熔接机",0.15,{"v":144,"d":"144.00"},0,0,0.3]
[{"$f":"SUBTOTAL(3,$B$7:B605)","v":7},"TXL6-007拆","光缆接续 4 芯以下","机",{"$f":"'表三 甲'!E1465","v":{"v":0,"d":"0.00"}},"汽油发电机 (10kW)",0.08,{"v":202,"d":"202.00"},{"$f":"E605*G605*K605","v":0},0,0.3]
[{"$f":"SUBTOTAL(3,$B$7:B606)","v":7},"TXL6-008拆","光缆接续 12 芯以下","机",{"$f":"'表三 甲'!E1466","v":{"v":0,"d":"0.00"}},"汽油发电机 (10kW)",{"v":0.1,"d":"0.10"},{"v":202,"d":"202.00"},0,0,0.3]
[{"$f":"SUBTOTAL(3,$B$7:B607)","v":7},"TXL6-008拆","光缆接续 12 芯以下","机",{"$f":"'表三 甲'!E1466","v":{"v":0,"d":"0.00"}},"光纤熔接机",{"v":0.2,"d":"0.20"},{"v":144,"d":"144.00"},0,0,0.3]
[{"$f":"SUBTOTAL(3,$B$7:B608)","v":7},"TXL6-009拆","光缆接续 24 芯以下","机",{"$f":"'表三 甲'!E1467","v":{"v":0,"d":"0.00"}},"汽油发电机 (10kW)",0.15,{"v":202,"d":"202.00"},0,0,0.3]
[{"$f":"SUBTOTAL(3,$B$7:B609)","v":7},"TXL6-009拆","光缆接续 24 芯以下","机",{"$f":"'表三 甲'!E1467","v":{"v":0,"d":"0.00"}},"光纤熔接机",{"v":0.3,"d":"0.30"},{"v":144,"d":"144.00"},0,0,0.3]
[{"$f":"SUBTOTAL(3,$B$7:B610)","v":7},"TXL6-010拆","光缆接续 36 芯以下","机",{"$f":"'表三 甲'!E1468","v":{"v":0,"d":"0.00"}},"光纤熔接机",0.45,{"v":144,"d":"144.00"},0,0,0.3]
[{"$f":"SUBTOTAL(3,$B$7:B611)","v":7},"TXL6-010拆","光缆接续 36 芯以下","机",{"$f":"'表三 甲'!E1468","v":{"v":0,"d":"0.00"}},"汽油发电机 (10kW)",0.25,{"v":202,"d":"202.00"},0,0,0.3]
[{"$f":"SUBTOTAL(3,$B$7:B612)","v":7},"TXL6-011拆","光缆接续 48 芯以下","机",{"$f":"'表三 甲'!E1469","v":{"v":0,"d":"0.00"}},"汽油发电机 (10kW)",{"v":0.3,"d":"0.30"},{"v":202,"d":"202.00"},0,0,0.3]
[{"$f":"SUBTOTAL(3,$B$7:B613)","v":7},"TXL6-011拆","光缆接续 48 芯以下","机",{"$f":"'表三 甲'!E1469","v":{"v":0,"d":"0.00"}},"光纤熔接机",0.55,{"v":144,"d":"144.00"},0,0,0.3]
[{"$f":"SUBTOTAL(3,$B$7:B614)","v":7},"TXL6-012拆","光缆接续 60 芯以下","机",{"$f":"'表三 甲'!E1470","v":{"v":0,"d":"0.00"}},"汽油发电机 (10kW)",0.35,{"v":202,"d":"202.00"},0,0,0.3]
[{"$f":"SUBTOTAL(3,$B$7:B615)","v":7},"TXL6-012拆","光缆接续 60 芯以下","机",{"$f":"'表三 甲'!E1470","v":{"v":0,"d":"0.00"}},"光纤熔接机",{"v":0.7,"d":"0.70"},{"v":144,"d":"144.00"},0,0,0.3]
[{"$f":"SUBTOTAL(3,$B$7:B616)","v":7},"TXL6-013拆","光缆接续 72 芯以下","机",{"$f":"'表三 甲'!E1471","v":{"v":0,"d":"0.00"}},"汽油发电机 (10kW)",{"v":0.4,"d":"0.40"},{"v":202,"d":"202.00"},0,0,0.3]
[{"$f":"SUBTOTAL(3,$B$7:B617)","v":7},"TXL6-013拆","光缆接续 72 芯以下","机",{"$f":"'表三 甲'!E1471","v":{"v":0,"d":"0.00"}},"光纤熔接机",{"v":0.8,"d":"0.80"},{"v":144,"d":"144.00"},0,0,0.3]
[{"$f":"SUBTOTAL(3,$B$7:B618)","v":7},"TXL6-014拆","光缆接续 84 芯以下","机",{"$f":"'表三 甲'!E1472","v":{"v":0,"d":"0.00"}},"汽油发电机 (10kW)",0.45,{"v":202,"d":"202.00"},0,0,0.3]
[{"$f":"SUBTOTAL(3,$B$7:B619)","v":7},"TXL6-014拆","光缆接续 84 芯以下","机",{"$f":"'表三 甲'!E1472","v":{"v":0,"d":"0.00"}},"光纤熔接机",0.95,{"v":144,"d":"144.00"},0,0,0.3]
[{"$f":"SUBTOTAL(3,$B$7:B620)","v":7},"TXL6-015拆","光缆接续 96 芯以下","机",{"$f":"'表三 甲'!E1473","v":{"v":0,"d":"0.00"}},"光纤熔接机",{"v":1.1,"d":"1.10"},{"v":144,"d":"144.00"},0,0,0.3]
[{"$f":"SUBTOTAL(3,$B$7:B621)","v":7},"TXL6-015拆","光缆接续 96 芯以下","机",{"$f":"'表三 甲'!E1473","v":{"v":0,"d":"0.00"}},"汽油发电机 (10kW)",{"v":0.5,"d":"0.50"},{"v":202,"d":"202.00"},0,0,0.3]
[{"$f":"SUBTOTAL(3,$B$7:B622)","v":7},"TXL6-016拆","光缆接续 108 芯以下","机",{"$f":"'表三 甲'!E1474","v":{"v":0,"d":"0.00"}},"汽油发电机 (10kW)",{"v":0.6,"d":"0.60"},{"v":202,"d":"202.00"},0,0,0.3]
[{"$f":"SUBTOTAL(3,$B$7:B623)","v":7},"TXL6-016拆","光缆接续 108 芯以下","机",{"$f":"'表三 甲'!E1474","v":{"v":0,"d":"0.00"}},"光纤熔接机",{"v":1.2,"d":"1.20"},{"v":144,"d":"144.00"},0,0,0.3]
[{"$f":"SUBTOTAL(3,$B$7:B624)","v":7},"TXL6-017拆","光缆接续 132 芯以下","机",{"$f":"'表三 甲'!E1475","v":{"v":0,"d":"0.00"}},"汽油发电机 (10kW)",0.65,{"v":202,"d":"202.00"},0,0,0.3]
[{"$f":"SUBTOTAL(3,$B$7:B625)","v":7},"TXL6-017拆","光缆接续 132 芯以下","机",{"$f":"'表三 甲'!E1475","v":{"v":0,"d":"0.00"}},"光纤熔接机",{"v":1.3,"d":"1.30"},{"v":144,"d":"144.00"},0,0,0.3]
[{"$f":"SUBTOTAL(3,$B$7:B626)","v":7},"TXL6-018拆","光缆接续 144 芯以下","机",{"$f":"'表三 甲'!E1476","v":{"v":0,"d":"0.00"}},"汽油发电机 (10kW)",{"v":0.7,"d":"0.70"},{"v":202,"d":"202.00"},0,0,0.3]
[{"$f":"SUBTOTAL(3,$B$7:B627)","v":7},"TXL6-018拆","光缆接续 144 芯以下","机",{"$f":"'表三 甲'!E1476","v":{"v":0,"d":"0.00"}},"光纤熔接机",{"v":1.4,"d":"1.40"},{"v":144,"d":"144.00"},0,0,0.3]
[{"$f":"SUBTOTAL(3,$B$7:B628)","v":7},"TXL6-019拆","光缆接续 192 芯以下","机",{"$f":"'表三 甲'!E1477","v":{"v":0,"d":"0.00"}},"光纤熔接机",2.05,{"v":144,"d":"144.00"},0,0,0.3]
[{"$f":"SUBTOTAL(3,$B$7:B629)","v":7},"TXL6-019拆","光缆接续 192 芯以下","机",{"$f":"'表三 甲'!E1477","v":{"v":0,"d":"0.00"}},"汽油发电机 (10kW)",1.05,{"v":202,"d":"202.00"},0,0,0.3]
[{"$f":"SUBTOTAL(3,$B$7:B630)","v":7},"TXL6-020拆","光缆接续 288 芯以下","机",{"$f":"'表三 甲'!E1478","v":{"v":0,"d":"0.00"}},"光纤熔接机",3.05,{"v":144,"d":"144.00"},0,0,0.3]
[{"$f":"SUBTOTAL(3,$B$7:B631)","v":7},"TXL6-020拆","光缆接续 288 芯以下","机",{"$f":"'表三 甲'!E1478","v":{"v":0,"d":"0.00"}},"汽油发电机 (10kW)",1.55,{"v":202,"d":"202.00"},0,0,0.3]
[{"$f":"SUBTOTAL(3,$B$7:B632)","v":7},"TXL6-021拆","光缆接续 288 芯以上","机",{"$f":"'表三 甲'!E1479","v":{"v":0,"d":"0.00"}},"汽油发电机 (10kW)",{"v":1.6,"d":"1.60"},{"v":202,"d":"202.00"},0,0,0.3]
[{"$f":"SUBTOTAL(3,$B$7:B633)","v":7},"TXL6-021拆","光缆接续 288 芯以上","机",{"$f":"'表三 甲'!E1479","v":{"v":0,"d":"0.00"}},"光纤熔接机",{"v":3.2,"d":"3.20"},{"v":144,"d":"144.00"},0,0,0.3]
[{"$f":"SUBTOTAL(3,$B$7:B634)","v":7},"TXL6-022拆","8 芯带以下带状光缆接续 48 芯以下","机",{"$f":"'表三 甲'!E1480","v":{"v":0,"d":"0.00"}},"汽油发电机 (10kW)",0.25,{"v":202,"d":"202.00"},0,0,0.3]
[{"$f":"SUBTOTAL(3,$B$7:B635)","v":7},"TXL6-022拆","8 芯带以下带状光缆接续 48 芯以下","机",{"$f":"'表三 甲'!E1480","v":{"v":0,"d":"0.00"}},"带状光纤熔接机",{"v":0.5,"d":"0.50"},{"v":209,"d":"209.00"},0,0,0.3]
[{"$f":"SUBTOTAL(3,$B$7:B636)","v":7},"TXL6-023拆","8 芯带以下带状光缆接续 72 芯以下","机",{"$f":"'表三 甲'!E1481","v":{"v":0,"d":"0.00"}},"汽油发电机 (10kW)",0.35,{"v":202,"d":"202.00"},0,0,0.3]
[{"$f":"SUBTOTAL(3,$B$7:B637)","v":7},"TXL6-023拆","8 芯带以下带状光缆接续 72 芯以下","机",{"$f":"'表三 甲'!E1481","v":{"v":0,"d":"0.00"}},"带状光纤熔接机",0.75,{"v":209,"d":"209.00"},0,0,0.3]
[{"$f":"SUBTOTAL(3,$B$7:B638)","v":7},"TXL6-024拆","8 芯带以下带状光缆接续 96 芯以下","机",{"$f":"'表三 甲'!E1482","v":{"v":0,"d":"0.00"}},"汽油发电机 (10kW)",{"v":0.5,"d":"0.50"},{"v":202,"d":"202.00"},0,0,0.3]
[{"$f":"SUBTOTAL(3,$B$7:B639)","v":7},"TXL6-024拆","8 芯带以下带状光缆接续 96 芯以下","机",{"$f":"'表三 甲'!E1482","v":{"v":0,"d":"0.00"}},"带状光纤熔接机",{"v":1,"d":"1.00"},{"v":209,"d":"209.00"},0,0,0.3]
[{"$f":"SUBTOTAL(3,$B$7:B640)","v":7},"TXL6-025拆","8 芯带以下带状光缆接续 108 芯以下","机",{"$f":"'表三 甲'!E1483","v":{"v":0,"d":"0.00"}},"汽油发电机 (10kW)",{"v":0.6,"d":"0.60"},{"v":202,"d":"202.00"},0,0,0.3]
[{"$f":"SUBTOTAL(3,$B$7:B641)","v":7},"TXL6-025拆","8 芯带以下带状光缆接续 108 芯以下","机",{"$f":"'表三 甲'!E1483","v":{"v":0,"d":"0.00"}},"带状光纤熔接机",1.15,{"v":209,"d":"209.00"},0,0,0.3]
[{"$f":"SUBTOTAL(3,$B$7:B642)","v":7},"TXL6-026拆","8 芯带以下带状光缆接续 120 芯以下","机",{"$f":"'表三 甲'!E1484","v":{"v":0,"d":"0.00"}},"带状光纤熔接机",{"v":1.3,"d":"1.30"},{"v":209,"d":"209.00"},0,0,0.3]
[{"$f":"SUBTOTAL(3,$B$7:B643)","v":7},"TXL6-026拆","8 芯带以下带状光缆接续 120 芯以下","机",{"$f":"'表三 甲'!E1484","v":{"v":0,"d":"0.00"}},"汽油发电机 (10kW)",0.65,{"v":202,"d":"202.00"},0,0,0.3]
[{"$f":"SUBTOTAL(3,$B$7:B644)","v":7},"TXL6-027拆","8 芯带以下带状光缆接续 144 芯以下","机",{"$f":"'表三 甲'!E1485","v":{"v":0,"d":"0.00"}},"带状光纤熔接机",{"v":1.4,"d":"1.40"},{"v":209,"d":"209.00"},0,0,0.3]
[{"$f":"SUBTOTAL(3,$B$7:B645)","v":7},"TXL6-027拆","8 芯带以下带状光缆接续 144 芯以下","机",{"$f":"'表三 甲'!E1485","v":{"v":0,"d":"0.00"}},"汽油发电机 (10kW)",{"v":0.7,"d":"0.70"},{"v":202,"d":"202.00"},0,0,0.3]
[{"$f":"SUBTOTAL(3,$B$7:B646)","v":7},"TXL6-028拆","8 芯带以下带状光缆接续 192 芯以下","机",{"$f":"'表三 甲'!E1486","v":{"v":0,"d":"0.00"}},"汽油发电机 (10kW)",{"v":0.8,"d":"0.80"},{"v":202,"d":"202.00"},0,0,0.3]
[{"$f":"SUBTOTAL(3,$B$7:B647)","v":7},"TXL6-028拆","8 芯带以下带状光缆接续 192 芯以下","机",{"$f":"'表三 甲'!E1486","v":{"v":0,"d":"0.00"}},"带状光纤熔接机",1.55,{"v":209,"d":"209.00"},0,0,0.3]
[{"$f":"SUBTOTAL(3,$B$7:B648)","v":7},"TXL6-029拆","8 芯带以下带状光缆接续 288 芯以下","机",{"$f":"'表三 甲'!E1487","v":{"v":0,"d":"0.00"}},"带状光纤熔接机",1.75,{"v":209,"d":"209.00"},0,{"$f":"H648*I648","v":0},0.3]
[{"$f":"SUBTOTAL(3,$B$7:B649)","v":7},"TXL6-029拆","8 芯带以下带状光缆接续 288 芯以下","机",{"$f":"'表三 甲'!E1487","v":{"v":0,"d":"0.00"}},"汽油发电机 (10kW)",0.85,{"v":202,"d":"202.00"},0,0,0.3]
[{"$f":"SUBTOTAL(3,$B$7:B650)","v":7},"TXL6-030拆","8 芯带以下带状光缆接续 288 芯以上","机",{"$f":"'表三 甲'!E1488","v":{"v":0,"d":"0.00"}},"带状光纤熔接机",1.85,{"v":209,"d":"209.00"},0,0,0.3]
[{"$f":"SUBTOTAL(3,$B$7:B651)","v":7},"TXL6-030拆","8 芯带以下带状光缆接续 288 芯以上","机",{"$f":"'表三 甲'!E1488","v":{"v":0,"d":"0.00"}},"汽油发电机 (10kW)",0.95,{"v":202,"d":"202.00"},0,0,0.3]
[{"$f":"SUBTOTAL(3,$B$7:B652)","v":7},"TXL6-031拆","8 芯带以上带状光缆接续 48 芯以下","机",{"$f":"'表三 甲'!E1489","v":{"v":0,"d":"0.00"}},"汽油发电机 (10kW)",{"v":0.2,"d":"0.20"},{"v":202,"d":"202.00"},0,0,0.3]
[{"$f":"SUBTOTAL(3,$B$7:B653)","v":7},"TXL6-031拆","8 芯带以上带状光缆接续 48 芯以下","机",{"$f":"'表三 甲'!E1489","v":{"v":0,"d":"0.00"}},"带状光纤熔接机",0.45,{"v":209,"d":"209.00"},0,0,0.3]
[{"$f":"SUBTOTAL(3,$B$7:B654)","v":7},"TXL6-032拆","8 芯带以上带状光缆接续 72 芯以下","机",{"$f":"'表三 甲'!E1490","v":{"v":0,"d":"0.00"}},"带状光纤熔接机",{"v":0.7,"d":"0.70"},{"v":209,"d":"209.00"},0,0,0.3]
[{"$f":"SUBTOTAL(3,$B$7:B655)","v":7},"TXL6-032拆","8 芯带以上带状光缆接续 72 芯以下","机",{"$f":"'表三 甲'!E1490","v":{"v":0,"d":"0.00"}},"汽油发电机 (10kW)",0.35,{"v":202,"d":"202.00"},0,0,0.3]
[{"$f":"SUBTOTAL(3,$B$7:B656)","v":7},"TXL6-033拆","8 芯带以上带状光缆接续 96 芯以下","机",{"$f":"'表三 甲'!E1491","v":{"v":0,"d":"0.00"}},"汽油发电机 (10kW)",0.45,{"v":202,"d":"202.00"},0,0,0.3]
[{"$f":"SUBTOTAL(3,$B$7:B657)","v":7},"TXL6-033拆","8 芯带以上带状光缆接续 96 芯以下","机",{"$f":"'表三 甲'!E1491","v":{"v":0,"d":"0.00"}},"带状光纤熔接机",{"v":0.9,"d":"0.90"},{"v":209,"d":"209.00"},0,0,0.3]
[{"$f":"SUBTOTAL(3,$B$7:B658)","v":7},"TXL6-034拆","8 芯带以上带状光缆接续 108 芯以下","机",{"$f":"'表三 甲'!E1492","v":{"v":0,"d":"0.00"}},"带状光纤熔接机",1.05,{"v":209,"d":"209.00"},0,0,0.3]
[{"$f":"SUBTOTAL(3,$B$7:B659)","v":7},"TXL6-034拆","8 芯带以上带状光缆接续 108 芯以下","机",{"$f":"'表三 甲'!E1492","v":{"v":0,"d":"0.00"}},"汽油发电机 (10kW)",0.55,{"v":202,"d":"202.00"},0,0,0.3]
[{"$f":"SUBTOTAL(3,$B$7:B660)","v":7},"TXL6-035拆","8 芯带以上带状光缆接续 120 芯以下","机",{"$f":"'表三 甲'!E1493","v":{"v":0,"d":"0.00"}},"汽油发电机 (10kW)",{"v":0.6,"d":"0.60"},{"v":202,"d":"202.00"},0,0,0.3]
[{"$f":"SUBTOTAL(3,$B$7:B661)","v":7},"TXL6-035拆","8 芯带以上带状光缆接续 120 芯以下","机",{"$f":"'表三 甲'!E1493","v":{"v":0,"d":"0.00"}},"带状光纤熔接机",1.15,{"v":209,"d":"209.00"},0,0,0.3]
[{"$f":"SUBTOTAL(3,$B$7:B662)","v":7},"TXL6-036拆","8 芯带以上带状光缆接续 144 芯以下","机",{"$f":"'表三 甲'!E1494","v":{"v":0,"d":"0.00"}},"汽油发电机 (10kW)",0.65,{"v":202,"d":"202.00"},0,0,0.3]
[{"$f":"SUBTOTAL(3,$B$7:B663)","v":7},"TXL6-036拆","8 芯带以上带状光缆接续 144 芯以下","机",{"$f":"'表三 甲'!E1494","v":{"v":0,"d":"0.00"}},"带状光纤熔接机",1.25,{"v":209,"d":"209.00"},0,0,0.3]
[{"$f":"SUBTOTAL(3,$B$7:B664)","v":7},"TXL6-037拆","8 芯带以上带状光缆接续 192 芯以下","机",{"$f":"'表三 甲'!E1495","v":{"v":0,"d":"0.00"}},"汽油发电机 (10kW)",{"v":0.7,"d":"0.70"},{"v":202,"d":"202.00"},0,0,0.3]
[{"$f":"SUBTOTAL(3,$B$7:B665)","v":7},"TXL6-037拆","8 芯带以上带状光缆接续 192 芯以下","机",{"$f":"'表三 甲'!E1495","v":{"v":0,"d":"0.00"}},"带状光纤熔接机",{"v":1.4,"d":"1.40"},{"v":209,"d":"209.00"},0,0,0.3]
[{"$f":"SUBTOTAL(3,$B$7:B666)","v":7},"TXL6-038拆","8 芯带以上带状光缆接续 288 芯以下","机",{"$f":"'表三 甲'!E1496","v":{"v":0,"d":"0.00"}},"带状光纤熔接机",{"v":1.6,"d":"1.60"},{"v":209,"d":"209.00"},0,0,0.3]
[{"$f":"SUBTOTAL(3,$B$7:B667)","v":7},"TXL6-038拆","8 芯带以上带状光缆接续 288 芯以下","机",{"$f":"'表三 甲'!E1496","v":{"v":0,"d":"0.00"}},"汽油发电机 (10kW)",{"v":0.8,"d":"0.80"},{"v":202,"d":"202.00"},0,0,0.3]
[{"$f":"SUBTOTAL(3,$B$7:B668)","v":7},"TXL6-039拆","8 芯带以上带状光缆接续 384 芯以下","机",{"$f":"'表三 甲'!E1497","v":{"v":0,"d":"0.00"}},"带状光纤熔接机",1.85,{"v":209,"d":"209.00"},0,0,0.3]
[{"$f":"SUBTOTAL(3,$B$7:B669)","v":7},"TXL6-039拆","8 芯带以上带状光缆接续 384 芯以下","机",{"$f":"'表三 甲'!E1497","v":{"v":0,"d":"0.00"}},"汽油发电机 (10kW)",{"v":0.9,"d":"0.90"},{"v":202,"d":"202.00"},{"$f":"E669*G669*K669","v":0},0,0.3]
[{"$f":"SUBTOTAL(3,$B$7:B670)","v":7},"TXL6-040拆","8 芯带以上带状光缆接续 480 芯以下","机",{"$f":"'表三 甲'!E1498","v":{"v":0,"d":"0.00"}},"汽油发电机 (10kW)",1.05,{"v":202,"d":"202.00"},0,0,0.3]
[{"$f":"SUBTOTAL(3,$B$7:B671)","v":7},"TXL6-040拆","8 芯带以上带状光缆接续 480 芯以下","机",{"$f":"'表三 甲'!E1498","v":{"v":0,"d":"0.00"}},"带状光纤熔接机",2.05,{"v":209,"d":"209.00"},0,0,0.3]
[{"$f":"SUBTOTAL(3,$B$7:B672)","v":7},"TXL6-041拆","8 芯带以上带状光缆接续 576 芯以下","机",{"$f":"'表三 甲'!E1499","v":{"v":0,"d":"0.00"}},"带状光纤熔接机",{"v":2.2,"d":"2.20"},{"v":209,"d":"209.00"},0,0,0.3]
[{"$f":"SUBTOTAL(3,$B$7:B673)","v":7},"TXL6-041拆","8 芯带以上带状光缆接续 576 芯以下","机",{"$f":"'表三 甲'!E1499","v":{"v":0,"d":"0.00"}},"汽油发电机 (10kW)",{"v":1.1,"d":"1.10"},{"v":202,"d":"202.00"},0,0,0.3]
[{"$f":"SUBTOTAL(3,$B$7:B674)","v":7},"TXL6-042拆","8 芯带以上带状光缆接续 576 芯以上","机",{"$f":"'表三 甲'!E1500","v":{"v":0,"d":"0.00"}},"带状光纤熔接机",2.35,{"v":209,"d":"209.00"},0,0,0.3]
[{"$f":"SUBTOTAL(3,$B$7:B675)","v":7},"TXL6-042拆","8 芯带以上带状光缆接续 576 芯以上","机",{"$f":"'表三 甲'!E1500","v":{"v":0,"d":"0.00"}},"汽油发电机 (10kW)",1.15,{"v":202,"d":"202.00"},0,0,0.3]
[{"$f":"SUBTOTAL(3,$B$7:B676)","v":7},"TXL7-020拆","安装落地式室外综合机柜 宽 800 以下","机",{"$f":"'表三 甲'!E1691","v":{"v":0,"d":"0.00"}},"汽车式起重机 (5t)",{"v":0.2,"d":"0.20"},{"v":516,"d":"516.00"},0,0,0.3]
[{"$f":"SUBTOTAL(3,$B$7:B677)","v":7},"TXL7-021拆","安装落地式室外综合机柜 宽 800 以上","机",{"$f":"'表三 甲'!E1692","v":{"v":0,"d":"0.00"}},"汽车式起重机 (5t)",{"v":0.2,"d":"0.20"},{"v":516,"d":"516.00"},0,0,0.3]
[{"$f":"SUBTOTAL(3,$B$7:B678)","v":7},"TXL7-022拆","安装架空式室外综合机柜","机",{"$f":"'表三 甲'!E1693","v":{"v":0,"d":"0.00"}},"汽车式起重机 (5t)",0.35,{"v":516,"d":"516.00"},0,0,0.3]
[{"$f":"SUBTOTAL(3,$B$7:B679)","v":7},"TXL7-049拆","安装架空式交接箱 600 对以下","机",{"$f":"'表三 甲'!E1720","v":{"v":0,"d":"0.00"}},"汽车式起重机 (5t)",0.25,{"v":516,"d":"516.00"},0,0,0.3]
[{"$f":"SUBTOTAL(3,$B$7:B680)","v":7},"TXL7-050拆","安装架空式交接箱 1200 对以下","机",{"$f":"'表三 甲'!E1721","v":{"v":0,"d":"0.00"}},"汽车式起重机 (5t)",0.25,{"v":516,"d":"516.00"},0,0,0.3]
[{"$f":"SUBTOTAL(3,$B$7:B681)","v":7},"TXL7-051拆","安装架空式交接箱 2400 对以下","机",{"$f":"'表三 甲'!E1722","v":{"v":0,"d":"0.00"}},"汽车式起重机 (5t)",0.25,{"v":516,"d":"516.00"},0,0,0.3]
[{"$f":"SUBTOTAL(3,$B$7:B682)","v":7},"TXL7-052拆","安装架空式交接箱 2400 对以上","机",{"$f":"'表三 甲'!E1723","v":{"v":0,"d":"0.00"}},"汽车式起重机 (5t)",0.25,{"v":516,"d":"516.00"},0,0,0.3]
[{"$f":"SUBTOTAL(3,$B$7:B683)","v":7},"TXL7-053拆","安装落地式交接箱 1200 对以下","机",{"$f":"'表三 甲'!E1724","v":{"v":0,"d":"0.00"}},"汽车式起重机 (5t)",0.25,{"v":516,"d":"516.00"},0,0,0.3]
[{"$f":"SUBTOTAL(3,$B$7:B684)","v":7},"TXL7-054拆","安装落地式交接箱 2400 对以下","机",{"$f":"'表三 甲'!E1725","v":{"v":0,"d":"0.00"}},"汽车式起重机 (5t)",0.25,{"v":516,"d":"516.00"},0,0,0.3]
[{"$f":"SUBTOTAL(3,$B$7:B685)","v":7},"TXL7-055拆","安装落地式交接箱 3600 对以下","机",{"$f":"'表三 甲'!E1726","v":{"v":0,"d":"0.00"}},"汽车式起重机 (5t)",0.25,{"v":516,"d":"516.00"},0,0,0.3]
[{"$f":"SUBTOTAL(3,$B$7:B686)","v":7},"TXL7-056拆","安装墙挂式交接箱 600 对以下","机",{"$f":"'表三 甲'!E1727","v":{"v":0,"d":"0.00"}},"汽车式起重机 (5t)",0.25,{"v":516,"d":"516.00"},0,0,0.3]
[{"$f":"SUBTOTAL(3,$B$7:B687)","v":7},"TXL7-057拆","安装墙挂式交接箱 1200 对以下","机",{"$f":"'表三 甲'!E1728","v":{"v":0,"d":"0.00"}},"汽车式起重机 (5t)",0.25,{"v":516,"d":"516.00"},0,0,0.3]
[{"$f":"SUBTOTAL(3,$B$7:B688)","v":7},"TXL7-058拆","安装墙挂式交接箱 2400 对以下","机",{"$f":"'表三 甲'!E1729","v":{"v":0,"d":"0.00"}},"汽车式起重机 (5t)",0.25,{"v":516,"d":"516.00"},0,0,0.3]
[{"$f":"SUBTOTAL(3,$B$7:B689)","v":8},"TGD1-006","人工开挖路面 砂石 100 以下","100m2",0.27,"燃油式空气压缩机 (含风镐) 6m³/min",{"v":0.2,"d":"0.20"},{"v":372,"d":"372.00"},{"$f":"E689*G689","v":0.054},20.088]
[{"$f":"SUBTOTAL(3,$B$7:B690)","v":9},"TGD2-113","铺设镀锌钢管管道 2 孔（2×1）","100m",0.45,"交流弧焊机",0.64,{"v":120,"d":"120.00"},{"$f":"E690*G690","v":0.288},34.56]
[null,null,"合   计",null,".",{"$nulls":4},{"$f":"SUM(J6:J690)","v":{"v":3571.088,"d":"3571.09"}}]

{"sheet":"表三丙","index":6,"n_rows":1031,"n_cols":10,"rows_kept":1031,"merged":[[0,0,0,9],[3,0,4,0],[3,1,4,1],[3,2,4,2],[3,3,4,3],[3,4,4,4],[3,5,4,5],[3,6,3,7],[3,8,3,9]]}
["建筑安装工程仪器仪表使用费用预算表（表三）丙"]
[{"$f":"ASC(综合信息表!C3)","v":"建设项目名称:"}]
[{"$f":"ASC(综合信息表!C4)","v":"单项工程名称:2023年景德镇电信乐平水利枢纽工程建设杆线迁改工程"},{"$nulls":4},{"$f":"ASC(综合信息表!C6)","v":"建设单位名称:中国电信股份有限公司景德镇分公司"},null,null,{"$f":"ASC(综合信息表!G8)","v":"表格编号:TXL-3丙"},"第全页"]
["序号","定额编号","项目名称","单位","数量","机械名称","单位定额值（工日）",null,"合计值"]
[{"$nulls":6},"数量（台班）","单价（元）","数量（台班）","合价（元）"]
["Ⅰ","Ⅱ","Ⅲ","Ⅳ","Ⅴ","Ⅵ","Ⅶ","Ⅷ","Ⅸ","Ⅹ"]
[{"$f":"SUBTOTAL(3,$B7:B$7)","v":0},"TXL1-001","光（电）缆工程施工测量 直埋","台班",{"$f":"'表三 甲'!E7","v":{"v":0,"d":"0.00"}},"地下管线探测仪",0.05,{"v":157,"d":"157.00"},{"$f":"E7*G7","v":{"v":0,"d":"0.00"}},{"$f":"H7*I7","v":{"v":0,"d":"0.00"}}]
[{"$f":"SUBTOTAL(3,$B$7:B8)","v":0},"TXL1-001","光（电）缆工程施工测量 直埋","台班",{"$f":"E7","v":{"v":0,"d":"0.00"}},"激光测距仪",0.04,{"v":119,"d":"119.00"},{"$f":"E8*G8","v":{"v":0,"d":"0.00"}},{"v":0,"d":"0.00"}]
[{"$f":"SUBTOTAL(3,$B$7:B9)","v":1},"TXL1-002","光（电）缆工程施工测量 架空","台班",{"$f":"'表三 甲'!E8","v":1.04},"激光测距仪",0.05,{"v":119,"d":"119.00"},{"v":0.052,"d":"0.05"},{"v":6.188,"d":"6.19"}]
[{"$f":"SUBTOTAL(3,$B$7:B10)","v":2},"TXL1-003","光（电）缆工程施工测量 管道","台班",{"$f":"'表三 甲'!E9","v":0.45},"激光测距仪",0.04,{"v":119,"d":"119.00"},{"v":0.018,"d":"0.02"},{"v":2.142,"d":"2.14"}]
[{"$f":"SUBTOTAL(3,$B$7:B11)","v":3},"TXL1-005","GPS 定位","台班",{"$f":"'表三 甲'!E11","v":{"v":8,"d":"8.00"}},"GPS 定位仪",0.01,{"v":118,"d":"118.00"},0.08,{"$f":"I11*H11","v":9.44}]
[{"$f":"SUBTOTAL(3,$B$7:B12)","v":4},"TXL1-006","单盘检验 光缆","台班",{"$f":"'表三 甲'!E12","v":{"v":92,"d":"92.00"}},"偏振模色散测试仪",0.05,{"v":455,"d":"455.00"},{"v":4.6,"d":"4.60"},{"v":2093,"d":"2093.00"}]
[{"$f":"SUBTOTAL(3,$B$7:B13)","v":5},"TXL1-006","单盘检验 光缆","台班",{"$f":"E12","v":{"v":92,"d":"92.00"}},"光时域反射仪",0.05,{"v":153,"d":"153.00"},{"v":4.6,"d":"4.60"},{"v":703.8,"d":"703.80"}]
[{"$f":"SUBTOTAL(3,$B$7:B14)","v":5},"TXL2-128","安装防雷设施 敷设排流线（双条）","台班",{"$f":"'表三 甲'!E156","v":{"v":0,"d":"0.00"}},"对地绝缘探测仪",0.35,{"v":153,"d":"153.00"},{"v":0,"d":"0.00"},{"v":0,"d":"0.00"}]
[{"$f":"SUBTOTAL(3,$B$7:B15)","v":5},"TXL4-004","人工敷设塑料子管 1 孔子管","台班",{"$f":"'表三 甲'!E442","v":{"v":0,"d":"0.00"}},"有毒有害气体检测仪",0.25,{"v":117,"d":"117.00"},{"v":0,"d":"0.00"},{"v":0,"d":"0.00"}]
[{"$f":"SUBTOTAL(3,$B$7:B16)","v":5},"TXL4-004","人工敷设塑料子管 1 孔子管","台班",{"$f":"'表三 甲'!E442","v":{"v":0,"d":"0.00"}},"可燃气体检测仪",0.25,{"v":117,"d":"117.00"},{"v":0,"d":"0.00"},{"v":0,"d":"0.00"}]
[{"$f":"SUBTOTAL(3,$B$7:B17)","v":5},"TXL4-005","人工敷设塑料子管 2 孔子管","台班",{"$f":"'表三 甲'!E443","v":{"v":0,"d":"0.00"}},"有毒有害气体检测仪",{"v":0.3,"d":"0.30"},{"v":117,"d":"117.00"},{"v":0,"d":"0.00"},{"v":0,"d":"0.00"}]
[{"$f":"SUBTOTAL(3,$B$7:B18)","v":5},"TXL4-005","人工敷设塑料子管 2 孔子管","台班",{"$f":"'表三 甲'!E443","v":{"v":0,"d":"0.00"}},"可燃气体检测仪",{"v":0.3,"d":"0.30"},{"v":117,"d":"117.00"},{"v":0,"d":"0.00"},{"v":0,"d":"0.00"}]
[{"$f":"SUBTOTAL(3,$B$7:B19)","v":5},"TXL4-006","人工敷设塑料子管 3 孔子管","台班",{"$f":"'表三 甲'!E444","v":{"v":0,"d":"0.00"}},"有毒有害气体检测仪",0.42,{"v":117,"d":"117.00"},{"v":0,"d":"0.00"},{"v":0,"d":"0.00"}]
[{"$f":"SUBTOTAL(3,$B$7:B20)","v":5},"TXL4-006","人工敷设塑料子管 3 孔子管","台班",{"$f":"'表三 甲'!E444","v":{"v":0,"d":"0.00"}},"可燃气体检测仪",0.42,{"v":117,"d":"117.00"},{"v":0,"d":"0.00"},{"v":0,"d":"0.00"}]
[{"$f":"SUBTOTAL(3,$B$7:B21)","v":5},"TXL4-007","人工敷设塑料子管 4 孔子管","台班",{"$f":"'表三 甲'!E445","v":{"v":0,"d":"0.00"}},"有毒有害气体检测仪",{"v":0.5,"d":"0.50"},{"v":117,"d":"117.00"},{"v":0,"d":"0.00"},{"v":0,"d":"0.00"}]
[{"$f":"SUBTOTAL(3,$B$7:B22)","v":5},"TXL4-007","人工敷设塑料子管 4 孔子管","台班",{"$f":"'表三 甲'!E445","v":{"v":0,"d":"0.00"}},"可燃气体检测仪",{"v":0.5,"d":"0.50"},{"v":117,"d":"117.00"},{"v":0,"d":"0.00"},{"v":0,"d":"0.00"}]
[{"$f":"SUBTOTAL(3,$B$7:B23)","v":5},"TXL4-008","人工敷设塑料子管 5 孔子管","台班",{"$f":"'表三 甲'!E446","v":{"v":0,"d":"0.00"}},"有毒有害气体检测仪",{"v":0.6,"d":"0.60"},{"v":117,"d":"117.00"},{"v":0,"d":"0.00"},{"v":0,"d":"0.00"}]
[{"$f":"SUBTOTAL(3,$B$7:B24)","v":5},"TXL4-008","人工敷设塑料子管 5 孔子管","台班",{"$f":"'表三 甲'!E446","v":{"v":0,"d":"0.00"}},"可燃气体检测仪",{"v":0.6,"d":"0.60"},{"v":117,"d":"117.00"},{"v":0,"d":"0.00"},{"v":0,"d":"0.00"}]
[{"$f":"SUBTOTAL(3,$B$7:B25)","v":5},"TXL4-009","人工敷设一带纺织子管 空闲管孔中","台班",{"$f":"'表三 甲'!E447","v":{"v":0,"d":"0.00"}},"有毒有害气体检测仪",{"v":0.2,"d":"0.20"},{"v":117,"d":"117.00"},{"v":0,"d":"0.00"},{"v":0,"d":"0.00"}]
[{"$f":"SUBTOTAL(3,$B$7:B26)","v":5},"TXL4-009","人工敷设一带纺织子管 空闲管孔中","台班",{"$f":"'表三 甲'!E447","v":{"v":0,"d":"0.00"}},"可燃气体检测仪",{"v":0.2,"d":"0.20"},{"v":117,"d":"117.00"},{"v":0,"d":"0.00"},{"v":0,"d":"0.00"}]
[{"$f":"SUBTOTAL(3,$B$7:B27)","v":5},"TXL4-010","人工敷设一带纺织子管 非空闲管孔中","台班",{"$f":"'表三 甲'!E448","v":{"v":0,"d":"0.00"}},"有毒有害气体检测仪",{"v":0.4,"d":"0.40"},{"v":117,"d":"117.00"},{"v":0,"d":"0.00"},{"v":0,"d":"0.00"}]
[{"$f":"SUBTOTAL(3,$B$7:B28)","v":5},"TXL4-010","人工敷设一带纺织子管 非空闲管孔中","台班",{"$f":"'表三 甲'!E448","v":{"v":0,"d":"0.00"}},"可燃气体检测仪",{"v":0.4,"d":"0.40"},{"v":117,"d":"117.00"},{"v":0,"d":"0.00"},{"v":0,"d":"0.00"}]
[{"$f":"SUBTOTAL(3,$B$7:B29)","v":6},"TXL4-011","敷设管道光缆 12 芯以下","台班",{"$f":"'表三 甲'!E449","v":0.18},"可燃气体检测仪",0.25,{"v":117,"d":"117.00"},{"v":0.045,"d":"0.05"},{"v":5.265,"d":"5.27"}]
[{"$f":"SUBTOTAL(3,$B$7:B30)","v":7},"TXL4-011","敷设管道光缆 12 芯以下","台班",{"$f":"'表三 甲'!E449","v":0.18},"有毒有害气体检测仪",0.25,{"v":117,"d":"117.00"},{"v":0.045,"d":"0.05"},{"v":5.265,"d":"5.27"}]
[{"$f":"SUBTOTAL(3,$B$7:B31)","v":8},"TXL4-012","敷设管道光缆 24 芯以下","台班",{"$f":"'表三 甲'!E450","v":{"v":0.405,"d":"0.41"}},"有毒有害气体检测仪",{"v":0.3,"d":"0.30"},{"v":117,"d":"117.00"},{"v":0.1215,"d":"0.12"},{"v":14.2155,"d":"14.22"}]
[{"$f":"SUBTOTAL(3,$B$7:B32)","v":9},"TXL4-012","敷设管道光缆 24 芯以下","台班",{"$f":"'表三 甲'!E450","v":{"v":0.405,"d":"0.41"}},"可燃气体检测仪",{"v":0.3,"d":"0.30"},{"v":117,"d":"117.00"},{"v":0.1215,"d":"0.12"},{"v":14.2155,"d":"14.22"}]
[{"$f":"SUBTOTAL(3,$B$7:B33)","v":10},"TXL4-013","敷设管道光缆 48 芯以下","台班",{"$f":"'表三 甲'!E451","v":0.27},"有毒有害气体检测仪",0.42,{"v":117,"d":"117.00"},{"v":0.1134,"d":"0.11"},{"v":13.2678,"d":"13.27"}]
[{"$f":"SUBTOTAL(3,$B$7:B34)","v":11},"TXL4-013","敷设管道光缆 48 芯以下","台班",{"$f":"'表三 甲'!E451","v":0.27},"可燃气体检测仪",0.42,{"v":117,"d":"117.00"},{"v":0.1134,"d":"0.11"},{"v":13.2678,"d":"13.27"}]
[{"$f":"SUBTOTAL(3,$B$7:B35)","v":11},"TXL4-014","敷设管道光缆 96 芯以下","台班",{"$f":"'表三 甲'!E452","v":{"v":0,"d":"0.00"}},"有毒有害气体检测仪",{"v":0.5,"d":"0.50"},{"v":117,"d":"117.00"},{"v":0,"d":"0.00"},{"v":0,"d":"0.00"}]
[{"$f":"SUBTOTAL(3,$B$7:B36)","v":11},"TXL4-014","敷设管道光缆 96 芯以下","台班",{"$f":"'表三 甲'!E452","v":{"v":0,"d":"0.00"}},"可燃气体检测仪",{"v":0.5,"d":"0.50"},{"v":117,"d":"117.00"},{"v":0,"d":"0.00"},{"v":0,"d":"0.00"}]
[{"$f":"SUBTOTAL(3,$B$7:B37)","v":11},"TXL4-015","敷设管道光缆 144 芯以下","台班",{"$f":"'表三 甲'!E453","v":{"v":0,"d":"0.00"}},"有毒有害气体检测仪",{"v":0.6,"d":"0.60"},{"v":117,"d":"117.00"},{"v":0,"d":"0.00"},{"v":0,"d":"0.00"}]
[{"$f":"SUBTOTAL(3,$B$7:B38)","v":11},"TXL4-015","敷设管道光缆 144 芯以下","台班",{"$f":"'表三 甲'!E453","v":{"v":0,"d":"0.00"}},"可燃气体检测仪",{"v":0.6,"d":"0.60"},{"v":117,"d":"117.00"},{"v":0,"d":"0.00"},{"v":0,"d":"0.00"}]
[{"$f":"SUBTOTAL(3,$B$7:B39)","v":11},"TXL4-016","敷设管道光缆 288 芯以下","台班",{"$f":"'表三 甲'!E454","v":{"v":0,"d":"0.00"}},"有毒有害气体检测仪",0.72,{"v":117,"d":"117.00"},{"v":0,"d":"0.00"},{"v":0,"d":"0.00"}]
[{"$f":"SUBTOTAL(3,$B$7:B40)","v":11},"TXL4-016","敷设管道光缆 288 芯以下","台班",{"$f":"'表三 甲'!E454","v":{"v":0,"d":"0.00"}},"可燃气体检测仪",0.72,{"v":117,"d":"117.00"},{"v":0,"d":"0.00"},{"v":0,"d":"0.00"}]
[{"$f":"SUBTOTAL(3,$B$7:B41)","v":11},"TXL4-017","敷设管道光缆 576 芯以下","台班",{"$f":"'表三 甲'!E455","v":{"v":0,"d":"0.00"}},"有毒有害气体检测仪",0.87,{"v":117,"d":"117.00"},{"v":0,"d":"0.00"},{"v":0,"d":"0.00"}]
[{"$f":"SUBTOTAL(3,$B$7:B42)","v":11},"TXL4-017","敷设管道光缆 576 芯以下","台班",{"$f":"'表三 甲'!E455","v":{"v":0,"d":"0.00"}},"可燃气体检测仪",0.87,{"v":117,"d":"117.00"},{"v":0,"d":"0.00"},{"v":0,"d":"0.00"}]
[{"$f":"SUBTOTAL(3,$B$7:B43)","v":11},"TXL4-018","敷设管道光缆 576 芯以上","台班",{"$f":"'表三 甲'!E456","v":{"v":0,"d":"0.00"}},"有毒有害气体检测仪",1,{"v":117,"d":"117.00"},{"v":0,"d":"0.00"},{"v":0,"d":"0.00"}]
[{"$f":"SUBTOTAL(3,$B$7:B44)","v":11},"TXL4-018","敷设管道光缆 576 芯以上","台班",{"$f":"'表三 甲'!E456","v":{"v":0,"d":"0.00"}},"可燃气体检测仪",1,{"v":117,"d":"117.00"},{"v":0,"d":"0.00"},{"v":0,"d":"0.00"}]
[{"$f":"SUBTOTAL(3,$B$7:B45)","v":11},"TXL4-019","人工敷设管道电缆 200 对以下","台班",{"$f":"'表三 甲'!E457","v":{"v":0,"d":"0.00"}},"可燃气体检测仪",0.3,{"v":117,"d":"117.00"},{"v":0,"d":"0.00"},{"v":0,"d":"0.00"}]
[{"$f":"SUBTOTAL(3,$B$7:B46)","v":11},"TXL4-019","人工敷设管道电缆 200 对以下","台班",{"$f":"'表三 甲'!E457","v":{"v":0,"d":"0.00"}},"有毒有害气体检测仪",0.3,{"v":117,"d":"117.00"},{"v":0,"d":"0.00"},{"v":0,"d":"0.00"}]
[{"$f":"SUBTOTAL(3,$B$7:B47)","v":11},"TXL4-020","人工敷设管道电缆 400 对以下","台班",{"$f":"'表三 甲'!E458","v":{"v":0,"d":"0.00"}},"可燃气体检测仪",0.42,{"v":117,"d":"117.00"},{"v":0,"d":"0.00"},{"v":0,"d":"0.00"}]
[{"$f":"SUBTOTAL(3,$B$7:B48)","v":11},"TXL4-020","人工敷设管道电缆 400 对以下","台班",{"$f":"'表三 甲'!E458","v":{"v":0,"d":"0.00"}},"有毒有害气体检测仪",0.42,{"v":117,"d":"117.00"},{"v":0,"d":"0.00"},{"v":0,"d":"0.00"}]
[{"$f":"SUBTOTAL(3,$B$7:B49)","v":11},"TXL4-021","人工敷设管道电缆 800 对以下","台班",{"$f":"'表三 甲'!E459","v":{"v":0,"d":"0.00"}},"有毒有害气体检测仪",0.5,{"v":117,"d":"117.00"},{"v":0,"d":"0.00"},{"v":0,"d":"0.00"}]
[{"$f":"SUBTOTAL(3,$B$7:B50)","v":11},"TXL4-021","人工敷设管道电缆 800 对以下","台班",{"$f":"'表三 甲'!E459","v":{"v":0,"d":"0.00"}},"可燃气体检测仪",0.5,{"v":117,"d":"117.00"},{"v":0,"d":"0.00"},{"v":0,"d":"0.00"}]
[{"$f":"SUBTOTAL(3,$B$7:B51)","v":11},"TXL4-022","人工敷设管道电缆 1200 对以下","台班",{"$f":"'表三 甲'!E460","v":{"v":0,"d":"0.00"}},"有毒有害气体检测仪",0.6,{"v":117,"d":"117.00"},{"v":0,"d":"0.00"},{"v":0,"d":"0.00"}]
[{"$f":"SUBTOTAL(3,$B$7:B52)","v":11},"TXL4-022","人工敷设管道电缆 1200 对以下","台班",{"$f":"'表三 甲'!E460","v":{"v":0,"d":"0.00"}},"可燃气体检测仪",0.6,{"v":117,"d":"117.00"},{"v":0,"d":"0.00"},{"v":0,"d":"0.00"}]
[{"$f":"SUBTOTAL(3,$B$7:B53)","v":11},"TXL4-023","人工敷设管道电缆 1800 对以下","台班",{"$f":"'表三 甲'!E461","v":{"v":0,"d":"0.00"}},"可燃气体检测仪",0.72,{"v":117,"d":"117.00"},{"v":0,"d":"0.00"},{"v":0,"d":"0.00"}]
[{"$f":"SUBTOTAL(3,$B$7:B54)","v":11},"TXL4-023","人工敷设管道电缆 1800 对以下","台班",{"$f":"'表三 甲'!E461","v":{"v":0,"d":"0.00"}},"有毒有害气体检测仪",0.72,{"v":117,"d":"117.00"},{"v":0,"d":"0.00"},{"v":0,"d":"0.00"}]
[{"$f":"SUBTOTAL(3,$B$7:B55)","v":11},"TXL4-024","人工敷设管道电缆 2400 对以下","台班",{"$f":"'表三 甲'!E462","v":{"v":0,"d":"0.00"}},"有毒有害气体检测仪",0.87,{"v":117,"d":"117.00"},{"v":0,"d":"0.00"},{"v":0,"d":"0.00"}]
[{"$f":"SUBTOTAL(3,$B$7:B56)","v":11},"TXL4-024","人工敷设管道电缆 2400 对以下","台班",{"$f":"'表三 甲'!E462","v":{"v":0,"d":"0.00"}},"可燃气体检测仪",0.87,{"v":117,"d":"117.00"},{"v":0,"d":"0.00"},{"$f":"H56*I56","v":{"v":0,"d":"0.00"}}]
[{"$f":"SUBTOTAL(3,$B$7:B57)","v":11},"TXL4-025","人工敷设管道电缆 2400 对以上","台班",{"$f":"'表三 甲'!E463","v":{"v":0,"d":"0.00"}},"可燃气体检测仪",1,{"v":117,"d":"117.00"},{"v":0,"d":"0.00"},{"v":0,"d":"0.00"}]
[{"$f":"SUBTOTAL(3,$B$7:B58)","v":11},"TXL4-025","人工敷设管道电缆 2400 对以上","台班",{"$f":"'表三 甲'!E463","v":{"v":0,"d":"0.00"}},"有毒有害气体检测仪",1,{"v":117,"d":"117.00"},{"v":0,"d":"0.00"},{"v":0,"d":"0.00"}]
[{"$f":"SUBTOTAL(3,$B$7:B59)","v":11},"TXL4-026","机械敷设管道电缆 200 对以下","台班",{"$f":"'表三 甲'!E464","v":{"v":0,"d":"0.00"}},"有毒有害气体检测仪",0.4,{"v":117,"d":"117.00"},{"v":0,"d":"0.00"},{"v":0,"d":"0.00"}]
[{"$f":"SUBTOTAL(3,$B$7:B60)","v":11},"TXL4-026","机械敷设管道电缆 200 对以下","台班",{"$f":"'表三 甲'!E464","v":{"v":0,"d":"0.00"}},"可燃气体检测仪",0.4,{"v":117,"d":"117.00"},{"v":0,"d":"0.00"},{"v":0,"d":"0.00"}]
[{"$f":"SUBTOTAL(3,$B$7:B61)","v":11},"TXL4-027","机械敷设管道电缆 400 对以下","台班",{"$f":"'表三 甲'!E465","v":{"v":0,"d":"0.00"}},"有毒有害气体检测仪",0.42,{"v":117,"d":"117.00"},{"v":0,"d":"0.00"},{"v":0,"d":"0.00"}]
[{"$f":"SUBTOTAL(3,$B$7:B62)","v":11},"TXL4-027","机械敷设管道电缆 400 对以下","台班",{"$f":"'表三 甲'!E465","v":{"v":0,"d":"0.00"}},"可燃气体检测仪",0.42,{"v":117,"d":"117.00"},{"v":0,"d":"0.00"},{"v":0,"d":"0.00"}]
[{"$f":"SUBTOTAL(3,$B$7:B63)","v":11},"TXL4-028","机械敷设管道电缆 800 对以下","台班",{"$f":"'表三 甲'!E466","v":{"v":0,"d":"0.00"}},"可燃气体检测仪",0.5,{"v":117,"d":"117.00"},{"v":0,"d":"0.00"},{"v":0,"d":"0.00"}]
[{"$f":"SUBTOTAL(3,$B$7:B64)","v":11},"TXL4-028","机械敷设管道电缆 800 对以下","台班",{"$f":"'表三 甲'!E466","v":{"v":0,"d":"0.00"}},"有毒有害气体检测仪",0.5,{"v":117,"d":"117.00"},{"v":0,"d":"0.00"},{"v":0,"d":"0.00"}]
[{"$f":"SUBTOTAL(3,$B$7:B65)","v":11},"TXL4-029","机械敷设管道电缆 1200 对以下","台班",{"$f":"'表三 甲'!E467","v":{"v":0,"d":"0.00"}},"有毒有害气体检测仪",0.6,{"v":117,"d":"117.00"},{"v":0,"d":"0.00"},{"v":0,"d":"0.00"}]
[{"$f":"SUBTOTAL(3,$B$7:B66)","v":11},"TXL4-029","机械敷设管道电缆 1200 对以下","台班",{"$f":"'表三 甲'!E467","v":{"v":0,"d":"0.00"}},"可燃气体检测仪",0.6,{"v":117,"d":"117.00"},{"v":0,"d":"0.00"},{"v":0,"d":"0.00"}]
[{"$f":"SUBTOTAL(3,$B$7:B67)","v":11},"TXL4-030","机械敷设管道电缆 1800 对以下","台班",{"$f":"'表三 甲'!E468","v":{"v":0,"d":"0.00"}},"可燃气体检测仪",0.72,{"v":117,"d":"117.00"},{"v":0,"d":"0.00"},{"v":0,"d":"0.00"}]
[{"$f":"SUBTOTAL(3,$B$7:B68)","v":11},"TXL4-030","机械敷设管道电缆 1800 对以下","台班",{"$f":"'表三 甲'!E468","v":{"v":0,"d":"0.00"}},"有毒有害气体检测仪",0.72,{"v":117,"d":"117.00"},{"v":0,"d":"0.00"},{"v":0,"d":"0.00"}]
[{"$f":"SUBTOTAL(3,$B$7:B69)","v":11},"TXL4-031","机械敷设管道电缆 2400 对以下","台班",{"$f":"'表三 甲'!E469","v":{"v":0,"d":"0.00"}},"有毒有害气体检测仪",0.87,{"v":117,"d":"117.00"},{"v":0,"d":"0.00"},{"v":0,"d":"0.00"}]
[{"$f":"SUBTOTAL(3,$B$7:B70)","v":11},"TXL4-031","机械敷设管道电缆 2400 对以下","台班",{"$f":"'表三 甲'!E469","v":{"v":0,"d":"0.00"}},"可燃气体检测仪",0.87,{"v":117,"d":"117.00"},{"v":0,"d":"0.00"},{"v":0,"d":"0.00"}]
[{"$f":"SUBTOTAL(3,$B$7:B71)","v":11},"TXL4-032","机械敷设管道电缆 2400 对以上","台班",{"$f":"'表三 甲'!E470","v":{"v":0,"d":"0.00"}},"可燃气体检测仪",1,{"v":117,"d":"117.00"},{"v":0,"d":"0.00"},{"v":0,"d":"0.00"}]
[{"$f":"SUBTOTAL(3,$B$7:B72)","v":11},"TXL4-032","机械敷设管道电缆 2400 对以上","台班",{"$f":"'表三 甲'!E470","v":{"v":0,"d":"0.00"}},"有毒有害气体检测仪",1,{"v":117,"d":"117.00"},{"$f":"E72*G72","v":{"v":0,"d":"0.00"}},{"v":0,"d":"0.00"}]
[{"$f":"SUBTOTAL(3,$B$7:B73)","v":11},"TXL5-001","城区气流法敷设微管 3 根以下","台班",{"$f":"'表三 甲'!E501","v":{"v":0,"d":"0.00"}},"可燃气体检测仪",0.2,{"v":117,"d":"117.00"},{"v":0,"d":"0.00"},{"v":0,"d":"0.00"}]
[{"$f":"SUBTOTAL(3,$B$7:B74)","v":11},"TXL5-001","城区气流法敷设微管 3 根以下","台班",{"$f":"'表三 甲'!E501","v":{"v":0,"d":"0.00"}},"有毒有害气体检测仪",0.2,{"v":117,"d":"117.00"},{"v":0,"d":"0.00"},{"v":0,"d":"0.00"}]
[{"$f":"SUBTOTAL(3,$B$7:B75)","v":11},"TXL5-002","城区气流法敷设微管 5 根以下","台班",{"$f":"'表三 甲'!E502","v":{"v":0,"d":"0.00"}},"可燃气体检测仪",0.2,{"v":117,"d":"117.00"},{"v":0,"d":"0.00"},{"v":0,"d":"0.00"}]
[{"$f":"SUBTOTAL(3,$B$7:B76)","v":11},"TXL5-002","城区气流法敷设微管 5 根以下","台班",{"$f":"'表三 甲'!E502","v":{"v":0,"d":"0.00"}},"有毒有害气体检测仪",0.2,{"v":117,"d":"117.00"},{"v":0,"d":"0.00"},{"v":0,"d":"0.00"}]
[{"$f":"SUBTOTAL(3,$B$7:B77)","v":11},"TXL5-003","城区气流法敷设微管 5 根以上","台班",{"$f":"'表三 甲'!E503","v":{"v":0,"d":"0.00"}},"有毒有害气体检测仪",0.2,{"v":117,"d":"117.00"},{"v":0,"d":"0.00"},{"v":0,"d":"0.00"}]
[{"$f":"SUBTOTAL(3,$B$7:B78)","v":11},"TXL5-003","城区气流法敷设微管 5 根以上","台班",{"$f":"'表三 甲'!E503","v":{"v":0,"d":"0.00"}},"可燃气体检测仪",0.2,{"v":117,"d":"117.00"},{"v":0,"d":"0.00"},{"v":0,"d":"0.00"}]
[{"$f":"SUBTOTAL(3,$B$7:B79)","v":11},"TXL5-004","非城区气流法敷设微管 3 根以下","台班",{"$f":"'表三 甲'!E504","v":{"v":0,"d":"0.00"}},"可燃气体检测仪",0.2,{"v":117,"d":"117.00"},{"v":0,"d":"0.00"},{"v":0,"d":"0.00"}]
[{"$f":"SUBTOTAL(3,$B$7:B80)","v":11},"TXL5-004","非城区气流法敷设微管 3 根以下","台班",{"$f":"'表三 甲'!E504","v":{"v":0,"d":"0.00"}},"有毒有害气体检测仪",0.2,{"v":117,"d":"117.00"},{"v":0,"d":"0.00"},{"v":0,"d":"0.00"}]
[{"$f":"SUBTOTAL(3,$B$7:B81)","v":11},"TXL5-005","非城区气流法敷设微管 5 根以下","台班",{"$f":"'表三 甲'!E505","v":{"v":0,"d":"0.00"}},"有毒有害气体检测仪",0.2,{"v":117,"d":"117.00"},{"v":0,"d":"0.00"},{"v":0,"d":"0.00"}]
[{"$f":"SUBTOTAL(3,$B$7:B82)","v":11},"TXL5-005","非城区气流法敷设微管 5 根以下","台班",{"$f":"'表三 甲'!E505","v":{"v":0,"d":"0.00"}},"可燃气体检测仪",0.2,{"v":117,"d":"117.00"},{"v":0,"d":"0.00"},{"v":0,"d":"0.00"}]
[{"$f":"SUBTOTAL(3,$B$7:B83)","v":11},"TXL5-006","非城区气流法敷设微管 5 根以上","台班",{"$f":"'表三 甲'!E506","v":{"v":0,"d":"0.00"}},"可燃气体检测仪",0.2,{"v":117,"d":"117.00"},{"v":0,"d":"0.00"},{"v":0,"d":"0.00"}]
[{"$f":"SUBTOTAL(3,$B$7:B84)","v":11},"TXL5-006","非城区气流法敷设微管 5 根以上","台班",{"$f":"'表三 甲'!E506","v":{"v":0,"d":"0.00"}},"有毒有害气体检测仪",0.2,{"v":117,"d":"117.00"},{"v":0,"d":"0.00"},{"v":0,"d":"0.00"}]
[{"$f":"SUBTOTAL(3,$B$7:B85)","v":11},"TXL5-007","城区人工布放微管 空闲保护管内 3 根以下","台班",{"$f":"'表三 甲'!E507","v":{"v":0,"d":"0.00"}},"有毒有害气体检测仪",0.2,{"v":117,"d":"117.00"},{"v":0,"d":"0.00"},{"v":0,"d":"0.00"}]
[{"$f":"SUBTOTAL(3,$B$7:B86)","v":11},"TXL5-007","城区人工布放微管 空闲保护管内 3 根以下","台班",{"$f":"'表三 甲'!E507","v":{"v":0,"d":"0.00"}},"可燃气体检测仪",0.2,{"v":117,"d":"117.00"},{"v":0,"d":"0.00"},{"v":0,"d":"0.00"}]
[{"$f":"SUBTOTAL(3,$B$7:B87)","v":11},"TXL5-008","城区人工布放微管 空闲保护管内 4 至 5 根","台班",{"$f":"'表三 甲'!E508","v":{"v":0,"d":"0.00"}},"可燃气体检测仪",0.25,{"v":117,"d":"117.00"},{"v":0,"d":"0.00"},{"v":0,"d":"0.00"}]
[{"$f":"SUBTOTAL(3,$B$7:B88)","v":11},"TXL5-008","城区人工布放微管 空闲保护管内 4 至 5 根","台班",{"$f":"'表三 甲'!E508","v":{"v":0,"d":"0.00"}},"有毒有害气体检测仪",0.25,{"v":117,"d":"117.00"},{"v":0,"d":"0.00"},{"v":0,"d":"0.00"}]
[{"$f":"SUBTOTAL(3,$B$7:B89)","v":11},"TXL5-009","城区人工布放微管 空闲保护管内 5 根以上每增加 2根","台班",{"$f":"'表三 甲'!E509","v":{"v":0,"d":"0.00"}},"有毒有害气体检测仪",0.05,{"v":117,"d":"117.00"},{"v":0,"d":"0.00"},{"v":0,"d":"0.00"}]
[{"$f":"SUBTOTAL(3,$B$7:B90)","v":11},"TXL5-009","城区人工布放微管 空闲保护管内 5 根以上每增加 2根","台班",{"$f":"'表三 甲'!E509","v":{"v":0,"d":"0.00"}},"可燃气体检测仪",0.05,{"v":117,"d":"117.00"},{"v":0,"d":"0.00"},{"v":0,"d":"0.00"}]
[{"$f":"SUBTOTAL(3,$B$7:B91)","v":11},"TXL5-010","城区人工布放微管 非空闲保护管内 3 根以下","台班",{"$f":"'表三 甲'!E510","v":{"v":0,"d":"0.00"}},"有毒有害气体检测仪",0.45,{"v":117,"d":"117.00"},{"v":0,"d":"0.00"},{"v":0,"d":"0.00"}]
[{"$f":"SUBTOTAL(3,$B$7:B92)","v":11},"TXL5-010","城区人工布放微管 非空闲保护管内 3 根以下","台班",{"$f":"'表三 甲'!E510","v":{"v":0,"d":"0.00"}},"可燃气体检测仪",0.45,{"v":117,"d":"117.00"},{"v":0,"d":"0.00"},{"v":0,"d":"0.00"}]
[{"$f":"SUBTOTAL(3,$B$7:B93)","v":11},"TXL5-011","城区人工布放微管 非空闲保护管内 4 至 5 根","台班",{"$f":"'表三 甲'!E511","v":{"v":0,"d":"0.00"}},"有毒有害气体检测仪",0.6,{"v":117,"d":"117.00"},{"v":0,"d":"0.00"},{"v":0,"d":"0.00"}]
[{"$f":"SUBTOTAL(3,$B$7:B94)","v":11},"TXL5-011","城区人工布放微管 非空闲保护管内 4 至 5 根","台班",{"$f":"'表三 甲'!E511","v":{"v":0,"d":"0.00"}},"可燃气体检测仪",0.6,{"v":117,"d":"117.00"},{"v":0,"d":"0.00"},{"v":0,"d":"0.00"}]
[{"$f":"SUBTOTAL(3,$B$7:B95)","v":11},"TXL5-012","城区人工布放微管 管道内人工布放 集束管","台班",{"$f":"'表三 甲'!E512","v":{"v":0,"d":"0.00"}},"有毒有害气体检测仪",0.3,{"v":117,"d":"117.00"},{"v":0,"d":"0.00"},{"v":0,"d":"0.00"}]
[{"$f":"SUBTOTAL(3,$B$7:B96)","v":11},"TXL5-012","城区人工布放微管 管道内人工布放 集束管","台班",{"$f":"'表三 甲'!E512","v":{"v":0,"d":"0.00"}},"可燃气体检测仪",0.3,{"v":117,"d":"117.00"},{"v":0,"d":"0.00"},{"v":0,"d":"0.00"}]
[{"$f":"SUBTOTAL(3,$B$7:B97)","v":11},"TXL5-041","托板式敷设室内通道光缆","台班",{"$f":"'表三 甲'!E541","v":{"v":0,"d":"0.00"}},"有毒有害气体检测仪",0.15,{"v":117,"d":"117.00"},{"v":0,"d":"0.00"},{"v":0,"d":"0.00"}]
[{"$f":"SUBTOTAL(3,$B$7:B98)","v":11},"TXL5-041","托板式敷设室内通道光缆","台班",{"$f":"E97","v":{"v":0,"d":"0.00"}},"可燃气体检测仪",0.15,{"v":117,"d":"117.00"},{"v":0,"d":"0.00"},{"v":0,"d":"0.00"}]
[{"$f":"SUBTOTAL(3,$B$7:B99)","v":11},"TXL5-042","定固式敷设室内通道光缆","台班",{"$f":"'表三 甲'!E542","v":{"v":0,"d":"0.00"}},"可燃气体检测仪",0.3,{"v":117,"d":"117.00"},{"v":0,"d":"0.00"},{"v":0,"d":"0.00"}]
[{"$f":"SUBTOTAL(3,$B$7:B100)","v":11},"TXL5-042","定固式敷设室内通道光缆","台班",{"$f":"E99","v":{"v":0,"d":"0.00"}},"有毒有害气体检测仪",0.3,{"v":117,"d":"117.00"},{"v":0,"d":"0.00"},{"v":0,"d":"0.00"}]
[{"$f":"SUBTOTAL(3,$B$7:B101)","v":11},"TXL5-043","竖井引上光缆","台班",{"$f":"'表三 甲'!E543","v":{"v":0,"d":"0.00"}},"有毒有害气体检测仪",0.4,{"v":117,"d":"117.00"},{"v":0,"d":"0.00"},{"v":0,"d":"0.00"}]
[{"$f":"SUBTOTAL(3,$B$7:B102)","v":11},"TXL5-043","竖井引上光缆","台班",{"$f":"E101","v":{"v":0,"d":"0.00"}},"可燃气体检测仪",0.4,{"v":117,"d":"117.00"},{"v":0,"d":"0.00"},{"v":0,"d":"0.00"}]
[{"$f":"SUBTOTAL(3,$B$7:B103)","v":11},"TXL6-003","机械法光缆接续","台班",{"$f":"'表三 甲'!E582","v":{"v":0,"d":"0.00"}},"光时域反射仪",0.05,{"v":153,"d":"153.00"},{"v":0,"d":"0.00"},{"v":0,"d":"0.00"}]
[{"$f":"SUBTOTAL(3,$B$7:B104)","v":11},"TXL6-004","现场组装光纤活 动连接器","台班",{"$f":"'表三 甲'!E583","v":{"v":0,"d":"0.00"}},"光时域反射仪",0.05,{"v":153,"d":"153.00"},{"v":0,"d":"0.00"},{"v":0,"d":"0.00"}]
[{"$f":"SUBTOTAL(3,$B$7:B105)","v":11},"TXL6-005","光缆成端接头 束状","台班",{"$f":"'表三 甲'!E584","v":{"v":0,"d":"0.00"}},"光时域反射仪",0.05,{"v":153,"d":"153.00"},{"v":0,"d":"0.00"},{"v":0,"d":"0.00"}]
[{"$f":"SUBTOTAL(3,$B$7:B106)","v":11},"TXL6-006","光缆成端接头 带状","台班",{"$f":"'表三 甲'!E585","v":{"v":0,"d":"0.00"}},"光时域反射仪",0.01,{"v":153,"d":"153.00"},{"v":0,"d":"0.00"},{"v":0,"d":"0.00"}]
[{"$f":"SUBTOTAL(3,$B$7:B107)","v":11},"TXL6-007","光缆接续 4 芯以下","台班",{"$f":"'表三 甲'!E586","v":{"v":0,"d":"0.00"}},"光时域反射仪",0.6,{"v":153,"d":"153.00"},{"v":0,"d":"0.00"},{"v":0,"d":"0.00"}]
[{"$f":"SUBTOTAL(3,$B$7:B108)","v":12},"TXL6-008","光缆接续 12 芯以下","台班",{"$f":"'表三 甲'!E587","v":{"v":8,"d":"8.00"}},"光时域反射仪",0.7,{"v":153,"d":"153.00"},{"v":5.6,"d":"5.60"},{"v":856.8,"d":"856.80"}]
[{"$f":"SUBTOTAL(3,$B$7:B109)","v":13},"TXL6-009","光缆接续 24 芯以下","台班",{"$f":"'表三 甲'!E588","v":{"v":18,"d":"18.00"}},"光时域反射仪",0.8,{"v":153,"d":"153.00"},{"v":14.4,"d":"14.40"},{"v":2203.2,"d":"2203.20"}]
[{"$f":"SUBTOTAL(3,$B$7:B110)","v":13},"TXL6-010","光缆接续 36 芯以下","台班",{"$f":"'表三 甲'!E589","v":{"v":0,"d":"0.00"}},"光时域反射仪",0.95,{"v":153,"d":"153.00"},{"v":0,"d":"0.00"},{"v":0,"d":"0.00"}]
[{"$f":"SUBTOTAL(3,$B$7:B111)","v":14},"TXL6-011","光缆接续 48 芯以下","台班",{"$f":"'表三 甲'!E590","v":{"v":12,"d":"12.00"}},"光时域反射仪",1.1,{"v":153,"d":"153.00"},{"v":13.2,"d":"13.20"},{"v":2019.6,"d":"2019.60"}]
[{"$f":"SUBTOTAL(3,$B$7:B112)","v":14},"TXL6-012","光缆接续 60 芯以下","台班",{"$f":"'表三 甲'!E591","v":{"v":0,"d":"0.00"}},"光时域反射仪",1.25,{"v":153,"d":"153.00"},{"v":0,"d":"0.00"},{"v":0,"d":"0.00"}]
[{"$f":"SUBTOTAL(3,$B$7:B113)","v":14},"TXL6-013","光缆接续 72 芯以下","台班",{"$f":"'表三 甲'!E592","v":{"v":0,"d":"0.00"}},"光时域反射仪",1.4,{"v":153,"d":"153.00"},{"v":0,"d":"0.00"},{"v":0,"d":"0.00"}]
[{"$f":"SUBTOTAL(3,$B$7:B114)","v":14},"TXL6-014","光缆接续 84 芯以下","台班",{"$f":"'表三 甲'!E593","v":{"v":0,"d":"0.00"}},"光时域反射仪",1.6,{"v":153,"d":"153.00"},{"v":0,"d":"0.00"},{"v":0,"d":"0.00"}]
[{"$f":"SUBTOTAL(3,$B$7:B115)","v":14},"TXL6-015","光缆接续 96 芯以下","台班",{"$f":"'表三 甲'!E594","v":{"v":0,"d":"0.00"}},"光时域反射仪",1.7,{"v":153,"d":"153.00"},{"v":0,"d":"0.00"},{"v":0,"d":"0.00"}]
[{"$f":"SUBTOTAL(3,$B$7:B116)","v":14},"TXL6-016","光缆接续 108 芯以下","台班",{"$f":"'表三 甲'!E595","v":{"v":0,"d":"0.00"}},"光时域反射仪",1.75,{"v":153,"d":"153.00"},{"v":0,"d":"0.00"},{"v":0,"d":"0.00"}]
[{"$f":"SUBTOTAL(3,$B$7:B117)","v":14},"TXL6-017","光缆接续 132 芯以下","台班",{"$f":"'表三 甲'!E596","v":{"v":0,"d":"0.00"}},"光时域反射仪",1.85,{"v":153,"d":"153.00"},{"v":0,"d":"0.00"},{"v":0,"d":"0.00"}]
[{"$f":"SUBTOTAL(3,$B$7:B118)","v":14},"TXL6-018","光缆接续 144 芯以下","台班",{"$f":"'表三 甲'!E597","v":{"v":0,"d":"0.00"}},"光时域反射仪",1.85,{"v":153,"d":"153.00"},{"v":0,"d":"0.00"},{"v":0,"d":"0.00"}]
[{"$f":"SUBTOTAL(3,$B$7:B119)","v":14},"TXL6-019","光缆接续 192 芯以下","台班",{"$f":"'表三 甲'!E598","v":{"v":0,"d":"0.00"}},"光时域反射仪",1.9,{"v":153,"d":"153.00"},{"v":0,"d":"0.00"},{"v":0,"d":"0.00"}]
[{"$f":"SUBTOTAL(3,$B$7:B120)","v":14},"TXL6-020","光缆接续 288 芯以下","台班",{"$f":"'表三 甲'!E599","v":{"v":0,"d":"0.00"}},"光时域反射仪",1.9,{"v":153,"d":"153.00"},{"v":0,"d":"0.00"},{"v":0,"d":"0.00"}]
[{"$f":"SUBTOTAL(3,$B$7:B121)","v":14},"TXL6-021","光缆接续 288 芯以上","台班",{"$f":"'表三 甲'!E600","v":{"v":0,"d":"0.00"}},"光时域反射仪",2.1,{"v":153,"d":"153.00"},{"v":0,"d":"0.00"},{"v":0,"d":"0.00"}]
[{"$f":"SUBTOTAL(3,$B$7:B122)","v":14},"TXL6-022","8 芯带以下带状光缆接续 48 芯以下","台班",{"$f":"'表三 甲'!E601","v":{"v":0,"d":"0.00"}},"光时域反射仪",1.1,{"v":153,"d":"153.00"},{"v":0,"d":"0.00"},{"v":0,"d":"0.00"}]
[{"$f":"SUBTOTAL(3,$B$7:B123)","v":14},"TXL6-023","8 芯带以下带状光缆接续 72 芯以下","台班",{"$f":"'表三 甲'!E602","v":{"v":0,"d":"0.00"}},"光时域反射仪",1.4,{"v":153,"d":"153.00"},{"v":0,"d":"0.00"},{"v":0,"d":"0.00"}]
[{"$f":"SUBTOTAL(3,$B$7:B124)","v":14},"TXL6-024","8 芯带以下带状光缆接续 96 芯以下","台班",{"$f":"'表三 甲'!E603","v":{"v":0,"d":"0.00"}},"光时域反射仪",1.7,{"v":153,"d":"153.00"},{"v":0,"d":"0.00"},{"v":0,"d":"0.00"}]
[{"$f":"SUBTOTAL(3,$B$7:B125)","v":14},"TXL6-025","8 芯带以下带状光缆接续 108 芯以下","台班",{"$f":"'表三 甲'!E604","v":{"v":0,"d":"0.00"}},"光时域反射仪",1.75,{"v":153,"d":"153.00"},{"v":0,"d":"0.00"},{"v":0,"d":"0.00"}]
[{"$f":"SUBTOTAL(3,$B$7:B126)","v":14},"TXL6-026","8 芯带以下带状光缆接续 120 芯以下","台班",{"$f":"'表三 甲'!E605","v":{"v":0,"d":"0.00"}},"光时域反射仪",1.8,{"v":153,"d":"153.00"},{"v":0,"d":"0.00"},{"v":0,"d":"0.00"}]
[{"$f":"SUBTOTAL(3,$B$7:B127)","v":14},"TXL6-027","8 芯带以下带状光缆接续 144 芯以下","台班",{"$f":"'表三 甲'!E606","v":{"v":0,"d":"0.00"}},"光时域反射仪",1.85,{"v":153,"d":"153.00"},{"v":0,"d":"0.00"},{"v":0,"d":"0.00"}]
[{"$f":"SUBTOTAL(3,$B$7:B128)","v":14},"TXL6-028","8 芯带以下带状光缆接续 192 芯以下","台班",{"$f":"'表三 甲'!E607","v":{"v":0,"d":"0.00"}},"光时域反射仪",1.9,{"v":153,"d":"153.00"},{"v":0,"d":"0.00"},{"v":0,"d":"0.00"}]
[{"$f":"SUBTOTAL(3,$B$7:B129)","v":14},"TXL6-029","8 芯带以下带状光缆接续 288 芯以下","台班",{"$f":"'表三 甲'!E608","v":{"v":0,"d":"0.00"}},"光时域反射仪",1.9,{"v":153,"d":"153.00"},{"v":0,"d":"0.00"},{"v":0,"d":"0.00"}]
[{"$f":"SUBTOTAL(3,$B$7:B130)","v":14},"TXL6-030","8 芯带以下带状光缆接续 288 芯以上","台班",{"$f":"'表三 甲'!E609","v":{"v":0,"d":"0.00"}},"光时域反射仪",2.1,{"v":153,"d":"153.00"},{"v":0,"d":"0.00"},{"v":0,"d":"0.00"}]
[{"$f":"SUBTOTAL(3,$B$7:B131)","v":14},"TXL6-031","8 芯带以上带状光缆接续 48 芯以下","台班",{"$f":"'表三 甲'!E610","v":{"v":0,"d":"0.00"}},"光时域反射仪",1.1,{"v":153,"d":"153.00"},{"v":0,"d":"0.00"},{"v":0,"d":"0.00"}]
[{"$f":"SUBTOTAL(3,$B$7:B132)","v":14},"TXL6-032","8 芯带以上带状光缆接续 72 芯以下","台班",{"$f":"'表三 甲'!E611","v":{"v":0,"d":"0.00"}},"光时域反射仪",1.4,{"v":153,"d":"153.00"},{"v":0,"d":"0.00"},{"v":0,"d":"0.00"}]
[{"$f":"SUBTOTAL(3,$B$7:B133)","v":14},"TXL6-033","8 芯带以上带状光缆接续 96 芯以下","台班",{"$f":"'表三 甲'!E612","v":{"v":0,"d":"0.00"}},"光时域反射仪",1.7,{"v":153,"d":"153.00"},{"v":0,"d":"0.00"},{"v":0,"d":"0.00"}]
[{"$f":"SUBTOTAL(3,$B$7:B134)","v":14},"TXL6-034","8 芯带以上带状光缆接续 108 芯以下","台班",{"$f":"'表三 甲'!E613","v":{"v":0,"d":"0.00"}},"光时域反射仪",1.75,{"v":153,"d":"153.00"},{"v":0,"d":"0.00"},{"v":0,"d":"0.00"}]
[{"$f":"SUBTOTAL(3,$B$7:B135)","v":14},"TXL6-035","8 芯带以上带状光缆接续 120 芯以下","台班",{"$f":"'表三 甲'!E614","v":{"v":0,"d":"0.00"}},"光时域反射仪",1.8,{"v":153,"d":"153.00"},{"v":0,"d":"0.00"},{"v":0,"d":"0.00"}]
[{"$f":"SUBTOTAL(3,$B$7:B136)","v":14},"TXL6-036","8 芯带以上带状光缆接续 144 芯以下","台班",{"$f":"'表三 甲'!E615","v":{"v":0,"d":"0.00"}},"光时域反射仪",1.85,{"v":153,"d":"153.00"},{"$f":"E136*G136","v":{"v":0,"d":"0.00"}},{"v":0,"d":"0.00"}]
[{"$f":"SUBTOTAL(3,$B$7:B137)","v":14},"TXL6-037","8 芯带以上带状光缆接续 192 芯以下","台班",{"$f":"'表三 甲'!E616","v":{"v":0,"d":"0.00"}},"光时域反射仪",1.9,{"v":153,"d":"153.00"},{"v":0,"d":"0.00"},{"v":0,"d":"0.00"}]
[{"$f":"SUBTOTAL(3,$B$7:B138)","v":14},"TXL6-038","8 芯带以上带状光缆接续 288 芯以下","台班",{"$f":"'表三 甲'!E617","v":{"v":0,"d":"0.00"}},"光时域反射仪",1.9,{"v":153,"d":"153.00"},{"v":0,"d":"0.00"},{"v":0,"d":"0.00"}]
[{"$f":"SUBTOTAL(3,$B$7:B139)","v":14},"TXL6-039","8 芯带以上带状光缆接续 384 芯以下","台班",{"$f":"'表三 甲'!E618","v":{"v":0,"d":"0.00"}},"光时域反射仪",2.1,{"v":153,"d":"153.00"},{"v":0,"d":"0.00"},{"v":0,"d":"0.00"}]
[{"$f":"SUBTOTAL(3,$B$7:B140)","v":14},"TXL6-040","8 芯带以上带状光缆接续 480 芯以下","台班",{"$f":"'表三 甲'!E619","v":{"v":0,"d":"0.00"}},"光时域反射仪",2.3,{"v":153,"d":"153.00"},{"v":0,"d":"0.00"},{"v":0,"d":"0.00"}]
[{"$f":"SUBTOTAL(3,$B$7:B141)","v":14},"TXL6-041","8 芯带以上带状光缆接续 576 芯以下","台班",{"$f":"'表三 甲'!E620","v":{"v":0,"d":"0.00"}},"光时域反射仪",2.5,{"v":153,"d":"153.00"},{"v":0,"d":"0.00"},{"v":0,"d":"0.00"}]
[{"$f":"SUBTOTAL(3,$B$7:B142)","v":14},"TXL6-042","8 芯带以上带状光缆接续 576 芯以上","台班",{"$f":"'表三 甲'!E621","v":{"v":0,"d":"0.00"}},"光时域反射仪",2.75,{"v":153,"d":"153.00"},{"v":0,"d":"0.00"},{"v":0,"d":"0.00"}]
[{"$f":"SUBTOTAL(3,$B$7:B143)","v":14},"TXL6-043","40km 以上中继段光缆测试 12 芯以下","台班",{"$f":"'表三 甲'!E622","v":{"v":0,"d":"0.00"}},"稳定光源",0.36,{"v":117,"d":"117.00"},{"v":0,"d":"0.00"},{"v":0,"d":"0.00"}]
[{"$f":"SUBTOTAL(3,$B$7:B144)","v":14},"TXL6-043","40km 以上中继段光缆测试 12 芯以下","台班",{"$f":"'表三 甲'!E622","v":{"v":0,"d":"0.00"}},"光时域反射仪",0.36,{"v":153,"d":"153.00"},{"v":0,"d":"0.00"},{"v":0,"d":"0.00"}]
[{"$f":"SUBTOTAL(3,$B$7:B145)","v":14},"TXL6-043","40km 以上中继段光缆测试 12 芯以下","台班",{"$f":"'表三 甲'!E622","v":{"v":0,"d":"0.00"}},"偏振模色散测试仪",0.36,{"v":455,"d":"455.00"},{"v":0,"d":"0.00"},{"v":0,"d":"0.00"}]
[{"$f":"SUBTOTAL(3,$B$7:B146)","v":14},"TXL6-043","40km 以上中继段光缆测试 12 芯以下","台班",{"$f":"'表三 甲'!E622","v":{"v":0,"d":"0.00"}},"光功率计",0.36,{"v":116,"d":"116.00"},{"v":0,"d":"0.00"},{"v":0,"d":"0.00"}]
[{"$f":"SUBTOTAL(3,$B$7:B147)","v":14},"TXL6-044","40km 以上中继段光缆测试 24 芯以下","台班",{"$f":"'表三 甲'!E623","v":{"v":0,"d":"0.00"}},"光功率计",0.51,{"v":116,"d":"116.00"},{"v":0,"d":"0.00"},{"v":0,"d":"0.00"}]
[{"$f":"SUBTOTAL(3,$B$7:B148)","v":14},"TXL6-044","40km 以上中继段光缆测试 24 芯以下","台班",{"$f":"'表三 甲'!E623","v":{"v":0,"d":"0.00"}},"稳定光源",0.51,{"v":117,"d":"117.00"},{"v":0,"d":"0.00"},{"v":0,"d":"0.00"}]
[{"$f":"SUBTOTAL(3,$B$7:B149)","v":14},"TXL6-044","40km 以上中继段光缆测试 24 芯以下","台班",{"$f":"'表三 甲'!E623","v":{"v":0,"d":"0.00"}},"偏振模色散测试仪",0.51,{"v":455,"d":"455.00"},{"v":0,"d":"0.00"},{"v":0,"d":"0.00"}]
[{"$f":"SUBTOTAL(3,$B$7:B150)","v":14},"TXL6-044","40km 以上中继段光缆测试 24 芯以下","台班",{"$f":"'表三 甲'!E623","v":{"v":0,"d":"0.00"}},"光时域反射仪",0.51,{"v":153,"d":"153.00"},{"v":0,"d":"0.00"},{"v":0,"d":"0.00"}]
[{"$f":"SUBTOTAL(3,$B$7:B151)","v":14},"TXL6-045","40km 以上中继段光缆测试 36 芯以下","台班",{"$f":"'表三 甲'!E624","v":{"v":0,"d":"0.00"}},"光功率计",0.68,{"v":116,"d":"116.00"},{"v":0,"d":"0.00"},{"v":0,"d":"0.00"}]
[{"$f":"SUBTOTAL(3,$B$7:B152)","v":14},"TXL6-045","40km 以上中继段光缆测试 36 芯以下","台班",{"$f":"'表三 甲'!E624","v":{"v":0,"d":"0.00"}},"光时域反射仪",0.68,{"v":153,"d":"153.00"},{"v":0,"d":"0.00"},{"v":0,"d":"0.00"}]
[{"$f":"SUBTOTAL(3,$B$7:B153)","v":14},"TXL6-045","40km 以上中继段光缆测试 36 芯以下","台班",{"$f":"'表三 甲'!E624","v":{"v":0,"d":"0.00"}},"稳定光源",0.68,{"v":117,"d":"117.00"},{"v":0,"d":"0.00"},{"v":0,"d":"0.00"}]
[{"$f":"SUBTOTAL(3,$B$7:B154)","v":14},"TXL6-045","40km 以上中继段光缆测试 36 芯以下","台班",{"$f":"'表三 甲'!E624","v":{"v":0,"d":"0.00"}},"偏振模色散测试仪",0.68,{"v":455,"d":"455.00"},{"v":0,"d":"0.00"},{"v":0,"d":"0.00"}]
[{"$f":"SUBTOTAL(3,$B$7:B155)","v":14},"TXL6-046","40km 以上中继段光缆测试 48 芯以下","台班",{"$f":"'表三 甲'!E625","v":{"v":0,"d":"0.00"}},"光时域反射仪",0.86,{"v":153,"d":"153.00"},{"v":0,"d":"0.00"},{"v":0,"d":"0.00"}]
[{"$f":"SUBTOTAL(3,$B$7:B156)","v":14},"TXL6-046","40km 以上中继段光缆测试 48 芯以下","台班",{"$f":"'表三 甲'!E625","v":{"v":0,"d":"0.00"}},"光功率计",0.86,{"v":116,"d":"116.00"},{"v":0,"d":"0.00"},{"v":0,"d":"0.00"}]
[{"$f":"SUBTOTAL(3,$B$7:B157)","v":14},"TXL6-046","40km 以上中继段光缆测试 48 芯以下","台班",{"$f":"'表三 甲'!E625","v":{"v":0,"d":"0.00"}},"偏振模色散测试仪",0.86,{"v":455,"d":"455.00"},{"v":0,"d":"0.00"},{"v":0,"d":"0.00"}]
[{"$f":"SUBTOTAL(3,$B$7:B158)","v":14},"TXL6-046","40km 以上中继段光缆测试 48 芯以下","台班",{"$f":"'表三 甲'!E625","v":{"v":0,"d":"0.00"}},"稳定光源",0.86,{"v":117,"d":"117.00"},{"v":0,"d":"0.00"},{"v":0,"d":"0.00"}]
[{"$f":"SUBTOTAL(3,$B$7:B159)","v":14},"TXL6-047","40km 以上中继段光缆测试 60 芯以下","台班",{"$f":"'表三 甲'!E626","v":{"v":0,"d":"0.00"}},"偏振模色散测试仪",1,{"v":455,"d":"455.00"},{"v":0,"d":"0.00"},{"v":0,"d":"0.00"}]
[{"$f":"SUBTOTAL(3,$B$7:B160)","v":14},"TXL6-047","40km 以上中继段光缆测试 60 芯以下","台班",{"$f":"'表三 甲'!E626","v":{"v":0,"d":"0.00"}},"稳定光源",1,{"v":117,"d":"117.00"},{"v":0,"d":"0.00"},{"v":0,"d":"0.00"}]
[{"$f":"SUBTOTAL(3,$B$7:B161)","v":14},"TXL6-047","40km 以上中继段光缆测试 60 芯以下","台班",{"$f":"'表三 甲'!E626","v":{"v":0,"d":"0.00"}},"光功率计",1,{"v":116,"d":"116.00"},{"v":0,"d":"0.00"},{"v":0,"d":"0.00"}]
[{"$f":"SUBTOTAL(3,$B$7:B162)","v":14},"TXL6-047","40km 以上中继段光缆测试 60 芯以下","台班",{"$f":"'表三 甲'!E626","v":{"v":0,"d":"0.00"}},"光时域反射仪",1,{"v":153,"d":"153.00"},{"v":0,"d":"0.00"},{"v":0,"d":"0.00"}]
[{"$f":"SUBTOTAL(3,$B$7:B163)","v":14},"TXL6-048","40km 以上中继段光缆测试 72 芯以下","台班",{"$f":"'表三 甲'!E627","v":{"v":0,"d":"0.00"}},"偏振模色散测试仪",1.15,{"v":455,"d":"455.00"},{"v":0,"d":"0.00"},{"v":0,"d":"0.00"}]
[{"$f":"SUBTOTAL(3,$B$7:B164)","v":14},"TXL6-048","40km 以上中继段光缆测试 72 芯以下","台班",{"$f":"'表三 甲'!E627","v":{"v":0,"d":"0.00"}},"光功率计",1.15,{"v":116,"d":"116.00"},{"v":0,"d":"0.00"},{"v":0,"d":"0.00"}]
[{"$f":"SUBTOTAL(3,$B$7:B165)","v":14},"TXL6-048","40km 以上中继段光缆测试 72 芯以下","台班",{"$f":"'表三 甲'!E627","v":{"v":0,"d":"0.00"}},"光时域反射仪",1.15,{"v":153,"d":"153.00"},{"v":0,"d":"0.00"},{"v":0,"d":"0.00"}]
[{"$f":"SUBTOTAL(3,$B$7:B166)","v":14},"TXL6-048","40km 以上中继段光缆测试 72 芯以下","台班",{"$f":"'表三 甲'!E627","v":{"v":0,"d":"0.00"}},"稳定光源",1.15,{"v":117,"d":"117.00"},{"v":0,"d":"0.00"},{"v":0,"d":"0.00"}]
[{"$f":"SUBTOTAL(3,$B$7:B167)","v":14},"TXL6-049","40km 以上中继段光缆测试 84 芯以下","台班",{"$f":"'表三 甲'!E628","v":{"v":0,"d":"0.00"}},"光时域反射仪",1.25,{"v":153,"d":"153.00"},{"v":0,"d":"0.00"},{"v":0,"d":"0.00"}]
[{"$f":"SUBTOTAL(3,$B$7:B168)","v":14},"TXL6-049","40km 以上中继段光缆测试 84 芯以下","台班",{"$f":"'表三 甲'!E628","v":{"v":0,"d":"0.00"}},"光功率计",1.25,{"v":116,"d":"116.00"},{"v":0,"d":"0.00"},{"v":0,"d":"0.00"}]
[{"$f":"SUBTOTAL(3,$B$7:B169)","v":14},"TXL6-049","40km 以上中继段光缆测试 84 芯以下","台班",{"$f":"'表三 甲'!E628","v":{"v":0,"d":"0.00"}},"稳定光源",1.25,{"v":117,"d":"117.00"},{"v":0,"d":"0.00"},{"v":0,"d":"0.00"}]
[{"$f":"SUBTOTAL(3,$B$7:B170)","v":14},"TXL6-049","40km 以上中继段光缆测试 84 芯以下","台班",{"$f":"'表三 甲'!E628","v":{"v":0,"d":"0.00"}},"偏振模色散测试仪",1.25,{"v":455,"d":"455.00"},{"v":0,"d":"0.00"},{"v":0,"d":"0.00"}]
[{"$f":"SUBTOTAL(3,$B$7:B171)","v":14},"TXL6-050","40km 以上中继段光缆测试 96 芯以下","台班",{"$f":"'表三 甲'!E629","v":{"v":0,"d":"0.00"}},"偏振模色散测试仪",1.37,{"v":455,"d":"455.00"},{"v":0,"d":"0.00"},{"v":0,"d":"0.00"}]
[{"$f":"SUBTOTAL(3,$B$7:B172)","v":14},"TXL6-050","40km 以上中继段光缆测试 96 芯以下","台班",{"$f":"'表三 甲'!E629","v":{"v":0,"d":"0.00"}},"光时域反射仪",1.37,{"v":153,"d":"153.00"},{"v":0,"d":"0.00"},{"v":0,"d":"0.00"}]
[{"$f":"SUBTOTAL(3,$B$7:B173)","v":14},"TXL6-050","40km 以上中继段光缆测试 96 芯以下","台班",{"$f":"'表三 甲'!E629","v":{"v":0,"d":"0.00"}},"光功率计",1.37,{"v":116,"d":"116.00"},{"v":0,"d":"0.00"},{"v":0,"d":"0.00"}]
[{"$f":"SUBTOTAL(3,$B$7:B174)","v":14},"TXL6-050","40km 以上中继段光缆测试 96 芯以下","台班",{"$f":"'表三 甲'!E629","v":{"v":0,"d":"0.00"}},"稳定光源",1.37,{"v":117,"d":"117.00"},{"v":0,"d":"0.00"},{"v":0,"d":"0.00"}]
[{"$f":"SUBTOTAL(3,$B$7:B175)","v":14},"TXL6-051","40km 以上中继段光缆测试 108 芯以下","台班",{"$f":"'表三 甲'!E630","v":{"v":0,"d":"0.00"}},"偏振模色散测试仪",1.44,{"v":455,"d":"455.00"},{"v":0,"d":"0.00"},{"v":0,"d":"0.00"}]
[{"$f":"SUBTOTAL(3,$B$7:B176)","v":14},"TXL6-051","40km 以上中继段光缆测试 108 芯以下","台班",{"$f":"'表三 甲'!E630","v":{"v":0,"d":"0.00"}},"光功率计",1.44,{"v":116,"d":"116.00"},{"v":0,"d":"0.00"},{"v":0,"d":"0.00"}]
[{"$f":"SUBTOTAL(3,$B$7:B177)","v":14},"TXL6-051","40km 以上中继段光缆测试 108 芯以下","台班",{"$f":"'表三 甲'!E630","v":{"v":0,"d":"0.00"}},"光时域反射仪",1.44,{"v":153,"d":"153.00"},{"v":0,"d":"0.00"},{"v":0,"d":"0.00"}]
[{"$f":"SUBTOTAL(3,$B$7:B178)","v":14},"TXL6-051","40km 以上中继段光缆测试 108 芯以下","台班",{"$f":"'表三 甲'!E630","v":{"v":0,"d":"0.00"}},"稳定光源",1.44,{"v":117,"d":"117.00"},{"v":0,"d":"0.00"},{"v":0,"d":"0.00"}]
[{"$f":"SUBTOTAL(3,$B$7:B179)","v":14},"TXL6-052","40km 以上中继段光缆测试 132 芯以下","台班",{"$f":"'表三 甲'!E631","v":{"v":0,"d":"0.00"}},"光功率计",1.51,{"v":116,"d":"116.00"},{"v":0,"d":"0.00"},{"v":0,"d":"0.00"}]
[{"$f":"SUBTOTAL(3,$B$7:B180)","v":14},"TXL6-052","40km 以上中继段光缆测试 132 芯以下","台班",{"$f":"'表三 甲'!E631","v":{"v":0,"d":"0.00"}},"稳定光源",1.51,{"v":117,"d":"117.00"},{"v":0,"d":"0.00"},{"v":0,"d":"0.00"}]
[{"$f":"SUBTOTAL(3,$B$7:B181)","v":14},"TXL6-052","40km 以上中继段光缆测试 132 芯以下","台班",{"$f":"'表三 甲'!E631","v":{"v":0,"d":"0.00"}},"光时域反射仪",1.51,{"v":153,"d":"153.00"},{"v":0,"d":"0.00"},{"v":0,"d":"0.00"}]
[{"$f":"SUBTOTAL(3,$B$7:B182)","v":14},"TXL6-052","40km 以上中继段光缆测试 132 芯以下","台班",{"$f":"'表三 甲'!E631","v":{"v":0,"d":"0.00"}},"偏振模色散测试仪",1.51,{"v":455,"d":"455.00"},{"v":0,"d":"0.00"},{"v":0,"d":"0.00"}]
[{"$f":"SUBTOTAL(3,$B$7:B183)","v":14},"TXL6-053","40km 以上中继段光缆测试 144 芯以下","台班",{"$f":"'表三 甲'!E632","v":{"v":0,"d":"0.00"}},"光功率计",1.58,{"v":116,"d":"116.00"},{"v":0,"d":"0.00"},{"v":0,"d":"0.00"}]
[{"$f":"SUBTOTAL(3,$B$7:B184)","v":14},"TXL6-053","40km 以上中继段光缆测试 144 芯以下","台班",{"$f":"'表三 甲'!E632","v":{"v":0,"d":"0.00"}},"偏振模色散测试仪",1.58,{"v":455,"d":"455.00"},{"v":0,"d":"0.00"},{"v":0,"d":"0.00"}]
[{"$f":"SUBTOTAL(3,$B$7:B185)","v":14},"TXL6-053","40km 以上中继段光缆测试 144 芯以下","台班",{"$f":"'表三 甲'!E632","v":{"v":0,"d":"0.00"}},"稳定光源",1.58,{"v":117,"d":"117.00"},{"v":0,"d":"0.00"},{"v":0,"d":"0.00"}]
[{"$f":"SUBTOTAL(3,$B$7:B186)","v":14},"TXL6-053","40km 以上中继段光缆测试 144 芯以下","台班",{"$f":"'表三 甲'!E632","v":{"v":0,"d":"0.00"}},"光时域反射仪",1.58,{"v":153,"d":"153.00"},{"v":0,"d":"0.00"},{"v":0,"d":"0.00"}]
[{"$f":"SUBTOTAL(3,$B$7:B187)","v":14},"TXL6-054","40km 以上中继段光缆测试 168 芯以下","台班",{"$f":"'表三 甲'!E633","v":{"v":0,"d":"0.00"}},"光功率计",1.66,{"v":116,"d":"116.00"},{"v":0,"d":"0.00"},{"v":0,"d":"0.00"}]
[{"$f":"SUBTOTAL(3,$B$7:B188)","v":14},"TXL6-054","40km 以上中继段光缆测试 168 芯以下","台班",{"$f":"'表三 甲'!E633","v":{"v":0,"d":"0.00"}},"偏振模色散测试仪",1.66,{"v":455,"d":"455.00"},{"v":0,"d":"0.00"},{"v":0,"d":"0.00"}]
[{"$f":"SUBTOTAL(3,$B$7:B189)","v":14},"TXL6-054","40km 以上中继段光缆测试 168 芯以下","台班",{"$f":"'表三 甲'!E633","v":{"v":0,"d":"0.00"}},"稳定光源",1.66,{"v":117,"d":"117.00"},{"v":0,"d":"0.00"},{"v":0,"d":"0.00"}]
[{"$f":"SUBTOTAL(3,$B$7:B190)","v":14},"TXL6-054","40km 以上中继段光缆测试 168 芯以下","台班",{"$f":"'表三 甲'!E633","v":{"v":0,"d":"0.00"}},"光时域反射仪",1.66,{"v":153,"d":"153.00"},{"v":0,"d":"0.00"},{"v":0,"d":"0.00"}]
[{"$f":"SUBTOTAL(3,$B$7:B191)","v":14},"TXL6-055","40km 以上中继段光缆测试 192 芯以下","台班",{"$f":"'表三 甲'!E634","v":{"v":0,"d":"0.00"}},"偏振模色散测试仪",1.73,{"v":455,"d":"455.00"},{"v":0,"d":"0.00"},{"v":0,"d":"0.00"}]
[{"$f":"SUBTOTAL(3,$B$7:B192)","v":14},"TXL6-055","40km 以上中继段光缆测试 192 芯以下","台班",{"$f":"'表三 甲'!E634","v":{"v":0,"d":"0.00"}},"光时域反射仪",1.73,{"v":153,"d":"153.00"},{"v":0,"d":"0.00"},{"v":0,"d":"0.00"}]
[{"$f":"SUBTOTAL(3,$B$7:B193)","v":14},"TXL6-055","40km 以上中继段光缆测试 192 芯以下","台班",{"$f":"'表三 甲'!E634","v":{"v":0,"d":"0.00"}},"稳定光源",1.73,{"v":117,"d":"117.00"},{"v":0,"d":"0.00"},{"v":0,"d":"0.00"}]
[{"$f":"SUBTOTAL(3,$B$7:B194)","v":14},"TXL6-055","40km 以上中继段光缆测试 192 芯以下","台班",{"$f":"'表三 甲'!E634","v":{"v":0,"d":"0.00"}},"光功率计",1.73,{"v":116,"d":"116.00"},{"v":0,"d":"0.00"},{"v":0,"d":"0.00"}]
[{"$f":"SUBTOTAL(3,$B$7:B195)","v":14},"TXL6-056","40km 以上中继段光缆测试 216 芯以下","台班",{"$f":"'表三 甲'!E635","v":{"v":0,"d":"0.00"}},"光功率计",{"v":1.8,"d":"1.80"},{"v":116,"d":"116.00"},{"v":0,"d":"0.00"},{"v":0,"d":"0.00"}]
[{"$f":"SUBTOTAL(3,$B$7:B196)","v":14},"TXL6-056","40km 以上中继段光缆测试 216 芯以下","台班",{"$f":"'表三 甲'!E635","v":{"v":0,"d":"0.00"}},"偏振模色散测试仪",1.8,{"v":455,"d":"455.00"},{"v":0,"d":"0.00"},{"v":0,"d":"0.00"}]
[{"$f":"SUBTOTAL(3,$B$7:B197)","v":14},"TXL6-056","40km 以上中继段光缆测试 216 芯以下","台班",{"$f":"'表三 甲'!E635","v":{"v":0,"d":"0.00"}},"稳定光源",1.8,{"v":117,"d":"117.00"},{"v":0,"d":"0.00"},{"v":0,"d":"0.00"}]
[{"$f":"SUBTOTAL(3,$B$7:B198)","v":14},"TXL6-056","40km 以上中继段光缆测试 216 芯以下","台班",{"$f":"'表三 甲'!E635","v":{"v":0,"d":"0.00"}},"光时域反射仪",1.8,{"v":153,"d":"153.00"},{"v":0,"d":"0.00"},{"v":0,"d":"0.00"}]
[{"$f":"SUBTOTAL(3,$B$7:B199)","v":14},"TXL6-057","40km 以上中继段光缆测试 240 芯以下","台班",{"$f":"'表三 甲'!E636","v":{"v":0,"d":"0.00"}},"光时域反射仪",1.91,{"v":153,"d":"153.00"},{"v":0,"d":"0.00"},{"v":0,"d":"0.00"}]
[{"$f":"SUBTOTAL(3,$B$7:B200)","v":14},"TXL6-057","40km 以上中继段光缆测试 240 芯以下","台班",{"$f":"'表三 甲'!E636","v":{"v":0,"d":"0.00"}},"偏振模色散测试仪",1.91,{"v":455,"d":"455.00"},{"$f":"E200*G200","v":{"v":0,"d":"0.00"}},{"v":0,"d":"0.00"}]
[{"$f":"SUBTOTAL(3,$B$7:B201)","v":14},"TXL6-057","40km 以上中继段光缆测试 240 芯以下","台班",{"$f":"'表三 甲'!E636","v":{"v":0,"d":"0.00"}},"稳定光源",1.91,{"v":117,"d":"117.00"},{"v":0,"d":"0.00"},{"v":0,"d":"0.00"}]
[{"$f":"SUBTOTAL(3,$B$7:B202)","v":14},"TXL6-057","40km 以上中继段光缆测试 240 芯以下","台班",{"$f":"'表三 甲'!E636","v":{"v":0,"d":"0.00"}},"光功率计",1.91,{"v":116,"d":"116.00"},{"v":0,"d":"0.00"},{"v":0,"d":"0.00"}]
[{"$f":"SUBTOTAL(3,$B$7:B203)","v":14},"TXL6-058","40km 以上光缆中继段测试 264 芯以下","台班",{"$f":"'表三 甲'!E637","v":{"v":0,"d":"0.00"}},"光时域反射仪",1.98,{"v":153,"d":"153.00"},{"v":0,"d":"0.00"},{"v":0,"d":"0.00"}]
[{"$f":"SUBTOTAL(3,$B$7:B204)","v":14},"TXL6-058","40km 以上光缆中继段测试 264 芯以下","台班",{"$f":"'表三 甲'!E637","v":{"v":0,"d":"0.00"}},"偏振模色散测试仪",1.98,{"v":455,"d":"455.00"},{"v":0,"d":"0.00"},{"v":0,"d":"0.00"}]
[{"$f":"SUBTOTAL(3,$B$7:B205)","v":14},"TXL6-058","40km 以上光缆中继段测试 264 芯以下","台班",{"$f":"'表三 甲'!E637","v":{"v":0,"d":"0.00"}},"稳定光源",1.98,{"v":117,"d":"117.00"},{"v":0,"d":"0.00"},{"v":0,"d":"0.00"}]
[{"$f":"SUBTOTAL(3,$B$7:B206)","v":14},"TXL6-058","40km 以上光缆中继段测试 264 芯以下","台班",{"$f":"'表三 甲'!E637","v":{"v":0,"d":"0.00"}},"光功率计",1.98,{"v":116,"d":"116.00"},{"v":0,"d":"0.00"},{"v":0,"d":"0.00"}]
[{"$f":"SUBTOTAL(3,$B$7:B207)","v":14},"TXL6-059","40km 以上光缆中继段测试 288 芯以下","台班",{"$f":"'表三 甲'!E638","v":{"v":0,"d":"0.00"}},"光功率计",2.09,{"v":116,"d":"116.00"},{"v":0,"d":"0.00"},{"v":0,"d":"0.00"}]
[{"$f":"SUBTOTAL(3,$B$7:B208)","v":14},"TXL6-059","40km 以上光缆中继段测试 288 芯以下","台班",{"$f":"'表三 甲'!E638","v":{"v":0,"d":"0.00"}},"偏振模色散测试仪",2.09,{"v":455,"d":"455.00"},{"v":0,"d":"0.00"},{"v":0,"d":"0.00"}]
[{"$f":"SUBTOTAL(3,$B$7:B209)","v":14},"TXL6-059","40km 以上光缆中继段测试 288 芯以下","台班",{"$f":"'表三 甲'!E638","v":{"v":0,"d":"0.00"}},"稳定光源",2.09,{"v":117,"d":"117.00"},{"v":0,"d":"0.00"},{"v":0,"d":"0.00"}]
[{"$f":"SUBTOTAL(3,$B$7:B210)","v":14},"TXL6-059","40km 以上光缆中继段测试 288 芯以下","台班",{"$f":"'表三 甲'!E638","v":{"v":0,"d":"0.00"}},"光时域反射仪",2.09,{"v":153,"d":"153.00"},{"v":0,"d":"0.00"},{"v":0,"d":"0.00"}]
[{"$f":"SUBTOTAL(3,$B$7:B211)","v":14},"TXL6-060","40km 以上光缆中继段测试 312 芯以下","台班",{"$f":"'表三 甲'!E639","v":{"v":0,"d":"0.00"}},"偏振模色散测试仪",2.23,{"v":455,"d":"455.00"},{"v":0,"d":"0.00"},{"$f":"H211*I211","v":{"v":0,"d":"0.00"}}]
[{"$f":"SUBTOTAL(3,$B$7:B212)","v":14},"TXL6-060","40km 以上光缆中继段测试 312 芯以下","台班",{"$f":"'表三 甲'!E639","v":{"v":0,"d":"0.00"}},"光功率计",2.23,{"v":116,"d":"116.00"},{"v":0,"d":"0.00"},{"v":0,"d":"0.00"}]
[{"$f":"SUBTOTAL(3,$B$7:B213)","v":14},"TXL6-060","40km 以上光缆中继段测试 312 芯以下","台班",{"$f":"'表三 甲'!E639","v":{"v":0,"d":"0.00"}},"稳定光源",2.23,{"v":117,"d":"117.00"},{"v":0,"d":"0.00"},{"v":0,"d":"0.00"}]
[{"$f":"SUBTOTAL(3,$B$7:B214)","v":14},"TXL6-060","40km 以上光缆中继段测试 312 芯以下","台班",{"$f":"'表三 甲'!E639","v":{"v":0,"d":"0.00"}},"光时域反射仪",2.23,{"v":153,"d":"153.00"},{"v":0,"d":"0.00"},{"$f":"I214*H214","v":{"v":0,"d":"0.00"}}]
[{"$f":"SUBTOTAL(3,$B$7:B215)","v":14},"TXL6-061","40km 以上光缆中继段测试 336 芯以下","台班",{"$f":"'表三 甲'!E640","v":{"v":0,"d":"0.00"}},"光时域反射仪",2.34,{"v":153,"d":"153.00"},{"v":0,"d":"0.00"},{"v":0,"d":"0.00"}]
[{"$f":"SUBTOTAL(3,$B$7:B216)","v":14},"TXL6-061","40km 以上光缆中继段测试 336 芯以下","台班",{"$f":"'表三 甲'!E640","v":{"v":0,"d":"0.00"}},"偏振模色散测试仪",2.34,{"v":455,"d":"455.00"},{"v":0,"d":"0.00"},{"v":0,"d":"0.00"}]
[{"$f":"SUBTOTAL(3,$B$7:B217)","v":14},"TXL6-061","40km 以上光缆中继段测试 336 芯以下","台班",{"$f":"'表三 甲'!E640","v":{"v":0,"d":"0.00"}},"稳定光源",2.34,{"v":117,"d":"117.00"},{"v":0,"d":"0.00"},{"v":0,"d":"0.00"}]
[{"$f":"SUBTOTAL(3,$B$7:B218)","v":14},"TXL6-061","40km 以上光缆中继段测试 336 芯以下","台班",{"$f":"'表三 甲'!E640","v":{"v":0,"d":"0.00"}},"光功率计",2.34,{"v":116,"d":"116.00"},{"v":0,"d":"0.00"},{"v":0,"d":"0.00"}]
[{"$f":"SUBTOTAL(3,$B$7:B219)","v":14},"TXL6-062","40km 以上光缆中继段测试 360 芯以下","台班",{"$f":"'表三 甲'!E641","v":{"v":0,"d":"0.00"}},"光时域反射仪",2.45,{"v":153,"d":"153.00"},{"v":0,"d":"0.00"},{"v":0,"d":"0.00"}]
[{"$f":"SUBTOTAL(3,$B$7:B220)","v":14},"TXL6-062","40km 以上光缆中继段测试 360 芯以下","台班",{"$f":"'表三 甲'!E641","v":{"v":0,"d":"0.00"}},"稳定光源",2.45,{"v":117,"d":"117.00"},{"v":0,"d":"0.00"},{"v":0,"d":"0.00"}]
[{"$f":"SUBTOTAL(3,$B$7:B221)","v":14},"TXL6-062","40km 以上光缆中继段测试 360 芯以下","台班",{"$f":"'表三 甲'!E641","v":{"v":0,"d":"0.00"}},"光功率计",2.45,{"v":116,"d":"116.00"},{"v":0,"d":"0.00"},{"v":0,"d":"0.00"}]
[{"$f":"SUBTOTAL(3,$B$7:B222)","v":14},"TXL6-062","40km 以上光缆中继段测试 360 芯以下","台班",{"$f":"'表三 甲'!E641","v":{"v":0,"d":"0.00"}},"偏振模色散测试仪",2.45,{"v":455,"d":"455.00"},{"v":0,"d":"0.00"},{"v":0,"d":"0.00"}]
[{"$f":"SUBTOTAL(3,$B$7:B223)","v":14},"TXL6-063","40km 以上光缆中继段测试 384 芯以下","台班",{"$f":"'表三 甲'!E642","v":{"v":0,"d":"0.00"}},"光时域反射仪",2.52,{"v":153,"d":"153.00"},{"v":0,"d":"0.00"},{"v":0,"d":"0.00"}]
[{"$f":"SUBTOTAL(3,$B$7:B224)","v":14},"TXL6-063","40km 以上光缆中继段测试 384 芯以下","台班",{"$f":"'表三 甲'!E642","v":{"v":0,"d":"0.00"}},"偏振模色散测试仪",2.52,{"v":455,"d":"455.00"},{"v":0,"d":"0.00"},{"v":0,"d":"0.00"}]
[{"$f":"SUBTOTAL(3,$B$7:B225)","v":14},"TXL6-063","40km 以上光缆中继段测试 384 芯以下","台班",{"$f":"'表三 甲'!E642","v":{"v":0,"d":"0.00"}},"光功率计",2.52,{"v":116,"d":"116.00"},{"v":0,"d":"0.00"},{"v":0,"d":"0.00"}]
[{"$f":"SUBTOTAL(3,$B$7:B226)","v":14},"TXL6-063","40km 以上光缆中继段测试 384 芯以下","台班",{"$f":"'表三 甲'!E642","v":{"v":0,"d":"0.00"}},"稳定光源",2.52,{"v":117,"d":"117.00"},{"v":0,"d":"0.00"},{"v":0,"d":"0.00"}]
[{"$f":"SUBTOTAL(3,$B$7:B227)","v":14},"TXL6-064","40km 以上光缆中继段测试 408 芯以下","台班",{"$f":"'表三 甲'!E643","v":{"v":0,"d":"0.00"}},"光时域反射仪",2.59,{"v":153,"d":"153.00"},{"v":0,"d":"0.00"},{"v":0,"d":"0.00"}]
[{"$f":"SUBTOTAL(3,$B$7:B228)","v":14},"TXL6-064","40km 以上光缆中继段测试 408 芯以下","台班",{"$f":"'表三 甲'!E643","v":{"v":0,"d":"0.00"}},"稳定光源",2.59,{"v":117,"d":"117.00"},{"v":0,"d":"0.00"},{"v":0,"d":"0.00"}]
[{"$f":"SUBTOTAL(3,$B$7:B229)","v":14},"TXL6-064","40km 以上光缆中继段测试 408 芯以下","台班",{"$f":"'表三 甲'!E643","v":{"v":0,"d":"0.00"}},"偏振模色散测试仪",2.59,{"v":455,"d":"455.00"},{"v":0,"d":"0.00"},{"v":0,"d":"0.00"}]
[{"$f":"SUBTOTAL(3,$B$7:B230)","v":14},"TXL6-064","40km 以上光缆中继段测试 408 芯以下","台班",{"$f":"'表三 甲'!E643","v":{"v":0,"d":"0.00"}},"光功率计",2.59,{"v":116,"d":"116.00"},{"v":0,"d":"0.00"},{"v":0,"d":"0.00"}]
[{"$f":"SUBTOTAL(3,$B$7:B231)","v":14},"TXL6-065","40km 以上光缆中继段测试 432 芯以下","台班",{"$f":"'表三 甲'!E644","v":{"v":0,"d":"0.00"}},"光功率计",2.63,{"v":116,"d":"116.00"},{"v":0,"d":"0.00"},{"v":0,"d":"0.00"}]
[{"$f":"SUBTOTAL(3,$B$7:B232)","v":14},"TXL6-065","40km 以上光缆中继段测试 432 芯以下","台班",{"$f":"'表三 甲'!E644","v":{"v":0,"d":"0.00"}},"光时域反射仪",2.63,{"v":153,"d":"153.00"},{"v":0,"d":"0.00"},{"v":0,"d":"0.00"}]
[{"$f":"SUBTOTAL(3,$B$7:B233)","v":14},"TXL6-065","40km 以上光缆中继段测试 432 芯以下","台班",{"$f":"'表三 甲'!E644","v":{"v":0,"d":"0.00"}},"偏振模色散测试仪",2.63,{"v":455,"d":"455.00"},{"v":0,"d":"0.00"},{"v":0,"d":"0.00"}]
[{"$f":"SUBTOTAL(3,$B$7:B234)","v":14},"TXL6-065","40km 以上光缆中继段测试 432 芯以下","台班",{"$f":"'表三 甲'!E644","v":{"v":0,"d":"0.00"}},"稳定光源",2.63,{"v":117,"d":"117.00"},{"v":0,"d":"0.00"},{"v":0,"d":"0.00"}]
[{"$f":"SUBTOTAL(3,$B$7:B235)","v":14},"TXL6-066","40km 以上光缆中继段测试 456 芯以下","台班",{"$f":"'表三 甲'!E645","v":{"v":0,"d":"0.00"}},"偏振模色散测试仪",2.66,{"v":455,"d":"455.00"},{"v":0,"d":"0.00"},{"v":0,"d":"0.00"}]
[{"$f":"SUBTOTAL(3,$B$7:B236)","v":14},"TXL6-066","40km 以上光缆中继段测试 456 芯以下","台班",{"$f":"'表三 甲'!E645","v":{"v":0,"d":"0.00"}},"稳定光源",2.66,{"v":117,"d":"117.00"},{"v":0,"d":"0.00"},{"v":0,"d":"0.00"}]
[{"$f":"SUBTOTAL(3,$B$7:B237)","v":14},"TXL6-066","40km 以上光缆中继段测试 456 芯以下","台班",{"$f":"'表三 甲'!E645","v":{"v":0,"d":"0.00"}},"光时域反射仪",2.66,{"v":153,"d":"153.00"},{"v":0,"d":"0.00"},{"v":0,"d":"0.00"}]
[{"$f":"SUBTOTAL(3,$B$7:B238)","v":14},"TXL6-066","40km 以上光缆中继段测试 456 芯以下","台班",{"$f":"'表三 甲'!E645","v":{"v":0,"d":"0.00"}},"光功率计",2.66,{"v":116,"d":"116.00"},{"v":0,"d":"0.00"},{"v":0,"d":"0.00"}]
[{"$f":"SUBTOTAL(3,$B$7:B239)","v":14},"TXL6-067","40km 以上光缆中继段测试 480 芯以下","台班",{"$f":"'表三 甲'!E646","v":{"v":0,"d":"0.00"}},"偏振模色散测试仪",2.74,{"v":455,"d":"455.00"},{"v":0,"d":"0.00"},{"v":0,"d":"0.00"}]
[{"$f":"SUBTOTAL(3,$B$7:B240)","v":14},"TXL6-067","40km 以上光缆中继段测试 480 芯以下","台班",{"$f":"'表三 甲'!E646","v":{"v":0,"d":"0.00"}},"光功率计",2.74,{"v":116,"d":"116.00"},{"v":0,"d":"0.00"},{"v":0,"d":"0.00"}]
[{"$f":"SUBTOTAL(3,$B$7:B241)","v":14},"TXL6-067","40km 以上光缆中继段测试 480 芯以下","台班",{"$f":"'表三 甲'!E646","v":{"v":0,"d":"0.00"}},"稳定光源",2.74,{"v":117,"d":"117.00"},{"v":0,"d":"0.00"},{"v":0,"d":"0.00"}]
[{"$f":"SUBTOTAL(3,$B$7:B242)","v":14},"TXL6-067","40km 以上光缆中继段测试 480 芯以下","台班",{"$f":"'表三 甲'!E646","v":{"v":0,"d":"0.00"}},"光时域反射仪",2.74,{"v":153,"d":"153.00"},{"v":0,"d":"0.00"},{"v":0,"d":"0.00"}]
[{"$f":"SUBTOTAL(3,$B$7:B243)","v":14},"TXL6-068","40km 以上光缆中继段测试 504 芯以下","台班",{"$f":"'表三 甲'!E647","v":{"v":0,"d":"0.00"}},"稳定光源",2.78,{"v":117,"d":"117.00"},{"v":0,"d":"0.00"},{"v":0,"d":"0.00"}]
[{"$f":"SUBTOTAL(3,$B$7:B244)","v":14},"TXL6-068","40km 以上光缆中继段测试 504 芯以下","台班",{"$f":"'表三 甲'!E647","v":{"v":0,"d":"0.00"}},"光功率计",2.78,{"v":116,"d":"116.00"},{"v":0,"d":"0.00"},{"v":0,"d":"0.00"}]
[{"$f":"SUBTOTAL(3,$B$7:B245)","v":14},"TXL6-068","40km 以上光缆中继段测试 504 芯以下","台班",{"$f":"'表三 甲'!E647","v":{"v":0,"d":"0.00"}},"偏振模色散测试仪",2.78,{"v":455,"d":"455.00"},{"v":0,"d":"0.00"},{"v":0,"d":"0.00"}]
[{"$f":"SUBTOTAL(3,$B$7:B246)","v":14},"TXL6-068","40km 以上光缆中继段测试 504 芯以下","台班",{"$f":"'表三 甲'!E647","v":{"v":0,"d":"0.00"}},"光时域反射仪",2.78,{"v":153,"d":"153.00"},{"v":0,"d":"0.00"},{"v":0,"d":"0.00"}]
[{"$f":"SUBTOTAL(3,$B$7:B247)","v":14},"TXL6-069","40km 以上光缆中继段测试 528 芯以下","台班",{"$f":"'表三 甲'!E648","v":{"v":0,"d":"0.00"}},"偏振模色散测试仪",2.81,{"v":455,"d":"455.00"},{"v":0,"d":"0.00"},{"v":0,"d":"0.00"}]
[{"$f":"SUBTOTAL(3,$B$7:B248)","v":14},"TXL6-069","40km 以上光缆中继段测试 528 芯以下","台班",{"$f":"'表三 甲'!E648","v":{"v":0,"d":"0.00"}},"光时域反射仪",2.81,{"v":153,"d":"153.00"},{"v":0,"d":"0.00"},{"v":0,"d":"0.00"}]
[{"$f":"SUBTOTAL(3,$B$7:B249)","v":14},"TXL6-069","40km 以上光缆中继段测试 528 芯以下","台班",{"$f":"'表三 甲'!E648","v":{"v":0,"d":"0.00"}},"光功率计",2.81,{"v":116,"d":"116.00"},{"v":0,"d":"0.00"},{"v":0,"d":"0.00"}]
[{"$f":"SUBTOTAL(3,$B$7:B250)","v":14},"TXL6-069","40km 以上光缆中继段测试 528 芯以下","台班",{"$f":"'表三 甲'!E648","v":{"v":0,"d":"0.00"}},"稳定光源",2.81,{"v":117,"d":"117.00"},{"v":0,"d":"0.00"},{"v":0,"d":"0.00"}]
[{"$f":"SUBTOTAL(3,$B$7:B251)","v":14},"TXL6-070","40km 以上光缆中继段测试 576 芯以下","台班",{"$f":"'表三 甲'!E649","v":{"v":0,"d":"0.00"}},"偏振模色散测试仪",2.84,{"v":455,"d":"455.00"},{"v":0,"d":"0.00"},{"v":0,"d":"0.00"}]
[{"$f":"SUBTOTAL(3,$B$7:B252)","v":14},"TXL6-070","40km 以上光缆中继段测试 576 芯以下","台班",{"$f":"'表三 甲'!E649","v":{"v":0,"d":"0.00"}},"光时域反射仪",2.84,{"v":153,"d":"153.00"},{"v":0,"d":"0.00"},{"v":0,"d":"0.00"}]
[{"$f":"SUBTOTAL(3,$B$7:B253)","v":14},"TXL6-070","40km 以上光缆中继段测试 576 芯以下","台班",{"$f":"'表三 甲'!E649","v":{"v":0,"d":"0.00"}},"光功率计",2.84,{"v":116,"d":"116.00"},{"v":0,"d":"0.00"},{"v":0,"d":"0.00"}]
[{"$f":"SUBTOTAL(3,$B$7:B254)","v":14},"TXL6-070","40km 以上光缆中继段测试 576 芯以下","台班",{"$f":"'表三 甲'!E649","v":{"v":0,"d":"0.00"}},"稳定光源",2.84,{"v":117,"d":"117.00"},{"v":0,"d":"0.00"},{"v":0,"d":"0.00"}]
[{"$f":"SUBTOTAL(3,$B$7:B255)","v":14},"TXL6-071","40km 以上光缆中继段测试 576 芯以上","台班",{"$f":"'表三 甲'!E650","v":{"v":0,"d":"0.00"}},"偏振模色散测试仪",2.88,{"v":455,"d":"455.00"},{"v":0,"d":"0.00"},{"v":0,"d":"0.00"}]
[{"$f":"SUBTOTAL(3,$B$7:B256)","v":14},"TXL6-071","40km 以上光缆中继段测试 576 芯以上","台班",{"$f":"'表三 甲'!E650","v":{"v":0,"d":"0.00"}},"光功率计",2.88,{"v":116,"d":"116.00"},{"v":0,"d":"0.00"},{"v":0,"d":"0.00"}]
[{"$f":"SUBTOTAL(3,$B$7:B257)","v":14},"TXL6-071","40km 以上光缆中继段测试 576 芯以上","台班",{"$f":"'表三 甲'!E650","v":{"v":0,"d":"0.00"}},"光时域反射仪",2.88,{"v":153,"d":"153.00"},{"v":0,"d":"0.00"},{"v":0,"d":"0.00"}]
[{"$f":"SUBTOTAL(3,$B$7:B258)","v":14},"TXL6-071","40km 以上光缆中继段测试 576 芯以上","台班",{"$f":"'表三 甲'!E650","v":{"v":0,"d":"0.00"}},"稳定光源",2.88,{"v":117,"d":"117.00"},{"v":0,"d":"0.00"},{"v":0,"d":"0.00"}]
[{"$f":"SUBTOTAL(3,$B$7:B259)","v":14},"TXL6-072","40km 以下光缆中继段测试 12 芯以下","台班",{"$f":"'表三 甲'!E651","v":{"v":0,"d":"0.00"}},"光功率计",0.3,{"v":116,"d":"116.00"},{"v":0,"d":"0.00"},{"$f":"H259*I259","v":{"v":0,"d":"0.00"}}]
[{"$f":"SUBTOTAL(3,$B$7:B260)","v":14},"TXL6-072","40km 以下光缆中继段测试 12 芯以下","台班",{"$f":"'表三 甲'!E651","v":{"v":0,"d":"0.00"}},"光时域反射仪",0.3,{"v":153,"d":"153.00"},{"v":0,"d":"0.00"},{"v":0,"d":"0.00"}]
[{"$f":"SUBTOTAL(3,$B$7:B261)","v":14},"TXL6-072","40km 以下光缆中继段测试 12 芯以下","台班",{"$f":"'表三 甲'!E651","v":{"v":0,"d":"0.00"}},"偏振模色散测试仪",0.3,{"v":455,"d":"455.00"},{"v":0,"d":"0.00"},{"v":0,"d":"0.00"}]
[{"$f":"SUBTOTAL(3,$B$7:B262)","v":14},"TXL6-072","40km 以下光缆中继段测试 12 芯以下","台班",{"$f":"'表三 甲'!E651","v":{"v":0,"d":"0.00"}},"稳定光源",0.3,{"v":117,"d":"117.00"},{"v":0,"d":"0.00"},{"v":0,"d":"0.00"}]
[{"$f":"SUBTOTAL(3,$B$7:B263)","v":14},"TXL6-073","40km 以下光缆中继段测试 24 芯以下","台班",{"$f":"'表三 甲'!E652","v":{"v":0,"d":"0.00"}},"偏振模色散测试仪",0.42,{"v":455,"d":"455.00"},{"v":0,"d":"0.00"},{"v":0,"d":"0.00"}]
[{"$f":"SUBTOTAL(3,$B$7:B264)","v":14},"TXL6-073","40km 以下光缆中继段测试 24 芯以下","台班",{"$f":"'表三 甲'!E652","v":{"v":0,"d":"0.00"}},"稳定光源",0.42,{"v":117,"d":"117.00"},{"$f":"E264*G264","v":{"v":0,"d":"0.00"}},{"v":0,"d":"0.00"}]
[{"$f":"SUBTOTAL(3,$B$7:B265)","v":14},"TXL6-073","40km 以下光缆中继段测试 24 芯以下","台班",{"$f":"'表三 甲'!E652","v":{"v":0,"d":"0.00"}},"光时域反射仪",0.42,{"v":153,"d":"153.00"},{"v":0,"d":"0.00"},{"v":0,"d":"0.00"}]
[{"$f":"SUBTOTAL(3,$B$7:B266)","v":14},"TXL6-073","40km 以下光缆中继段测试 24 芯以下","台班",{"$f":"'表三 甲'!E652","v":{"v":0,"d":"0.00"}},"光功率计",0.42,{"v":116,"d":"116.00"},{"v":0,"d":"0.00"},{"v":0,"d":"0.00"}]
[{"$f":"SUBTOTAL(3,$B$7:B267)","v":14},"TXL6-074","40km 以下光缆中继段测试 36 芯以下","台班",{"$f":"'表三 甲'!E653","v":{"v":0,"d":"0.00"}},"偏振模色散测试仪",0.57,{"v":455,"d":"455.00"},{"v":0,"d":"0.00"},{"v":0,"d":"0.00"}]
[{"$f":"SUBTOTAL(3,$B$7:B268)","v":14},"TXL6-074","40km 以下光缆中继段测试 36 芯以下","台班",{"$f":"'表三 甲'!E653","v":{"v":0,"d":"0.00"}},"光时域反射仪",0.57,{"v":153,"d":"153.00"},{"v":0,"d":"0.00"},{"v":0,"d":"0.00"}]
[{"$f":"SUBTOTAL(3,$B$7:B269)","v":14},"TXL6-074","40km 以下光缆中继段测试 36 芯以下","台班",{"$f":"'表三 甲'!E653","v":{"v":0,"d":"0.00"}},"光功率计",0.57,{"v":116,"d":"116.00"},{"v":0,"d":"0.00"},{"v":0,"d":"0.00"}]
[{"$f":"SUBTOTAL(3,$B$7:B270)","v":14},"TXL6-074","40km 以下光缆中继段测试 36 芯以下","台班",{"$f":"'表三 甲'!E653","v":{"v":0,"d":"0.00"}},"稳定光源",0.57,{"v":117,"d":"117.00"},{"v":0,"d":"0.00"},{"v":0,"d":"0.00"}]
[{"$f":"SUBTOTAL(3,$B$7:B271)","v":14},"TXL6-075","40km 以下光缆中继段测试 48 芯以下","台班",{"$f":"'表三 甲'!E654","v":{"v":0,"d":"0.00"}},"偏振模色散测试仪",0.72,{"v":455,"d":"455.00"},{"v":0,"d":"0.00"},{"v":0,"d":"0.00"}]
[{"$f":"SUBTOTAL(3,$B$7:B272)","v":14},"TXL6-075","40km 以下光缆中继段测试 48 芯以下","台班",{"$f":"'表三 甲'!E654","v":{"v":0,"d":"0.00"}},"光功率计",0.72,{"v":116,"d":"116.00"},{"v":0,"d":"0.00"},{"v":0,"d":"0.00"}]
[{"$f":"SUBTOTAL(3,$B$7:B273)","v":14},"TXL6-075","40km 以下光缆中继段测试 48 芯以下","台班",{"$f":"'表三 甲'!E654","v":{"v":0,"d":"0.00"}},"稳定光源",0.72,{"v":117,"d":"117.00"},{"v":0,"d":"0.00"},{"v":0,"d":"0.00"}]
[{"$f":"SUBTOTAL(3,$B$7:B274)","v":14},"TXL6-075","40km 以下光缆中继段测试 48 芯以下","台班",{"$f":"'表三 甲'!E654","v":{"v":0,"d":"0.00"}},"光时域反射仪",0.72,{"v":153,"d":"153.00"},{"v":0,"d":"0.00"},{"v":0,"d":"0.00"}]
[{"$f":"SUBTOTAL(3,$B$7:B275)","v":14},"TXL6-076","40km 以下光缆中继段测试 60 芯以下","台班",{"$f":"'表三 甲'!E655","v":{"v":0,"d":"0.00"}},"稳定光源",0.84,{"v":117,"d":"117.00"},{"v":0,"d":"0.00"},{"v":0,"d":"0.00"}]
[{"$f":"SUBTOTAL(3,$B$7:B276)","v":14},"TXL6-076","40km 以下光缆中继段测试 60 芯以下","台班",{"$f":"'表三 甲'!E655","v":{"v":0,"d":"0.00"}},"偏振模色散测试仪",0.84,{"v":455,"d":"455.00"},{"v":0,"d":"0.00"},{"v":0,"d":"0.00"}]
[{"$f":"SUBTOTAL(3,$B$7:B277)","v":14},"TXL6-076","40km 以下光缆中继段测试 60 芯以下","台班",{"$f":"'表三 甲'!E655","v":{"v":0,"d":"0.00"}},"光功率计",0.84,{"v":116,"d":"116.00"},{"v":0,"d":"0.00"},{"v":0,"d":"0.00"}]
[{"$f":"SUBTOTAL(3,$B$7:B278)","v":14},"TXL6-076","40km 以下光缆中继段测试 60 芯以下","台班",{"$f":"'表三 甲'!E655","v":{"v":0,"d":"0.00"}},"光时域反射仪",0.84,{"v":153,"d":"153.00"},{"v":0,"d":"0.00"},{"v":0,"d":"0.00"}]
[{"$f":"SUBTOTAL(3,$B$7:B279)","v":14},"TXL6-077","40km 以下光缆中继段测试 72 芯以下","台班",{"$f":"'表三 甲'!E656","v":{"v":0,"d":"0.00"}},"偏振模色散测试仪",0.96,{"v":455,"d":"455.00"},{"v":0,"d":"0.00"},{"v":0,"d":"0.00"}]
[{"$f":"SUBTOTAL(3,$B$7:B280)","v":14},"TXL6-077","40km 以下光缆中继段测试 72 芯以下","台班",{"$f":"'表三 甲'!E656","v":{"v":0,"d":"0.00"}},"光功率计",0.96,{"v":116,"d":"116.00"},{"v":0,"d":"0.00"},{"v":0,"d":"0.00"}]
[{"$f":"SUBTOTAL(3,$B$7:B281)","v":14},"TXL6-077","40km 以下光缆中继段测试 72 芯以下","台班",{"$f":"'表三 甲'!E656","v":{"v":0,"d":"0.00"}},"光时域反射仪",0.96,{"v":153,"d":"153.00"},{"v":0,"d":"0.00"},{"v":0,"d":"0.00"}]
[{"$f":"SUBTOTAL(3,$B$7:B282)","v":14},"TXL6-077","40km 以下光缆中继段测试 72 芯以下","台班",{"$f":"'表三 甲'!E656","v":{"v":0,"d":"0.00"}},"稳定光源",0.96,{"v":117,"d":"117.00"},{"v":0,"d":"0.00"},{"v":0,"d":"0.00"}]
[{"$f":"SUBTOTAL(3,$B$7:B283)","v":14},"TXL6-078","40km 以下光缆中继段测试 84 芯以下","台班",{"$f":"'表三 甲'!E657","v":{"v":0,"d":"0.00"}},"偏振模色散测试仪",1.04,{"v":455,"d":"455.00"},{"v":0,"d":"0.00"},{"v":0,"d":"0.00"}]
[{"$f":"SUBTOTAL(3,$B$7:B284)","v":14},"TXL6-078","40km 以下光缆中继段测试 84 芯以下","台班",{"$f":"'表三 甲'!E657","v":{"v":0,"d":"0.00"}},"稳定光源",1.04,{"v":117,"d":"117.00"},{"v":0,"d":"0.00"},{"v":0,"d":"0.00"}]
[{"$f":"SUBTOTAL(3,$B$7:B285)","v":14},"TXL6-078","40km 以下光缆中继段测试 84 芯以下","台班",{"$f":"'表三 甲'!E657","v":{"v":0,"d":"0.00"}},"光功率计",1.04,{"v":116,"d":"116.00"},{"v":0,"d":"0.00"},{"v":0,"d":"0.00"}]
[{"$f":"SUBTOTAL(3,$B$7:B286)","v":14},"TXL6-078","40km 以下光缆中继段测试 84 芯以下","台班",{"$f":"'表三 甲'!E657","v":{"v":0,"d":"0.00"}},"光时域反射仪",1.04,{"v":153,"d":"153.00"},{"v":0,"d":"0.00"},{"v":0,"d":"0.00"}]
[{"$f":"SUBTOTAL(3,$B$7:B287)","v":14},"TXL6-079","40km 以下光缆中继段测试 96 芯以下","台班",{"$f":"'表三 甲'!E658","v":{"v":0,"d":"0.00"}},"偏振模色散测试仪",1.14,{"v":455,"d":"455.00"},{"v":0,"d":"0.00"},{"v":0,"d":"0.00"}]
[{"$f":"SUBTOTAL(3,$B$7:B288)","v":14},"TXL6-079","40km 以下光缆中继段测试 96 芯以下","台班",{"$f":"'表三 甲'!E658","v":{"v":0,"d":"0.00"}},"光时域反射仪",1.14,{"v":153,"d":"153.00"},{"v":0,"d":"0.00"},{"v":0,"d":"0.00"}]
[{"$f":"SUBTOTAL(3,$B$7:B289)","v":14},"TXL6-079","40km 以下光缆中继段测试 96 芯以下","台班",{"$f":"'表三 甲'!E658","v":{"v":0,"d":"0.00"}},"光功率计",1.14,{"v":116,"d":"116.00"},{"v":0,"d":"0.00"},{"v":0,"d":"0.00"}]
[{"$f":"SUBTOTAL(3,$B$7:B290)","v":14},"TXL6-079","40km 以下光缆中继段测试 96 芯以下","台班",{"$f":"'表三 甲'!E658","v":{"v":0,"d":"0.00"}},"稳定光源",1.14,{"v":117,"d":"117.00"},{"v":0,"d":"0.00"},{"v":0,"d":"0.00"}]
[{"$f":"SUBTOTAL(3,$B$7:B291)","v":14},"TXL6-080","40km 以下光缆中继段测试 108 芯以下","台班",{"$f":"'表三 甲'!E659","v":{"v":0,"d":"0.00"}},"光时域反射仪",1.2,{"v":153,"d":"153.00"},{"v":0,"d":"0.00"},{"v":0,"d":"0.00"}]
[{"$f":"SUBTOTAL(3,$B$7:B292)","v":14},"TXL6-080","40km 以下光缆中继段测试 108 芯以下","台班",{"$f":"'表三 甲'!E659","v":{"v":0,"d":"0.00"}},"光功率计",1.2,{"v":116,"d":"116.00"},{"v":0,"d":"0.00"},{"v":0,"d":"0.00"}]
[{"$f":"SUBTOTAL(3,$B$7:B293)","v":14},"TXL6-080","40km 以下光缆中继段测试 108 芯以下","台班",{"$f":"'表三 甲'!E659","v":{"v":0,"d":"0.00"}},"偏振模色散测试仪",1.2,{"v":455,"d":"455.00"},{"v":0,"d":"0.00"},{"v":0,"d":"0.00"}]
[{"$f":"SUBTOTAL(3,$B$7:B294)","v":14},"TXL6-080","40km 以下光缆中继段测试 108 芯以下","台班",{"$f":"'表三 甲'!E659","v":{"v":0,"d":"0.00"}},"稳定光源",1.2,{"v":117,"d":"117.00"},{"v":0,"d":"0.00"},{"v":0,"d":"0.00"}]
[{"$f":"SUBTOTAL(3,$B$7:B295)","v":14},"TXL6-081","40km 以下光缆中继段测试 132 芯以下","台班",{"$f":"'表三 甲'!E660","v":{"v":0,"d":"0.00"}},"光功率计",1.26,{"v":116,"d":"116.00"},{"v":0,"d":"0.00"},{"v":0,"d":"0.00"}]
[{"$f":"SUBTOTAL(3,$B$7:B296)","v":14},"TXL6-081","40km 以下光缆中继段测试 132 芯以下","台班",{"$f":"'表三 甲'!E660","v":{"v":0,"d":"0.00"}},"光时域反射仪",1.26,{"v":153,"d":"153.00"},{"v":0,"d":"0.00"},{"v":0,"d":"0.00"}]
[{"$f":"SUBTOTAL(3,$B$7:B297)","v":14},"TXL6-081","40km 以下光缆中继段测试 132 芯以下","台班",{"$f":"'表三 甲'!E660","v":{"v":0,"d":"0.00"}},"稳定光源",1.26,{"v":117,"d":"117.00"},{"v":0,"d":"0.00"},{"v":0,"d":"0.00"}]
[{"$f":"SUBTOTAL(3,$B$7:B298)","v":14},"TXL6-081","40km 以下光缆中继段测试 132 芯以下","台班",{"$f":"'表三 甲'!E660","v":{"v":0,"d":"0.00"}},"偏振模色散测试仪",1.26,{"v":455,"d":"455.00"},{"v":0,"d":"0.00"},{"v":0,"d":"0.00"}]
[{"$f":"SUBTOTAL(3,$B$7:B299)","v":14},"TXL6-082","40km 以下光缆中继段测试 144 芯以下","台班",{"$f":"'表三 甲'!E661","v":{"v":0,"d":"0.00"}},"光时域反射仪",1.32,{"v":153,"d":"153.00"},{"v":0,"d":"0.00"},{"v":0,"d":"0.00"}]
[{"$f":"SUBTOTAL(3,$B$7:B300)","v":14},"TXL6-082","40km 以下光缆中继段测试 144 芯以下","台班",{"$f":"'表三 甲'!E661","v":{"v":0,"d":"0.00"}},"偏振模色散测试仪",1.32,{"v":455,"d":"455.00"},{"v":0,"d":"0.00"},{"v":0,"d":"0.00"}]
[{"$f":"SUBTOTAL(3,$B$7:B301)","v":14},"TXL6-082","40km 以下光缆中继段测试 144 芯以下","台班",{"$f":"'表三 甲'!E661","v":{"v":0,"d":"0.00"}},"稳定光源",1.32,{"v":117,"d":"117.00"},{"v":0,"d":"0.00"},{"v":0,"d":"0.00"}]
[{"$f":"SUBTOTAL(3,$B$7:B302)","v":14},"TXL6-082","40km 以下光缆中继段测试 144 芯以下","台班",{"$f":"'表三 甲'!E661","v":{"v":0,"d":"0.00"}},"光功率计",1.32,{"v":116,"d":"116.00"},{"v":0,"d":"0.00"},{"v":0,"d":"0.00"}]
[{"$f":"SUBTOTAL(3,$B$7:B303)","v":14},"TXL6-083","40km 以下光缆中继段测试 168 芯以下","台班",{"$f":"'表三 甲'!E662","v":{"v":0,"d":"0.00"}},"光功率计",1.38,{"v":116,"d":"116.00"},{"v":0,"d":"0.00"},{"v":0,"d":"0.00"}]
[{"$f":"SUBTOTAL(3,$B$7:B304)","v":14},"TXL6-083","40km 以下光缆中继段测试 168 芯以下","台班",{"$f":"'表三 甲'!E662","v":{"v":0,"d":"0.00"}},"稳定光源",1.38,{"v":117,"d":"117.00"},{"v":0,"d":"0.00"},{"v":0,"d":"0.00"}]
[{"$f":"SUBTOTAL(3,$B$7:B305)","v":14},"TXL6-083","40km 以下光缆中继段测试 168 芯以下","台班",{"$f":"'表三 甲'!E662","v":{"v":0,"d":"0.00"}},"偏振模色散测试仪",1.38,{"v":455,"d":"455.00"},{"v":0,"d":"0.00"},{"v":0,"d":"0.00"}]
[{"$f":"SUBTOTAL(3,$B$7:B306)","v":14},"TXL6-083","40km 以下光缆中继段测试 168 芯以下","台班",{"$f":"'表三 甲'!E662","v":{"v":0,"d":"0.00"}},"光时域反射仪",1.38,{"v":153,"d":"153.00"},{"v":0,"d":"0.00"},{"v":0,"d":"0.00"}]
[{"$f":"SUBTOTAL(3,$B$7:B307)","v":14},"TXL6-084","40km 以下光缆中继段测试 192 芯以下","台班",{"$f":"'表三 甲'!E663","v":{"v":0,"d":"0.00"}},"稳定光源",1.44,{"v":117,"d":"117.00"},{"v":0,"d":"0.00"},{"v":0,"d":"0.00"}]
[{"$f":"SUBTOTAL(3,$B$7:B308)","v":14},"TXL6-084","40km 以下光缆中继段测试 192 芯以下","台班",{"$f":"'表三 甲'!E663","v":{"v":0,"d":"0.00"}},"偏振模色散测试仪",1.44,{"v":455,"d":"455.00"},{"v":0,"d":"0.00"},{"v":0,"d":"0.00"}]
[{"$f":"SUBTOTAL(3,$B$7:B309)","v":14},"TXL6-084","40km 以下光缆中继段测试 192 芯以下","台班",{"$f":"'表三 甲'!E663","v":{"v":0,"d":"0.00"}},"光时域反射仪",1.44,{"v":153,"d":"153.00"},{"v":0,"d":"0.00"},{"v":0,"d":"0.00"}]
[{"$f":"SUBTOTAL(3,$B$7:B310)","v":14},"TXL6-084","40km 以下光缆中继段测试 192 芯以下","台班",{"$f":"'表三 甲'!E663","v":{"v":0,"d":"0.00"}},"光功率计",1.44,{"v":116,"d":"116.00"},{"v":0,"d":"0.00"},{"v":0,"d":"0.00"}]
[{"$f":"SUBTOTAL(3,$B$7:B311)","v":14},"TXL6-085","40km 以下光缆中继段测试 216 芯以下","台班",{"$f":"'表三 甲'!E664","v":{"v":0,"d":"0.00"}},"光时域反射仪",1.5,{"v":153,"d":"153.00"},{"v":0,"d":"0.00"},{"v":0,"d":"0.00"}]
[{"$f":"SUBTOTAL(3,$B$7:B312)","v":14},"TXL6-085","40km 以下光缆中继段测试 216 芯以下","台班",{"$f":"'表三 甲'!E664","v":{"v":0,"d":"0.00"}},"偏振模色散测试仪",1.5,{"v":455,"d":"455.00"},{"v":0,"d":"0.00"},{"v":0,"d":"0.00"}]
[{"$f":"SUBTOTAL(3,$B$7:B313)","v":14},"TXL6-085","40km 以下光缆中继段测试 216 芯以下","台班",{"$f":"'表三 甲'!E664","v":{"v":0,"d":"0.00"}},"光功率计",1.5,{"v":116,"d":"116.00"},{"v":0,"d":"0.00"},{"v":0,"d":"0.00"}]
[{"$f":"SUBTOTAL(3,$B$7:B314)","v":14},"TXL6-085","40km 以下光缆中继段测试 216 芯以下","台班",{"$f":"'表三 甲'!E664","v":{"v":0,"d":"0.00"}},"稳定光源",1.5,{"v":117,"d":"117.00"},{"v":0,"d":"0.00"},{"v":0,"d":"0.00"}]
[{"$f":"SUBTOTAL(3,$B$7:B315)","v":14},"TXL6-086","40km 以下光缆中继段测试 240 芯以下","台班",{"$f":"'表三 甲'!E665","v":{"v":0,"d":"0.00"}},"偏振模色散测试仪",1.59,{"v":455,"d":"455.00"},{"v":0,"d":"0.00"},{"v":0,"d":"0.00"}]
[{"$f":"SUBTOTAL(3,$B$7:B316)","v":14},"TXL6-086","40km 以下光缆中继段测试 240 芯以下","台班",{"$f":"'表三 甲'!E665","v":{"v":0,"d":"0.00"}},"光时域反射仪",1.59,{"v":153,"d":"153.00"},{"v":0,"d":"0.00"},{"v":0,"d":"0.00"}]
[{"$f":"SUBTOTAL(3,$B$7:B317)","v":14},"TXL6-086","40km 以下光缆中继段测试 240 芯以下","台班",{"$f":"'表三 甲'!E665","v":{"v":0,"d":"0.00"}},"稳定光源",1.59,{"v":117,"d":"117.00"},{"v":0,"d":"0.00"},{"v":0,"d":"0.00"}]
[{"$f":"SUBTOTAL(3,$B$7:B318)","v":14},"TXL6-086","40km 以下光缆中继段测试 240 芯以下","台班",{"$f":"'表三 甲'!E665","v":{"v":0,"d":"0.00"}},"光功率计",1.59,{"v":116,"d":"116.00"},{"v":0,"d":"0.00"},{"v":0,"d":"0.00"}]
[{"$f":"SUBTOTAL(3,$B$7:B319)","v":14},"TXL6-087","40km 以下光缆中继段测试 264 芯以下","台班",{"$f":"'表三 甲'!E666","v":{"v":0,"d":"0.00"}},"稳定光源",1.65,{"v":117,"d":"117.00"},{"v":0,"d":"0.00"},{"v":0,"d":"0.00"}]
[{"$f":"SUBTOTAL(3,$B$7:B320)","v":14},"TXL6-087","40km 以下光缆中继段测试 264 芯以下","台班",{"$f":"'表三 甲'!E666","v":{"v":0,"d":"0.00"}},"光功率计",1.65,{"v":116,"d":"116.00"},{"v":0,"d":"0.00"},{"v":0,"d":"0.00"}]
[{"$f":"SUBTOTAL(3,$B$7:B321)","v":14},"TXL6-087","40km 以下光缆中继段测试 264 芯以下","台班",{"$f":"'表三 甲'!E666","v":{"v":0,"d":"0.00"}},"偏振模色散测试仪",1.65,{"v":455,"d":"455.00"},{"v":0,"d":"0.00"},{"v":0,"d":"0.00"}]
[{"$f":"SUBTOTAL(3,$B$7:B322)","v":14},"TXL6-087","40km 以下光缆中继段测试 264 芯以下","台班",{"$f":"'表三 甲'!E666","v":{"v":0,"d":"0.00"}},"光时域反射仪",1.65,{"v":153,"d":"153.00"},{"v":0,"d":"0.00"},{"v":0,"d":"0.00"}]
[{"$f":"SUBTOTAL(3,$B$7:B323)","v":14},"TXL6-088","40km 以下光缆中继段测试 288 芯以下","台班",{"$f":"'表三 甲'!E667","v":{"v":0,"d":"0.00"}},"偏振模色散测试仪",1.74,{"v":455,"d":"455.00"},{"v":0,"d":"0.00"},{"v":0,"d":"0.00"}]
[{"$f":"SUBTOTAL(3,$B$7:B324)","v":14},"TXL6-088","40km 以下光缆中继段测试 288 芯以下","台班",{"$f":"'表三 甲'!E667","v":{"v":0,"d":"0.00"}},"光功率计",1.74,{"v":116,"d":"116.00"},{"v":0,"d":"0.00"},{"v":0,"d":"0.00"}]
[{"$f":"SUBTOTAL(3,$B$7:B325)","v":14},"TXL6-088","40km 以下光缆中继段测试 288 芯以下","台班",{"$f":"'表三 甲'!E667","v":{"v":0,"d":"0.00"}},"稳定光源",1.74,{"v":117,"d":"117.00"},{"v":0,"d":"0.00"},{"v":0,"d":"0.00"}]
[{"$f":"SUBTOTAL(3,$B$7:B326)","v":14},"TXL6-088","40km 以下光缆中继段测试 288 芯以下","台班",{"$f":"'表三 甲'!E667","v":{"v":0,"d":"0.00"}},"光时域反射仪",1.74,{"v":153,"d":"153.00"},{"v":0,"d":"0.00"},{"v":0,"d":"0.00"}]
[{"$f":"SUBTOTAL(3,$B$7:B327)","v":14},"TXL6-089","40km 以下光缆中继段测试 312 芯以下","台班",{"$f":"'表三 甲'!E668","v":{"v":0,"d":"0.00"}},"光时域反射仪",1.86,{"v":153,"d":"153.00"},{"v":0,"d":"0.00"},{"v":0,"d":"0.00"}]
[{"$f":"SUBTOTAL(3,$B$7:B328)","v":14},"TXL6-089","40km 以下光缆中继段测试 312 芯以下","台班",{"$f":"'表三 甲'!E668","v":{"v":0,"d":"0.00"}},"稳定光源",1.86,{"v":117,"d":"117.00"},{"$f":"E328*G328","v":{"v":0,"d":"0.00"}},{"v":0,"d":"0.00"}]
[{"$f":"SUBTOTAL(3,$B$7:B329)","v":14},"TXL6-089","40km 以下光缆中继段测试 312 芯以下","台班",{"$f":"'表三 甲'!E668","v":{"v":0,"d":"0.00"}},"光功率计",1.86,{"v":116,"d":"116.00"},{"v":0,"d":"0.00"},{"v":0,"d":"0.00"}]
[{"$f":"SUBTOTAL(3,$B$7:B330)","v":14},"TXL6-089","40km 以下光缆中继段测试 312 芯以下","台班",{"$f":"'表三 甲'!E668","v":{"v":0,"d":"0.00"}},"偏振模色散测试仪",1.86,{"v":455,"d":"455.00"},{"v":0,"d":"0.00"},{"v":0,"d":"0.00"}]
[{"$f":"SUBTOTAL(3,$B$7:B331)","v":14},"TXL6-090","40km 以下光缆中继段测试 336 芯以下","台班",{"$f":"'表三 甲'!E669","v":{"v":0,"d":"0.00"}},"偏振模色散测试仪",1.95,{"v":455,"d":"455.00"},{"v":0,"d":"0.00"},{"v":0,"d":"0.00"}]
[{"$f":"SUBTOTAL(3,$B$7:B332)","v":14},"TXL6-090","40km 以下光缆中继段测试 336 芯以下","台班",{"$f":"'表三 甲'!E669","v":{"v":0,"d":"0.00"}},"稳定光源",1.95,{"v":117,"d":"117.00"},{"v":0,"d":"0.00"},{"v":0,"d":"0.00"}]
[{"$f":"SUBTOTAL(3,$B$7:B333)","v":14},"TXL6-090","40km 以下光缆中继段测试 336 芯以下","台班",{"$f":"'表三 甲'!E669","v":{"v":0,"d":"0.00"}},"光时域反射仪",1.95,{"v":153,"d":"153.00"},{"v":0,"d":"0.00"},{"v":0,"d":"0.00"}]
[{"$f":"SUBTOTAL(3,$B$7:B334)","v":14},"TXL6-090","40km 以下光缆中继段测试 336 芯以下","台班",{"$f":"'表三 甲'!E669","v":{"v":0,"d":"0.00"}},"光功率计",1.95,{"v":116,"d":"116.00"},{"v":0,"d":"0.00"},{"v":0,"d":"0.00"}]
[{"$f":"SUBTOTAL(3,$B$7:B335)","v":14},"TXL6-091","40km 以下光缆中继段测试 360 芯以下","台班",{"$f":"'表三 甲'!E670","v":{"v":0,"d":"0.00"}},"光时域反射仪",2.04,{"v":153,"d":"153.00"},{"v":0,"d":"0.00"},{"v":0,"d":"0.00"}]
[{"$f":"SUBTOTAL(3,$B$7:B336)","v":14},"TXL6-091","40km 以下光缆中继段测试 360 芯以下","台班",{"$f":"'表三 甲'!E670","v":{"v":0,"d":"0.00"}},"光功率计",2.04,{"v":116,"d":"116.00"},{"v":0,"d":"0.00"},{"v":0,"d":"0.00"}]
[{"$f":"SUBTOTAL(3,$B$7:B337)","v":14},"TXL6-091","40km 以下光缆中继段测试 360 芯以下","台班",{"$f":"'表三 甲'!E670","v":{"v":0,"d":"0.00"}},"稳定光源",2.04,{"v":117,"d":"117.00"},{"v":0,"d":"0.00"},{"v":0,"d":"0.00"}]
[{"$f":"SUBTOTAL(3,$B$7:B338)","v":14},"TXL6-091","40km 以下光缆中继段测试 360 芯以下","台班",{"$f":"'表三 甲'!E670","v":{"v":0,"d":"0.00"}},"偏振模色散测试仪",2.04,{"v":455,"d":"455.00"},{"v":0,"d":"0.00"},{"v":0,"d":"0.00"}]
[{"$f":"SUBTOTAL(3,$B$7:B339)","v":14},"TXL6-092","40km 以下光缆中继段测试 384 芯以下","台班",{"$f":"'表三 甲'!E671","v":{"v":0,"d":"0.00"}},"稳定光源",2.1,{"v":117,"d":"117.00"},{"v":0,"d":"0.00"},{"v":0,"d":"0.00"}]
[{"$f":"SUBTOTAL(3,$B$7:B340)","v":14},"TXL6-092","40km 以下光缆中继段测试 384 芯以下","台班",{"$f":"'表三 甲'!E671","v":{"v":0,"d":"0.00"}},"光功率计",2.1,{"v":116,"d":"116.00"},{"v":0,"d":"0.00"},{"v":0,"d":"0.00"}]
[{"$f":"SUBTOTAL(3,$B$7:B341)","v":14},"TXL6-092","40km 以下光缆中继段测试 384 芯以下","台班",{"$f":"'表三 甲'!E671","v":{"v":0,"d":"0.00"}},"偏振模色散测试仪",2.1,{"v":455,"d":"455.00"},{"v":0,"d":"0.00"},{"v":0,"d":"0.00"}]
[{"$f":"SUBTOTAL(3,$B$7:B342)","v":14},"TXL6-092","40km 以下光缆中继段测试 384 芯以下","台班",{"$f":"'表三 甲'!E671","v":{"v":0,"d":"0.00"}},"光时域反射仪",2.1,{"v":153,"d":"153.00"},{"v":0,"d":"0.00"},{"v":0,"d":"0.00"}]
[{"$f":"SUBTOTAL(3,$B$7:B343)","v":14},"TXL6-093","40km 以下光缆中继段测试 408 芯以下","台班",{"$f":"'表三 甲'!E672","v":{"v":0,"d":"0.00"}},"光功率计",2.16,{"v":116,"d":"116.00"},{"v":0,"d":"0.00"},{"v":0,"d":"0.00"}]
[{"$f":"SUBTOTAL(3,$B$7:B344)","v":14},"TXL6-093","40km 以下光缆中继段测试 408 芯以下","台班",{"$f":"'表三 甲'!E672","v":{"v":0,"d":"0.00"}},"稳定光源",2.16,{"v":117,"d":"117.00"},{"v":0,"d":"0.00"},{"v":0,"d":"0.00"}]
[{"$f":"SUBTOTAL(3,$B$7:B345)","v":14},"TXL6-093","40km 以下光缆中继段测试 408 芯以下","台班",{"$f":"'表三 甲'!E672","v":{"v":0,"d":"0.00"}},"光时域反射仪",2.16,{"v":153,"d":"153.00"},{"v":0,"d":"0.00"},{"v":0,"d":"0.00"}]
[{"$f":"SUBTOTAL(3,$B$7:B346)","v":14},"TXL6-093","40km 以下光缆中继段测试 408 芯以下","台班",{"$f":"'表三 甲'!E672","v":{"v":0,"d":"0.00"}},"偏振模色散测试仪",2.16,{"v":455,"d":"455.00"},{"v":0,"d":"0.00"},{"v":0,"d":"0.00"}]
[{"$f":"SUBTOTAL(3,$B$7:B347)","v":14},"TXL6-094","40km 以下光缆中继段测试 432 芯以下","台班",{"$f":"'表三 甲'!E673","v":{"v":0,"d":"0.00"}},"稳定光源",2.19,{"v":117,"d":"117.00"},{"v":0,"d":"0.00"},{"v":0,"d":"0.00"}]
[{"$f":"SUBTOTAL(3,$B$7:B348)","v":14},"TXL6-094","40km 以下光缆中继段测试 432 芯以下","台班",{"$f":"'表三 甲'!E673","v":{"v":0,"d":"0.00"}},"光功率计",2.19,{"v":116,"d":"116.00"},{"v":0,"d":"0.00"},{"v":0,"d":"0.00"}]
[{"$f":"SUBTOTAL(3,$B$7:B349)","v":14},"TXL6-094","40km 以下光缆中继段测试 432 芯以下","台班",{"$f":"'表三 甲'!E673","v":{"v":0,"d":"0.00"}},"光时域反射仪",2.19,{"v":153,"d":"153.00"},{"v":0,"d":"0.00"},{"v":0,"d":"0.00"}]
[{"$f":"SUBTOTAL(3,$B$7:B350)","v":14},"TXL6-094","40km 以下光缆中继段测试 432 芯以下","台班",{"$f":"'表三 甲'!E673","v":{"v":0,"d":"0.00"}},"偏振模色散测试仪",2.19,{"v":455,"d":"455.00"},{"v":0,"d":"0.00"},{"v":0,"d":"0.00"}]
[{"$f":"SUBTOTAL(3,$B$7:B351)","v":14},"TXL6-095","40km 以下光缆中继段测试 456 芯以下","台班",{"$f":"'表三 甲'!E674","v":{"v":0,"d":"0.00"}},"光功率计",2.22,{"v":116,"d":"116.00"},{"v":0,"d":"0.00"},{"v":0,"d":"0.00"}]
[{"$f":"SUBTOTAL(3,$B$7:B352)","v":14},"TXL6-095","40km 以下光缆中继段测试 456 芯以下","台班",{"$f":"'表三 甲'!E674","v":{"v":0,"d":"0.00"}},"稳定光源",2.22,{"v":117,"d":"117.00"},{"v":0,"d":"0.00"},{"v":0,"d":"0.00"}]
[{"$f":"SUBTOTAL(3,$B$7:B353)","v":14},"TXL6-095","40km 以下光缆中继段测试 456 芯以下","台班",{"$f":"'表三 甲'!E674","v":{"v":0,"d":"0.00"}},"偏振模色散测试仪",2.22,{"v":455,"d":"455.00"},{"v":0,"d":"0.00"},{"v":0,"d":"0.00"}]
[{"$f":"SUBTOTAL(3,$B$7:B354)","v":14},"TXL6-095","40km 以下光缆中继段测试 456 芯以下","台班",{"$f":"'表三 甲'!E674","v":{"v":0,"d":"0.00"}},"光时域反射仪",2.22,{"v":153,"d":"153.00"},{"v":0,"d":"0.00"},{"v":0,"d":"0.00"}]
[{"$f":"SUBTOTAL(3,$B$7:B355)","v":14},"TXL6-096","40km 以下光缆中继段测试 480 芯以下","台班",{"$f":"'表三 甲'!E675","v":{"v":0,"d":"0.00"}},"光时域反射仪",2.28,{"v":153,"d":"153.00"},{"v":0,"d":"0.00"},{"v":0,"d":"0.00"}]
[{"$f":"SUBTOTAL(3,$B$7:B356)","v":14},"TXL6-096","40km 以下光缆中继段测试 480 芯以下","台班",{"$f":"'表三 甲'!E675","v":{"v":0,"d":"0.00"}},"偏振模色散测试仪",2.28,{"v":455,"d":"455.00"},{"v":0,"d":"0.00"},{"v":0,"d":"0.00"}]
[{"$f":"SUBTOTAL(3,$B$7:B357)","v":14},"TXL6-096","40km 以下光缆中继段测试 480 芯以下","台班",{"$f":"'表三 甲'!E675","v":{"v":0,"d":"0.00"}},"光功率计",2.28,{"v":116,"d":"116.00"},{"v":0,"d":"0.00"},{"v":0,"d":"0.00"}]
[{"$f":"SUBTOTAL(3,$B$7:B358)","v":14},"TXL6-096","40km 以下光缆中继段测试 480 芯以下","台班",{"$f":"'表三 甲'!E675","v":{"v":0,"d":"0.00"}},"稳定光源",2.28,{"v":117,"d":"117.00"},{"v":0,"d":"0.00"},{"v":0,"d":"0.00"}]
[{"$f":"SUBTOTAL(3,$B$7:B359)","v":14},"TXL6-097","40km 以下光缆中继段测试 504 芯以下","台班",{"$f":"'表三 甲'!E676","v":{"v":0,"d":"0.00"}},"光功率计",2.32,{"v":116,"d":"116.00"},{"v":0,"d":"0.00"},{"v":0,"d":"0.00"}]
[{"$f":"SUBTOTAL(3,$B$7:B360)","v":14},"TXL6-097","40km 以下光缆中继段测试 504 芯以下","台班",{"$f":"'表三 甲'!E676","v":{"v":0,"d":"0.00"}},"偏振模色散测试仪",2.32,{"v":455,"d":"455.00"},{"v":0,"d":"0.00"},{"v":0,"d":"0.00"}]
[{"$f":"SUBTOTAL(3,$B$7:B361)","v":14},"TXL6-097","40km 以下光缆中继段测试 504 芯以下","台班",{"$f":"'表三 甲'!E676","v":{"v":0,"d":"0.00"}},"稳定光源",2.32,{"v":117,"d":"117.00"},{"v":0,"d":"0.00"},{"v":0,"d":"0.00"}]
[{"$f":"SUBTOTAL(3,$B$7:B362)","v":14},"TXL6-097","40km 以下光缆中继段测试 504 芯以下","台班",{"$f":"'表三 甲'!E676","v":{"v":0,"d":"0.00"}},"光时域反射仪",2.32,{"v":153,"d":"153.00"},{"v":0,"d":"0.00"},{"v":0,"d":"0.00"}]
[{"$f":"SUBTOTAL(3,$B$7:B363)","v":14},"TXL6-098","40km 以下光缆中继段测试 528 芯以下","台班",{"$f":"'表三 甲'!E677","v":{"v":0,"d":"0.00"}},"稳定光源",2.34,{"v":117,"d":"117.00"},{"v":0,"d":"0.00"},{"v":0,"d":"0.00"}]
[{"$f":"SUBTOTAL(3,$B$7:B364)","v":14},"TXL6-098","40km 以下光缆中继段测试 528 芯以下","台班",{"$f":"'表三 甲'!E677","v":{"v":0,"d":"0.00"}},"光时域反射仪",2.34,{"v":153,"d":"153.00"},{"v":0,"d":"0.00"},{"v":0,"d":"0.00"}]
[{"$f":"SUBTOTAL(3,$B$7:B365)","v":14},"TXL6-098","40km 以下光缆中继段测试 528 芯以下","台班",{"$f":"'表三 甲'!E677","v":{"v":0,"d":"0.00"}},"偏振模色散测试仪",2.34,{"v":455,"d":"455.00"},{"v":0,"d":"0.00"},{"v":0,"d":"0.00"}]
[{"$f":"SUBTOTAL(3,$B$7:B366)","v":14},"TXL6-098","40km 以下光缆中继段测试 528 芯以下","台班",{"$f":"'表三 甲'!E677","v":{"v":0,"d":"0.00"}},"光功率计",2.34,{"v":116,"d":"116.00"},{"v":0,"d":"0.00"},{"v":0,"d":"0.00"}]
[{"$f":"SUBTOTAL(3,$B$7:B367)","v":14},"TXL6-099","40km 以下光缆中继段测试 576 芯以下","台班",{"$f":"'表三 甲'!E678","v":{"v":0,"d":"0.00"}},"光功率计",2.37,{"v":116,"d":"116.00"},{"v":0,"d":"0.00"},{"v":0,"d":"0.00"}]
[{"$f":"SUBTOTAL(3,$B$7:B368)","v":14},"TXL6-099","40km 以下光缆中继段测试 576 芯以下","台班",{"$f":"'表三 甲'!E678","v":{"v":0,"d":"0.00"}},"光时域反射仪",2.37,{"v":153,"d":"153.00"},{"v":0,"d":"0.00"},{"v":0,"d":"0.00"}]
[{"$f":"SUBTOTAL(3,$B$7:B369)","v":14},"TXL6-099","40km 以下光缆中继段测试 576 芯以下","台班",{"$f":"'表三 甲'!E678","v":{"v":0,"d":"0.00"}},"稳定光源",2.37,{"v":117,"d":"117.00"},{"v":0,"d":"0.00"},{"v":0,"d":"0.00"}]
[{"$f":"SUBTOTAL(3,$B$7:B370)","v":14},"TXL6-099","40km 以下光缆中继段测试 576 芯以下","台班",{"$f":"'表三 甲'!E678","v":{"v":0,"d":"0.00"}},"偏振模色散测试仪",2.37,{"v":455,"d":"455.00"},{"v":0,"d":"0.00"},{"v":0,"d":"0.00"}]
[{"$f":"SUBTOTAL(3,$B$7:B371)","v":14},"TXL6-100","40km 以下光缆中继段测试 576 芯以上","台班",{"$f":"'表三 甲'!E679","v":{"v":0,"d":"0.00"}},"光时域反射仪",2.4,{"v":153,"d":"153.00"},{"v":0,"d":"0.00"},{"v":0,"d":"0.00"}]
[{"$f":"SUBTOTAL(3,$B$7:B372)","v":14},"TXL6-100","40km 以下光缆中继段测试 576 芯以上","台班",{"$f":"'表三 甲'!E679","v":{"v":0,"d":"0.00"}},"光功率计",2.4,{"v":116,"d":"116.00"},{"v":0,"d":"0.00"},{"v":0,"d":"0.00"}]
[{"$f":"SUBTOTAL(3,$B$7:B373)","v":14},"TXL6-100","40km 以下光缆中继段测试 576 芯以上","台班",{"$f":"'表三 甲'!E679","v":{"v":0,"d":"0.00"}},"偏振模色散测试仪",2.4,{"v":455,"d":"455.00"},{"v":0,"d":"0.00"},{"v":0,"d":"0.00"}]
[{"$f":"SUBTOTAL(3,$B$7:B374)","v":14},"TXL6-100","40km 以下光缆中继段测试 576 芯以上","台班",{"$f":"'表三 甲'!E679","v":{"v":0,"d":"0.00"}},"稳定光源",2.4,{"v":117,"d":"117.00"},{"v":0,"d":"0.00"},{"v":0,"d":"0.00"}]
[{"$f":"SUBTOTAL(3,$B$7:B375)","v":14},"TXL6-101","用户光缆测试 2 芯以下","台班",{"$f":"'表三 甲'!E680","v":{"v":0,"d":"0.00"}},"稳定光源",0.05,{"v":117,"d":"117.00"},{"v":0,"d":"0.00"},{"v":0,"d":"0.00"}]
[{"$f":"SUBTOTAL(3,$B$7:B376)","v":14},"TXL6-101","用户光缆测试 2 芯以下","台班",{"$f":"'表三 甲'!E680","v":{"v":0,"d":"0.00"}},"光功率计",0.05,{"v":116,"d":"116.00"},{"v":0,"d":"0.00"},{"v":0,"d":"0.00"}]
[{"$f":"SUBTOTAL(3,$B$7:B377)","v":14},"TXL6-101","用户光缆测试 2 芯以下","台班",{"$f":"'表三 甲'!E680","v":{"v":0,"d":"0.00"}},"光时域反射仪",0.05,{"v":153,"d":"153.00"},{"v":0,"d":"0.00"},{"v":0,"d":"0.00"}]
[{"$f":"SUBTOTAL(3,$B$7:B378)","v":14},"TXL6-102","用户光缆测试 6 芯以下","台班",{"$f":"'表三 甲'!E681","v":{"v":0,"d":"0.00"}},"光时域反射仪",0.08,{"v":153,"d":"153.00"},{"v":0,"d":"0.00"},{"v":0,"d":"0.00"}]
[{"$f":"SUBTOTAL(3,$B$7:B379)","v":14},"TXL6-102","用户光缆测试 6 芯以下","台班",{"$f":"'表三 甲'!E681","v":{"v":0,"d":"0.00"}},"稳定光源",0.08,{"v":117,"d":"117.00"},{"v":0,"d":"0.00"},{"v":0,"d":"0.00"}]
[{"$f":"SUBTOTAL(3,$B$7:B380)","v":14},"TXL6-102","用户光缆测试 6 芯以下","台班",{"$f":"'表三 甲'!E681","v":{"v":0,"d":"0.00"}},"光功率计",0.08,{"v":116,"d":"116.00"},{"v":0,"d":"0.00"},{"v":0,"d":"0.00"}]
[{"$f":"SUBTOTAL(3,$B$7:B381)","v":15},"TXL6-103","用户光缆测试 12 芯以下","台班",{"$f":"'表三 甲'!E682","v":{"v":4,"d":"4.00"}},"稳定光源",0.15,{"v":117,"d":"117.00"},{"v":0.6,"d":"0.60"},{"v":70.2,"d":"70.20"}]
[{"$f":"SUBTOTAL(3,$B$7:B382)","v":16},"TXL6-103","用户光缆测试 12 芯以下","台班",{"$f":"'表三 甲'!E682","v":{"v":4,"d":"4.00"}},"光时域反射仪",0.15,{"v":153,"d":"153.00"},{"v":0.6,"d":"0.60"},{"v":91.8,"d":"91.80"}]
[{"$f":"SUBTOTAL(3,$B$7:B383)","v":17},"TXL6-103","用户光缆测试 12 芯以下","台班",{"$f":"'表三 甲'!E682","v":{"v":4,"d":"4.00"}},"光功率计",0.15,{"v":116,"d":"116.00"},{"v":0.6,"d":"0.60"},{"v":69.6,"d":"69.60"}]
[{"$f":"SUBTOTAL(3,$B$7:B384)","v":18},"TXL6-104","用户光缆测试 24 芯以下","台班",{"$f":"'表三 甲'!E683","v":{"v":9,"d":"9.00"}},"光时域反射仪",0.21,{"v":153,"d":"153.00"},1.89,289.17]
[{"$f":"SUBTOTAL(3,$B$7:B385)","v":19},"TXL6-104","用户光缆测试 24 芯以下","台班",{"$f":"'表三 甲'!E683","v":{"v":9,"d":"9.00"}},"光功率计",0.21,{"v":116,"d":"116.00"},1.89,219.24]
[{"$f":"SUBTOTAL(3,$B$7:B386)","v":20},"TXL6-104","用户光缆测试 24 芯以下","台班",{"$f":"'表三 甲'!E683","v":{"v":9,"d":"9.00"}},"稳定光源",0.21,{"v":117,"d":"117.00"},1.89,221.13]
[{"$f":"SUBTOTAL(3,$B$7:B387)","v":21},"TXL6-105","用户光缆测试 36 芯以下","台班",{"$f":"'表三 甲'!E684","v":{"v":6,"d":"6.00"}},"稳定光源",0.29,{"v":117,"d":"117.00"},1.74,203.58]
[{"$f":"SUBTOTAL(3,$B$7:B388)","v":22},"TXL6-105","用户光缆测试 36 芯以下","台班",{"$f":"'表三 甲'!E684","v":{"v":6,"d":"6.00"}},"光功率计",0.29,{"v":116,"d":"116.00"},1.74,201.84]
[{"$f":"SUBTOTAL(3,$B$7:B389)","v":23},"TXL6-105","用户光缆测试 36 芯以下","台班",{"$f":"'表三 甲'!E684","v":{"v":6,"d":"6.00"}},"光时域反射仪",0.29,{"v":153,"d":"153.00"},1.74,266.22]
[{"$f":"SUBTOTAL(3,$B$7:B390)","v":23},"TXL6-106","用户光缆测试 48 芯以下","台班",{"$f":"'表三 甲'!E685","v":{"v":0,"d":"0.00"}},"稳定光源",0.36,{"v":117,"d":"117.00"},{"v":0,"d":"0.00"},{"v":0,"d":"0.00"}]
[{"$f":"SUBTOTAL(3,$B$7:B391)","v":23},"TXL6-106","用户光缆测试 48 芯以下","台班",{"$f":"'表三 甲'!E685","v":{"v":0,"d":"0.00"}},"光功率计",0.36,{"v":116,"d":"116.00"},{"v":0,"d":"0.00"},{"v":0,"d":"0.00"}]
[{"$f":"SUBTOTAL(3,$B$7:B392)","v":23},"TXL6-106","用户光缆测试 48 芯以下","台班",{"$f":"'表三 甲'!E685","v":{"v":0,"d":"0.00"}},"光时域反射仪",0.36,{"v":153,"d":"153.00"},{"$f":"E392*G392","v":{"v":0,"d":"0.00"}},{"v":0,"d":"0.00"}]
[{"$f":"SUBTOTAL(3,$B$7:B393)","v":23},"TXL6-107","用户光缆测试 60 芯以下","台班",{"$f":"'表三 甲'!E686","v":{"v":0,"d":"0.00"}},"光功率计",0.42,{"v":116,"d":"116.00"},{"v":0,"d":"0.00"},{"v":0,"d":"0.00"}]
[{"$f":"SUBTOTAL(3,$B$7:B394)","v":23},"TXL6-107","用户光缆测试 60 芯以下","台班",{"$f":"'表三 甲'!E686","v":{"v":0,"d":"0.00"}},"稳定光源",0.42,{"v":117,"d":"117.00"},{"v":0,"d":"0.00"},{"v":0,"d":"0.00"}]
[{"$f":"SUBTOTAL(3,$B$7:B395)","v":23},"TXL6-107","用户光缆测试 60 芯以下","台班",{"$f":"'表三 甲'!E686","v":{"v":0,"d":"0.00"}},"光时域反射仪",0.42,{"v":153,"d":"153.00"},{"v":0,"d":"0.00"},{"v":0,"d":"0.00"}]
[{"$f":"SUBTOTAL(3,$B$7:B396)","v":23},"TXL6-108","用户光缆测试 72 芯以下","台班",{"$f":"'表三 甲'!E687","v":{"v":0,"d":"0.00"}},"光时域反射仪",0.48,{"v":153,"d":"153.00"},{"v":0,"d":"0.00"},{"v":0,"d":"0.00"}]
[{"$f":"SUBTOTAL(3,$B$7:B397)","v":23},"TXL6-108","用户光缆测试 72 芯以下","台班",{"$f":"'表三 甲'!E687","v":{"v":0,"d":"0.00"}},"光功率计",0.48,{"v":116,"d":"116.00"},{"v":0,"d":"0.00"},{"v":0,"d":"0.00"}]
[{"$f":"SUBTOTAL(3,$B$7:B398)","v":23},"TXL6-108","用户光缆测试 72 芯以下","台班",{"$f":"'表三 甲'!E687","v":{"v":0,"d":"0.00"}},"稳定光源",0.48,{"v":117,"d":"117.00"},{"v":0,"d":"0.00"},{"v":0,"d":"0.00"}]
[{"$f":"SUBTOTAL(3,$B$7:B399)","v":23},"TXL6-109","用户光缆测试 84 芯以下","台班",{"$f":"'表三 甲'!E688","v":{"v":0,"d":"0.00"}},"稳定光源",0.52,{"v":117,"d":"117.00"},{"v":0,"d":"0.00"},{"v":0,"d":"0.00"}]
[{"$f":"SUBTOTAL(3,$B$7:B400)","v":23},"TXL6-109","用户光缆测试 84 芯以下","台班",{"$f":"'表三 甲'!E688","v":{"v":0,"d":"0.00"}},"光功率计",0.52,{"v":116,"d":"116.00"},{"v":0,"d":"0.00"},{"v":0,"d":"0.00"}]
[{"$f":"SUBTOTAL(3,$B$7:B401)","v":23},"TXL6-109","用户光缆测试 84 芯以下","台班",{"$f":"'表三 甲'!E688","v":{"v":0,"d":"0.00"}},"光时域反射仪",0.52,{"v":153,"d":"153.00"},{"v":0,"d":"0.00"},{"v":0,"d":"0.00"}]
[{"$f":"SUBTOTAL(3,$B$7:B402)","v":23},"TXL6-110","用户光缆测试 96 芯以下","台班",{"$f":"'表三 甲'!E689","v":{"v":0,"d":"0.00"}},"光时域反射仪",0.57,{"v":153,"d":"153.00"},{"v":0,"d":"0.00"},{"v":0,"d":"0.00"}]
[{"$f":"SUBTOTAL(3,$B$7:B403)","v":23},"TXL6-110","用户光缆测试 96 芯以下","台班",{"$f":"'表三 甲'!E689","v":{"v":0,"d":"0.00"}},"稳定光源",0.57,{"v":117,"d":"117.00"},{"v":0,"d":"0.00"},{"v":0,"d":"0.00"}]
[{"$f":"SUBTOTAL(3,$B$7:B404)","v":23},"TXL6-110","用户光缆测试 96 芯以下","台班",{"$f":"'表三 甲'!E689","v":{"v":0,"d":"0.00"}},"光功率计",0.57,{"v":116,"d":"116.00"},{"v":0,"d":"0.00"},{"v":0,"d":"0.00"}]
[{"$f":"SUBTOTAL(3,$B$7:B405)","v":23},"TXL6-111","用户光缆测试 108 芯以下","台班",{"$f":"'表三 甲'!E690","v":{"v":0,"d":"0.00"}},"稳定光源",0.6,{"v":117,"d":"117.00"},{"v":0,"d":"0.00"},{"v":0,"d":"0.00"}]
[{"$f":"SUBTOTAL(3,$B$7:B406)","v":23},"TXL6-111","用户光缆测试 108 芯以下","台班",{"$f":"'表三 甲'!E690","v":{"v":0,"d":"0.00"}},"光时域反射仪",0.6,{"v":153,"d":"153.00"},{"v":0,"d":"0.00"},{"v":0,"d":"0.00"}]
[{"$f":"SUBTOTAL(3,$B$7:B407)","v":23},"TXL6-111","用户光缆测试 108 芯以下","台班",{"$f":"'表三 甲'!E690","v":{"v":0,"d":"0.00"}},"光功率计",0.6,{"v":116,"d":"116.00"},{"v":0,"d":"0.00"},{"v":0,"d":"0.00"}]
[{"$f":"SUBTOTAL(3,$B$7:B408)","v":23},"TXL6-112","用户光缆测试 132 芯以下","台班",{"$f":"'表三 甲'!E691","v":{"v":0,"d":"0.00"}},"光功率计",0.63,{"v":116,"d":"116.00"},{"v":0,"d":"0.00"},{"v":0,"d":"0.00"}]
[{"$f":"SUBTOTAL(3,$B$7:B409)","v":23},"TXL6-112","用户光缆测试 132 芯以下","台班",{"$f":"'表三 甲'!E691","v":{"v":0,"d":"0.00"}},"稳定光源",0.63,{"v":117,"d":"117.00"},{"v":0,"d":"0.00"},{"v":0,"d":"0.00"}]
[{"$f":"SUBTOTAL(3,$B$7:B410)","v":23},"TXL6-112","用户光缆测试 132 芯以下","台班",{"$f":"'表三 甲'!E691","v":{"v":0,"d":"0.00"}},"光时域反射仪",0.63,{"v":153,"d":"153.00"},{"v":0,"d":"0.00"},{"v":0,"d":"0.00"}]
[{"$f":"SUBTOTAL(3,$B$7:B411)","v":23},"TXL6-113","用户光缆测试 144 芯以下","台班",{"$f":"'表三 甲'!E692","v":{"v":0,"d":"0.00"}},"光时域反射仪",0.66,{"v":153,"d":"153.00"},{"v":0,"d":"0.00"},{"v":0,"d":"0.00"}]
[{"$f":"SUBTOTAL(3,$B$7:B412)","v":23},"TXL6-113","用户光缆测试 144 芯以下","台班",{"$f":"'表三 甲'!E692","v":{"v":0,"d":"0.00"}},"光功率计",0.66,{"v":116,"d":"116.00"},{"v":0,"d":"0.00"},{"v":0,"d":"0.00"}]
[{"$f":"SUBTOTAL(3,$B$7:B413)","v":23},"TXL6-113","用户光缆测试 144 芯以下","台班",{"$f":"'表三 甲'!E692","v":{"v":0,"d":"0.00"}},"稳定光源",0.66,{"v":117,"d":"117.00"},{"v":0,"d":"0.00"},{"v":0,"d":"0.00"}]
[{"$f":"SUBTOTAL(3,$B$7:B414)","v":23},"TXL6-114","用户光缆测试 168 芯以下","台班",{"$f":"'表三 甲'!E693","v":{"v":0,"d":"0.00"}},"稳定光源",0.69,{"v":117,"d":"117.00"},{"v":0,"d":"0.00"},{"$f":"H414*I414","v":{"v":0,"d":"0.00"}}]
[{"$f":"SUBTOTAL(3,$B$7:B415)","v":23},"TXL6-114","用户光缆测试 168 芯以下","台班",{"$f":"'表三 甲'!E693","v":{"v":0,"d":"0.00"}},"光时域反射仪",0.69,{"v":153,"d":"153.00"},{"v":0,"d":"0.00"},{"v":0,"d":"0.00"}]
[{"$f":"SUBTOTAL(3,$B$7:B416)","v":23},"TXL6-114","用户光缆测试 168 芯以下","台班",{"$f":"'表三 甲'!E693","v":{"v":0,"d":"0.00"}},"光功率计",0.69,{"v":116,"d":"116.00"},{"v":0,"d":"0.00"},{"v":0,"d":"0.00"}]
[{"$f":"SUBTOTAL(3,$B$7:B417)","v":23},"TXL6-115","用户光缆测试 192 芯以下","台班",{"$f":"'表三 甲'!E694","v":{"v":0,"d":"0.00"}},"稳定光源",0.72,{"v":117,"d":"117.00"},{"v":0,"d":"0.00"},{"$f":"I417*H417","v":{"v":0,"d":"0.00"}}]
[{"$f":"SUBTOTAL(3,$B$7:B418)","v":23},"TXL6-115","用户光缆测试 192 芯以下","台班",{"$f":"'表三 甲'!E694","v":{"v":0,"d":"0.00"}},"光时域反射仪",0.72,{"v":153,"d":"153.00"},{"v":0,"d":"0.00"},{"v":0,"d":"0.00"}]
[{"$f":"SUBTOTAL(3,$B$7:B419)","v":23},"TXL6-115","用户光缆测试 192 芯以下","台班",{"$f":"'表三 甲'!E694","v":{"v":0,"d":"0.00"}},"光功率计",0.72,{"v":116,"d":"116.00"},{"v":0,"d":"0.00"},{"v":0,"d":"0.00"}]
[{"$f":"SUBTOTAL(3,$B$7:B420)","v":23},"TXL6-116","用户光缆测试 216 芯以下","台班",{"$f":"'表三 甲'!E695","v":{"v":0,"d":"0.00"}},"稳定光源",0.75,{"v":117,"d":"117.00"},{"v":0,"d":"0.00"},{"v":0,"d":"0.00"}]
[{"$f":"SUBTOTAL(3,$B$7:B421)","v":23},"TXL6-116","用户光缆测试 216 芯以下","台班",{"$f":"'表三 甲'!E695","v":{"v":0,"d":"0.00"}},"光功率计",0.75,{"v":116,"d":"116.00"},{"v":0,"d":"0.00"},{"v":0,"d":"0.00"}]
[{"$f":"SUBTOTAL(3,$B$7:B422)","v":23},"TXL6-116","用户光缆测试 216 芯以下","台班",{"$f":"'表三 甲'!E695","v":{"v":0,"d":"0.00"}},"光时域反射仪",0.75,{"v":153,"d":"153.00"},{"v":0,"d":"0.00"},{"v":0,"d":"0.00"}]
[{"$f":"SUBTOTAL(3,$B$7:B423)","v":23},"TXL6-117","用户光缆测试 240 芯以下","台班",{"$f":"'表三 甲'!E696","v":{"v":0,"d":"0.00"}},"光功率计",{"v":0.8,"d":"0.80"},{"v":116,"d":"116.00"},{"v":0,"d":"0.00"},{"v":0,"d":"0.00"}]
[{"$f":"SUBTOTAL(3,$B$7:B424)","v":23},"TXL6-117","用户光缆测试 240 芯以下","台班",{"$f":"'表三 甲'!E696","v":{"v":0,"d":"0.00"}},"稳定光源",{"v":0.8,"d":"0.80"},{"v":117,"d":"117.00"},{"v":0,"d":"0.00"},{"v":0,"d":"0.00"}]
[{"$f":"SUBTOTAL(3,$B$7:B425)","v":23},"TXL6-117","用户光缆测试 240 芯以下","台班",{"$f":"'表三 甲'!E696","v":{"v":0,"d":"0.00"}},"光时域反射仪",{"v":0.8,"d":"0.80"},{"v":153,"d":"153.00"},{"v":0,"d":"0.00"},{"v":0,"d":"0.00"}]
[{"$f":"SUBTOTAL(3,$B$7:B426)","v":23},"TXL6-118","用户光缆测试 264 芯以下","台班",{"$f":"'表三 甲'!E697","v":{"v":0,"d":"0.00"}},"光功率计",0.83,{"v":116,"d":"116.00"},{"v":0,"d":"0.00"},{"v":0,"d":"0.00"}]
[{"$f":"SUBTOTAL(3,$B$7:B427)","v":23},"TXL6-118","用户光缆测试 264 芯以下","台班",{"$f":"'表三 甲'!E697","v":{"v":0,"d":"0.00"}},"光时域反射仪",0.83,{"v":153,"d":"153.00"},{"v":0,"d":"0.00"},{"v":0,"d":"0.00"}]
[{"$f":"SUBTOTAL(3,$B$7:B428)","v":23},"TXL6-118","用户光缆测试 264 芯以下","台班",{"$f":"'表三 甲'!E697","v":{"v":0,"d":"0.00"}},"稳定光源",0.83,{"v":117,"d":"117.00"},{"v":0,"d":"0.00"},{"v":0,"d":"0.00"}]
[{"$f":"SUBTOTAL(3,$B$7:B429)","v":23},"TXL6-119","用户光缆测试 288 芯以下","台班",{"$f":"'表三 甲'!E698","v":{"v":0,"d":"0.00"}},"光功率计",0.87,{"v":116,"d":"116.00"},{"v":0,"d":"0.00"},{"v":0,"d":"0.00"}]
[{"$f":"SUBTOTAL(3,$B$7:B430)","v":23},"TXL6-119","用户光缆测试 288 芯以下","台班",{"$f":"'表三 甲'!E698","v":{"v":0,"d":"0.00"}},"光时域反射仪",0.87,{"v":153,"d":"153.00"},{"v":0,"d":"0.00"},{"v":0,"d":"0.00"}]
[{"$f":"SUBTOTAL(3,$B$7:B431)","v":23},"TXL6-119","用户光缆测试 288 芯以下","台班",{"$f":"'表三 甲'!E698","v":{"v":0,"d":"0.00"}},"稳定光源",0.87,{"v":117,"d":"117.00"},{"v":0,"d":"0.00"},{"v":0,"d":"0.00"}]
[{"$f":"SUBTOTAL(3,$B$7:B432)","v":23},"TXL6-120","用户光缆测试 312 芯以下","台班",{"$f":"'表三 甲'!E699","v":{"v":0,"d":"0.00"}},"光功率计",0.93,{"v":116,"d":"116.00"},{"v":0,"d":"0.00"},{"v":0,"d":"0.00"}]
[{"$f":"SUBTOTAL(3,$B$7:B433)","v":23},"TXL6-120","用户光缆测试 312 芯以下","台班",{"$f":"'表三 甲'!E699","v":{"v":0,"d":"0.00"}},"稳定光源",0.93,{"v":117,"d":"117.00"},{"v":0,"d":"0.00"},{"v":0,"d":"0.00"}]
[{"$f":"SUBTOTAL(3,$B$7:B434)","v":23},"TXL6-120","用户光缆测试 312 芯以下","台班",{"$f":"'表三 甲'!E699","v":{"v":0,"d":"0.00"}},"光时域反射仪",0.93,{"v":153,"d":"153.00"},{"v":0,"d":"0.00"},{"v":0,"d":"0.00"}]
[{"$f":"SUBTOTAL(3,$B$7:B435)","v":23},"TXL6-121","用户光缆测试 336 芯以下","台班",{"$f":"'表三 甲'!E700","v":{"v":0,"d":"0.00"}},"光时域反射仪",0.98,{"v":153,"d":"153.00"},{"v":0,"d":"0.00"},{"v":0,"d":"0.00"}]
[{"$f":"SUBTOTAL(3,$B$7:B436)","v":23},"TXL6-121","用户光缆测试 336 芯以下","台班",{"$f":"'表三 甲'!E700","v":{"v":0,"d":"0.00"}},"稳定光源",0.98,{"v":117,"d":"117.00"},{"v":0,"d":"0.00"},{"v":0,"d":"0.00"}]
[{"$f":"SUBTOTAL(3,$B$7:B437)","v":23},"TXL6-121","用户光缆测试 336 芯以下","台班",{"$f":"'表三 甲'!E700","v":{"v":0,"d":"0.00"}},"光功率计",0.98,{"v":116,"d":"116.00"},{"v":0,"d":"0.00"},{"v":0,"d":"0.00"}]
[{"$f":"SUBTOTAL(3,$B$7:B438)","v":23},"TXL6-122","用户光缆测试 360 芯以下","台班",{"$f":"'表三 甲'!E701","v":{"v":0,"d":"0.00"}},"光时域反射仪",1.02,{"v":153,"d":"153.00"},{"v":0,"d":"0.00"},{"v":0,"d":"0.00"}]
[{"$f":"SUBTOTAL(3,$B$7:B439)","v":23},"TXL6-122","用户光缆测试 360 芯以下","台班",{"$f":"'表三 甲'!E701","v":{"v":0,"d":"0.00"}},"稳定光源",1.02,{"v":117,"d":"117.00"},{"v":0,"d":"0.00"},{"v":0,"d":"0.00"}]
[{"$f":"SUBTOTAL(3,$B$7:B440)","v":23},"TXL6-122","用户光缆测试 360 芯以下","台班",{"$f":"'表三 甲'!E701","v":{"v":0,"d":"0.00"}},"光功率计",1.02,{"v":116,"d":"116.00"},{"v":0,"d":"0.00"},{"v":0,"d":"0.00"}]
[{"$f":"SUBTOTAL(3,$B$7:B441)","v":23},"TXL6-123","用户光缆测试 384 芯以下","台班",{"$f":"'表三 甲'!E702","v":{"v":0,"d":"0.00"}},"光时域反射仪",1.05,{"v":153,"d":"153.00"},{"v":0,"d":"0.00"},{"v":0,"d":"0.00"}]
[{"$f":"SUBTOTAL(3,$B$7:B442)","v":23},"TXL6-123","用户光缆测试 384 芯以下","台班",{"$f":"'表三 甲'!E702","v":{"v":0,"d":"0.00"}},"光功率计",1.05,{"v":116,"d":"116.00"},{"v":0,"d":"0.00"},{"v":0,"d":"0.00"}]
[{"$f":"SUBTOTAL(3,$B$7:B443)","v":23},"TXL6-123","用户光缆测试 384 芯以下","台班",{"$f":"'表三 甲'!E702","v":{"v":0,"d":"0.00"}},"稳定光源",1.05,{"v":117,"d":"117.00"},{"v":0,"d":"0.00"},{"v":0,"d":"0.00"}]
[{"$f":"SUBTOTAL(3,$B$7:B444)","v":23},"TXL6-124","用户光缆测试 408 芯以下","台班",{"$f":"'表三 甲'!E703","v":{"v":0,"d":"0.00"}},"光时域反射仪",1.08,{"v":153,"d":"153.00"},{"v":0,"d":"0.00"},{"v":0,"d":"0.00"}]
[{"$f":"SUBTOTAL(3,$B$7:B445)","v":23},"TXL6-124","用户光缆测试 408 芯以下","台班",{"$f":"'表三 甲'!E703","v":{"v":0,"d":"0.00"}},"稳定光源",1.08,{"v":117,"d":"117.00"},{"v":0,"d":"0.00"},{"v":0,"d":"0.00"}]
[{"$f":"SUBTOTAL(3,$B$7:B446)","v":23},"TXL6-124","用户光缆测试 408 芯以下","台班",{"$f":"'表三 甲'!E703","v":{"v":0,"d":"0.00"}},"光功率计",1.08,{"v":116,"d":"116.00"},{"v":0,"d":"0.00"},{"v":0,"d":"0.00"}]
[{"$f":"SUBTOTAL(3,$B$7:B447)","v":23},"TXL6-125","用户光缆测试 432 芯以下","台班",{"$f":"'表三 甲'!E704","v":{"v":0,"d":"0.00"}},"光时域反射仪",1.1,{"v":153,"d":"153.00"},{"v":0,"d":"0.00"},{"v":0,"d":"0.00"}]
[{"$f":"SUBTOTAL(3,$B$7:B448)","v":23},"TXL6-125","用户光缆测试 432 芯以下","台班",{"$f":"'表三 甲'!E704","v":{"v":0,"d":"0.00"}},"光功率计",1.1,{"v":116,"d":"116.00"},{"v":0,"d":"0.00"},{"v":0,"d":"0.00"}]
[{"$f":"SUBTOTAL(3,$B$7:B449)","v":23},"TXL6-125","用户光缆测试 432 芯以下","台班",{"$f":"'表三 甲'!E704","v":{"v":0,"d":"0.00"}},"稳定光源",1.1,{"v":117,"d":"117.00"},{"v":0,"d":"0.00"},{"v":0,"d":"0.00"}]
[{"$f":"SUBTOTAL(3,$B$7:B450)","v":23},"TXL6-126","用户光缆测试 456 芯以下","台班",{"$f":"'表三 甲'!E705","v":{"v":0,"d":"0.00"}},"光功率计",1.11,{"v":116,"d":"116.00"},{"v":0,"d":"0.00"},{"v":0,"d":"0.00"}]
[{"$f":"SUBTOTAL(3,$B$7:B451)","v":23},"TXL6-126","用户光缆测试 456 芯以下","台班",{"$f":"'表三 甲'!E705","v":{"v":0,"d":"0.00"}},"稳定光源",1.11,{"v":117,"d":"117.00"},{"v":0,"d":"0.00"},{"v":0,"d":"0.00"}]
[{"$f":"SUBTOTAL(3,$B$7:B452)","v":23},"TXL6-126","用户光缆测试 456 芯以下","台班",{"$f":"'表三 甲'!E705","v":{"v":0,"d":"0.00"}},"光时域反射仪",1.11,{"v":153,"d":"153.00"},{"v":0,"d":"0.00"},{"v":0,"d":"0.00"}]
[{"$f":"SUBTOTAL(3,$B$7:B453)","v":23},"TXL6-127","用户光缆测试 480 芯以下","台班",{"$f":"'表三 甲'!E706","v":{"v":0,"d":"0.00"}},"光时域反射仪",1.14,{"v":153,"d":"153.00"},{"v":0,"d":"0.00"},{"v":0,"d":"0.00"}]
[{"$f":"SUBTOTAL(3,$B$7:B454)","v":23},"TXL6-127","用户光缆测试 480 芯以下","台班",{"$f":"'表三 甲'!E706","v":{"v":0,"d":"0.00"}},"光功率计",1.14,{"v":116,"d":"116.00"},{"v":0,"d":"0.00"},{"v":0,"d":"0.00"}]
[{"$f":"SUBTOTAL(3,$B$7:B455)","v":23},"TXL6-127","用户光缆测试 480 芯以下","台班",{"$f":"'表三 甲'!E706","v":{"v":0,"d":"0.00"}},"稳定光源",1.14,{"v":117,"d":"117.00"},{"v":0,"d":"0.00"},{"v":0,"d":"0.00"}]
[{"$f":"SUBTOTAL(3,$B$7:B456)","v":23},"TXL6-128","用户光缆测试 504 芯以下","台班",{"$f":"'表三 甲'!E707","v":{"v":0,"d":"0.00"}},"光功率计",1.16,{"v":116,"d":"116.00"},{"$f":"E456*G456","v":{"v":0,"d":"0.00"}},{"v":0,"d":"0.00"}]
[{"$f":"SUBTOTAL(3,$B$7:B457)","v":23},"TXL6-128","用户光缆测试 504 芯以下","台班",{"$f":"'表三 甲'!E707","v":{"v":0,"d":"0.00"}},"光时域反射仪",1.16,{"v":153,"d":"153.00"},{"v":0,"d":"0.00"},{"v":0,"d":"0.00"}]
[{"$f":"SUBTOTAL(3,$B$7:B458)","v":23},"TXL6-128","用户光缆测试 504 芯以下","台班",{"$f":"'表三 甲'!E707","v":{"v":0,"d":"0.00"}},"稳定光源",1.16,{"v":117,"d":"117.00"},{"v":0,"d":"0.00"},{"v":0,"d":"0.00"}]
[{"$f":"SUBTOTAL(3,$B$7:B459)","v":23},"TXL6-129","用户光缆测试 528 芯以下","台班",{"$f":"'表三 甲'!E708","v":{"v":0,"d":"0.00"}},"稳定光源",1.17,{"v":117,"d":"117.00"},{"v":0,"d":"0.00"},{"v":0,"d":"0.00"}]
[{"$f":"SUBTOTAL(3,$B$7:B460)","v":23},"TXL6-129","用户光缆测试 528 芯以下","台班",{"$f":"'表三 甲'!E708","v":{"v":0,"d":"0.00"}},"光功率计",1.17,{"v":116,"d":"116.00"},{"v":0,"d":"0.00"},{"v":0,"d":"0.00"}]
[{"$f":"SUBTOTAL(3,$B$7:B461)","v":23},"TXL6-129","用户光缆测试 528 芯以下","台班",{"$f":"'表三 甲'!E708","v":{"v":0,"d":"0.00"}},"光时域反射仪",1.17,{"v":153,"d":"153.00"},{"v":0,"d":"0.00"},{"v":0,"d":"0.00"}]
[{"$f":"SUBTOTAL(3,$B$7:B462)","v":23},"TXL6-130","用户光缆测试 552 芯以下","台班",{"$f":"'表三 甲'!E709","v":{"v":0,"d":"0.00"}},"稳定光源",1.19,{"v":117,"d":"117.00"},{"v":0,"d":"0.00"},{"$f":"H462*I462","v":{"v":0,"d":"0.00"}}]
[{"$f":"SUBTOTAL(3,$B$7:B463)","v":23},"TXL6-130","用户光缆测试 552 芯以下","台班",{"$f":"'表三 甲'!E709","v":{"v":0,"d":"0.00"}},"光功率计",1.19,{"v":116,"d":"116.00"},{"v":0,"d":"0.00"},{"v":0,"d":"0.00"}]
[{"$f":"SUBTOTAL(3,$B$7:B464)","v":23},"TXL6-130","用户光缆测试 552 芯以下","台班",{"$f":"'表三 甲'!E709","v":{"v":0,"d":"0.00"}},"光时域反射仪",1.19,{"v":153,"d":"153.00"},{"v":0,"d":"0.00"},{"v":0,"d":"0.00"}]
[{"$f":"SUBTOTAL(3,$B$7:B465)","v":23},"TXL6-131","用户光缆测试 576 芯以上","台班",{"$f":"'表三 甲'!E710","v":{"v":0,"d":"0.00"}},"光时域反射仪",1.21,{"v":153,"d":"153.00"},{"v":0,"d":"0.00"},{"v":0,"d":"0.00"}]
[{"$f":"SUBTOTAL(3,$B$7:B466)","v":23},"TXL6-131","用户光缆测试 576 芯以上","台班",{"$f":"'表三 甲'!E710","v":{"v":0,"d":"0.00"}},"光功率计",1.21,{"v":116,"d":"116.00"},{"v":0,"d":"0.00"},{"v":0,"d":"0.00"}]
[{"$f":"SUBTOTAL(3,$B$7:B467)","v":23},"TXL6-131","用户光缆测试 576 芯以上","台班",{"$f":"'表三 甲'!E710","v":{"v":0,"d":"0.00"}},"稳定光源",1.21,{"v":117,"d":"117.00"},{"v":0,"d":"0.00"},{"v":0,"d":"0.00"}]
[{"$f":"SUBTOTAL(3,$B$7:B468)","v":23},"TXL6-132","光分配网（ODN）光纤链路全程测试 光纤链路衰减测试 1:2","台班",{"$f":"'表三 甲'!E711","v":{"v":0,"d":"0.00"}},"光功率计",0.06,{"v":116,"d":"116.00"},{"v":0,"d":"0.00"},{"v":0,"d":"0.00"}]
[{"$f":"SUBTOTAL(3,$B$7:B469)","v":23},"TXL6-132","光分配网（ODN）光纤链路全程测试 光纤链路衰减测试 1:2","台班",{"$f":"E468","v":{"v":0,"d":"0.00"}},"稳定光源",0.06,{"v":117,"d":"117.00"},{"v":0,"d":"0.00"},{"v":0,"d":"0.00"}]
[{"$f":"SUBTOTAL(3,$B$7:B470)","v":23},"TXL6-133","光分配网（ODN）光纤链路全程测试 光纤链路衰减测试 1:4","台班",{"$f":"'表三 甲'!E712","v":{"v":0,"d":"0.00"}},"光功率计",0.06,{"v":116,"d":"116.00"},{"v":0,"d":"0.00"},{"v":0,"d":"0.00"}]
[{"$f":"SUBTOTAL(3,$B$7:B471)","v":23},"TXL6-133","光分配网（ODN）光纤链路全程测试 光纤链路衰减测试 1:4","台班",{"$f":"E470","v":{"v":0,"d":"0.00"}},"稳定光源",0.06,{"v":117,"d":"117.00"},{"v":0,"d":"0.00"},{"v":0,"d":"0.00"}]
[{"$f":"SUBTOTAL(3,$B$7:B472)","v":23},"TXL6-134","光分配网（ODN）光纤链路全程测试 光纤链路衰减测试 1:8","台班",{"$f":"'表三 甲'!E713","v":{"v":0,"d":"0.00"}},"稳定光源",0.1,{"v":117,"d":"117.00"},{"v":0,"d":"0.00"},{"v":0,"d":"0.00"}]
[{"$f":"SUBTOTAL(3,$B$7:B473)","v":23},"TXL6-134","光分配网（ODN）光纤链路全程测试 光纤链路衰减测试 1:8","台班",{"$f":"E472","v":{"v":0,"d":"0.00"}},"光功率计",0.1,{"v":116,"d":"116.00"},{"v":0,"d":"0.00"},{"v":0,"d":"0.00"}]
[{"$f":"SUBTOTAL(3,$B$7:B474)","v":23},"TXL6-135","光分配网（ODN）光纤链路全程测试 光纤链路衰减测试 1:16","台班",{"$f":"'表三 甲'!E714","v":{"v":0,"d":"0.00"}},"光功率计",0.1,{"v":116,"d":"116.00"},{"v":0,"d":"0.00"},{"v":0,"d":"0.00"}]
[{"$f":"SUBTOTAL(3,$B$7:B475)","v":23},"TXL6-135","光分配网（ODN）光纤链路全程测试 光纤链路衰减测试 1:16","台班",{"$f":"E474","v":{"v":0,"d":"0.00"}},"稳定光源",0.1,{"v":117,"d":"117.00"},{"v":0,"d":"0.00"},{"v":0,"d":"0.00"}]
[{"$f":"SUBTOTAL(3,$B$7:B476)","v":23},"TXL6-136","光分配网（ODN）光纤链路全程测试 光纤链路衰减测试 1:32","台班",{"$f":"'表三 甲'!E715","v":{"v":0,"d":"0.00"}},"光功率计",0.15,{"v":116,"d":"116.00"},{"v":0,"d":"0.00"},{"v":0,"d":"0.00"}]
[{"$f":"SUBTOTAL(3,$B$7:B477)","v":23},"TXL6-136","光分配网（ODN）光纤链路全程测试 光纤链路衰减测试 1:32","台班",{"$f":"E476","v":{"v":0,"d":"0.00"}},"稳定光源",0.15,{"v":117,"d":"117.00"},{"v":0,"d":"0.00"},{"v":0,"d":"0.00"}]
[{"$f":"SUBTOTAL(3,$B$7:B478)","v":23},"TXL6-137","光分配网（ODN）光纤链路全程测试 光纤链路衰减测试 1:64","台班",{"$f":"'表三 甲'!E716","v":{"v":0,"d":"0.00"}},"稳定光源",0.15,{"v":117,"d":"117.00"},{"v":0,"d":"0.00"},{"v":0,"d":"0.00"}]
[{"$f":"SUBTOTAL(3,$B$7:B479)","v":23},"TXL6-137","光分配网（ODN）光纤链路全程测试 光纤链路衰减测试 1:64","台班",{"$f":"E478","v":{"v":0,"d":"0.00"}},"光功率计",0.15,{"v":116,"d":"116.00"},{"v":0,"d":"0.00"},{"v":0,"d":"0.00"}]
[{"$f":"SUBTOTAL(3,$B$7:B480)","v":23},"TXL6-138","光分配网（ODN）光纤链路全程测试 光纤链路衰减测试 1:128","台班",{"$f":"'表三 甲'!E717","v":{"v":0,"d":"0.00"}},"稳定光源",0.2,{"v":117,"d":"117.00"},{"v":0,"d":"0.00"},{"v":0,"d":"0.00"}]
[{"$f":"SUBTOTAL(3,$B$7:B481)","v":23},"TXL6-138","光分配网（ODN）光纤链路全程测试 光纤链路衰减测试 1:128","台班",{"$f":"E480","v":{"v":0,"d":"0.00"}},"光功率计",0.2,{"v":116,"d":"116.00"},{"v":0,"d":"0.00"},{"v":0,"d":"0.00"}]
[{"$f":"SUBTOTAL(3,$B$7:B482)","v":23},"TXL6-139","光分配网（ODN）光纤链路全程测试 光纤链路回 波损耗测试","台班",{"$f":"'表三 甲'!E718","v":{"v":0,"d":"0.00"}},"光回波损耗测试仪 (OLTS)",0.1,{"v":0,"d":"0.00"},{"v":0,"d":"0.00"},{"v":0,"d":"0.00"}]
[{"$f":"SUBTOTAL(3,$B$7:B483)","v":23},"TXL6-210","电缆链路 测试","台班",{"$f":"'表三 甲'!E789","v":{"v":0,"d":"0.00"}},"综合布线线路分析仪",0.05,{"v":156,"d":"156.00"},{"v":0,"d":"0.00"},{"v":0,"d":"0.00"}]
[{"$f":"SUBTOTAL(3,$B$7:B484)","v":23},"TXL7-001","安装光（电）缆承托铁架","台班",{"$f":"'表三 甲'!E793","v":{"v":0,"d":"0.00"}},"有毒有害气体检测仪",0,{"v":117,"d":"117.00"},{"v":0,"d":"0.00"},{"v":0,"d":"0.00"}]
[{"$f":"SUBTOTAL(3,$B$7:B485)","v":23},"TXL7-001","安装光（电）缆承托铁架","台班",{"$f":"E484","v":{"v":0,"d":"0.00"}},"可燃气体检测仪",0,{"v":117,"d":"117.00"},{"v":0,"d":"0.00"},{"v":0,"d":"0.00"}]
[{"$f":"SUBTOTAL(3,$B$7:B486)","v":23},"TXL7-002","安装光（电）缆托架","台班",{"$f":"'表三 甲'!E794","v":{"v":0,"d":"0.00"}},"有毒有害气体检测仪",0,{"v":117,"d":"117.00"},{"v":0,"d":"0.00"},{"v":0,"d":"0.00"}]
[{"$f":"SUBTOTAL(3,$B$7:B487)","v":23},"TXL7-002","安装光（电）缆托架","台班",{"$f":"E486","v":{"v":0,"d":"0.00"}},"可燃气体检测仪",0,{"v":117,"d":"117.00"},{"v":0,"d":"0.00"},{"v":0,"d":"0.00"}]
[{"$f":"SUBTOTAL(3,$B$7:B488)","v":23},"TXL7-003","安装固定光缆盘","台班",{"$f":"'表三 甲'!E795","v":{"v":0,"d":"0.00"}},"有毒有害气体检测仪",0,{"v":117,"d":"117.00"},{"v":0,"d":"0.00"},{"v":0,"d":"0.00"}]
[{"$f":"SUBTOTAL(3,$B$7:B489)","v":23},"TXL7-003","安装固定光缆盘","台班",{"$f":"E488","v":{"v":0,"d":"0.00"}},"可燃气体检测仪",0,{"v":117,"d":"117.00"},{"v":0,"d":"0.00"},{"v":0,"d":"0.00"}]
[{"$f":"SUBTOTAL(3,$B$7:B490)","v":23},"TXL7-031","光分路器本机测试① 1:2","台班",{"$f":"'表三 甲'!E823","v":{"v":0,"d":"0.00"}},"稳定光源",0.06,{"v":117,"d":"117.00"},{"v":0,"d":"0.00"},{"v":0,"d":"0.00"}]
[{"$f":"SUBTOTAL(3,$B$7:B491)","v":23},"TXL7-031","光分路器本机测试① 1:2","台班",{"$f":"E490","v":{"v":0,"d":"0.00"}},"光功率计",0.06,{"v":116,"d":"116.00"},{"v":0,"d":"0.00"},{"v":0,"d":"0.00"}]
[{"$f":"SUBTOTAL(3,$B$7:B492)","v":23},"TXL7-032","光分路器本机测试① 1:4","台班",{"$f":"'表三 甲'!E824","v":{"v":0,"d":"0.00"}},"稳定光源",0.12,{"v":117,"d":"117.00"},{"v":0,"d":"0.00"},{"v":0,"d":"0.00"}]
[{"$f":"SUBTOTAL(3,$B$7:B493)","v":23},"TXL7-032","光分路器本机测试① 1:4","台班",{"$f":"E492","v":{"v":0,"d":"0.00"}},"光功率计",0.12,{"v":116,"d":"116.00"},{"v":0,"d":"0.00"},{"v":0,"d":"0.00"}]
[{"$f":"SUBTOTAL(3,$B$7:B494)","v":23},"TXL7-033","光分路器本机测试① 1:8","台班",{"$f":"'表三 甲'!E825","v":{"v":0,"d":"0.00"}},"稳定光源",0.18,{"v":117,"d":"117.00"},{"v":0,"d":"0.00"},{"v":0,"d":"0.00"}]
[{"$f":"SUBTOTAL(3,$B$7:B495)","v":23},"TXL7-033","光分路器本机测试① 1:8","台班",{"$f":"E494","v":{"v":0,"d":"0.00"}},"光功率计",0.18,{"v":116,"d":"116.00"},{"v":0,"d":"0.00"},{"v":0,"d":"0.00"}]
[{"$f":"SUBTOTAL(3,$B$7:B496)","v":23},"TXL7-034","光分路器本机测试① 1:16","台班",{"$f":"'表三 甲'!E826","v":{"v":0,"d":"0.00"}},"稳定光源",0.24,{"v":117,"d":"117.00"},{"v":0,"d":"0.00"},{"v":0,"d":"0.00"}]
[{"$f":"SUBTOTAL(3,$B$7:B497)","v":23},"TXL7-034","光分路器本机测试① 1:16","台班",{"$f":"E496","v":{"v":0,"d":"0.00"}},"光功率计",0.24,{"v":116,"d":"116.00"},{"v":0,"d":"0.00"},{"v":0,"d":"0.00"}]
[{"$f":"SUBTOTAL(3,$B$7:B498)","v":23},"TXL7-035","光分路器本机测试① 1:32","台班",{"$f":"'表三 甲'!E827","v":{"v":0,"d":"0.00"}},"光功率计",0.28,{"v":116,"d":"116.00"},{"v":0,"d":"0.00"},{"v":0,"d":"0.00"}]
[{"$f":"SUBTOTAL(3,$B$7:B499)","v":23},"TXL7-035","光分路器本机测试① 1:32","台班",{"$f":"E498","v":{"v":0,"d":"0.00"}},"稳定光源",0.28,{"v":117,"d":"117.00"},{"v":0,"d":"0.00"},{"v":0,"d":"0.00"}]
[{"$f":"SUBTOTAL(3,$B$7:B500)","v":23},"TXL7-036","光分路器本机测试① 1:64","台班",{"$f":"'表三 甲'!E828","v":{"v":0,"d":"0.00"}},"稳定光源",0.32,{"v":117,"d":"117.00"},{"v":0,"d":"0.00"},{"v":0,"d":"0.00"}]
[{"$f":"SUBTOTAL(3,$B$7:B501)","v":23},"TXL7-036","光分路器本机测试① 1:64","台班",{"$f":"E500","v":{"v":0,"d":"0.00"}},"光功率计",0.32,{"v":116,"d":"116.00"},{"v":0,"d":"0.00"},{"v":0,"d":"0.00"}]
[{"$f":"SUBTOTAL(3,$B$7:B502)","v":23},"TXL7-037","光分路器本机测试① 1:128","台班",{"$f":"'表三 甲'!E829","v":{"v":0,"d":"0.00"}},"稳定光源",0.36,{"v":117,"d":"117.00"},{"v":0,"d":"0.00"},{"v":0,"d":"0.00"}]
[{"$f":"SUBTOTAL(3,$B$7:B503)","v":23},"TXL7-037","光分路器本机测试① 1:128","台班",{"$f":"E502","v":{"v":0,"d":"0.00"}},"光功率计",0.36,{"v":116,"d":"116.00"},{"v":0,"d":"0.00"},{"v":0,"d":"0.00"}]
[{"$f":"SUBTOTAL(3,$B$7:B504)","v":23},"TXL1-001拆","光（电）缆工程施工测量 直埋","台班",{"$f":"'表三 甲'!E886","v":{"v":0,"d":"0.00"}},"地下管线探测仪",0.05,{"v":157,"d":"157.00"},{"$f":"E504*G504","v":{"v":0,"d":"0.00"}},{"$f":"H504*I504","v":{"v":0,"d":"0.00"}}]
[{"$f":"SUBTOTAL(3,$B$7:B505)","v":23},"TXL1-001拆","光（电）缆工程施工测量 直埋","台班",{"$f":"E504","v":{"v":0,"d":"0.00"}},"激光测距仪",0.04,{"v":119,"d":"119.00"},{"v":0,"d":"0.00"},{"v":0,"d":"0.00"}]
[{"$f":"SUBTOTAL(3,$B$7:B506)","v":23},"TXL1-002拆","光（电）缆工程施工测量 架空","台班",{"$f":"'表三 甲'!E887","v":{"v":0,"d":"0.00"}},"激光测距仪",0.05,{"v":119,"d":"119.00"},{"v":0,"d":"0.00"},{"v":0,"d":"0.00"}]
[{"$f":"SUBTOTAL(3,$B$7:B507)","v":23},"TXL1-003拆","光（电）缆工程施工测量 管道","台班",{"$f":"'表三 甲'!E888","v":{"v":0,"d":"0.00"}},"激光测距仪",0.04,{"v":119,"d":"119.00"},{"v":0,"d":"0.00"},{"v":0,"d":"0.00"}]
[{"$f":"SUBTOTAL(3,$B$7:B508)","v":23},"TXL1-005拆","GPS 定位","台班",{"$f":"'表三 甲'!E890","v":{"v":0,"d":"0.00"}},"GPS 定位仪",0.01,{"v":118,"d":"118.00"},{"v":0,"d":"0.00"},{"v":0,"d":"0.00"}]
[{"$f":"SUBTOTAL(3,$B$7:B509)","v":23},"TXL1-006拆","单盘检验 光缆","台班",{"$f":"'表三 甲'!E891","v":{"v":0,"d":"0.00"}},"偏振模色散测试仪",0.05,{"v":455,"d":"455.00"},{"v":0,"d":"0.00"},{"v":0,"d":"0.00"}]
[{"$f":"SUBTOTAL(3,$B$7:B510)","v":23},"TXL1-006拆","单盘检验 光缆","台班",{"$f":"E509","v":{"v":0,"d":"0.00"}},"光时域反射仪",0.05,{"v":153,"d":"153.00"},{"v":0,"d":"0.00"},{"v":0,"d":"0.00"}]
[{"$f":"SUBTOTAL(3,$B$7:B511)","v":23},"TXL2-128拆","安装防雷设施 敷设排流线（双条）","台班",{"$f":"'表三 甲'!E1035","v":{"v":0,"d":"0.00"}},"对地绝缘探测仪",0.35,{"v":153,"d":"153.00"},{"v":0,"d":"0.00"},{"v":0,"d":"0.00"}]
[{"$f":"SUBTOTAL(3,$B$7:B512)","v":23},"TXL4-004拆","人工敷设塑料子管 1 孔子管","台班",{"$f":"'表三 甲'!E1321","v":{"v":0,"d":"0.00"}},"有毒有害气体检测仪",0.25,{"v":117,"d":"117.00"},{"v":0,"d":"0.00"},{"v":0,"d":"0.00"}]
[{"$f":"SUBTOTAL(3,$B$7:B513)","v":23},"TXL4-004拆","人工敷设塑料子管 1 孔子管","台班",{"$f":"'表三 甲'!E1321","v":{"v":0,"d":"0.00"}},"可燃气体检测仪",0.25,{"v":117,"d":"117.00"},{"v":0,"d":"0.00"},{"v":0,"d":"0.00"}]
[{"$f":"SUBTOTAL(3,$B$7:B514)","v":23},"TXL4-005拆","人工敷设塑料子管 2 孔子管","台班",{"$f":"'表三 甲'!E1322","v":{"v":0,"d":"0.00"}},"有毒有害气体检测仪",0.3,{"v":117,"d":"117.00"},{"v":0,"d":"0.00"},{"v":0,"d":"0.00"}]
[{"$f":"SUBTOTAL(3,$B$7:B515)","v":23},"TXL4-005拆","人工敷设塑料子管 2 孔子管","台班",{"$f":"'表三 甲'!E1322","v":{"v":0,"d":"0.00"}},"可燃气体检测仪",0.3,{"v":117,"d":"117.00"},{"v":0,"d":"0.00"},{"v":0,"d":"0.00"}]
[{"$f":"SUBTOTAL(3,$B$7:B516)","v":23},"TXL4-006拆","人工敷设塑料子管 3 孔子管","台班",{"$f":"'表三 甲'!E1323","v":{"v":0,"d":"0.00"}},"有毒有害气体检测仪",0.42,{"v":117,"d":"117.00"},{"v":0,"d":"0.00"},{"v":0,"d":"0.00"}]
[{"$f":"SUBTOTAL(3,$B$7:B517)","v":23},"TXL4-006拆","人工敷设塑料子管 3 孔子管","台班",{"$f":"'表三 甲'!E1323","v":{"v":0,"d":"0.00"}},"可燃气体检测仪",0.42,{"v":117,"d":"117.00"},{"v":0,"d":"0.00"},{"v":0,"d":"0.00"}]
[{"$f":"SUBTOTAL(3,$B$7:B518)","v":23},"TXL4-007拆","人工敷设塑料子管 4 孔子管","台班",{"$f":"'表三 甲'!E1324","v":{"v":0,"d":"0.00"}},"有毒有害气体检测仪",0.5,{"v":117,"d":"117.00"},{"v":0,"d":"0.00"},{"v":0,"d":"0.00"}]
[{"$f":"SUBTOTAL(3,$B$7:B519)","v":23},"TXL4-007拆","人工敷设塑料子管 4 孔子管","台班",{"$f":"'表三 甲'!E1324","v":{"v":0,"d":"0.00"}},"可燃气体检测仪",0.5,{"v":117,"d":"117.00"},{"v":0,"d":"0.00"},{"v":0,"d":"0.00"}]
[{"$f":"SUBTOTAL(3,$B$7:B520)","v":23},"TXL4-008拆","人工敷设塑料子管 5 孔子管","台班",{"$f":"'表三 甲'!E1325","v":{"v":0,"d":"0.00"}},"有毒有害气体检测仪",0.6,{"v":117,"d":"117.00"},{"v":0,"d":"0.00"},{"v":0,"d":"0.00"}]
[{"$f":"SUBTOTAL(3,$B$7:B521)","v":23},"TXL4-008拆","人工敷设塑料子管 5 孔子管","台班",{"$f":"'表三 甲'!E1325","v":{"v":0,"d":"0.00"}},"可燃气体检测仪",0.6,{"v":117,"d":"117.00"},{"v":0,"d":"0.00"},{"v":0,"d":"0.00"}]
[{"$f":"SUBTOTAL(3,$B$7:B522)","v":23},"TXL4-009拆","人工敷设一带纺织子管 空闲管孔中","台班",{"$f":"'表三 甲'!E1326","v":{"v":0,"d":"0.00"}},"有毒有害气体检测仪",0.2,{"v":117,"d":"117.00"},{"v":0,"d":"0.00"},{"v":0,"d":"0.00"}]
[{"$f":"SUBTOTAL(3,$B$7:B523)","v":23},"TXL4-009拆","人工敷设一带纺织子管 空闲管孔中","台班",{"$f":"'表三 甲'!E1326","v":{"v":0,"d":"0.00"}},"可燃气体检测仪",0.2,{"v":117,"d":"117.00"},{"v":0,"d":"0.00"},{"v":0,"d":"0.00"}]
[{"$f":"SUBTOTAL(3,$B$7:B524)","v":23},"TXL4-010拆","人工敷设一带纺织子管 非空闲管孔中","台班",{"$f":"'表三 甲'!E1327","v":{"v":0,"d":"0.00"}},"有毒有害气体检测仪",0.4,{"v":117,"d":"117.00"},{"v":0,"d":"0.00"},{"v":0,"d":"0.00"}]
[{"$f":"SUBTOTAL(3,$B$7:B525)","v":23},"TXL4-010拆","人工敷设一带纺织子管 非空闲管孔中","台班",{"$f":"'表三 甲'!E1327","v":{"v":0,"d":"0.00"}},"可燃气体检测仪",0.4,{"v":117,"d":"117.00"},{"v":0,"d":"0.00"},{"v":0,"d":"0.00"}]
[{"$f":"SUBTOTAL(3,$B$7:B526)","v":23},"TXL4-011拆","敷设管道光缆 12 芯以下","台班",{"$f":"'表三 甲'!E1328","v":{"v":0,"d":"0.00"}},"可燃气体检测仪",0.25,{"v":117,"d":"117.00"},{"v":0,"d":"0.00"},{"v":0,"d":"0.00"}]
[{"$f":"SUBTOTAL(3,$B$7:B527)","v":23},"TXL4-011拆","敷设管道光缆 12 芯以下","台班",{"$f":"'表三 甲'!E1328","v":{"v":0,"d":"0.00"}},"有毒有害气体检测仪",0.25,{"v":117,"d":"117.00"},{"v":0,"d":"0.00"},{"v":0,"d":"0.00"}]
[{"$f":"SUBTOTAL(3,$B$7:B528)","v":23},"TXL4-012拆","敷设管道光缆 24 芯以下","台班",{"$f":"'表三 甲'!E1329","v":{"v":0,"d":"0.00"}},"有毒有害气体检测仪",0.3,{"v":117,"d":"117.00"},{"v":0,"d":"0.00"},{"v":0,"d":"0.00"}]
[{"$f":"SUBTOTAL(3,$B$7:B529)","v":23},"TXL4-012拆","敷设管道光缆 24 芯以下","台班",{"$f":"'表三 甲'!E1329","v":{"v":0,"d":"0.00"}},"可燃气体检测仪",0.3,{"v":117,"d":"117.00"},{"v":0,"d":"0.00"},{"v":0,"d":"0.00"}]
[{"$f":"SUBTOTAL(3,$B$7:B530)","v":23},"TXL4-013拆","敷设管道光缆 48 芯以下","台班",{"$f":"'表三 甲'!E1330","v":{"v":0,"d":"0.00"}},"有毒有害气体检测仪",0.42,{"v":117,"d":"117.00"},{"v":0,"d":"0.00"},{"v":0,"d":"0.00"}]
[{"$f":"SUBTOTAL(3,$B$7:B531)","v":23},"TXL4-013拆","敷设管道光缆 48 芯以下","台班",{"$f":"'表三 甲'!E1330","v":{"v":0,"d":"0.00"}},"可燃气体检测仪",0.42,{"v":117,"d":"117.00"},{"v":0,"d":"0.00"},{"v":0,"d":"0.00"}]
[{"$f":"SUBTOTAL(3,$B$7:B532)","v":23},"TXL4-014拆","敷设管道光缆 96 芯以下","台班",{"$f":"'表三 甲'!E1331","v":{"v":0,"d":"0.00"}},"有毒有害气体检测仪",0.5,{"v":117,"d":"117.00"},{"v":0,"d":"0.00"},{"v":0,"d":"0.00"}]
[{"$f":"SUBTOTAL(3,$B$7:B533)","v":23},"TXL4-014拆","敷设管道光缆 96 芯以下","台班",{"$f":"'表三 甲'!E1331","v":{"v":0,"d":"0.00"}},"可燃气体检测仪",0.5,{"v":117,"d":"117.00"},{"v":0,"d":"0.00"},{"v":0,"d":"0.00"}]
[{"$f":"SUBTOTAL(3,$B$7:B534)","v":23},"TXL4-015拆","敷设管道光缆 144 芯以下","台班",{"$f":"'表三 甲'!E1332","v":{"v":0,"d":"0.00"}},"有毒有害气体检测仪",0.6,{"v":117,"d":"117.00"},{"v":0,"d":"0.00"},{"v":0,"d":"0.00"}]
[{"$f":"SUBTOTAL(3,$B$7:B535)","v":23},"TXL4-015拆","敷设管道光缆 144 芯以下","台班",{"$f":"'表三 甲'!E1332","v":{"v":0,"d":"0.00"}},"可燃气体检测仪",0.6,{"v":117,"d":"117.00"},{"v":0,"d":"0.00"},{"v":0,"d":"0.00"}]
[{"$f":"SUBTOTAL(3,$B$7:B536)","v":23},"TXL4-016拆","敷设管道光缆 288 芯以下","台班",{"$f":"'表三 甲'!E1333","v":{"v":0,"d":"0.00"}},"有毒有害气体检测仪",0.72,{"v":117,"d":"117.00"},{"v":0,"d":"0.00"},{"v":0,"d":"0.00"}]
[{"$f":"SUBTOTAL(3,$B$7:B537)","v":23},"TXL4-016拆","敷设管道光缆 288 芯以下","台班",{"$f":"'表三 甲'!E1333","v":{"v":0,"d":"0.00"}},"可燃气体检测仪",0.72,{"v":117,"d":"117.00"},{"v":0,"d":"0.00"},{"v":0,"d":"0.00"}]
[{"$f":"SUBTOTAL(3,$B$7:B538)","v":23},"TXL4-017拆","敷设管道光缆 576 芯以下","台班",{"$f":"'表三 甲'!E1334","v":{"v":0,"d":"0.00"}},"有毒有害气体检测仪",0.87,{"v":117,"d":"117.00"},{"v":0,"d":"0.00"},{"v":0,"d":"0.00"}]
[{"$f":"SUBTOTAL(3,$B$7:B539)","v":23},"TXL4-017拆","敷设管道光缆 576 芯以下","台班",{"$f":"'表三 甲'!E1334","v":{"v":0,"d":"0.00"}},"可燃气体检测仪",0.87,{"v":117,"d":"117.00"},{"v":0,"d":"0.00"},{"v":0,"d":"0.00"}]
[{"$f":"SUBTOTAL(3,$B$7:B540)","v":23},"TXL4-018拆","敷设管道光缆 576 芯以上","台班",{"$f":"'表三 甲'!E1335","v":{"v":0,"d":"0.00"}},"有毒有害气体检测仪",1,{"v":117,"d":"117.00"},{"v":0,"d":"0.00"},{"v":0,"d":"0.00"}]
[{"$f":"SUBTOTAL(3,$B$7:B541)","v":23},"TXL4-018拆","敷设管道光缆 576 芯以上","台班",{"$f":"'表三 甲'!E1335","v":{"v":0,"d":"0.00"}},"可燃气体检测仪",1,{"v":117,"d":"117.00"},{"v":0,"d":"0.00"},{"v":0,"d":"0.00"}]
[{"$f":"SUBTOTAL(3,$B$7:B542)","v":23},"TXL4-019拆","人工敷设管道电缆 200 对以下","台班",{"$f":"'表三 甲'!E1336","v":{"v":0,"d":"0.00"}},"可燃气体检测仪",0.3,{"v":117,"d":"117.00"},{"v":0,"d":"0.00"},{"v":0,"d":"0.00"}]
[{"$f":"SUBTOTAL(3,$B$7:B543)","v":23},"TXL4-019拆","人工敷设管道电缆 200 对以下","台班",{"$f":"'表三 甲'!E1336","v":{"v":0,"d":"0.00"}},"有毒有害气体检测仪",0.3,{"v":117,"d":"117.00"},{"v":0,"d":"0.00"},{"v":0,"d":"0.00"}]
[{"$f":"SUBTOTAL(3,$B$7:B544)","v":23},"TXL4-020拆","人工敷设管道电缆 400 对以下","台班",{"$f":"'表三 甲'!E1337","v":{"v":0,"d":"0.00"}},"可燃气体检测仪",0.42,{"v":117,"d":"117.00"},{"v":0,"d":"0.00"},{"v":0,"d":"0.00"}]
[{"$f":"SUBTOTAL(3,$B$7:B545)","v":23},"TXL4-020拆","人工敷设管道电缆 400 对以下","台班",{"$f":"'表三 甲'!E1337","v":{"v":0,"d":"0.00"}},"有毒有害气体检测仪",0.42,{"v":117,"d":"117.00"},{"v":0,"d":"0.00"},{"v":0,"d":"0.00"}]
[{"$f":"SUBTOTAL(3,$B$7:B546)","v":23},"TXL4-021拆","人工敷设管道电缆 800 对以下","台班",{"$f":"'表三 甲'!E1338","v":{"v":0,"d":"0.00"}},"有毒有害气体检测仪",0.5,{"v":117,"d":"117.00"},{"v":0,"d":"0.00"},{"v":0,"d":"0.00"}]
[{"$f":"SUBTOTAL(3,$B$7:B547)","v":23},"TXL4-021拆","人工敷设管道电缆 800 对以下","台班",{"$f":"'表三 甲'!E1338","v":{"v":0,"d":"0.00"}},"可燃气体检测仪",0.5,{"v":117,"d":"117.00"},{"v":0,"d":"0.00"},{"v":0,"d":"0.00"}]
[{"$f":"SUBTOTAL(3,$B$7:B548)","v":23},"TXL4-022拆","人工敷设管道电缆 1200 对以下","台班",{"$f":"'表三 甲'!E1339","v":{"v":0,"d":"0.00"}},"有毒有害气体检测仪",0.6,{"v":117,"d":"117.00"},{"v":0,"d":"0.00"},{"v":0,"d":"0.00"}]
[{"$f":"SUBTOTAL(3,$B$7:B549)","v":23},"TXL4-022拆","人工敷设管道电缆 1200 对以下","台班",{"$f":"'表三 甲'!E1339","v":{"v":0,"d":"0.00"}},"可燃气体检测仪",0.6,{"v":117,"d":"117.00"},{"v":0,"d":"0.00"},{"v":0,"d":"0.00"}]
[{"$f":"SUBTOTAL(3,$B$7:B550)","v":23},"TXL4-023拆","人工敷设管道电缆 1800 对以下","台班",{"$f":"'表三 甲'!E1340","v":{"v":0,"d":"0.00"}},"可燃气体检测仪",0.72,{"v":117,"d":"117.00"},{"v":0,"d":"0.00"},{"v":0,"d":"0.00"}]
[{"$f":"SUBTOTAL(3,$B$7:B551)","v":23},"TXL4-023拆","人工敷设管道电缆 1800 对以下","台班",{"$f":"'表三 甲'!E1340","v":{"v":0,"d":"0.00"}},"有毒有害气体检测仪",0.72,{"v":117,"d":"117.00"},{"v":0,"d":"0.00"},{"v":0,"d":"0.00"}]
[{"$f":"SUBTOTAL(3,$B$7:B552)","v":23},"TXL4-024拆","人工敷设管道电缆 2400 对以下","台班",{"$f":"'表三 甲'!E1341","v":{"v":0,"d":"0.00"}},"有毒有害气体检测仪",0.87,{"v":117,"d":"117.00"},{"v":0,"d":"0.00"},{"v":0,"d":"0.00"}]
[{"$f":"SUBTOTAL(3,$B$7:B553)","v":23},"TXL4-024拆","人工敷设管道电缆 2400 对以下","台班",{"$f":"'表三 甲'!E1341","v":{"v":0,"d":"0.00"}},"可燃气体检测仪",0.87,{"v":117,"d":"117.00"},{"v":0,"d":"0.00"},{"v":0,"d":"0.00"}]
[{"$f":"SUBTOTAL(3,$B$7:B554)","v":23},"TXL4-025拆","人工敷设管道电缆 2400 对以上","台班",{"$f":"'表三 甲'!E1342","v":{"v":0,"d":"0.00"}},"可燃气体检测仪",1,{"v":117,"d":"117.00"},{"v":0,"d":"0.00"},{"v":0,"d":"0.00"}]
[{"$f":"SUBTOTAL(3,$B$7:B555)","v":23},"TXL4-025拆","人工敷设管道电缆 2400 对以上","台班",{"$f":"'表三 甲'!E1342","v":{"v":0,"d":"0.00"}},"有毒有害气体检测仪",1,{"v":117,"d":"117.00"},{"v":0,"d":"0.00"},{"v":0,"d":"0.00"}]
[{"$f":"SUBTOTAL(3,$B$7:B556)","v":23},"TXL4-026拆","机械敷设管道电缆 200 对以下","台班",{"$f":"'表三 甲'!E1343","v":{"v":0,"d":"0.00"}},"有毒有害气体检测仪",0.4,{"v":117,"d":"117.00"},{"v":0,"d":"0.00"},{"v":0,"d":"0.00"}]
[{"$f":"SUBTOTAL(3,$B$7:B557)","v":23},"TXL4-026拆","机械敷设管道电缆 200 对以下","台班",{"$f":"'表三 甲'!E1343","v":{"v":0,"d":"0.00"}},"可燃气体检测仪",0.4,{"v":117,"d":"117.00"},{"v":0,"d":"0.00"},{"v":0,"d":"0.00"}]
[{"$f":"SUBTOTAL(3,$B$7:B558)","v":23},"TXL4-027拆","机械敷设管道电缆 400 对以下","台班",{"$f":"'表三 甲'!E1344","v":{"v":0,"d":"0.00"}},"有毒有害气体检测仪",0.42,{"v":117,"d":"117.00"},{"v":0,"d":"0.00"},{"v":0,"d":"0.00"}]
[{"$f":"SUBTOTAL(3,$B$7:B559)","v":23},"TXL4-027拆","机械敷设管道电缆 400 对以下","台班",{"$f":"'表三 甲'!E1344","v":{"v":0,"d":"0.00"}},"可燃气体检测仪",0.42,{"v":117,"d":"117.00"},{"v":0,"d":"0.00"},{"v":0,"d":"0.00"}]
[{"$f":"SUBTOTAL(3,$B$7:B560)","v":23},"TXL4-028拆","机械敷设管道电缆 800 对以下","台班",{"$f":"'表三 甲'!E1345","v":{"v":0,"d":"0.00"}},"可燃气体检测仪",0.5,{"v":117,"d":"117.00"},{"v":0,"d":"0.00"},{"v":0,"d":"0.00"}]
[{"$f":"SUBTOTAL(3,$B$7:B561)","v":23},"TXL4-028拆","机械敷设管道电缆 800 对以下","台班",{"$f":"'表三 甲'!E1345","v":{"v":0,"d":"0.00"}},"有毒有害气体检测仪",0.5,{"v":117,"d":"117.00"},{"v":0,"d":"0.00"},{"v":0,"d":"0.00"}]
[{"$f":"SUBTOTAL(3,$B$7:B562)","v":23},"TXL4-029拆","机械敷设管道电缆 1200 对以下","台班",{"$f":"'表三 甲'!E1346","v":{"v":0,"d":"0.00"}},"有毒有害气体检测仪",0.6,{"v":117,"d":"117.00"},{"v":0,"d":"0.00"},{"v":0,"d":"0.00"}]
[{"$f":"SUBTOTAL(3,$B$7:B563)","v":23},"TXL4-029拆","机械敷设管道电缆 1200 对以下","台班",{"$f":"'表三 甲'!E1346","v":{"v":0,"d":"0.00"}},"可燃气体检测仪",0.6,{"v":117,"d":"117.00"},{"v":0,"d":"0.00"},{"v":0,"d":"0.00"}]
[{"$f":"SUBTOTAL(3,$B$7:B564)","v":23},"TXL4-030拆","机械敷设管道电缆 1800 对以下","台班",{"$f":"'表三 甲'!E1347","v":{"v":0,"d":"0.00"}},"可燃气体检测仪",0.72,{"v":117,"d":"117.00"},{"v":0,"d":"0.00"},{"v":0,"d":"0.00"}]
[{"$f":"SUBTOTAL(3,$B$7:B565)","v":23},"TXL4-030拆","机械敷设管道电缆 1800 对以下","台班",{"$f":"'表三 甲'!E1347","v":{"v":0,"d":"0.00"}},"有毒有害气体检测仪",0.72,{"v":117,"d":"117.00"},{"v":0,"d":"0.00"},{"v":0,"d":"0.00"}]
[{"$f":"SUBTOTAL(3,$B$7:B566)","v":23},"TXL4-031拆","机械敷设管道电缆 2400 对以下","台班",{"$f":"'表三 甲'!E1348","v":{"v":0,"d":"0.00"}},"有毒有害气体检测仪",0.87,{"v":117,"d":"117.00"},{"v":0,"d":"0.00"},{"v":0,"d":"0.00"}]
[{"$f":"SUBTOTAL(3,$B$7:B567)","v":23},"TXL4-031拆","机械敷设管道电缆 2400 对以下","台班",{"$f":"'表三 甲'!E1348","v":{"v":0,"d":"0.00"}},"可燃气体检测仪",0.87,{"v":117,"d":"117.00"},{"v":0,"d":"0.00"},{"v":0,"d":"0.00"}]
[{"$f":"SUBTOTAL(3,$B$7:B568)","v":23},"TXL4-032拆","机械敷设管道电缆 2400 对以上","台班",{"$f":"'表三 甲'!E1349","v":{"v":0,"d":"0.00"}},"可燃气体检测仪",1,{"v":117,"d":"117.00"},{"$f":"E568*G568","v":{"v":0,"d":"0.00"}},{"$f":"H568*I568","v":{"v":0,"d":"0.00"}}]
[{"$f":"SUBTOTAL(3,$B$7:B569)","v":23},"TXL4-032拆","机械敷设管道电缆 2400 对以上","台班",{"$f":"'表三 甲'!E1349","v":{"v":0,"d":"0.00"}},"有毒有害气体检测仪",1,{"v":117,"d":"117.00"},{"v":0,"d":"0.00"},{"v":0,"d":"0.00"}]
[{"$f":"SUBTOTAL(3,$B$7:B570)","v":23},"TXL5-001拆","城区气流法敷设微管 3 根以下","台班",{"$f":"'表三 甲'!E1380","v":{"v":0,"d":"0.00"}},"可燃气体检测仪",0.2,{"v":117,"d":"117.00"},{"v":0,"d":"0.00"},{"v":0,"d":"0.00"}]
[{"$f":"SUBTOTAL(3,$B$7:B571)","v":23},"TXL5-001拆","城区气流法敷设微管 3 根以下","台班",{"$f":"'表三 甲'!E1380","v":{"v":0,"d":"0.00"}},"有毒有害气体检测仪",0.2,{"v":117,"d":"117.00"},{"v":0,"d":"0.00"},{"v":0,"d":"0.00"}]
[{"$f":"SUBTOTAL(3,$B$7:B572)","v":23},"TXL5-002拆","城区气流法敷设微管 5 根以下","台班",{"$f":"'表三 甲'!E1381","v":{"v":0,"d":"0.00"}},"可燃气体检测仪",0.2,{"v":117,"d":"117.00"},{"v":0,"d":"0.00"},{"v":0,"d":"0.00"}]
[{"$f":"SUBTOTAL(3,$B$7:B573)","v":23},"TXL5-002拆","城区气流法敷设微管 5 根以下","台班",{"$f":"'表三 甲'!E1381","v":{"v":0,"d":"0.00"}},"有毒有害气体检测仪",0.2,{"v":117,"d":"117.00"},{"v":0,"d":"0.00"},{"v":0,"d":"0.00"}]
[{"$f":"SUBTOTAL(3,$B$7:B574)","v":23},"TXL5-003拆","城区气流法敷设微管 5 根以上","台班",{"$f":"'表三 甲'!E1382","v":{"v":0,"d":"0.00"}},"有毒有害气体检测仪",0.2,{"v":117,"d":"117.00"},{"v":0,"d":"0.00"},{"v":0,"d":"0.00"}]
[{"$f":"SUBTOTAL(3,$B$7:B575)","v":23},"TXL5-003拆","城区气流法敷设微管 5 根以上","台班",{"$f":"'表三 甲'!E1382","v":{"v":0,"d":"0.00"}},"可燃气体检测仪",0.2,{"v":117,"d":"117.00"},{"v":0,"d":"0.00"},{"v":0,"d":"0.00"}]
[{"$f":"SUBTOTAL(3,$B$7:B576)","v":23},"TXL5-004拆","非城区气流法敷设微管 3 根以下","台班",{"$f":"'表三 甲'!E1383","v":{"v":0,"d":"0.00"}},"可燃气体检测仪",0.2,{"v":117,"d":"117.00"},{"v":0,"d":"0.00"},{"v":0,"d":"0.00"}]
[{"$f":"SUBTOTAL(3,$B$7:B577)","v":23},"TXL5-004拆","非城区气流法敷设微管 3 根以下","台班",{"$f":"'表三 甲'!E1383","v":{"v":0,"d":"0.00"}},"有毒有害气体检测仪",0.2,{"v":117,"d":"117.00"},{"v":0,"d":"0.00"},{"v":0,"d":"0.00"}]
[{"$f":"SUBTOTAL(3,$B$7:B578)","v":23},"TXL5-005拆","非城区气流法敷设微管 5 根以下","台班",{"$f":"'表三 甲'!E1384","v":{"v":0,"d":"0.00"}},"有毒有害气体检测仪",0.2,{"v":117,"d":"117.00"},{"v":0,"d":"0.00"},{"v":0,"d":"0.00"}]
[{"$f":"SUBTOTAL(3,$B$7:B579)","v":23},"TXL5-005拆","非城区气流法敷设微管 5 根以下","台班",{"$f":"'表三 甲'!E1384","v":{"v":0,"d":"0.00"}},"可燃气体检测仪",0.2,{"v":117,"d":"117.00"},{"v":0,"d":"0.00"},{"v":0,"d":"0.00"}]
[{"$f":"SUBTOTAL(3,$B$7:B580)","v":23},"TXL5-006拆","非城区气流法敷设微管 5 根以上","台班",{"$f":"'表三 甲'!E1385","v":{"v":0,"d":"0.00"}},"可燃气体检测仪",0.2,{"v":117,"d":"117.00"},{"v":0,"d":"0.00"},{"v":0,"d":"0.00"}]
[{"$f":"SUBTOTAL(3,$B$7:B581)","v":23},"TXL5-006拆","非城区气流法敷设微管 5 根以上","台班",{"$f":"'表三 甲'!E1385","v":{"v":0,"d":"0.00"}},"有毒有害气体检测仪",0.2,{"v":117,"d":"117.00"},{"v":0,"d":"0.00"},{"v":0,"d":"0.00"}]
[{"$f":"SUBTOTAL(3,$B$7:B582)","v":23},"TXL5-007拆","城区人工布放微管 空闲保护管内 3 根以下","台班",{"$f":"'表三 甲'!E1386","v":{"v":0,"d":"0.00"}},"有毒有害气体检测仪",0.2,{"v":117,"d":"117.00"},{"v":0,"d":"0.00"},{"v":0,"d":"0.00"}]
[{"$f":"SUBTOTAL(3,$B$7:B583)","v":23},"TXL5-007拆","城区人工布放微管 空闲保护管内 3 根以下","台班",{"$f":"'表三 甲'!E1386","v":{"v":0,"d":"0.00"}},"可燃气体检测仪",0.2,{"v":117,"d":"117.00"},{"v":0,"d":"0.00"},{"v":0,"d":"0.00"}]
[{"$f":"SUBTOTAL(3,$B$7:B584)","v":23},"TXL5-008拆","城区人工布放微管 空闲保护管内 4 至 5 根","台班",{"$f":"'表三 甲'!E1387","v":{"v":0,"d":"0.00"}},"可燃气体检测仪",0.25,{"v":117,"d":"117.00"},{"v":0,"d":"0.00"},{"v":0,"d":"0.00"}]
[{"$f":"SUBTOTAL(3,$B$7:B585)","v":23},"TXL5-008拆","城区人工布放微管 空闲保护管内 4 至 5 根","台班",{"$f":"'表三 甲'!E1387","v":{"v":0,"d":"0.00"}},"有毒有害气体检测仪",0.25,{"v":117,"d":"117.00"},{"v":0,"d":"0.00"},{"v":0,"d":"0.00"}]
[{"$f":"SUBTOTAL(3,$B$7:B586)","v":23},"TXL5-009拆","城区人工布放微管 空闲保护管内 5 根以上每增加 2根","台班",{"$f":"'表三 甲'!E1388","v":{"v":0,"d":"0.00"}},"有毒有害气体检测仪",0.05,{"v":117,"d":"117.00"},{"v":0,"d":"0.00"},{"v":0,"d":"0.00"}]
[{"$f":"SUBTOTAL(3,$B$7:B587)","v":23},"TXL5-009拆","城区人工布放微管 空闲保护管内 5 根以上每增加 2根","台班",{"$f":"'表三 甲'!E1388","v":{"v":0,"d":"0.00"}},"可燃气体检测仪",0.05,{"v":117,"d":"117.00"},{"v":0,"d":"0.00"},{"v":0,"d":"0.00"}]
[{"$f":"SUBTOTAL(3,$B$7:B588)","v":23},"TXL5-010拆","城区人工布放微管 非空闲保护管内 3 根以下","台班",{"$f":"'表三 甲'!E1389","v":{"v":0,"d":"0.00"}},"有毒有害气体检测仪",0.45,{"v":117,"d":"117.00"},{"v":0,"d":"0.00"},{"v":0,"d":"0.00"}]
[{"$f":"SUBTOTAL(3,$B$7:B589)","v":23},"TXL5-010拆","城区人工布放微管 非空闲保护管内 3 根以下","台班",{"$f":"'表三 甲'!E1389","v":{"v":0,"d":"0.00"}},"可燃气体检测仪",0.45,{"v":117,"d":"117.00"},{"v":0,"d":"0.00"},{"v":0,"d":"0.00"}]
[{"$f":"SUBTOTAL(3,$B$7:B590)","v":23},"TXL5-011拆","城区人工布放微管 非空闲保护管内 4 至 5 根","台班",{"$f":"'表三 甲'!E1390","v":{"v":0,"d":"0.00"}},"有毒有害气体检测仪",{"v":0.6,"d":"0.60"},{"v":117,"d":"117.00"},{"v":0,"d":"0.00"},{"v":0,"d":"0.00"}]
[{"$f":"SUBTOTAL(3,$B$7:B591)","v":23},"TXL5-011拆","城区人工布放微管 非空闲保护管内 4 至 5 根","台班",{"$f":"'表三 甲'!E1390","v":{"v":0,"d":"0.00"}},"可燃气体检测仪",{"v":0.6,"d":"0.60"},{"v":117,"d":"117.00"},{"v":0,"d":"0.00"},{"v":0,"d":"0.00"}]
[{"$f":"SUBTOTAL(3,$B$7:B592)","v":23},"TXL5-012拆","城区人工布放微管 管道内人工布放 集束管","台班",{"$f":"'表三 甲'!E1391","v":{"v":0,"d":"0.00"}},"有毒有害气体检测仪",{"v":0.3,"d":"0.30"},{"v":117,"d":"117.00"},{"v":0,"d":"0.00"},{"v":0,"d":"0.00"}]
[{"$f":"SUBTOTAL(3,$B$7:B593)","v":23},"TXL5-012拆","城区人工布放微管 管道内人工布放 集束管","台班",{"$f":"'表三 甲'!E1391","v":{"v":0,"d":"0.00"}},"可燃气体检测仪",{"v":0.3,"d":"0.30"},{"v":117,"d":"117.00"},{"v":0,"d":"0.00"},{"v":0,"d":"0.00"}]
[{"$f":"SUBTOTAL(3,$B$7:B594)","v":23},"TXL5-041拆","托板式敷设室内通道光缆","台班",{"$f":"'表三 甲'!E1420","v":{"v":0,"d":"0.00"}},"有毒有害气体检测仪",0.15,{"v":117,"d":"117.00"},{"v":0,"d":"0.00"},{"v":0,"d":"0.00"}]
[{"$f":"SUBTOTAL(3,$B$7:B595)","v":23},"TXL5-041拆","托板式敷设室内通道光缆","台班",{"$f":"E594","v":{"v":0,"d":"0.00"}},"可燃气体检测仪",0.15,{"v":117,"d":"117.00"},{"v":0,"d":"0.00"},{"v":0,"d":"0.00"}]
[{"$f":"SUBTOTAL(3,$B$7:B596)","v":23},"TXL5-042拆","定固式敷设室内通道光缆","台班",{"$f":"'表三 甲'!E1421","v":{"v":0,"d":"0.00"}},"可燃气体检测仪",{"v":0.3,"d":"0.30"},{"v":117,"d":"117.00"},{"v":0,"d":"0.00"},{"v":0,"d":"0.00"}]
[{"$f":"SUBTOTAL(3,$B$7:B597)","v":23},"TXL5-042拆","定固式敷设室内通道光缆","台班",{"$f":"E596","v":{"v":0,"d":"0.00"}},"有毒有害气体检测仪",{"v":0.3,"d":"0.30"},{"v":117,"d":"117.00"},{"v":0,"d":"0.00"},{"v":0,"d":"0.00"}]
[{"$f":"SUBTOTAL(3,$B$7:B598)","v":23},"TXL5-043拆","竖井引上光缆","台班",{"$f":"'表三 甲'!E1422","v":{"v":0,"d":"0.00"}},"有毒有害气体检测仪",{"v":0.4,"d":"0.40"},{"v":117,"d":"117.00"},{"v":0,"d":"0.00"},{"v":0,"d":"0.00"}]
[{"$f":"SUBTOTAL(3,$B$7:B599)","v":23},"TXL5-043拆","竖井引上光缆","台班",{"$f":"E598","v":{"v":0,"d":"0.00"}},"可燃气体检测仪",{"v":0.4,"d":"0.40"},{"v":117,"d":"117.00"},{"v":0,"d":"0.00"},{"v":0,"d":"0.00"}]
[{"$f":"SUBTOTAL(3,$B$7:B600)","v":23},"TXL6-003拆","机械法光缆接续","台班",{"$f":"'表三 甲'!E1461","v":{"v":0,"d":"0.00"}},"光时域反射仪",0.05,{"v":153,"d":"153.00"},{"v":0,"d":"0.00"},{"v":0,"d":"0.00"}]
[{"$f":"SUBTOTAL(3,$B$7:B601)","v":23},"TXL6-004拆","现场组装光纤活 动连接器","台班",{"$f":"'表三 甲'!E1462","v":{"v":0,"d":"0.00"}},"光时域反射仪",0.05,{"v":153,"d":"153.00"},{"v":0,"d":"0.00"},{"v":0,"d":"0.00"}]
[{"$f":"SUBTOTAL(3,$B$7:B602)","v":23},"TXL6-005拆","光缆成端接头 束状","台班",{"$f":"'表三 甲'!E1463","v":{"v":0,"d":"0.00"}},"光时域反射仪",0.05,{"v":153,"d":"153.00"},{"v":0,"d":"0.00"},{"v":0,"d":"0.00"}]
[{"$f":"SUBTOTAL(3,$B$7:B603)","v":23},"TXL6-006拆","光缆成端接头 带状","台班",{"$f":"'表三 甲'!E1464","v":{"v":0,"d":"0.00"}},"光时域反射仪",0.01,{"v":153,"d":"153.00"},{"v":0,"d":"0.00"},{"v":0,"d":"0.00"}]
[{"$f":"SUBTOTAL(3,$B$7:B604)","v":23},"TXL6-007拆","光缆接续 4 芯以下","台班",{"$f":"'表三 甲'!E1465","v":{"v":0,"d":"0.00"}},"光时域反射仪",0.6,{"v":153,"d":"153.00"},{"v":0,"d":"0.00"},{"v":0,"d":"0.00"}]
[{"$f":"SUBTOTAL(3,$B$7:B605)","v":23},"TXL6-008拆","光缆接续 12 芯以下","台班",{"$f":"'表三 甲'!E1466","v":{"v":0,"d":"0.00"}},"光时域反射仪",0.7,{"v":153,"d":"153.00"},{"v":0,"d":"0.00"},{"v":0,"d":"0.00"}]
[{"$f":"SUBTOTAL(3,$B$7:B606)","v":23},"TXL6-009拆","光缆接续 24 芯以下","台班",{"$f":"'表三 甲'!E1467","v":{"v":0,"d":"0.00"}},"光时域反射仪",0.8,{"v":153,"d":"153.00"},{"v":0,"d":"0.00"},{"v":0,"d":"0.00"}]
[{"$f":"SUBTOTAL(3,$B$7:B607)","v":23},"TXL6-010拆","光缆接续 36 芯以下","台班",{"$f":"'表三 甲'!E1468","v":{"v":0,"d":"0.00"}},"光时域反射仪",0.95,{"v":153,"d":"153.00"},{"v":0,"d":"0.00"},{"v":0,"d":"0.00"}]
[{"$f":"SUBTOTAL(3,$B$7:B608)","v":23},"TXL6-011拆","光缆接续 48 芯以下","台班",{"$f":"'表三 甲'!E1469","v":{"v":0,"d":"0.00"}},"光时域反射仪",1.1,{"v":153,"d":"153.00"},{"v":0,"d":"0.00"},{"v":0,"d":"0.00"}]
[{"$f":"SUBTOTAL(3,$B$7:B609)","v":23},"TXL6-012拆","光缆接续 60 芯以下","台班",{"$f":"'表三 甲'!E1470","v":{"v":0,"d":"0.00"}},"光时域反射仪",1.25,{"v":153,"d":"153.00"},{"v":0,"d":"0.00"},{"v":0,"d":"0.00"}]
[{"$f":"SUBTOTAL(3,$B$7:B610)","v":23},"TXL6-013拆","光缆接续 72 芯以下","台班",{"$f":"'表三 甲'!E1471","v":{"v":0,"d":"0.00"}},"光时域反射仪",1.4,{"v":153,"d":"153.00"},{"v":0,"d":"0.00"},{"v":0,"d":"0.00"}]
[{"$f":"SUBTOTAL(3,$B$7:B611)","v":23},"TXL6-014拆","光缆接续 84 芯以下","台班",{"$f":"'表三 甲'!E1472","v":{"v":0,"d":"0.00"}},"光时域反射仪",1.6,{"v":153,"d":"153.00"},{"v":0,"d":"0.00"},{"v":0,"d":"0.00"}]
[{"$f":"SUBTOTAL(3,$B$7:B612)","v":23},"TXL6-015拆","光缆接续 96 芯以下","台班",{"$f":"'表三 甲'!E1473","v":{"v":0,"d":"0.00"}},"光时域反射仪",1.7,{"v":153,"d":"153.00"},{"v":0,"d":"0.00"},{"v":0,"d":"0.00"}]
[{"$f":"SUBTOTAL(3,$B$7:B613)","v":23},"TXL6-016拆","光缆接续 108 芯以下","台班",{"$f":"'表三 甲'!E1474","v":{"v":0,"d":"0.00"}},"光时域反射仪",1.75,{"v":153,"d":"153.00"},{"v":0,"d":"0.00"},{"v":0,"d":"0.00"}]
[{"$f":"SUBTOTAL(3,$B$7:B614)","v":23},"TXL6-017拆","光缆接续 132 芯以下","台班",{"$f":"'表三 甲'!E1475","v":{"v":0,"d":"0.00"}},"光时域反射仪",1.85,{"v":153,"d":"153.00"},{"v":0,"d":"0.00"},{"v":0,"d":"0.00"}]
[{"$f":"SUBTOTAL(3,$B$7:B615)","v":23},"TXL6-018拆","光缆接续 144 芯以下","台班",{"$f":"'表三 甲'!E1476","v":{"v":0,"d":"0.00"}},"光时域反射仪",1.85,{"v":153,"d":"153.00"},{"v":0,"d":"0.00"},{"v":0,"d":"0.00"}]
[{"$f":"SUBTOTAL(3,$B$7:B616)","v":23},"TXL6-019拆","光缆接续 192 芯以下","台班",{"$f":"'表三 甲'!E1477","v":{"v":0,"d":"0.00"}},"光时域反射仪",1.9,{"v":153,"d":"153.00"},{"v":0,"d":"0.00"},{"v":0,"d":"0.00"}]
[{"$f":"SUBTOTAL(3,$B$7:B617)","v":23},"TXL6-020拆","光缆接续 288 芯以下","台班",{"$f":"'表三 甲'!E1478","v":{"v":0,"d":"0.00"}},"光时域反射仪",1.9,{"v":153,"d":"153.00"},{"v":0,"d":"0.00"},{"v":0,"d":"0.00"}]
[{"$f":"SUBTOTAL(3,$B$7:B618)","v":23},"TXL6-021拆","光缆接续 288 芯以上","台班",{"$f":"'表三 甲'!E1479","v":{"v":0,"d":"0.00"}},"光时域反射仪",2.1,{"v":153,"d":"153.00"},{"v":0,"d":"0.00"},{"v":0,"d":"0.00"}]
[{"$f":"SUBTOTAL(3,$B$7:B619)","v":23},"TXL6-022拆","8 芯带以下带状光缆接续 48 芯以下","台班",{"$f":"'表三 甲'!E1480","v":{"v":0,"d":"0.00"}},"光时域反射仪",1.1,{"v":153,"d":"153.00"},{"v":0,"d":"0.00"},{"v":0,"d":"0.00"}]
[{"$f":"SUBTOTAL(3,$B$7:B620)","v":23},"TXL6-023拆","8 芯带以下带状光缆接续 72 芯以下","台班",{"$f":"'表三 甲'!E1481","v":{"v":0,"d":"0.00"}},"光时域反射仪",{"v":1.4,"d":"1.40"},{"v":153,"d":"153.00"},{"v":0,"d":"0.00"},{"v":0,"d":"0.00"}]
[{"$f":"SUBTOTAL(3,$B$7:B621)","v":23},"TXL6-024拆","8 芯带以下带状光缆接续 96 芯以下","台班",{"$f":"'表三 甲'!E1482","v":{"v":0,"d":"0.00"}},"光时域反射仪",{"v":1.7,"d":"1.70"},{"v":153,"d":"153.00"},{"v":0,"d":"0.00"},{"v":0,"d":"0.00"}]
[{"$f":"SUBTOTAL(3,$B$7:B622)","v":23},"TXL6-025拆","8 芯带以下带状光缆接续 108 芯以下","台班",{"$f":"'表三 甲'!E1483","v":{"v":0,"d":"0.00"}},"光时域反射仪",1.75,{"v":153,"d":"153.00"},{"v":0,"d":"0.00"},{"v":0,"d":"0.00"}]
[{"$f":"SUBTOTAL(3,$B$7:B623)","v":23},"TXL6-026拆","8 芯带以下带状光缆接续 120 芯以下","台班",{"$f":"'表三 甲'!E1484","v":{"v":0,"d":"0.00"}},"光时域反射仪",{"v":1.8,"d":"1.80"},{"v":153,"d":"153.00"},{"v":0,"d":"0.00"},{"v":0,"d":"0.00"}]
[{"$f":"SUBTOTAL(3,$B$7:B624)","v":23},"TXL6-027拆","8 芯带以下带状光缆接续 144 芯以下","台班",{"$f":"'表三 甲'!E1485","v":{"v":0,"d":"0.00"}},"光时域反射仪",1.85,{"v":153,"d":"153.00"},{"v":0,"d":"0.00"},{"v":0,"d":"0.00"}]
[{"$f":"SUBTOTAL(3,$B$7:B625)","v":23},"TXL6-028拆","8 芯带以下带状光缆接续 192 芯以下","台班",{"$f":"'表三 甲'!E1486","v":{"v":0,"d":"0.00"}},"光时域反射仪",{"v":1.9,"d":"1.90"},{"v":153,"d":"153.00"},{"v":0,"d":"0.00"},{"v":0,"d":"0.00"}]
[{"$f":"SUBTOTAL(3,$B$7:B626)","v":23},"TXL6-029拆","8 芯带以下带状光缆接续 288 芯以下","台班",{"$f":"'表三 甲'!E1487","v":{"v":0,"d":"0.00"}},"光时域反射仪",{"v":1.9,"d":"1.90"},{"v":153,"d":"153.00"},{"v":0,"d":"0.00"},{"v":0,"d":"0.00"}]
[{"$f":"SUBTOTAL(3,$B$7:B627)","v":23},"TXL6-030拆","8 芯带以下带状光缆接续 288 芯以上","台班",{"$f":"'表三 甲'!E1488","v":{"v":0,"d":"0.00"}},"光时域反射仪",{"v":2.1,"d":"2.10"},{"v":153,"d":"153.00"},{"v":0,"d":"0.00"},{"v":0,"d":"0.00"}]
[{"$f":"SUBTOTAL(3,$B$7:B628)","v":23},"TXL6-031拆","8 芯带以上带状光缆接续 48 芯以下","台班",{"$f":"'表三 甲'!E1489","v":{"v":0,"d":"0.00"}},"光时域反射仪",{"v":1.1,"d":"1.10"},{"v":153,"d":"153.00"},{"v":0,"d":"0.00"},{"v":0,"d":"0.00"}]
[{"$f":"SUBTOTAL(3,$B$7:B629)","v":23},"TXL6-032拆","8 芯带以上带状光缆接续 72 芯以下","台班",{"$f":"'表三 甲'!E1490","v":{"v":0,"d":"0.00"}},"光时域反射仪",{"v":1.4,"d":"1.40"},{"v":153,"d":"153.00"},{"v":0,"d":"0.00"},{"v":0,"d":"0.00"}]
[{"$f":"SUBTOTAL(3,$B$7:B630)","v":23},"TXL6-033拆","8 芯带以上带状光缆接续 96 芯以下","台班",{"$f":"'表三 甲'!E1491","v":{"v":0,"d":"0.00"}},"光时域反射仪",{"v":1.7,"d":"1.70"},{"v":153,"d":"153.00"},{"v":0,"d":"0.00"},{"v":0,"d":"0.00"}]
[{"$f":"SUBTOTAL(3,$B$7:B631)","v":23},"TXL6-034拆","8 芯带以上带状光缆接续 108 芯以下","台班",{"$f":"'表三 甲'!E1492","v":{"v":0,"d":"0.00"}},"光时域反射仪",1.75,{"v":153,"d":"153.00"},{"v":0,"d":"0.00"},{"v":0,"d":"0.00"}]
[{"$f":"SUBTOTAL(3,$B$7:B632)","v":23},"TXL6-035拆","8 芯带以上带状光缆接续 120 芯以下","台班",{"$f":"'表三 甲'!E1493","v":{"v":0,"d":"0.00"}},"光时域反射仪",{"v":1.8,"d":"1.80"},{"v":153,"d":"153.00"},{"$f":"E632*G632","v":{"v":0,"d":"0.00"}},{"$f":"H632*I632","v":{"v":0,"d":"0.00"}}]
[{"$f":"SUBTOTAL(3,$B$7:B633)","v":23},"TXL6-036拆","8 芯带以上带状光缆接续 144 芯以下","台班",{"$f":"'表三 甲'!E1494","v":{"v":0,"d":"0.00"}},"光时域反射仪",1.85,{"v":153,"d":"153.00"},{"v":0,"d":"0.00"},{"v":0,"d":"0.00"}]
[{"$f":"SUBTOTAL(3,$B$7:B634)","v":23},"TXL6-037拆","8 芯带以上带状光缆接续 192 芯以下","台班",{"$f":"'表三 甲'!E1495","v":{"v":0,"d":"0.00"}},"光时域反射仪",{"v":1.9,"d":"1.90"},{"v":153,"d":"153.00"},{"v":0,"d":"0.00"},{"v":0,"d":"0.00"}]
[{"$f":"SUBTOTAL(3,$B$7:B635)","v":23},"TXL6-038拆","8 芯带以上带状光缆接续 288 芯以下","台班",{"$f":"'表三 甲'!E1496","v":{"v":0,"d":"0.00"}},"光时域反射仪",{"v":1.9,"d":"1.90"},{"v":153,"d":"153.00"},{"v":0,"d":"0.00"},{"v":0,"d":"0.00"}]
[{"$f":"SUBTOTAL(3,$B$7:B636)","v":23},"TXL6-039拆","8 芯带以上带状光缆接续 384 芯以下","台班",{"$f":"'表三 甲'!E1497","v":{"v":0,"d":"0.00"}},"光时域反射仪",{"v":2.1,"d":"2.10"},{"v":153,"d":"153.00"},{"v":0,"d":"0.00"},{"v":0,"d":"0.00"}]
[{"$f":"SUBTOTAL(3,$B$7:B637)","v":23},"TXL6-040拆","8 芯带以上带状光缆接续 480 芯以下","台班",{"$f":"'表三 甲'!E1498","v":{"v":0,"d":"0.00"}},"光时域反射仪",{"v":2.3,"d":"2.30"},{"v":153,"d":"153.00"},{"v":0,"d":"0.00"},{"v":0,"d":"0.00"}]
[{"$f":"SUBTOTAL(3,$B$7:B638)","v":23},"TXL6-041拆","8 芯带以上带状光缆接续 576 芯以下","台班",{"$f":"'表三 甲'!E1499","v":{"v":0,"d":"0.00"}},"光时域反射仪",{"v":2.5,"d":"2.50"},{"v":153,"d":"153.00"},{"v":0,"d":"0.00"},{"v":0,"d":"0.00"}]
[{"$f":"SUBTOTAL(3,$B$7:B639)","v":23},"TXL6-042拆","8 芯带以上带状光缆接续 576 芯以上","台班",{"$f":"'表三 甲'!E1500","v":{"v":0,"d":"0.00"}},"光时域反射仪",2.75,{"v":153,"d":"153.00"},{"v":0,"d":"0.00"},{"v":0,"d":"0.00"}]
[{"$f":"SUBTOTAL(3,$B$7:B640)","v":23},"TXL6-043拆","40km 以上中继段光缆测试 12 芯以下","台班",{"$f":"'表三 甲'!E1501","v":{"v":0,"d":"0.00"}},"稳定光源",0.36,{"v":117,"d":"117.00"},{"v":0,"d":"0.00"},{"v":0,"d":"0.00"}]
[{"$f":"SUBTOTAL(3,$B$7:B641)","v":23},"TXL6-043拆","40km 以上中继段光缆测试 12 芯以下","台班",{"$f":"'表三 甲'!E1501","v":{"v":0,"d":"0.00"}},"光时域反射仪",0.36,{"v":153,"d":"153.00"},{"v":0,"d":"0.00"},{"v":0,"d":"0.00"}]
[{"$f":"SUBTOTAL(3,$B$7:B642)","v":23},"TXL6-043拆","40km 以上中继段光缆测试 12 芯以下","台班",{"$f":"'表三 甲'!E1501","v":{"v":0,"d":"0.00"}},"偏振模色散测试仪",0.36,{"v":455,"d":"455.00"},{"v":0,"d":"0.00"},{"v":0,"d":"0.00"}]
[{"$f":"SUBTOTAL(3,$B$7:B643)","v":23},"TXL6-043拆","40km 以上中继段光缆测试 12 芯以下","台班",{"$f":"'表三 甲'!E1501","v":{"v":0,"d":"0.00"}},"光功率计",0.36,{"v":116,"d":"116.00"},{"v":0,"d":"0.00"},{"v":0,"d":"0.00"}]
[{"$f":"SUBTOTAL(3,$B$7:B644)","v":23},"TXL6-044拆","40km 以上中继段光缆测试 24 芯以下","台班",{"$f":"'表三 甲'!E1502","v":{"v":0,"d":"0.00"}},"光功率计",0.51,{"v":116,"d":"116.00"},{"v":0,"d":"0.00"},{"v":0,"d":"0.00"}]
[{"$f":"SUBTOTAL(3,$B$7:B645)","v":23},"TXL6-044拆","40km 以上中继段光缆测试 24 芯以下","台班",{"$f":"'表三 甲'!E1502","v":{"v":0,"d":"0.00"}},"稳定光源",0.51,{"v":117,"d":"117.00"},{"v":0,"d":"0.00"},{"v":0,"d":"0.00"}]
[{"$f":"SUBTOTAL(3,$B$7:B646)","v":23},"TXL6-044拆","40km 以上中继段光缆测试 24 芯以下","台班",{"$f":"'表三 甲'!E1502","v":{"v":0,"d":"0.00"}},"偏振模色散测试仪",0.51,{"v":455,"d":"455.00"},{"v":0,"d":"0.00"},{"v":0,"d":"0.00"}]
[{"$f":"SUBTOTAL(3,$B$7:B647)","v":23},"TXL6-044拆","40km 以上中继段光缆测试 24 芯以下","台班",{"$f":"'表三 甲'!E1502","v":{"v":0,"d":"0.00"}},"光时域反射仪",0.51,{"v":153,"d":"153.00"},{"v":0,"d":"0.00"},{"v":0,"d":"0.00"}]
[{"$f":"SUBTOTAL(3,$B$7:B648)","v":23},"TXL6-045拆","40km 以上中继段光缆测试 36 芯以下","台班",{"$f":"'表三 甲'!E1503","v":{"v":0,"d":"0.00"}},"光功率计",0.68,{"v":116,"d":"116.00"},{"v":0,"d":"0.00"},{"v":0,"d":"0.00"}]
[{"$f":"SUBTOTAL(3,$B$7:B649)","v":23},"TXL6-045拆","40km 以上中继段光缆测试 36 芯以下","台班",{"$f":"'表三 甲'!E1503","v":{"v":0,"d":"0.00"}},"光时域反射仪",0.68,{"v":153,"d":"153.00"},{"v":0,"d":"0.00"},{"v":0,"d":"0.00"}]
[{"$f":"SUBTOTAL(3,$B$7:B650)","v":23},"TXL6-045拆","40km 以上中继段光缆测试 36 芯以下","台班",{"$f":"'表三 甲'!E1503","v":{"v":0,"d":"0.00"}},"稳定光源",0.68,{"v":117,"d":"117.00"},{"v":0,"d":"0.00"},{"v":0,"d":"0.00"}]
[{"$f":"SUBTOTAL(3,$B$7:B651)","v":23},"TXL6-045拆","40km 以上中继段光缆测试 36 芯以下","台班",{"$f":"'表三 甲'!E1503","v":{"v":0,"d":"0.00"}},"偏振模色散测试仪",0.68,{"v":455,"d":"455.00"},{"v":0,"d":"0.00"},{"v":0,"d":"0.00"}]
[{"$f":"SUBTOTAL(3,$B$7:B652)","v":23},"TXL6-046拆","40km 以上中继段光缆测试 48 芯以下","台班",{"$f":"'表三 甲'!E1504","v":{"v":0,"d":"0.00"}},"光时域反射仪",0.86,{"v":153,"d":"153.00"},{"v":0,"d":"0.00"},{"v":0,"d":"0.00"}]
[{"$f":"SUBTOTAL(3,$B$7:B653)","v":23},"TXL6-046拆","40km 以上中继段光缆测试 48 芯以下","台班",{"$f":"'表三 甲'!E1504","v":{"v":0,"d":"0.00"}},"光功率计",0.86,{"v":116,"d":"116.00"},{"v":0,"d":"0.00"},{"v":0,"d":"0.00"}]
[{"$f":"SUBTOTAL(3,$B$7:B654)","v":23},"TXL6-046拆","40km 以上中继段光缆测试 48 芯以下","台班",{"$f":"'表三 甲'!E1504","v":{"v":0,"d":"0.00"}},"偏振模色散测试仪",0.86,{"v":455,"d":"455.00"},{"v":0,"d":"0.00"},{"v":0,"d":"0.00"}]
[{"$f":"SUBTOTAL(3,$B$7:B655)","v":23},"TXL6-046拆","40km 以上中继段光缆测试 48 芯以下","台班",{"$f":"'表三 甲'!E1504","v":{"v":0,"d":"0.00"}},"稳定光源",0.86,{"v":117,"d":"117.00"},{"v":0,"d":"0.00"},{"v":0,"d":"0.00"}]
[{"$f":"SUBTOTAL(3,$B$7:B656)","v":23},"TXL6-047拆","40km 以上中继段光缆测试 60 芯以下","台班",{"$f":"'表三 甲'!E1505","v":{"v":0,"d":"0.00"}},"偏振模色散测试仪",1,{"v":455,"d":"455.00"},{"v":0,"d":"0.00"},{"v":0,"d":"0.00"}]
[{"$f":"SUBTOTAL(3,$B$7:B657)","v":23},"TXL6-047拆","40km 以上中继段光缆测试 60 芯以下","台班",{"$f":"'表三 甲'!E1505","v":{"v":0,"d":"0.00"}},"稳定光源",1,{"v":117,"d":"117.00"},{"v":0,"d":"0.00"},{"v":0,"d":"0.00"}]
[{"$f":"SUBTOTAL(3,$B$7:B658)","v":23},"TXL6-047拆","40km 以上中继段光缆测试 60 芯以下","台班",{"$f":"'表三 甲'!E1505","v":{"v":0,"d":"0.00"}},"光功率计",1,{"v":116,"d":"116.00"},{"v":0,"d":"0.00"},{"v":0,"d":"0.00"}]
[{"$f":"SUBTOTAL(3,$B$7:B659)","v":23},"TXL6-047拆","40km 以上中继段光缆测试 60 芯以下","台班",{"$f":"'表三 甲'!E1505","v":{"v":0,"d":"0.00"}},"光时域反射仪",1,{"v":153,"d":"153.00"},{"v":0,"d":"0.00"},{"v":0,"d":"0.00"}]
[{"$f":"SUBTOTAL(3,$B$7:B660)","v":23},"TXL6-048拆","40km 以上中继段光缆测试 72 芯以下","台班",{"$f":"'表三 甲'!E1506","v":{"v":0,"d":"0.00"}},"偏振模色散测试仪",1.15,{"v":455,"d":"455.00"},{"v":0,"d":"0.00"},{"v":0,"d":"0.00"}]
[{"$f":"SUBTOTAL(3,$B$7:B661)","v":23},"TXL6-048拆","40km 以上中继段光缆测试 72 芯以下","台班",{"$f":"'表三 甲'!E1506","v":{"v":0,"d":"0.00"}},"光功率计",1.15,{"v":116,"d":"116.00"},{"v":0,"d":"0.00"},{"v":0,"d":"0.00"}]
[{"$f":"SUBTOTAL(3,$B$7:B662)","v":23},"TXL6-048拆","40km 以上中继段光缆测试 72 芯以下","台班",{"$f":"'表三 甲'!E1506","v":{"v":0,"d":"0.00"}},"光时域反射仪",1.15,{"v":153,"d":"153.00"},{"v":0,"d":"0.00"},{"v":0,"d":"0.00"}]
[{"$f":"SUBTOTAL(3,$B$7:B663)","v":23},"TXL6-048拆","40km 以上中继段光缆测试 72 芯以下","台班",{"$f":"'表三 甲'!E1506","v":{"v":0,"d":"0.00"}},"稳定光源",1.15,{"v":117,"d":"117.00"},{"v":0,"d":"0.00"},{"v":0,"d":"0.00"}]
[{"$f":"SUBTOTAL(3,$B$7:B664)","v":23},"TXL6-049拆","40km 以上中继段光缆测试 84 芯以下","台班",{"$f":"'表三 甲'!E1507","v":{"v":0,"d":"0.00"}},"光时域反射仪",1.25,{"v":153,"d":"153.00"},{"v":0,"d":"0.00"},{"v":0,"d":"0.00"}]
[{"$f":"SUBTOTAL(3,$B$7:B665)","v":23},"TXL6-049拆","40km 以上中继段光缆测试 84 芯以下","台班",{"$f":"'表三 甲'!E1507","v":{"v":0,"d":"0.00"}},"光功率计",1.25,{"v":116,"d":"116.00"},{"v":0,"d":"0.00"},{"v":0,"d":"0.00"}]
[{"$f":"SUBTOTAL(3,$B$7:B666)","v":23},"TXL6-049拆","40km 以上中继段光缆测试 84 芯以下","台班",{"$f":"'表三 甲'!E1507","v":{"v":0,"d":"0.00"}},"稳定光源",1.25,{"v":117,"d":"117.00"},{"v":0,"d":"0.00"},{"v":0,"d":"0.00"}]
[{"$f":"SUBTOTAL(3,$B$7:B667)","v":23},"TXL6-049拆","40km 以上中继段光缆测试 84 芯以下","台班",{"$f":"'表三 甲'!E1507","v":{"v":0,"d":"0.00"}},"偏振模色散测试仪",1.25,{"v":455,"d":"455.00"},{"v":0,"d":"0.00"},{"v":0,"d":"0.00"}]
[{"$f":"SUBTOTAL(3,$B$7:B668)","v":23},"TXL6-050拆","40km 以上中继段光缆测试 96 芯以下","台班",{"$f":"'表三 甲'!E1508","v":{"v":0,"d":"0.00"}},"偏振模色散测试仪",1.37,{"v":455,"d":"455.00"},{"v":0,"d":"0.00"},{"v":0,"d":"0.00"}]
[{"$f":"SUBTOTAL(3,$B$7:B669)","v":23},"TXL6-050拆","40km 以上中继段光缆测试 96 芯以下","台班",{"$f":"'表三 甲'!E1508","v":{"v":0,"d":"0.00"}},"光时域反射仪",1.37,{"v":153,"d":"153.00"},{"v":0,"d":"0.00"},{"v":0,"d":"0.00"}]
[{"$f":"SUBTOTAL(3,$B$7:B670)","v":23},"TXL6-050拆","40km 以上中继段光缆测试 96 芯以下","台班",{"$f":"'表三 甲'!E1508","v":{"v":0,"d":"0.00"}},"光功率计",1.37,{"v":116,"d":"116.00"},{"v":0,"d":"0.00"},{"v":0,"d":"0.00"}]
[{"$f":"SUBTOTAL(3,$B$7:B671)","v":23},"TXL6-050拆","40km 以上中继段光缆测试 96 芯以下","台班",{"$f":"'表三 甲'!E1508","v":{"v":0,"d":"0.00"}},"稳定光源",1.37,{"v":117,"d":"117.00"},{"v":0,"d":"0.00"},{"v":0,"d":"0.00"}]
[{"$f":"SUBTOTAL(3,$B$7:B672)","v":23},"TXL6-051拆","40km 以上中继段光缆测试 108 芯以下","台班",{"$f":"'表三 甲'!E1509","v":{"v":0,"d":"0.00"}},"偏振模色散测试仪",1.44,{"v":455,"d":"455.00"},{"v":0,"d":"0.00"},{"v":0,"d":"0.00"}]
[{"$f":"SUBTOTAL(3,$B$7:B673)","v":23},"TXL6-051拆","40km 以上中继段光缆测试 108 芯以下","台班",{"$f":"'表三 甲'!E1509","v":{"v":0,"d":"0.00"}},"光功率计",1.44,{"v":116,"d":"116.00"},{"v":0,"d":"0.00"},{"v":0,"d":"0.00"}]
[{"$f":"SUBTOTAL(3,$B$7:B674)","v":23},"TXL6-051拆","40km 以上中继段光缆测试 108 芯以下","台班",{"$f":"'表三 甲'!E1509","v":{"v":0,"d":"0.00"}},"光时域反射仪",1.44,{"v":153,"d":"153.00"},{"v":0,"d":"0.00"},{"v":0,"d":"0.00"}]
[{"$f":"SUBTOTAL(3,$B$7:B675)","v":23},"TXL6-051拆","40km 以上中继段光缆测试 108 芯以下","台班",{"$f":"'表三 甲'!E1509","v":{"v":0,"d":"0.00"}},"稳定光源",1.44,{"v":117,"d":"117.00"},{"v":0,"d":"0.00"},{"v":0,"d":"0.00"}]
[{"$f":"SUBTOTAL(3,$B$7:B676)","v":23},"TXL6-052拆","40km 以上中继段光缆测试 132 芯以下","台班",{"$f":"'表三 甲'!E1510","v":{"v":0,"d":"0.00"}},"光功率计",1.51,{"v":116,"d":"116.00"},{"v":0,"d":"0.00"},{"v":0,"d":"0.00"}]
[{"$f":"SUBTOTAL(3,$B$7:B677)","v":23},"TXL6-052拆","40km 以上中继段光缆测试 132 芯以下","台班",{"$f":"'表三 甲'!E1510","v":{"v":0,"d":"0.00"}},"稳定光源",1.51,{"v":117,"d":"117.00"},{"v":0,"d":"0.00"},{"v":0,"d":"0.00"}]
[{"$f":"SUBTOTAL(3,$B$7:B678)","v":23},"TXL6-052拆","40km 以上中继段光缆测试 132 芯以下","台班",{"$f":"'表三 甲'!E1510","v":{"v":0,"d":"0.00"}},"光时域反射仪",1.51,{"v":153,"d":"153.00"},{"v":0,"d":"0.00"},{"v":0,"d":"0.00"}]
[{"$f":"SUBTOTAL(3,$B$7:B679)","v":23},"TXL6-052拆","40km 以上中继段光缆测试 132 芯以下","台班",{"$f":"'表三 甲'!E1510","v":{"v":0,"d":"0.00"}},"偏振模色散测试仪",1.51,{"v":455,"d":"455.00"},{"v":0,"d":"0.00"},{"v":0,"d":"0.00"}]
[{"$f":"SUBTOTAL(3,$B$7:B680)","v":23},"TXL6-053拆","40km 以上中继段光缆测试 144 芯以下","台班",{"$f":"'表三 甲'!E1511","v":{"v":0,"d":"0.00"}},"光功率计",1.58,{"v":116,"d":"116.00"},{"v":0,"d":"0.00"},{"v":0,"d":"0.00"}]
[{"$f":"SUBTOTAL(3,$B$7:B681)","v":23},"TXL6-053拆","40km 以上中继段光缆测试 144 芯以下","台班",{"$f":"'表三 甲'!E1511","v":{"v":0,"d":"0.00"}},"偏振模色散测试仪",1.58,{"v":455,"d":"455.00"},{"v":0,"d":"0.00"},{"v":0,"d":"0.00"}]
[{"$f":"SUBTOTAL(3,$B$7:B682)","v":23},"TXL6-053拆","40km 以上中继段光缆测试 144 芯以下","台班",{"$f":"'表三 甲'!E1511","v":{"v":0,"d":"0.00"}},"稳定光源",1.58,{"v":117,"d":"117.00"},{"v":0,"d":"0.00"},{"v":0,"d":"0.00"}]
[{"$f":"SUBTOTAL(3,$B$7:B683)","v":23},"TXL6-053拆","40km 以上中继段光缆测试 144 芯以下","台班",{"$f":"'表三 甲'!E1511","v":{"v":0,"d":"0.00"}},"光时域反射仪",1.58,{"v":153,"d":"153.00"},{"v":0,"d":"0.00"},{"v":0,"d":"0.00"}]
[{"$f":"SUBTOTAL(3,$B$7:B684)","v":23},"TXL6-054拆","40km 以上中继段光缆测试 168 芯以下","台班",{"$f":"'表三 甲'!E1512","v":{"v":0,"d":"0.00"}},"光功率计",1.66,{"v":116,"d":"116.00"},{"v":0,"d":"0.00"},{"v":0,"d":"0.00"}]
[{"$f":"SUBTOTAL(3,$B$7:B685)","v":23},"TXL6-054拆","40km 以上中继段光缆测试 168 芯以下","台班",{"$f":"'表三 甲'!E1512","v":{"v":0,"d":"0.00"}},"偏振模色散测试仪",1.66,{"v":455,"d":"455.00"},{"v":0,"d":"0.00"},{"v":0,"d":"0.00"}]
[{"$f":"SUBTOTAL(3,$B$7:B686)","v":23},"TXL6-054拆","40km 以上中继段光缆测试 168 芯以下","台班",{"$f":"'表三 甲'!E1512","v":{"v":0,"d":"0.00"}},"稳定光源",1.66,{"v":117,"d":"117.00"},{"v":0,"d":"0.00"},{"v":0,"d":"0.00"}]
[{"$f":"SUBTOTAL(3,$B$7:B687)","v":23},"TXL6-054拆","40km 以上中继段光缆测试 168 芯以下","台班",{"$f":"'表三 甲'!E1512","v":{"v":0,"d":"0.00"}},"光时域反射仪",1.66,{"v":153,"d":"153.00"},{"v":0,"d":"0.00"},{"v":0,"d":"0.00"}]
[{"$f":"SUBTOTAL(3,$B$7:B688)","v":23},"TXL6-055拆","40km 以上中继段光缆测试 192 芯以下","台班",{"$f":"'表三 甲'!E1513","v":{"v":0,"d":"0.00"}},"偏振模色散测试仪",1.73,{"v":455,"d":"455.00"},{"v":0,"d":"0.00"},{"v":0,"d":"0.00"}]
[{"$f":"SUBTOTAL(3,$B$7:B689)","v":23},"TXL6-055拆","40km 以上中继段光缆测试 192 芯以下","台班",{"$f":"'表三 甲'!E1513","v":{"v":0,"d":"0.00"}},"光时域反射仪",1.73,{"v":153,"d":"153.00"},{"v":0,"d":"0.00"},{"v":0,"d":"0.00"}]
[{"$f":"SUBTOTAL(3,$B$7:B690)","v":23},"TXL6-055拆","40km 以上中继段光缆测试 192 芯以下","台班",{"$f":"'表三 甲'!E1513","v":{"v":0,"d":"0.00"}},"稳定光源",1.73,{"v":117,"d":"117.00"},{"v":0,"d":"0.00"},{"v":0,"d":"0.00"}]
[{"$f":"SUBTOTAL(3,$B$7:B691)","v":23},"TXL6-055拆","40km 以上中继段光缆测试 192 芯以下","台班",{"$f":"'表三 甲'!E1513","v":{"v":0,"d":"0.00"}},"光功率计",1.73,{"v":116,"d":"116.00"},{"v":0,"d":"0.00"},{"v":0,"d":"0.00"}]
[{"$f":"SUBTOTAL(3,$B$7:B692)","v":23},"TXL6-056拆","40km 以上中继段光缆测试 216 芯以下","台班",{"$f":"'表三 甲'!E1514","v":{"v":0,"d":"0.00"}},"光功率计",1.8,{"v":116,"d":"116.00"},{"v":0,"d":"0.00"},{"v":0,"d":"0.00"}]
[{"$f":"SUBTOTAL(3,$B$7:B693)","v":23},"TXL6-056拆","40km 以上中继段光缆测试 216 芯以下","台班",{"$f":"'表三 甲'!E1514","v":{"v":0,"d":"0.00"}},"偏振模色散测试仪",1.8,{"v":455,"d":"455.00"},{"v":0,"d":"0.00"},{"v":0,"d":"0.00"}]
[{"$f":"SUBTOTAL(3,$B$7:B694)","v":23},"TXL6-056拆","40km 以上中继段光缆测试 216 芯以下","台班",{"$f":"'表三 甲'!E1514","v":{"v":0,"d":"0.00"}},"稳定光源",1.8,{"v":117,"d":"117.00"},{"v":0,"d":"0.00"},{"v":0,"d":"0.00"}]
[{"$f":"SUBTOTAL(3,$B$7:B695)","v":23},"TXL6-056拆","40km 以上中继段光缆测试 216 芯以下","台班",{"$f":"'表三 甲'!E1514","v":{"v":0,"d":"0.00"}},"光时域反射仪",1.8,{"v":153,"d":"153.00"},{"v":0,"d":"0.00"},{"v":0,"d":"0.00"}]
[{"$f":"SUBTOTAL(3,$B$7:B696)","v":23},"TXL6-057拆","40km 以上中继段光缆测试 240 芯以下","台班",{"$f":"'表三 甲'!E1515","v":{"v":0,"d":"0.00"}},"光时域反射仪",1.91,{"v":153,"d":"153.00"},{"$f":"E696*G696","v":{"v":0,"d":"0.00"}},{"$f":"H696*I696","v":{"v":0,"d":"0.00"}}]
[{"$f":"SUBTOTAL(3,$B$7:B697)","v":23},"TXL6-057拆","40km 以上中继段光缆测试 240 芯以下","台班",{"$f":"'表三 甲'!E1515","v":{"v":0,"d":"0.00"}},"偏振模色散测试仪",1.91,{"v":455,"d":"455.00"},{"v":0,"d":"0.00"},{"v":0,"d":"0.00"}]
[{"$f":"SUBTOTAL(3,$B$7:B698)","v":23},"TXL6-057拆","40km 以上中继段光缆测试 240 芯以下","台班",{"$f":"'表三 甲'!E1515","v":{"v":0,"d":"0.00"}},"稳定光源",1.91,{"v":117,"d":"117.00"},{"v":0,"d":"0.00"},{"v":0,"d":"0.00"}]
[{"$f":"SUBTOTAL(3,$B$7:B699)","v":23},"TXL6-057拆","40km 以上中继段光缆测试 240 芯以下","台班",{"$f":"'表三 甲'!E1515","v":{"v":0,"d":"0.00"}},"光功率计",1.91,{"v":116,"d":"116.00"},{"v":0,"d":"0.00"},{"v":0,"d":"0.00"}]
[{"$f":"SUBTOTAL(3,$B$7:B700)","v":23},"TXL6-058拆","40km 以上光缆中继段测试 264 芯以下","台班",{"$f":"'表三 甲'!E1516","v":{"v":0,"d":"0.00"}},"光时域反射仪",1.98,{"v":153,"d":"153.00"},{"v":0,"d":"0.00"},{"v":0,"d":"0.00"}]
[{"$f":"SUBTOTAL(3,$B$7:B701)","v":23},"TXL6-058拆","40km 以上光缆中继段测试 264 芯以下","台班",{"$f":"'表三 甲'!E1516","v":{"v":0,"d":"0.00"}},"偏振模色散测试仪",1.98,{"v":455,"d":"455.00"},{"v":0,"d":"0.00"},{"v":0,"d":"0.00"}]
[{"$f":"SUBTOTAL(3,$B$7:B702)","v":23},"TXL6-058拆","40km 以上光缆中继段测试 264 芯以下","台班",{"$f":"'表三 甲'!E1516","v":{"v":0,"d":"0.00"}},"稳定光源",1.98,{"v":117,"d":"117.00"},{"v":0,"d":"0.00"},{"v":0,"d":"0.00"}]
[{"$f":"SUBTOTAL(3,$B$7:B703)","v":23},"TXL6-058拆","40km 以上光缆中继段测试 264 芯以下","台班",{"$f":"'表三 甲'!E1516","v":{"v":0,"d":"0.00"}},"光功率计",1.98,{"v":116,"d":"116.00"},{"v":0,"d":"0.00"},{"v":0,"d":"0.00"}]
[{"$f":"SUBTOTAL(3,$B$7:B704)","v":23},"TXL6-059拆","40km 以上光缆中继段测试 288 芯以下","台班",{"$f":"'表三 甲'!E1517","v":{"v":0,"d":"0.00"}},"光功率计",2.09,{"v":116,"d":"116.00"},{"v":0,"d":"0.00"},{"v":0,"d":"0.00"}]
[{"$f":"SUBTOTAL(3,$B$7:B705)","v":23},"TXL6-059拆","40km 以上光缆中继段测试 288 芯以下","台班",{"$f":"'表三 甲'!E1517","v":{"v":0,"d":"0.00"}},"偏振模色散测试仪",2.09,{"v":455,"d":"455.00"},{"v":0,"d":"0.00"},{"v":0,"d":"0.00"}]
[{"$f":"SUBTOTAL(3,$B$7:B706)","v":23},"TXL6-059拆","40km 以上光缆中继段测试 288 芯以下","台班",{"$f":"'表三 甲'!E1517","v":{"v":0,"d":"0.00"}},"稳定光源",2.09,{"v":117,"d":"117.00"},{"v":0,"d":"0.00"},{"v":0,"d":"0.00"}]
[{"$f":"SUBTOTAL(3,$B$7:B707)","v":23},"TXL6-059拆","40km 以上光缆中继段测试 288 芯以下","台班",{"$f":"'表三 甲'!E1517","v":{"v":0,"d":"0.00"}},"光时域反射仪",2.09,{"v":153,"d":"153.00"},{"v":0,"d":"0.00"},{"v":0,"d":"0.00"}]
[{"$f":"SUBTOTAL(3,$B$7:B708)","v":23},"TXL6-060拆","40km 以上光缆中继段测试 312 芯以下","台班",{"$f":"'表三 甲'!E1518","v":{"v":0,"d":"0.00"}},"偏振模色散测试仪",2.23,{"v":455,"d":"455.00"},{"v":0,"d":"0.00"},{"v":0,"d":"0.00"}]
[{"$f":"SUBTOTAL(3,$B$7:B709)","v":23},"TXL6-060拆","40km 以上光缆中继段测试 312 芯以下","台班",{"$f":"'表三 甲'!E1518","v":{"v":0,"d":"0.00"}},"光功率计",2.23,{"v":116,"d":"116.00"},{"v":0,"d":"0.00"},{"v":0,"d":"0.00"}]
[{"$f":"SUBTOTAL(3,$B$7:B710)","v":23},"TXL6-060拆","40km 以上光缆中继段测试 312 芯以下","台班",{"$f":"'表三 甲'!E1518","v":{"v":0,"d":"0.00"}},"稳定光源",2.23,{"v":117,"d":"117.00"},{"v":0,"d":"0.00"},{"v":0,"d":"0.00"}]
[{"$f":"SUBTOTAL(3,$B$7:B711)","v":23},"TXL6-060拆","40km 以上光缆中继段测试 312 芯以下","台班",{"$f":"'表三 甲'!E1518","v":{"v":0,"d":"0.00"}},"光时域反射仪",2.23,{"v":153,"d":"153.00"},{"v":0,"d":"0.00"},{"v":0,"d":"0.00"}]
[{"$f":"SUBTOTAL(3,$B$7:B712)","v":23},"TXL6-061拆","40km 以上光缆中继段测试 336 芯以下","台班",{"$f":"'表三 甲'!E1519","v":{"v":0,"d":"0.00"}},"光时域反射仪",2.34,{"v":153,"d":"153.00"},{"v":0,"d":"0.00"},{"v":0,"d":"0.00"}]
[{"$f":"SUBTOTAL(3,$B$7:B713)","v":23},"TXL6-061拆","40km 以上光缆中继段测试 336 芯以下","台班",{"$f":"'表三 甲'!E1519","v":{"v":0,"d":"0.00"}},"偏振模色散测试仪",2.34,{"v":455,"d":"455.00"},{"v":0,"d":"0.00"},{"v":0,"d":"0.00"}]
[{"$f":"SUBTOTAL(3,$B$7:B714)","v":23},"TXL6-061拆","40km 以上光缆中继段测试 336 芯以下","台班",{"$f":"'表三 甲'!E1519","v":{"v":0,"d":"0.00"}},"稳定光源",2.34,{"v":117,"d":"117.00"},{"v":0,"d":"0.00"},{"v":0,"d":"0.00"}]
[{"$f":"SUBTOTAL(3,$B$7:B715)","v":23},"TXL6-061拆","40km 以上光缆中继段测试 336 芯以下","台班",{"$f":"'表三 甲'!E1519","v":{"v":0,"d":"0.00"}},"光功率计",2.34,{"v":116,"d":"116.00"},{"v":0,"d":"0.00"},{"v":0,"d":"0.00"}]
[{"$f":"SUBTOTAL(3,$B$7:B716)","v":23},"TXL6-062拆","40km 以上光缆中继段测试 360 芯以下","台班",{"$f":"'表三 甲'!E1520","v":{"v":0,"d":"0.00"}},"光时域反射仪",2.45,{"v":153,"d":"153.00"},{"v":0,"d":"0.00"},{"v":0,"d":"0.00"}]
[{"$f":"SUBTOTAL(3,$B$7:B717)","v":23},"TXL6-062拆","40km 以上光缆中继段测试 360 芯以下","台班",{"$f":"'表三 甲'!E1520","v":{"v":0,"d":"0.00"}},"稳定光源",2.45,{"v":117,"d":"117.00"},{"v":0,"d":"0.00"},{"v":0,"d":"0.00"}]
[{"$f":"SUBTOTAL(3,$B$7:B718)","v":23},"TXL6-062拆","40km 以上光缆中继段测试 360 芯以下","台班",{"$f":"'表三 甲'!E1520","v":{"v":0,"d":"0.00"}},"光功率计",2.45,{"v":116,"d":"116.00"},{"v":0,"d":"0.00"},{"v":0,"d":"0.00"}]
[{"$f":"SUBTOTAL(3,$B$7:B719)","v":23},"TXL6-062拆","40km 以上光缆中继段测试 360 芯以下","台班",{"$f":"'表三 甲'!E1520","v":{"v":0,"d":"0.00"}},"偏振模色散测试仪",2.45,{"v":455,"d":"455.00"},{"v":0,"d":"0.00"},{"v":0,"d":"0.00"}]
[{"$f":"SUBTOTAL(3,$B$7:B720)","v":23},"TXL6-063拆","40km 以上光缆中继段测试 384 芯以下","台班",{"$f":"'表三 甲'!E1521","v":{"v":0,"d":"0.00"}},"光时域反射仪",2.52,{"v":153,"d":"153.00"},{"v":0,"d":"0.00"},{"v":0,"d":"0.00"}]
[{"$f":"SUBTOTAL(3,$B$7:B721)","v":23},"TXL6-063拆","40km 以上光缆中继段测试 384 芯以下","台班",{"$f":"'表三 甲'!E1521","v":{"v":0,"d":"0.00"}},"偏振模色散测试仪",2.52,{"v":455,"d":"455.00"},{"v":0,"d":"0.00"},{"v":0,"d":"0.00"}]
[{"$f":"SUBTOTAL(3,$B$7:B722)","v":23},"TXL6-063拆","40km 以上光缆中继段测试 384 芯以下","台班",{"$f":"'表三 甲'!E1521","v":{"v":0,"d":"0.00"}},"光功率计",2.52,{"v":116,"d":"116.00"},{"v":0,"d":"0.00"},{"v":0,"d":"0.00"}]
[{"$f":"SUBTOTAL(3,$B$7:B723)","v":23},"TXL6-063拆","40km 以上光缆中继段测试 384 芯以下","台班",{"$f":"'表三 甲'!E1521","v":{"v":0,"d":"0.00"}},"稳定光源",2.52,{"v":117,"d":"117.00"},{"v":0,"d":"0.00"},{"v":0,"d":"0.00"}]
[{"$f":"SUBTOTAL(3,$B$7:B724)","v":23},"TXL6-064拆","40km 以上光缆中继段测试 408 芯以下","台班",{"$f":"'表三 甲'!E1522","v":{"v":0,"d":"0.00"}},"光时域反射仪",2.59,{"v":153,"d":"153.00"},{"v":0,"d":"0.00"},{"v":0,"d":"0.00"}]
[{"$f":"SUBTOTAL(3,$B$7:B725)","v":23},"TXL6-064拆","40km 以上光缆中继段测试 408 芯以下","台班",{"$f":"'表三 甲'!E1522","v":{"v":0,"d":"0.00"}},"稳定光源",2.59,{"v":117,"d":"117.00"},{"v":0,"d":"0.00"},{"v":0,"d":"0.00"}]
[{"$f":"SUBTOTAL(3,$B$7:B726)","v":23},"TXL6-064拆","40km 以上光缆中继段测试 408 芯以下","台班",{"$f":"'表三 甲'!E1522","v":{"v":0,"d":"0.00"}},"偏振模色散测试仪",2.59,{"v":455,"d":"455.00"},{"v":0,"d":"0.00"},{"v":0,"d":"0.00"}]
[{"$f":"SUBTOTAL(3,$B$7:B727)","v":23},"TXL6-064拆","40km 以上光缆中继段测试 408 芯以下","台班",{"$f":"'表三 甲'!E1522","v":{"v":0,"d":"0.00"}},"光功率计",2.59,{"v":116,"d":"116.00"},{"v":0,"d":"0.00"},{"v":0,"d":"0.00"}]
[{"$f":"SUBTOTAL(3,$B$7:B728)","v":23},"TXL6-065拆","40km 以上光缆中继段测试 432 芯以下","台班",{"$f":"'表三 甲'!E1523","v":{"v":0,"d":"0.00"}},"光功率计",2.63,{"v":116,"d":"116.00"},{"v":0,"d":"0.00"},{"v":0,"d":"0.00"}]
[{"$f":"SUBTOTAL(3,$B$7:B729)","v":23},"TXL6-065拆","40km 以上光缆中继段测试 432 芯以下","台班",{"$f":"'表三 甲'!E1523","v":{"v":0,"d":"0.00"}},"光时域反射仪",2.63,{"v":153,"d":"153.00"},{"v":0,"d":"0.00"},{"v":0,"d":"0.00"}]
[{"$f":"SUBTOTAL(3,$B$7:B730)","v":23},"TXL6-065拆","40km 以上光缆中继段测试 432 芯以下","台班",{"$f":"'表三 甲'!E1523","v":{"v":0,"d":"0.00"}},"偏振模色散测试仪",2.63,{"v":455,"d":"455.00"},{"v":0,"d":"0.00"},{"v":0,"d":"0.00"}]
[{"$f":"SUBTOTAL(3,$B$7:B731)","v":23},"TXL6-065拆","40km 以上光缆中继段测试 432 芯以下","台班",{"$f":"'表三 甲'!E1523","v":{"v":0,"d":"0.00"}},"稳定光源",2.63,{"v":117,"d":"117.00"},{"v":0,"d":"0.00"},{"v":0,"d":"0.00"}]
[{"$f":"SUBTOTAL(3,$B$7:B732)","v":23},"TXL6-066拆","40km 以上光缆中继段测试 456 芯以下","台班",{"$f":"'表三 甲'!E1524","v":{"v":0,"d":"0.00"}},"偏振模色散测试仪",2.66,{"v":455,"d":"455.00"},{"v":0,"d":"0.00"},{"v":0,"d":"0.00"}]
[{"$f":"SUBTOTAL(3,$B$7:B733)","v":23},"TXL6-066拆","40km 以上光缆中继段测试 456 芯以下","台班",{"$f":"'表三 甲'!E1524","v":{"v":0,"d":"0.00"}},"稳定光源",2.66,{"v":117,"d":"117.00"},{"v":0,"d":"0.00"},{"v":0,"d":"0.00"}]
[{"$f":"SUBTOTAL(3,$B$7:B734)","v":23},"TXL6-066拆","40km 以上光缆中继段测试 456 芯以下","台班",{"$f":"'表三 甲'!E1524","v":{"v":0,"d":"0.00"}},"光时域反射仪",2.66,{"v":153,"d":"153.00"},{"v":0,"d":"0.00"},{"v":0,"d":"0.00"}]
[{"$f":"SUBTOTAL(3,$B$7:B735)","v":23},"TXL6-066拆","40km 以上光缆中继段测试 456 芯以下","台班",{"$f":"'表三 甲'!E1524","v":{"v":0,"d":"0.00"}},"光功率计",2.66,{"v":116,"d":"116.00"},{"v":0,"d":"0.00"},{"v":0,"d":"0.00"}]
[{"$f":"SUBTOTAL(3,$B$7:B736)","v":23},"TXL6-067拆","40km 以上光缆中继段测试 480 芯以下","台班",{"$f":"'表三 甲'!E1525","v":{"v":0,"d":"0.00"}},"偏振模色散测试仪",2.74,{"v":455,"d":"455.00"},{"v":0,"d":"0.00"},{"v":0,"d":"0.00"}]
[{"$f":"SUBTOTAL(3,$B$7:B737)","v":23},"TXL6-067拆","40km 以上光缆中继段测试 480 芯以下","台班",{"$f":"'表三 甲'!E1525","v":{"v":0,"d":"0.00"}},"光功率计",2.74,{"v":116,"d":"116.00"},{"v":0,"d":"0.00"},{"v":0,"d":"0.00"}]
[{"$f":"SUBTOTAL(3,$B$7:B738)","v":23},"TXL6-067拆","40km 以上光缆中继段测试 480 芯以下","台班",{"$f":"'表三 甲'!E1525","v":{"v":0,"d":"0.00"}},"稳定光源",2.74,{"v":117,"d":"117.00"},{"v":0,"d":"0.00"},{"v":0,"d":"0.00"}]
[{"$f":"SUBTOTAL(3,$B$7:B739)","v":23},"TXL6-067拆","40km 以上光缆中继段测试 480 芯以下","台班",{"$f":"'表三 甲'!E1525","v":{"v":0,"d":"0.00"}},"光时域反射仪",2.74,{"v":153,"d":"153.00"},{"v":0,"d":"0.00"},{"v":0,"d":"0.00"}]
[{"$f":"SUBTOTAL(3,$B$7:B740)","v":23},"TXL6-068拆","40km 以上光缆中继段测试 504 芯以下","台班",{"$f":"'表三 甲'!E1526","v":{"v":0,"d":"0.00"}},"稳定光源",2.78,{"v":117,"d":"117.00"},{"v":0,"d":"0.00"},{"v":0,"d":"0.00"}]
[{"$f":"SUBTOTAL(3,$B$7:B741)","v":23},"TXL6-068拆","40km 以上光缆中继段测试 504 芯以下","台班",{"$f":"'表三 甲'!E1526","v":{"v":0,"d":"0.00"}},"光功率计",2.78,{"v":116,"d":"116.00"},{"v":0,"d":"0.00"},{"v":0,"d":"0.00"}]
[{"$f":"SUBTOTAL(3,$B$7:B742)","v":23},"TXL6-068拆","40km 以上光缆中继段测试 504 芯以下","台班",{"$f":"'表三 甲'!E1526","v":{"v":0,"d":"0.00"}},"偏振模色散测试仪",2.78,{"v":455,"d":"455.00"},{"v":0,"d":"0.00"},{"v":0,"d":"0.00"}]
[{"$f":"SUBTOTAL(3,$B$7:B743)","v":23},"TXL6-068拆","40km 以上光缆中继段测试 504 芯以下","台班",{"$f":"'表三 甲'!E1526","v":{"v":0,"d":"0.00"}},"光时域反射仪",2.78,{"v":153,"d":"153.00"},{"v":0,"d":"0.00"},{"v":0,"d":"0.00"}]
[{"$f":"SUBTOTAL(3,$B$7:B744)","v":23},"TXL6-069拆","40km 以上光缆中继段测试 528 芯以下","台班",{"$f":"'表三 甲'!E1527","v":{"v":0,"d":"0.00"}},"偏振模色散测试仪",2.81,{"v":455,"d":"455.00"},{"v":0,"d":"0.00"},{"v":0,"d":"0.00"}]
[{"$f":"SUBTOTAL(3,$B$7:B745)","v":23},"TXL6-069拆","40km 以上光缆中继段测试 528 芯以下","台班",{"$f":"'表三 甲'!E1527","v":{"v":0,"d":"0.00"}},"光时域反射仪",2.81,{"v":153,"d":"153.00"},{"v":0,"d":"0.00"},{"v":0,"d":"0.00"}]
[{"$f":"SUBTOTAL(3,$B$7:B746)","v":23},"TXL6-069拆","40km 以上光缆中继段测试 528 芯以下","台班",{"$f":"'表三 甲'!E1527","v":{"v":0,"d":"0.00"}},"光功率计",2.81,{"v":116,"d":"116.00"},{"v":0,"d":"0.00"},{"v":0,"d":"0.00"}]
[{"$f":"SUBTOTAL(3,$B$7:B747)","v":23},"TXL6-069拆","40km 以上光缆中继段测试 528 芯以下","台班",{"$f":"'表三 甲'!E1527","v":{"v":0,"d":"0.00"}},"稳定光源",2.81,{"v":117,"d":"117.00"},{"v":0,"d":"0.00"},{"v":0,"d":"0.00"}]
[{"$f":"SUBTOTAL(3,$B$7:B748)","v":23},"TXL6-070拆","40km 以上光缆中继段测试 576 芯以下","台班",{"$f":"'表三 甲'!E1528","v":{"v":0,"d":"0.00"}},"偏振模色散测试仪",2.84,{"v":455,"d":"455.00"},{"v":0,"d":"0.00"},{"v":0,"d":"0.00"}]
[{"$f":"SUBTOTAL(3,$B$7:B749)","v":23},"TXL6-070拆","40km 以上光缆中继段测试 576 芯以下","台班",{"$f":"'表三 甲'!E1528","v":{"v":0,"d":"0.00"}},"光时域反射仪",2.84,{"v":153,"d":"153.00"},{"v":0,"d":"0.00"},{"v":0,"d":"0.00"}]
[{"$f":"SUBTOTAL(3,$B$7:B750)","v":23},"TXL6-070拆","40km 以上光缆中继段测试 576 芯以下","台班",{"$f":"'表三 甲'!E1528","v":{"v":0,"d":"0.00"}},"光功率计",2.84,{"v":116,"d":"116.00"},{"v":0,"d":"0.00"},{"v":0,"d":"0.00"}]
[{"$f":"SUBTOTAL(3,$B$7:B751)","v":23},"TXL6-070拆","40km 以上光缆中继段测试 576 芯以下","台班",{"$f":"'表三 甲'!E1528","v":{"v":0,"d":"0.00"}},"稳定光源",2.84,{"v":117,"d":"117.00"},{"v":0,"d":"0.00"},{"v":0,"d":"0.00"}]
[{"$f":"SUBTOTAL(3,$B$7:B752)","v":23},"TXL6-071拆","40km 以上光缆中继段测试 576 芯以上","台班",{"$f":"'表三 甲'!E1529","v":{"v":0,"d":"0.00"}},"偏振模色散测试仪",2.88,{"v":455,"d":"455.00"},{"v":0,"d":"0.00"},{"v":0,"d":"0.00"}]
[{"$f":"SUBTOTAL(3,$B$7:B753)","v":23},"TXL6-071拆","40km 以上光缆中继段测试 576 芯以上","台班",{"$f":"'表三 甲'!E1529","v":{"v":0,"d":"0.00"}},"光功率计",2.88,{"v":116,"d":"116.00"},{"v":0,"d":"0.00"},{"v":0,"d":"0.00"}]
[{"$f":"SUBTOTAL(3,$B$7:B754)","v":23},"TXL6-071拆","40km 以上光缆中继段测试 576 芯以上","台班",{"$f":"'表三 甲'!E1529","v":{"v":0,"d":"0.00"}},"光时域反射仪",2.88,{"v":153,"d":"153.00"},{"v":0,"d":"0.00"},{"v":0,"d":"0.00"}]
[{"$f":"SUBTOTAL(3,$B$7:B755)","v":23},"TXL6-071拆","40km 以上光缆中继段测试 576 芯以上","台班",{"$f":"'表三 甲'!E1529","v":{"v":0,"d":"0.00"}},"稳定光源",2.88,{"v":117,"d":"117.00"},{"v":0,"d":"0.00"},{"v":0,"d":"0.00"}]
[{"$f":"SUBTOTAL(3,$B$7:B756)","v":23},"TXL6-072拆","40km 以下光缆中继段测试 12 芯以下","台班",{"$f":"'表三 甲'!E1530","v":{"v":0,"d":"0.00"}},"光功率计",0.3,{"v":116,"d":"116.00"},{"v":0,"d":"0.00"},{"v":0,"d":"0.00"}]
[{"$f":"SUBTOTAL(3,$B$7:B757)","v":23},"TXL6-072拆","40km 以下光缆中继段测试 12 芯以下","台班",{"$f":"'表三 甲'!E1530","v":{"v":0,"d":"0.00"}},"光时域反射仪",0.3,{"v":153,"d":"153.00"},{"v":0,"d":"0.00"},{"v":0,"d":"0.00"}]
[{"$f":"SUBTOTAL(3,$B$7:B758)","v":23},"TXL6-072拆","40km 以下光缆中继段测试 12 芯以下","台班",{"$f":"'表三 甲'!E1530","v":{"v":0,"d":"0.00"}},"偏振模色散测试仪",0.3,{"v":455,"d":"455.00"},{"v":0,"d":"0.00"},{"v":0,"d":"0.00"}]
[{"$f":"SUBTOTAL(3,$B$7:B759)","v":23},"TXL6-072拆","40km 以下光缆中继段测试 12 芯以下","台班",{"$f":"'表三 甲'!E1530","v":{"v":0,"d":"0.00"}},"稳定光源",0.3,{"v":117,"d":"117.00"},{"v":0,"d":"0.00"},{"v":0,"d":"0.00"}]
[{"$f":"SUBTOTAL(3,$B$7:B760)","v":23},"TXL6-073拆","40km 以下光缆中继段测试 24 芯以下","台班",{"$f":"'表三 甲'!E1531","v":{"v":0,"d":"0.00"}},"偏振模色散测试仪",0.42,{"v":455,"d":"455.00"},{"$f":"E760*G760","v":{"v":0,"d":"0.00"}},{"$f":"H760*I760","v":{"v":0,"d":"0.00"}}]
[{"$f":"SUBTOTAL(3,$B$7:B761)","v":23},"TXL6-073拆","40km 以下光缆中继段测试 24 芯以下","台班",{"$f":"'表三 甲'!E1531","v":{"v":0,"d":"0.00"}},"稳定光源",0.42,{"v":117,"d":"117.00"},{"v":0,"d":"0.00"},{"v":0,"d":"0.00"}]
[{"$f":"SUBTOTAL(3,$B$7:B762)","v":23},"TXL6-073拆","40km 以下光缆中继段测试 24 芯以下","台班",{"$f":"'表三 甲'!E1531","v":{"v":0,"d":"0.00"}},"光时域反射仪",0.42,{"v":153,"d":"153.00"},{"v":0,"d":"0.00"},{"v":0,"d":"0.00"}]
[{"$f":"SUBTOTAL(3,$B$7:B763)","v":23},"TXL6-073拆","40km 以下光缆中继段测试 24 芯以下","台班",{"$f":"'表三 甲'!E1531","v":{"v":0,"d":"0.00"}},"光功率计",0.42,{"v":116,"d":"116.00"},{"v":0,"d":"0.00"},{"v":0,"d":"0.00"}]
[{"$f":"SUBTOTAL(3,$B$7:B764)","v":23},"TXL6-074拆","40km 以下光缆中继段测试 36 芯以下","台班",{"$f":"'表三 甲'!E1532","v":{"v":0,"d":"0.00"}},"偏振模色散测试仪",0.57,{"v":455,"d":"455.00"},{"v":0,"d":"0.00"},{"v":0,"d":"0.00"}]
[{"$f":"SUBTOTAL(3,$B$7:B765)","v":23},"TXL6-074拆","40km 以下光缆中继段测试 36 芯以下","台班",{"$f":"'表三 甲'!E1532","v":{"v":0,"d":"0.00"}},"光时域反射仪",0.57,{"v":153,"d":"153.00"},{"v":0,"d":"0.00"},{"v":0,"d":"0.00"}]
[{"$f":"SUBTOTAL(3,$B$7:B766)","v":23},"TXL6-074拆","40km 以下光缆中继段测试 36 芯以下","台班",{"$f":"'表三 甲'!E1532","v":{"v":0,"d":"0.00"}},"光功率计",0.57,{"v":116,"d":"116.00"},{"v":0,"d":"0.00"},{"v":0,"d":"0.00"}]
[{"$f":"SUBTOTAL(3,$B$7:B767)","v":23},"TXL6-074拆","40km 以下光缆中继段测试 36 芯以下","台班",{"$f":"'表三 甲'!E1532","v":{"v":0,"d":"0.00"}},"稳定光源",0.57,{"v":117,"d":"117.00"},{"v":0,"d":"0.00"},{"v":0,"d":"0.00"}]
[{"$f":"SUBTOTAL(3,$B$7:B768)","v":23},"TXL6-075拆","40km 以下光缆中继段测试 48 芯以下","台班",{"$f":"'表三 甲'!E1533","v":{"v":0,"d":"0.00"}},"偏振模色散测试仪",0.72,{"v":455,"d":"455.00"},{"v":0,"d":"0.00"},{"v":0,"d":"0.00"}]
[{"$f":"SUBTOTAL(3,$B$7:B769)","v":23},"TXL6-075拆","40km 以下光缆中继段测试 48 芯以下","台班",{"$f":"'表三 甲'!E1533","v":{"v":0,"d":"0.00"}},"光功率计",0.72,{"v":116,"d":"116.00"},{"v":0,"d":"0.00"},{"v":0,"d":"0.00"}]
[{"$f":"SUBTOTAL(3,$B$7:B770)","v":23},"TXL6-075拆","40km 以下光缆中继段测试 48 芯以下","台班",{"$f":"'表三 甲'!E1533","v":{"v":0,"d":"0.00"}},"稳定光源",0.72,{"v":117,"d":"117.00"},{"v":0,"d":"0.00"},{"v":0,"d":"0.00"}]
[{"$f":"SUBTOTAL(3,$B$7:B771)","v":23},"TXL6-075拆","40km 以下光缆中继段测试 48 芯以下","台班",{"$f":"'表三 甲'!E1533","v":{"v":0,"d":"0.00"}},"光时域反射仪",0.72,{"v":153,"d":"153.00"},{"v":0,"d":"0.00"},{"v":0,"d":"0.00"}]
[{"$f":"SUBTOTAL(3,$B$7:B772)","v":23},"TXL6-076拆","40km 以下光缆中继段测试 60 芯以下","台班",{"$f":"'表三 甲'!E1534","v":{"v":0,"d":"0.00"}},"稳定光源",0.84,{"v":117,"d":"117.00"},{"v":0,"d":"0.00"},{"v":0,"d":"0.00"}]
[{"$f":"SUBTOTAL(3,$B$7:B773)","v":23},"TXL6-076拆","40km 以下光缆中继段测试 60 芯以下","台班",{"$f":"'表三 甲'!E1534","v":{"v":0,"d":"0.00"}},"偏振模色散测试仪",0.84,{"v":455,"d":"455.00"},{"v":0,"d":"0.00"},{"v":0,"d":"0.00"}]
[{"$f":"SUBTOTAL(3,$B$7:B774)","v":23},"TXL6-076拆","40km 以下光缆中继段测试 60 芯以下","台班",{"$f":"'表三 甲'!E1534","v":{"v":0,"d":"0.00"}},"光功率计",0.84,{"v":116,"d":"116.00"},{"v":0,"d":"0.00"},{"v":0,"d":"0.00"}]
[{"$f":"SUBTOTAL(3,$B$7:B775)","v":23},"TXL6-076拆","40km 以下光缆中继段测试 60 芯以下","台班",{"$f":"'表三 甲'!E1534","v":{"v":0,"d":"0.00"}},"光时域反射仪",0.84,{"v":153,"d":"153.00"},{"v":0,"d":"0.00"},{"v":0,"d":"0.00"}]
[{"$f":"SUBTOTAL(3,$B$7:B776)","v":23},"TXL6-077拆","40km 以下光缆中继段测试 72 芯以下","台班",{"$f":"'表三 甲'!E1535","v":{"v":0,"d":"0.00"}},"偏振模色散测试仪",0.96,{"v":455,"d":"455.00"},{"v":0,"d":"0.00"},{"v":0,"d":"0.00"}]
[{"$f":"SUBTOTAL(3,$B$7:B777)","v":23},"TXL6-077拆","40km 以下光缆中继段测试 72 芯以下","台班",{"$f":"'表三 甲'!E1535","v":{"v":0,"d":"0.00"}},"光功率计",0.96,{"v":116,"d":"116.00"},{"v":0,"d":"0.00"},{"v":0,"d":"0.00"}]
[{"$f":"SUBTOTAL(3,$B$7:B778)","v":23},"TXL6-077拆","40km 以下光缆中继段测试 72 芯以下","台班",{"$f":"'表三 甲'!E1535","v":{"v":0,"d":"0.00"}},"光时域反射仪",0.96,{"v":153,"d":"153.00"},{"v":0,"d":"0.00"},{"v":0,"d":"0.00"}]
[{"$f":"SUBTOTAL(3,$B$7:B779)","v":23},"TXL6-077拆","40km 以下光缆中继段测试 72 芯以下","台班",{"$f":"'表三 甲'!E1535","v":{"v":0,"d":"0.00"}},"稳定光源",0.96,{"v":117,"d":"117.00"},{"v":0,"d":"0.00"},{"v":0,"d":"0.00"}]
[{"$f":"SUBTOTAL(3,$B$7:B780)","v":23},"TXL6-078拆","40km 以下光缆中继段测试 84 芯以下","台班",{"$f":"'表三 甲'!E1536","v":{"v":0,"d":"0.00"}},"偏振模色散测试仪",1.04,{"v":455,"d":"455.00"},{"v":0,"d":"0.00"},{"v":0,"d":"0.00"}]
[{"$f":"SUBTOTAL(3,$B$7:B781)","v":23},"TXL6-078拆","40km 以下光缆中继段测试 84 芯以下","台班",{"$f":"'表三 甲'!E1536","v":{"v":0,"d":"0.00"}},"稳定光源",1.04,{"v":117,"d":"117.00"},{"v":0,"d":"0.00"},{"v":0,"d":"0.00"}]
[{"$f":"SUBTOTAL(3,$B$7:B782)","v":23},"TXL6-078拆","40km 以下光缆中继段测试 84 芯以下","台班",{"$f":"'表三 甲'!E1536","v":{"v":0,"d":"0.00"}},"光功率计",1.04,{"v":116,"d":"116.00"},{"v":0,"d":"0.00"},{"v":0,"d":"0.00"}]
[{"$f":"SUBTOTAL(3,$B$7:B783)","v":23},"TXL6-078拆","40km 以下光缆中继段测试 84 芯以下","台班",{"$f":"'表三 甲'!E1536","v":{"v":0,"d":"0.00"}},"光时域反射仪",1.04,{"v":153,"d":"153.00"},{"v":0,"d":"0.00"},{"v":0,"d":"0.00"}]
[{"$f":"SUBTOTAL(3,$B$7:B784)","v":23},"TXL6-079拆","40km 以下光缆中继段测试 96 芯以下","台班",{"$f":"'表三 甲'!E1537","v":{"v":0,"d":"0.00"}},"偏振模色散测试仪",1.14,{"v":455,"d":"455.00"},{"v":0,"d":"0.00"},{"v":0,"d":"0.00"}]
[{"$f":"SUBTOTAL(3,$B$7:B785)","v":23},"TXL6-079拆","40km 以下光缆中继段测试 96 芯以下","台班",{"$f":"'表三 甲'!E1537","v":{"v":0,"d":"0.00"}},"光时域反射仪",1.14,{"v":153,"d":"153.00"},{"v":0,"d":"0.00"},{"v":0,"d":"0.00"}]
[{"$f":"SUBTOTAL(3,$B$7:B786)","v":23},"TXL6-079拆","40km 以下光缆中继段测试 96 芯以下","台班",{"$f":"'表三 甲'!E1537","v":{"v":0,"d":"0.00"}},"光功率计",1.14,{"v":116,"d":"116.00"},{"v":0,"d":"0.00"},{"v":0,"d":"0.00"}]
[{"$f":"SUBTOTAL(3,$B$7:B787)","v":23},"TXL6-079拆","40km 以下光缆中继段测试 96 芯以下","台班",{"$f":"'表三 甲'!E1537","v":{"v":0,"d":"0.00"}},"稳定光源",1.14,{"v":117,"d":"117.00"},{"v":0,"d":"0.00"},{"v":0,"d":"0.00"}]
[{"$f":"SUBTOTAL(3,$B$7:B788)","v":23},"TXL6-080拆","40km 以下光缆中继段测试 108 芯以下","台班",{"$f":"'表三 甲'!E1538","v":{"v":0,"d":"0.00"}},"光时域反射仪",1.2,{"v":153,"d":"153.00"},{"v":0,"d":"0.00"},{"v":0,"d":"0.00"}]
[{"$f":"SUBTOTAL(3,$B$7:B789)","v":23},"TXL6-080拆","40km 以下光缆中继段测试 108 芯以下","台班",{"$f":"'表三 甲'!E1538","v":{"v":0,"d":"0.00"}},"光功率计",1.2,{"v":116,"d":"116.00"},{"v":0,"d":"0.00"},{"v":0,"d":"0.00"}]
[{"$f":"SUBTOTAL(3,$B$7:B790)","v":23},"TXL6-080拆","40km 以下光缆中继段测试 108 芯以下","台班",{"$f":"'表三 甲'!E1538","v":{"v":0,"d":"0.00"}},"偏振模色散测试仪",1.2,{"v":455,"d":"455.00"},{"v":0,"d":"0.00"},{"v":0,"d":"0.00"}]
[{"$f":"SUBTOTAL(3,$B$7:B791)","v":23},"TXL6-080拆","40km 以下光缆中继段测试 108 芯以下","台班",{"$f":"'表三 甲'!E1538","v":{"v":0,"d":"0.00"}},"稳定光源",1.2,{"v":117,"d":"117.00"},{"v":0,"d":"0.00"},{"v":0,"d":"0.00"}]
[{"$f":"SUBTOTAL(3,$B$7:B792)","v":23},"TXL6-081拆","40km 以下光缆中继段测试 132 芯以下","台班",{"$f":"'表三 甲'!E1539","v":{"v":0,"d":"0.00"}},"光功率计",1.26,{"v":116,"d":"116.00"},{"v":0,"d":"0.00"},{"v":0,"d":"0.00"}]
[{"$f":"SUBTOTAL(3,$B$7:B793)","v":23},"TXL6-081拆","40km 以下光缆中继段测试 132 芯以下","台班",{"$f":"'表三 甲'!E1539","v":{"v":0,"d":"0.00"}},"光时域反射仪",1.26,{"v":153,"d":"153.00"},{"v":0,"d":"0.00"},{"v":0,"d":"0.00"}]
[{"$f":"SUBTOTAL(3,$B$7:B794)","v":23},"TXL6-081拆","40km 以下光缆中继段测试 132 芯以下","台班",{"$f":"'表三 甲'!E1539","v":{"v":0,"d":"0.00"}},"稳定光源",1.26,{"v":117,"d":"117.00"},{"v":0,"d":"0.00"},{"v":0,"d":"0.00"}]
[{"$f":"SUBTOTAL(3,$B$7:B795)","v":23},"TXL6-081拆","40km 以下光缆中继段测试 132 芯以下","台班",{"$f":"'表三 甲'!E1539","v":{"v":0,"d":"0.00"}},"偏振模色散测试仪",1.26,{"v":455,"d":"455.00"},{"v":0,"d":"0.00"},{"v":0,"d":"0.00"}]
[{"$f":"SUBTOTAL(3,$B$7:B796)","v":23},"TXL6-082拆","40km 以下光缆中继段测试 144 芯以下","台班",{"$f":"'表三 甲'!E1540","v":{"v":0,"d":"0.00"}},"光时域反射仪",1.32,{"v":153,"d":"153.00"},{"v":0,"d":"0.00"},{"v":0,"d":"0.00"}]
[{"$f":"SUBTOTAL(3,$B$7:B797)","v":23},"TXL6-082拆","40km 以下光缆中继段测试 144 芯以下","台班",{"$f":"'表三 甲'!E1540","v":{"v":0,"d":"0.00"}},"偏振模色散测试仪",1.32,{"v":455,"d":"455.00"},{"v":0,"d":"0.00"},{"v":0,"d":"0.00"}]
[{"$f":"SUBTOTAL(3,$B$7:B798)","v":23},"TXL6-082拆","40km 以下光缆中继段测试 144 芯以下","台班",{"$f":"'表三 甲'!E1540","v":{"v":0,"d":"0.00"}},"稳定光源",1.32,{"v":117,"d":"117.00"},{"v":0,"d":"0.00"},{"v":0,"d":"0.00"}]
[{"$f":"SUBTOTAL(3,$B$7:B799)","v":23},"TXL6-082拆","40km 以下光缆中继段测试 144 芯以下","台班",{"$f":"'表三 甲'!E1540","v":{"v":0,"d":"0.00"}},"光功率计",1.32,{"v":116,"d":"116.00"},{"v":0,"d":"0.00"},{"v":0,"d":"0.00"}]
[{"$f":"SUBTOTAL(3,$B$7:B800)","v":23},"TXL6-083拆","40km 以下光缆中继段测试 168 芯以下","台班",{"$f":"'表三 甲'!E1541","v":{"v":0,"d":"0.00"}},"光功率计",1.38,{"v":116,"d":"116.00"},{"v":0,"d":"0.00"},{"v":0,"d":"0.00"}]
[{"$f":"SUBTOTAL(3,$B$7:B801)","v":23},"TXL6-083拆","40km 以下光缆中继段测试 168 芯以下","台班",{"$f":"'表三 甲'!E1541","v":{"v":0,"d":"0.00"}},"稳定光源",1.38,{"v":117,"d":"117.00"},{"v":0,"d":"0.00"},{"v":0,"d":"0.00"}]
[{"$f":"SUBTOTAL(3,$B$7:B802)","v":23},"TXL6-083拆","40km 以下光缆中继段测试 168 芯以下","台班",{"$f":"'表三 甲'!E1541","v":{"v":0,"d":"0.00"}},"偏振模色散测试仪",1.38,{"v":455,"d":"455.00"},{"v":0,"d":"0.00"},{"v":0,"d":"0.00"}]
[{"$f":"SUBTOTAL(3,$B$7:B803)","v":23},"TXL6-083拆","40km 以下光缆中继段测试 168 芯以下","台班",{"$f":"'表三 甲'!E1541","v":{"v":0,"d":"0.00"}},"光时域反射仪",1.38,{"v":153,"d":"153.00"},{"v":0,"d":"0.00"},{"v":0,"d":"0.00"}]
[{"$f":"SUBTOTAL(3,$B$7:B804)","v":23},"TXL6-084拆","40km 以下光缆中继段测试 192 芯以下","台班",{"$f":"'表三 甲'!E1542","v":{"v":0,"d":"0.00"}},"稳定光源",1.44,{"v":117,"d":"117.00"},{"v":0,"d":"0.00"},{"v":0,"d":"0.00"}]
[{"$f":"SUBTOTAL(3,$B$7:B805)","v":23},"TXL6-084拆","40km 以下光缆中继段测试 192 芯以下","台班",{"$f":"'表三 甲'!E1542","v":{"v":0,"d":"0.00"}},"偏振模色散测试仪",1.44,{"v":455,"d":"455.00"},{"v":0,"d":"0.00"},{"v":0,"d":"0.00"}]
[{"$f":"SUBTOTAL(3,$B$7:B806)","v":23},"TXL6-084拆","40km 以下光缆中继段测试 192 芯以下","台班",{"$f":"'表三 甲'!E1542","v":{"v":0,"d":"0.00"}},"光时域反射仪",1.44,{"v":153,"d":"153.00"},{"v":0,"d":"0.00"},{"v":0,"d":"0.00"}]
[{"$f":"SUBTOTAL(3,$B$7:B807)","v":23},"TXL6-084拆","40km 以下光缆中继段测试 192 芯以下","台班",{"$f":"'表三 甲'!E1542","v":{"v":0,"d":"0.00"}},"光功率计",1.44,{"v":116,"d":"116.00"},{"v":0,"d":"0.00"},{"v":0,"d":"0.00"}]
[{"$f":"SUBTOTAL(3,$B$7:B808)","v":23},"TXL6-085拆","40km 以下光缆中继段测试 216 芯以下","台班",{"$f":"'表三 甲'!E1543","v":{"v":0,"d":"0.00"}},"光时域反射仪",1.5,{"v":153,"d":"153.00"},{"v":0,"d":"0.00"},{"v":0,"d":"0.00"}]
[{"$f":"SUBTOTAL(3,$B$7:B809)","v":23},"TXL6-085拆","40km 以下光缆中继段测试 216 芯以下","台班",{"$f":"'表三 甲'!E1543","v":{"v":0,"d":"0.00"}},"偏振模色散测试仪",1.5,{"v":455,"d":"455.00"},{"v":0,"d":"0.00"},{"v":0,"d":"0.00"}]
[{"$f":"SUBTOTAL(3,$B$7:B810)","v":23},"TXL6-085拆","40km 以下光缆中继段测试 216 芯以下","台班",{"$f":"'表三 甲'!E1543","v":{"v":0,"d":"0.00"}},"光功率计",1.5,{"v":116,"d":"116.00"},{"v":0,"d":"0.00"},{"v":0,"d":"0.00"}]
[{"$f":"SUBTOTAL(3,$B$7:B811)","v":23},"TXL6-085拆","40km 以下光缆中继段测试 216 芯以下","台班",{"$f":"'表三 甲'!E1543","v":{"v":0,"d":"0.00"}},"稳定光源",1.5,{"v":117,"d":"117.00"},{"v":0,"d":"0.00"},{"v":0,"d":"0.00"}]
[{"$f":"SUBTOTAL(3,$B$7:B812)","v":23},"TXL6-086拆","40km 以下光缆中继段测试 240 芯以下","台班",{"$f":"'表三 甲'!E1544","v":{"v":0,"d":"0.00"}},"偏振模色散测试仪",1.59,{"v":455,"d":"455.00"},{"v":0,"d":"0.00"},{"v":0,"d":"0.00"}]
[{"$f":"SUBTOTAL(3,$B$7:B813)","v":23},"TXL6-086拆","40km 以下光缆中继段测试 240 芯以下","台班",{"$f":"'表三 甲'!E1544","v":{"v":0,"d":"0.00"}},"光时域反射仪",1.59,{"v":153,"d":"153.00"},{"v":0,"d":"0.00"},{"v":0,"d":"0.00"}]
[{"$f":"SUBTOTAL(3,$B$7:B814)","v":23},"TXL6-086拆","40km 以下光缆中继段测试 240 芯以下","台班",{"$f":"'表三 甲'!E1544","v":{"v":0,"d":"0.00"}},"稳定光源",1.59,{"v":117,"d":"117.00"},{"v":0,"d":"0.00"},{"v":0,"d":"0.00"}]
[{"$f":"SUBTOTAL(3,$B$7:B815)","v":23},"TXL6-086拆","40km 以下光缆中继段测试 240 芯以下","台班",{"$f":"'表三 甲'!E1544","v":{"v":0,"d":"0.00"}},"光功率计",1.59,{"v":116,"d":"116.00"},{"v":0,"d":"0.00"},{"v":0,"d":"0.00"}]
[{"$f":"SUBTOTAL(3,$B$7:B816)","v":23},"TXL6-087拆","40km 以下光缆中继段测试 264 芯以下","台班",{"$f":"'表三 甲'!E1545","v":{"v":0,"d":"0.00"}},"稳定光源",1.65,{"v":117,"d":"117.00"},{"v":0,"d":"0.00"},{"v":0,"d":"0.00"}]
[{"$f":"SUBTOTAL(3,$B$7:B817)","v":23},"TXL6-087拆","40km 以下光缆中继段测试 264 芯以下","台班",{"$f":"'表三 甲'!E1545","v":{"v":0,"d":"0.00"}},"光功率计",1.65,{"v":116,"d":"116.00"},{"v":0,"d":"0.00"},{"v":0,"d":"0.00"}]
[{"$f":"SUBTOTAL(3,$B$7:B818)","v":23},"TXL6-087拆","40km 以下光缆中继段测试 264 芯以下","台班",{"$f":"'表三 甲'!E1545","v":{"v":0,"d":"0.00"}},"偏振模色散测试仪",1.65,{"v":455,"d":"455.00"},{"v":0,"d":"0.00"},{"v":0,"d":"0.00"}]
[{"$f":"SUBTOTAL(3,$B$7:B819)","v":23},"TXL6-087拆","40km 以下光缆中继段测试 264 芯以下","台班",{"$f":"'表三 甲'!E1545","v":{"v":0,"d":"0.00"}},"光时域反射仪",1.65,{"v":153,"d":"153.00"},{"v":0,"d":"0.00"},{"v":0,"d":"0.00"}]
[{"$f":"SUBTOTAL(3,$B$7:B820)","v":23},"TXL6-088拆","40km 以下光缆中继段测试 288 芯以下","台班",{"$f":"'表三 甲'!E1546","v":{"v":0,"d":"0.00"}},"偏振模色散测试仪",1.74,{"v":455,"d":"455.00"},{"v":0,"d":"0.00"},{"v":0,"d":"0.00"}]
[{"$f":"SUBTOTAL(3,$B$7:B821)","v":23},"TXL6-088拆","40km 以下光缆中继段测试 288 芯以下","台班",{"$f":"'表三 甲'!E1546","v":{"v":0,"d":"0.00"}},"光功率计",1.74,{"v":116,"d":"116.00"},{"v":0,"d":"0.00"},{"v":0,"d":"0.00"}]
[{"$f":"SUBTOTAL(3,$B$7:B822)","v":23},"TXL6-088拆","40km 以下光缆中继段测试 288 芯以下","台班",{"$f":"'表三 甲'!E1546","v":{"v":0,"d":"0.00"}},"稳定光源",1.74,{"v":117,"d":"117.00"},{"v":0,"d":"0.00"},{"v":0,"d":"0.00"}]
[{"$f":"SUBTOTAL(3,$B$7:B823)","v":23},"TXL6-088拆","40km 以下光缆中继段测试 288 芯以下","台班",{"$f":"'表三 甲'!E1546","v":{"v":0,"d":"0.00"}},"光时域反射仪",1.74,{"v":153,"d":"153.00"},{"v":0,"d":"0.00"},{"v":0,"d":"0.00"}]
[{"$f":"SUBTOTAL(3,$B$7:B824)","v":23},"TXL6-089拆","40km 以下光缆中继段测试 312 芯以下","台班",{"$f":"'表三 甲'!E1547","v":{"v":0,"d":"0.00"}},"光时域反射仪",1.86,{"v":153,"d":"153.00"},{"$f":"E824*G824","v":{"v":0,"d":"0.00"}},{"$f":"H824*I824","v":{"v":0,"d":"0.00"}}]
[{"$f":"SUBTOTAL(3,$B$7:B825)","v":23},"TXL6-089拆","40km 以下光缆中继段测试 312 芯以下","台班",{"$f":"'表三 甲'!E1547","v":{"v":0,"d":"0.00"}},"稳定光源",1.86,{"v":117,"d":"117.00"},{"v":0,"d":"0.00"},{"v":0,"d":"0.00"}]
[{"$f":"SUBTOTAL(3,$B$7:B826)","v":23},"TXL6-089拆","40km 以下光缆中继段测试 312 芯以下","台班",{"$f":"'表三 甲'!E1547","v":{"v":0,"d":"0.00"}},"光功率计",1.86,{"v":116,"d":"116.00"},{"v":0,"d":"0.00"},{"v":0,"d":"0.00"}]
[{"$f":"SUBTOTAL(3,$B$7:B827)","v":23},"TXL6-089拆","40km 以下光缆中继段测试 312 芯以下","台班",{"$f":"'表三 甲'!E1547","v":{"v":0,"d":"0.00"}},"偏振模色散测试仪",1.86,{"v":455,"d":"455.00"},{"v":0,"d":"0.00"},{"v":0,"d":"0.00"}]
[{"$f":"SUBTOTAL(3,$B$7:B828)","v":23},"TXL6-090拆","40km 以下光缆中继段测试 336 芯以下","台班",{"$f":"'表三 甲'!E1548","v":{"v":0,"d":"0.00"}},"偏振模色散测试仪",1.95,{"v":455,"d":"455.00"},{"v":0,"d":"0.00"},{"v":0,"d":"0.00"}]
[{"$f":"SUBTOTAL(3,$B$7:B829)","v":23},"TXL6-090拆","40km 以下光缆中继段测试 336 芯以下","台班",{"$f":"'表三 甲'!E1548","v":{"v":0,"d":"0.00"}},"稳定光源",1.95,{"v":117,"d":"117.00"},{"v":0,"d":"0.00"},{"v":0,"d":"0.00"}]
[{"$f":"SUBTOTAL(3,$B$7:B830)","v":23},"TXL6-090拆","40km 以下光缆中继段测试 336 芯以下","台班",{"$f":"'表三 甲'!E1548","v":{"v":0,"d":"0.00"}},"光时域反射仪",1.95,{"v":153,"d":"153.00"},{"v":0,"d":"0.00"},{"v":0,"d":"0.00"}]
[{"$f":"SUBTOTAL(3,$B$7:B831)","v":23},"TXL6-090拆","40km 以下光缆中继段测试 336 芯以下","台班",{"$f":"'表三 甲'!E1548","v":{"v":0,"d":"0.00"}},"光功率计",1.95,{"v":116,"d":"116.00"},{"v":0,"d":"0.00"},{"v":0,"d":"0.00"}]
[{"$f":"SUBTOTAL(3,$B$7:B832)","v":23},"TXL6-091拆","40km 以下光缆中继段测试 360 芯以下","台班",{"$f":"'表三 甲'!E1549","v":{"v":0,"d":"0.00"}},"光时域反射仪",2.04,{"v":153,"d":"153.00"},{"v":0,"d":"0.00"},{"v":0,"d":"0.00"}]
[{"$f":"SUBTOTAL(3,$B$7:B833)","v":23},"TXL6-091拆","40km 以下光缆中继段测试 360 芯以下","台班",{"$f":"'表三 甲'!E1549","v":{"v":0,"d":"0.00"}},"光功率计",2.04,{"v":116,"d":"116.00"},{"v":0,"d":"0.00"},{"v":0,"d":"0.00"}]
[{"$f":"SUBTOTAL(3,$B$7:B834)","v":23},"TXL6-091拆","40km 以下光缆中继段测试 360 芯以下","台班",{"$f":"'表三 甲'!E1549","v":{"v":0,"d":"0.00"}},"稳定光源",2.04,{"v":117,"d":"117.00"},{"v":0,"d":"0.00"},{"v":0,"d":"0.00"}]
[{"$f":"SUBTOTAL(3,$B$7:B835)","v":23},"TXL6-091拆","40km 以下光缆中继段测试 360 芯以下","台班",{"$f":"'表三 甲'!E1549","v":{"v":0,"d":"0.00"}},"偏振模色散测试仪",2.04,{"v":455,"d":"455.00"},{"v":0,"d":"0.00"},{"v":0,"d":"0.00"}]
[{"$f":"SUBTOTAL(3,$B$7:B836)","v":23},"TXL6-092拆","40km 以下光缆中继段测试 384 芯以下","台班",{"$f":"'表三 甲'!E1550","v":{"v":0,"d":"0.00"}},"稳定光源",2.1,{"v":117,"d":"117.00"},{"v":0,"d":"0.00"},{"v":0,"d":"0.00"}]
[{"$f":"SUBTOTAL(3,$B$7:B837)","v":23},"TXL6-092拆","40km 以下光缆中继段测试 384 芯以下","台班",{"$f":"'表三 甲'!E1550","v":{"v":0,"d":"0.00"}},"光功率计",2.1,{"v":116,"d":"116.00"},{"v":0,"d":"0.00"},{"v":0,"d":"0.00"}]
[{"$f":"SUBTOTAL(3,$B$7:B838)","v":23},"TXL6-092拆","40km 以下光缆中继段测试 384 芯以下","台班",{"$f":"'表三 甲'!E1550","v":{"v":0,"d":"0.00"}},"偏振模色散测试仪",2.1,{"v":455,"d":"455.00"},{"v":0,"d":"0.00"},{"v":0,"d":"0.00"}]
[{"$f":"SUBTOTAL(3,$B$7:B839)","v":23},"TXL6-092拆","40km 以下光缆中继段测试 384 芯以下","台班",{"$f":"'表三 甲'!E1550","v":{"v":0,"d":"0.00"}},"光时域反射仪",2.1,{"v":153,"d":"153.00"},{"v":0,"d":"0.00"},{"v":0,"d":"0.00"}]
[{"$f":"SUBTOTAL(3,$B$7:B840)","v":23},"TXL6-093拆","40km 以下光缆中继段测试 408 芯以下","台班",{"$f":"'表三 甲'!E1551","v":{"v":0,"d":"0.00"}},"光功率计",2.16,{"v":116,"d":"116.00"},{"v":0,"d":"0.00"},{"v":0,"d":"0.00"}]
[{"$f":"SUBTOTAL(3,$B$7:B841)","v":23},"TXL6-093拆","40km 以下光缆中继段测试 408 芯以下","台班",{"$f":"'表三 甲'!E1551","v":{"v":0,"d":"0.00"}},"稳定光源",2.16,{"v":117,"d":"117.00"},{"v":0,"d":"0.00"},{"v":0,"d":"0.00"}]
[{"$f":"SUBTOTAL(3,$B$7:B842)","v":23},"TXL6-093拆","40km 以下光缆中继段测试 408 芯以下","台班",{"$f":"'表三 甲'!E1551","v":{"v":0,"d":"0.00"}},"光时域反射仪",2.16,{"v":153,"d":"153.00"},{"v":0,"d":"0.00"},{"v":0,"d":"0.00"}]
[{"$f":"SUBTOTAL(3,$B$7:B843)","v":23},"TXL6-093拆","40km 以下光缆中继段测试 408 芯以下","台班",{"$f":"'表三 甲'!E1551","v":{"v":0,"d":"0.00"}},"偏振模色散测试仪",2.16,{"v":455,"d":"455.00"},{"v":0,"d":"0.00"},{"v":0,"d":"0.00"}]
[{"$f":"SUBTOTAL(3,$B$7:B844)","v":23},"TXL6-094拆","40km 以下光缆中继段测试 432 芯以下","台班",{"$f":"'表三 甲'!E1552","v":{"v":0,"d":"0.00"}},"稳定光源",2.19,{"v":117,"d":"117.00"},{"v":0,"d":"0.00"},{"v":0,"d":"0.00"}]
[{"$f":"SUBTOTAL(3,$B$7:B845)","v":23},"TXL6-094拆","40km 以下光缆中继段测试 432 芯以下","台班",{"$f":"'表三 甲'!E1552","v":{"v":0,"d":"0.00"}},"光功率计",2.19,{"v":116,"d":"116.00"},{"v":0,"d":"0.00"},{"v":0,"d":"0.00"}]
[{"$f":"SUBTOTAL(3,$B$7:B846)","v":23},"TXL6-094拆","40km 以下光缆中继段测试 432 芯以下","台班",{"$f":"'表三 甲'!E1552","v":{"v":0,"d":"0.00"}},"光时域反射仪",2.19,{"v":153,"d":"153.00"},{"v":0,"d":"0.00"},{"v":0,"d":"0.00"}]
[{"$f":"SUBTOTAL(3,$B$7:B847)","v":23},"TXL6-094拆","40km 以下光缆中继段测试 432 芯以下","台班",{"$f":"'表三 甲'!E1552","v":{"v":0,"d":"0.00"}},"偏振模色散测试仪",2.19,{"v":455,"d":"455.00"},{"v":0,"d":"0.00"},{"v":0,"d":"0.00"}]
[{"$f":"SUBTOTAL(3,$B$7:B848)","v":23},"TXL6-095拆","40km 以下光缆中继段测试 456 芯以下","台班",{"$f":"'表三 甲'!E1553","v":{"v":0,"d":"0.00"}},"光功率计",2.22,{"v":116,"d":"116.00"},{"v":0,"d":"0.00"},{"v":0,"d":"0.00"}]
[{"$f":"SUBTOTAL(3,$B$7:B849)","v":23},"TXL6-095拆","40km 以下光缆中继段测试 456 芯以下","台班",{"$f":"'表三 甲'!E1553","v":{"v":0,"d":"0.00"}},"稳定光源",2.22,{"v":117,"d":"117.00"},{"v":0,"d":"0.00"},{"v":0,"d":"0.00"}]
[{"$f":"SUBTOTAL(3,$B$7:B850)","v":23},"TXL6-095拆","40km 以下光缆中继段测试 456 芯以下","台班",{"$f":"'表三 甲'!E1553","v":{"v":0,"d":"0.00"}},"偏振模色散测试仪",2.22,{"v":455,"d":"455.00"},{"v":0,"d":"0.00"},{"v":0,"d":"0.00"}]
[{"$f":"SUBTOTAL(3,$B$7:B851)","v":23},"TXL6-095拆","40km 以下光缆中继段测试 456 芯以下","台班",{"$f":"'表三 甲'!E1553","v":{"v":0,"d":"0.00"}},"光时域反射仪",2.22,{"v":153,"d":"153.00"},{"v":0,"d":"0.00"},{"v":0,"d":"0.00"}]
[{"$f":"SUBTOTAL(3,$B$7:B852)","v":23},"TXL6-096拆","40km 以下光缆中继段测试 480 芯以下","台班",{"$f":"'表三 甲'!E1554","v":{"v":0,"d":"0.00"}},"光时域反射仪",2.28,{"v":153,"d":"153.00"},{"v":0,"d":"0.00"},{"v":0,"d":"0.00"}]
[{"$f":"SUBTOTAL(3,$B$7:B853)","v":23},"TXL6-096拆","40km 以下光缆中继段测试 480 芯以下","台班",{"$f":"'表三 甲'!E1554","v":{"v":0,"d":"0.00"}},"偏振模色散测试仪",2.28,{"v":455,"d":"455.00"},{"v":0,"d":"0.00"},{"v":0,"d":"0.00"}]
[{"$f":"SUBTOTAL(3,$B$7:B854)","v":23},"TXL6-096拆","40km 以下光缆中继段测试 480 芯以下","台班",{"$f":"'表三 甲'!E1554","v":{"v":0,"d":"0.00"}},"光功率计",2.28,{"v":116,"d":"116.00"},{"v":0,"d":"0.00"},{"v":0,"d":"0.00"}]
[{"$f":"SUBTOTAL(3,$B$7:B855)","v":23},"TXL6-096拆","40km 以下光缆中继段测试 480 芯以下","台班",{"$f":"'表三 甲'!E1554","v":{"v":0,"d":"0.00"}},"稳定光源",2.28,{"v":117,"d":"117.00"},{"v":0,"d":"0.00"},{"v":0,"d":"0.00"}]
[{"$f":"SUBTOTAL(3,$B$7:B856)","v":23},"TXL6-097拆","40km 以下光缆中继段测试 504 芯以下","台班",{"$f":"'表三 甲'!E1555","v":{"v":0,"d":"0.00"}},"光功率计",2.32,{"v":116,"d":"116.00"},{"v":0,"d":"0.00"},{"v":0,"d":"0.00"}]
[{"$f":"SUBTOTAL(3,$B$7:B857)","v":23},"TXL6-097拆","40km 以下光缆中继段测试 504 芯以下","台班",{"$f":"'表三 甲'!E1555","v":{"v":0,"d":"0.00"}},"偏振模色散测试仪",2.32,{"v":455,"d":"455.00"},{"v":0,"d":"0.00"},{"v":0,"d":"0.00"}]
[{"$f":"SUBTOTAL(3,$B$7:B858)","v":23},"TXL6-097拆","40km 以下光缆中继段测试 504 芯以下","台班",{"$f":"'表三 甲'!E1555","v":{"v":0,"d":"0.00"}},"稳定光源",2.32,{"v":117,"d":"117.00"},{"v":0,"d":"0.00"},{"v":0,"d":"0.00"}]
[{"$f":"SUBTOTAL(3,$B$7:B859)","v":23},"TXL6-097拆","40km 以下光缆中继段测试 504 芯以下","台班",{"$f":"'表三 甲'!E1555","v":{"v":0,"d":"0.00"}},"光时域反射仪",2.32,{"v":153,"d":"153.00"},{"v":0,"d":"0.00"},{"v":0,"d":"0.00"}]
[{"$f":"SUBTOTAL(3,$B$7:B860)","v":23},"TXL6-098拆","40km 以下光缆中继段测试 528 芯以下","台班",{"$f":"'表三 甲'!E1556","v":{"v":0,"d":"0.00"}},"稳定光源",2.34,{"v":117,"d":"117.00"},{"v":0,"d":"0.00"},{"v":0,"d":"0.00"}]
[{"$f":"SUBTOTAL(3,$B$7:B861)","v":23},"TXL6-098拆","40km 以下光缆中继段测试 528 芯以下","台班",{"$f":"'表三 甲'!E1556","v":{"v":0,"d":"0.00"}},"光时域反射仪",2.34,{"v":153,"d":"153.00"},{"v":0,"d":"0.00"},{"v":0,"d":"0.00"}]
[{"$f":"SUBTOTAL(3,$B$7:B862)","v":23},"TXL6-098拆","40km 以下光缆中继段测试 528 芯以下","台班",{"$f":"'表三 甲'!E1556","v":{"v":0,"d":"0.00"}},"偏振模色散测试仪",2.34,{"v":455,"d":"455.00"},{"v":0,"d":"0.00"},{"v":0,"d":"0.00"}]
[{"$f":"SUBTOTAL(3,$B$7:B863)","v":23},"TXL6-098拆","40km 以下光缆中继段测试 528 芯以下","台班",{"$f":"'表三 甲'!E1556","v":{"v":0,"d":"0.00"}},"光功率计",2.34,{"v":116,"d":"116.00"},{"v":0,"d":"0.00"},{"v":0,"d":"0.00"}]
[{"$f":"SUBTOTAL(3,$B$7:B864)","v":23},"TXL6-099拆","40km 以下光缆中继段测试 576 芯以下","台班",{"$f":"'表三 甲'!E1557","v":{"v":0,"d":"0.00"}},"光功率计",2.37,{"v":116,"d":"116.00"},{"v":0,"d":"0.00"},{"v":0,"d":"0.00"}]
[{"$f":"SUBTOTAL(3,$B$7:B865)","v":23},"TXL6-099拆","40km 以下光缆中继段测试 576 芯以下","台班",{"$f":"'表三 甲'!E1557","v":{"v":0,"d":"0.00"}},"光时域反射仪",2.37,{"v":153,"d":"153.00"},{"v":0,"d":"0.00"},{"v":0,"d":"0.00"}]
[{"$f":"SUBTOTAL(3,$B$7:B866)","v":23},"TXL6-099拆","40km 以下光缆中继段测试 576 芯以下","台班",{"$f":"'表三 甲'!E1557","v":{"v":0,"d":"0.00"}},"稳定光源",2.37,{"v":117,"d":"117.00"},{"v":0,"d":"0.00"},{"v":0,"d":"0.00"}]
[{"$f":"SUBTOTAL(3,$B$7:B867)","v":23},"TXL6-099拆","40km 以下光缆中继段测试 576 芯以下","台班",{"$f":"'表三 甲'!E1557","v":{"v":0,"d":"0.00"}},"偏振模色散测试仪",2.37,{"v":455,"d":"455.00"},{"v":0,"d":"0.00"},{"v":0,"d":"0.00"}]
[{"$f":"SUBTOTAL(3,$B$7:B868)","v":23},"TXL6-100拆","40km 以下光缆中继段测试 576 芯以上","台班",{"$f":"'表三 甲'!E1558","v":{"v":0,"d":"0.00"}},"光时域反射仪",2.4,{"v":153,"d":"153.00"},{"v":0,"d":"0.00"},{"v":0,"d":"0.00"}]
[{"$f":"SUBTOTAL(3,$B$7:B869)","v":23},"TXL6-100拆","40km 以下光缆中继段测试 576 芯以上","台班",{"$f":"'表三 甲'!E1558","v":{"v":0,"d":"0.00"}},"光功率计",2.4,{"v":116,"d":"116.00"},{"v":0,"d":"0.00"},{"v":0,"d":"0.00"}]
[{"$f":"SUBTOTAL(3,$B$7:B870)","v":23},"TXL6-100拆","40km 以下光缆中继段测试 576 芯以上","台班",{"$f":"'表三 甲'!E1558","v":{"v":0,"d":"0.00"}},"偏振模色散测试仪",2.4,{"v":455,"d":"455.00"},{"v":0,"d":"0.00"},{"v":0,"d":"0.00"}]
[{"$f":"SUBTOTAL(3,$B$7:B871)","v":23},"TXL6-100拆","40km 以下光缆中继段测试 576 芯以上","台班",{"$f":"'表三 甲'!E1558","v":{"v":0,"d":"0.00"}},"稳定光源",2.4,{"v":117,"d":"117.00"},{"v":0,"d":"0.00"},{"v":0,"d":"0.00"}]
[{"$f":"SUBTOTAL(3,$B$7:B872)","v":23},"TXL6-101拆","用户光缆测试 2 芯以下","台班",{"$f":"'表三 甲'!E1559","v":{"v":0,"d":"0.00"}},"稳定光源",0.05,{"v":117,"d":"117.00"},{"v":0,"d":"0.00"},{"v":0,"d":"0.00"}]
[{"$f":"SUBTOTAL(3,$B$7:B873)","v":23},"TXL6-101拆","用户光缆测试 2 芯以下","台班",{"$f":"'表三 甲'!E1559","v":{"v":0,"d":"0.00"}},"光功率计",0.05,{"v":116,"d":"116.00"},{"v":0,"d":"0.00"},{"v":0,"d":"0.00"}]
[{"$f":"SUBTOTAL(3,$B$7:B874)","v":23},"TXL6-101拆","用户光缆测试 2 芯以下","台班",{"$f":"'表三 甲'!E1559","v":{"v":0,"d":"0.00"}},"光时域反射仪",0.05,{"v":153,"d":"153.00"},{"v":0,"d":"0.00"},{"v":0,"d":"0.00"}]
[{"$f":"SUBTOTAL(3,$B$7:B875)","v":23},"TXL6-102拆","用户光缆测试 6 芯以下","台班",{"$f":"'表三 甲'!E1560","v":{"v":0,"d":"0.00"}},"光时域反射仪",0.08,{"v":153,"d":"153.00"},{"v":0,"d":"0.00"},{"v":0,"d":"0.00"}]
[{"$f":"SUBTOTAL(3,$B$7:B876)","v":23},"TXL6-102拆","用户光缆测试 6 芯以下","台班",{"$f":"'表三 甲'!E1560","v":{"v":0,"d":"0.00"}},"稳定光源",0.08,{"v":117,"d":"117.00"},{"v":0,"d":"0.00"},{"v":0,"d":"0.00"}]
[{"$f":"SUBTOTAL(3,$B$7:B877)","v":23},"TXL6-102拆","用户光缆测试 6 芯以下","台班",{"$f":"'表三 甲'!E1560","v":{"v":0,"d":"0.00"}},"光功率计",0.08,{"v":116,"d":"116.00"},{"v":0,"d":"0.00"},{"v":0,"d":"0.00"}]
[{"$f":"SUBTOTAL(3,$B$7:B878)","v":23},"TXL6-103拆","用户光缆测试 12 芯以下","台班",{"$f":"'表三 甲'!E1561","v":{"v":0,"d":"0.00"}},"稳定光源",0.15,{"v":117,"d":"117.00"},{"v":0,"d":"0.00"},{"v":0,"d":"0.00"}]
[{"$f":"SUBTOTAL(3,$B$7:B879)","v":23},"TXL6-103拆","用户光缆测试 12 芯以下","台班",{"$f":"'表三 甲'!E1561","v":{"v":0,"d":"0.00"}},"光时域反射仪",0.15,{"v":153,"d":"153.00"},{"v":0,"d":"0.00"},{"v":0,"d":"0.00"}]
[{"$f":"SUBTOTAL(3,$B$7:B880)","v":23},"TXL6-103拆","用户光缆测试 12 芯以下","台班",{"$f":"'表三 甲'!E1561","v":{"v":0,"d":"0.00"}},"光功率计",0.15,{"v":116,"d":"116.00"},{"v":0,"d":"0.00"},{"v":0,"d":"0.00"}]
[{"$f":"SUBTOTAL(3,$B$7:B881)","v":23},"TXL6-104拆","用户光缆测试 24 芯以下","台班",{"$f":"'表三 甲'!E1562","v":{"v":0,"d":"0.00"}},"光时域反射仪",0.21,{"v":153,"d":"153.00"},{"v":0,"d":"0.00"},{"v":0,"d":"0.00"}]
[{"$f":"SUBTOTAL(3,$B$7:B882)","v":23},"TXL6-104拆","用户光缆测试 24 芯以下","台班",{"$f":"'表三 甲'!E1562","v":{"v":0,"d":"0.00"}},"光功率计",0.21,{"v":116,"d":"116.00"},{"v":0,"d":"0.00"},{"v":0,"d":"0.00"}]
[{"$f":"SUBTOTAL(3,$B$7:B883)","v":23},"TXL6-104拆","用户光缆测试 24 芯以下","台班",{"$f":"'表三 甲'!E1562","v":{"v":0,"d":"0.00"}},"稳定光源",0.21,{"v":117,"d":"117.00"},{"v":0,"d":"0.00"},{"v":0,"d":"0.00"}]
[{"$f":"SUBTOTAL(3,$B$7:B884)","v":23},"TXL6-105拆","用户光缆测试 36 芯以下","台班",{"$f":"'表三 甲'!E1563","v":{"v":0,"d":"0.00"}},"稳定光源",0.29,{"v":117,"d":"117.00"},{"v":0,"d":"0.00"},{"v":0,"d":"0.00"}]
[{"$f":"SUBTOTAL(3,$B$7:B885)","v":23},"TXL6-105拆","用户光缆测试 36 芯以下","台班",{"$f":"'表三 甲'!E1563","v":{"v":0,"d":"0.00"}},"光功率计",0.29,{"v":116,"d":"116.00"},{"v":0,"d":"0.00"},{"v":0,"d":"0.00"}]
[{"$f":"SUBTOTAL(3,$B$7:B886)","v":23},"TXL6-105拆","用户光缆测试 36 芯以下","台班",{"$f":"'表三 甲'!E1563","v":{"v":0,"d":"0.00"}},"光时域反射仪",0.29,{"v":153,"d":"153.00"},{"v":0,"d":"0.00"},{"v":0,"d":"0.00"}]
[{"$f":"SUBTOTAL(3,$B$7:B887)","v":23},"TXL6-106拆","用户光缆测试 48 芯以下","台班",{"$f":"'表三 甲'!E1564","v":{"v":0,"d":"0.00"}},"稳定光源",0.36,{"v":117,"d":"117.00"},{"v":0,"d":"0.00"},{"v":0,"d":"0.00"}]
[{"$f":"SUBTOTAL(3,$B$7:B888)","v":23},"TXL6-106拆","用户光缆测试 48 芯以下","台班",{"$f":"'表三 甲'!E1564","v":{"v":0,"d":"0.00"}},"光功率计",0.36,{"v":116,"d":"116.00"},{"$f":"E888*G888","v":{"v":0,"d":"0.00"}},{"$f":"H888*I888","v":{"v":0,"d":"0.00"}}]
[{"$f":"SUBTOTAL(3,$B$7:B889)","v":23},"TXL6-106拆","用户光缆测试 48 芯以下","台班",{"$f":"'表三 甲'!E1564","v":{"v":0,"d":"0.00"}},"光时域反射仪",0.36,{"v":153,"d":"153.00"},{"v":0,"d":"0.00"},{"v":0,"d":"0.00"}]
[{"$f":"SUBTOTAL(3,$B$7:B890)","v":23},"TXL6-107拆","用户光缆测试 60 芯以下","台班",{"$f":"'表三 甲'!E1565","v":{"v":0,"d":"0.00"}},"光功率计",0.42,{"v":116,"d":"116.00"},{"v":0,"d":"0.00"},{"v":0,"d":"0.00"}]
[{"$f":"SUBTOTAL(3,$B$7:B891)","v":23},"TXL6-107拆","用户光缆测试 60 芯以下","台班",{"$f":"'表三 甲'!E1565","v":{"v":0,"d":"0.00"}},"稳定光源",0.42,{"v":117,"d":"117.00"},{"v":0,"d":"0.00"},{"v":0,"d":"0.00"}]
[{"$f":"SUBTOTAL(3,$B$7:B892)","v":23},"TXL6-107拆","用户光缆测试 60 芯以下","台班",{"$f":"'表三 甲'!E1565","v":{"v":0,"d":"0.00"}},"光时域反射仪",0.42,{"v":153,"d":"153.00"},{"v":0,"d":"0.00"},{"v":0,"d":"0.00"}]
[{"$f":"SUBTOTAL(3,$B$7:B893)","v":23},"TXL6-108拆","用户光缆测试 72 芯以下","台班",{"$f":"'表三 甲'!E1566","v":{"v":0,"d":"0.00"}},"光时域反射仪",0.48,{"v":153,"d":"153.00"},{"v":0,"d":"0.00"},{"v":0,"d":"0.00"}]
[{"$f":"SUBTOTAL(3,$B$7:B894)","v":23},"TXL6-108拆","用户光缆测试 72 芯以下","台班",{"$f":"'表三 甲'!E1566","v":{"v":0,"d":"0.00"}},"光功率计",0.48,{"v":116,"d":"116.00"},{"v":0,"d":"0.00"},{"v":0,"d":"0.00"}]
[{"$f":"SUBTOTAL(3,$B$7:B895)","v":23},"TXL6-108拆","用户光缆测试 72 芯以下","台班",{"$f":"'表三 甲'!E1566","v":{"v":0,"d":"0.00"}},"稳定光源",0.48,{"v":117,"d":"117.00"},{"v":0,"d":"0.00"},{"v":0,"d":"0.00"}]
[{"$f":"SUBTOTAL(3,$B$7:B896)","v":23},"TXL6-109拆","用户光缆测试 84 芯以下","台班",{"$f":"'表三 甲'!E1567","v":{"v":0,"d":"0.00"}},"稳定光源",0.52,{"v":117,"d":"117.00"},{"v":0,"d":"0.00"},{"v":0,"d":"0.00"}]
[{"$f":"SUBTOTAL(3,$B$7:B897)","v":23},"TXL6-109拆","用户光缆测试 84 芯以下","台班",{"$f":"'表三 甲'!E1567","v":{"v":0,"d":"0.00"}},"光功率计",0.52,{"v":116,"d":"116.00"},{"v":0,"d":"0.00"},{"v":0,"d":"0.00"}]
[{"$f":"SUBTOTAL(3,$B$7:B898)","v":23},"TXL6-109拆","用户光缆测试 84 芯以下","台班",{"$f":"'表三 甲'!E1567","v":{"v":0,"d":"0.00"}},"光时域反射仪",0.52,{"v":153,"d":"153.00"},{"v":0,"d":"0.00"},{"v":0,"d":"0.00"}]
[{"$f":"SUBTOTAL(3,$B$7:B899)","v":23},"TXL6-110拆","用户光缆测试 96 芯以下","台班",{"$f":"'表三 甲'!E1568","v":{"v":0,"d":"0.00"}},"光时域反射仪",0.57,{"v":153,"d":"153.00"},{"v":0,"d":"0.00"},{"v":0,"d":"0.00"}]
[{"$f":"SUBTOTAL(3,$B$7:B900)","v":23},"TXL6-110拆","用户光缆测试 96 芯以下","台班",{"$f":"'表三 甲'!E1568","v":{"v":0,"d":"0.00"}},"稳定光源",0.57,{"v":117,"d":"117.00"},{"v":0,"d":"0.00"},{"v":0,"d":"0.00"}]
[{"$f":"SUBTOTAL(3,$B$7:B901)","v":23},"TXL6-110拆","用户光缆测试 96 芯以下","台班",{"$f":"'表三 甲'!E1568","v":{"v":0,"d":"0.00"}},"光功率计",0.57,{"v":116,"d":"116.00"},{"v":0,"d":"0.00"},{"v":0,"d":"0.00"}]
[{"$f":"SUBTOTAL(3,$B$7:B902)","v":23},"TXL6-111拆","用户光缆测试 108 芯以下","台班",{"$f":"'表三 甲'!E1569","v":{"v":0,"d":"0.00"}},"稳定光源",0.6,{"v":117,"d":"117.00"},{"v":0,"d":"0.00"},{"v":0,"d":"0.00"}]
[{"$f":"SUBTOTAL(3,$B$7:B903)","v":23},"TXL6-111拆","用户光缆测试 108 芯以下","台班",{"$f":"'表三 甲'!E1569","v":{"v":0,"d":"0.00"}},"光时域反射仪",0.6,{"v":153,"d":"153.00"},{"v":0,"d":"0.00"},{"v":0,"d":"0.00"}]
[{"$f":"SUBTOTAL(3,$B$7:B904)","v":23},"TXL6-111拆","用户光缆测试 108 芯以下","台班",{"$f":"'表三 甲'!E1569","v":{"v":0,"d":"0.00"}},"光功率计",0.6,{"v":116,"d":"116.00"},{"v":0,"d":"0.00"},{"v":0,"d":"0.00"}]
[{"$f":"SUBTOTAL(3,$B$7:B905)","v":23},"TXL6-112拆","用户光缆测试 132 芯以下","台班",{"$f":"'表三 甲'!E1570","v":{"v":0,"d":"0.00"}},"光功率计",0.63,{"v":116,"d":"116.00"},{"v":0,"d":"0.00"},{"v":0,"d":"0.00"}]
[{"$f":"SUBTOTAL(3,$B$7:B906)","v":23},"TXL6-112拆","用户光缆测试 132 芯以下","台班",{"$f":"'表三 甲'!E1570","v":{"v":0,"d":"0.00"}},"稳定光源",0.63,{"v":117,"d":"117.00"},{"v":0,"d":"0.00"},{"v":0,"d":"0.00"}]
[{"$f":"SUBTOTAL(3,$B$7:B907)","v":23},"TXL6-112拆","用户光缆测试 132 芯以下","台班",{"$f":"'表三 甲'!E1570","v":{"v":0,"d":"0.00"}},"光时域反射仪",0.63,{"v":153,"d":"153.00"},{"v":0,"d":"0.00"},{"v":0,"d":"0.00"}]
[{"$f":"SUBTOTAL(3,$B$7:B908)","v":23},"TXL6-113拆","用户光缆测试 144 芯以下","台班",{"$f":"'表三 甲'!E1571","v":{"v":0,"d":"0.00"}},"光时域反射仪",0.66,{"v":153,"d":"153.00"},{"v":0,"d":"0.00"},{"v":0,"d":"0.00"}]
[{"$f":"SUBTOTAL(3,$B$7:B909)","v":23},"TXL6-113拆","用户光缆测试 144 芯以下","台班",{"$f":"'表三 甲'!E1571","v":{"v":0,"d":"0.00"}},"光功率计",0.66,{"v":116,"d":"116.00"},{"v":0,"d":"0.00"},{"v":0,"d":"0.00"}]
[{"$f":"SUBTOTAL(3,$B$7:B910)","v":23},"TXL6-113拆","用户光缆测试 144 芯以下","台班",{"$f":"'表三 甲'!E1571","v":{"v":0,"d":"0.00"}},"稳定光源",0.66,{"v":117,"d":"117.00"},{"v":0,"d":"0.00"},{"v":0,"d":"0.00"}]
[{"$f":"SUBTOTAL(3,$B$7:B911)","v":23},"TXL6-114拆","用户光缆测试 168 芯以下","台班",{"$f":"'表三 甲'!E1572","v":{"v":0,"d":"0.00"}},"稳定光源",0.69,{"v":117,"d":"117.00"},{"v":0,"d":"0.00"},{"v":0,"d":"0.00"}]
[{"$f":"SUBTOTAL(3,$B$7:B912)","v":23},"TXL6-114拆","用户光缆测试 168 芯以下","台班",{"$f":"'表三 甲'!E1572","v":{"v":0,"d":"0.00"}},"光时域反射仪",0.69,{"v":153,"d":"153.00"},{"v":0,"d":"0.00"},{"v":0,"d":"0.00"}]
[{"$f":"SUBTOTAL(3,$B$7:B913)","v":23},"TXL6-114拆","用户光缆测试 168 芯以下","台班",{"$f":"'表三 甲'!E1572","v":{"v":0,"d":"0.00"}},"光功率计",0.69,{"v":116,"d":"116.00"},{"v":0,"d":"0.00"},{"v":0,"d":"0.00"}]
[{"$f":"SUBTOTAL(3,$B$7:B914)","v":23},"TXL6-115拆","用户光缆测试 192 芯以下","台班",{"$f":"'表三 甲'!E1573","v":{"v":0,"d":"0.00"}},"稳定光源",0.72,{"v":117,"d":"117.00"},{"v":0,"d":"0.00"},{"v":0,"d":"0.00"}]
[{"$f":"SUBTOTAL(3,$B$7:B915)","v":23},"TXL6-115拆","用户光缆测试 192 芯以下","台班",{"$f":"'表三 甲'!E1573","v":{"v":0,"d":"0.00"}},"光时域反射仪",0.72,{"v":153,"d":"153.00"},{"v":0,"d":"0.00"},{"v":0,"d":"0.00"}]
[{"$f":"SUBTOTAL(3,$B$7:B916)","v":23},"TXL6-115拆","用户光缆测试 192 芯以下","台班",{"$f":"'表三 甲'!E1573","v":{"v":0,"d":"0.00"}},"光功率计",0.72,{"v":116,"d":"116.00"},{"v":0,"d":"0.00"},{"v":0,"d":"0.00"}]
[{"$f":"SUBTOTAL(3,$B$7:B917)","v":23},"TXL6-116拆","用户光缆测试 216 芯以下","台班",{"$f":"'表三 甲'!E1574","v":{"v":0,"d":"0.00"}},"稳定光源",0.75,{"v":117,"d":"117.00"},{"v":0,"d":"0.00"},{"v":0,"d":"0.00"}]
[{"$f":"SUBTOTAL(3,$B$7:B918)","v":23},"TXL6-116拆","用户光缆测试 216 芯以下","台班",{"$f":"'表三 甲'!E1574","v":{"v":0,"d":"0.00"}},"光功率计",0.75,{"v":116,"d":"116.00"},{"v":0,"d":"0.00"},{"v":0,"d":"0.00"}]
[{"$f":"SUBTOTAL(3,$B$7:B919)","v":23},"TXL6-116拆","用户光缆测试 216 芯以下","台班",{"$f":"'表三 甲'!E1574","v":{"v":0,"d":"0.00"}},"光时域反射仪",0.75,{"v":153,"d":"153.00"},{"v":0,"d":"0.00"},{"v":0,"d":"0.00"}]
[{"$f":"SUBTOTAL(3,$B$7:B920)","v":23},"TXL6-117拆","用户光缆测试 240 芯以下","台班",{"$f":"'表三 甲'!E1575","v":{"v":0,"d":"0.00"}},"光功率计",0.8,{"v":116,"d":"116.00"},{"v":0,"d":"0.00"},{"v":0,"d":"0.00"}]
[{"$f":"SUBTOTAL(3,$B$7:B921)","v":23},"TXL6-117拆","用户光缆测试 240 芯以下","台班",{"$f":"'表三 甲'!E1575","v":{"v":0,"d":"0.00"}},"稳定光源",0.8,{"v":117,"d":"117.00"},{"v":0,"d":"0.00"},{"v":0,"d":"0.00"}]
[{"$f":"SUBTOTAL(3,$B$7:B922)","v":23},"TXL6-117拆","用户光缆测试 240 芯以下","台班",{"$f":"'表三 甲'!E1575","v":{"v":0,"d":"0.00"}},"光时域反射仪",0.8,{"v":153,"d":"153.00"},{"v":0,"d":"0.00"},{"v":0,"d":"0.00"}]
[{"$f":"SUBTOTAL(3,$B$7:B923)","v":23},"TXL6-118拆","用户光缆测试 264 芯以下","台班",{"$f":"'表三 甲'!E1576","v":{"v":0,"d":"0.00"}},"光功率计",0.83,{"v":116,"d":"116.00"},{"v":0,"d":"0.00"},{"v":0,"d":"0.00"}]
[{"$f":"SUBTOTAL(3,$B$7:B924)","v":23},"TXL6-118拆","用户光缆测试 264 芯以下","台班",{"$f":"'表三 甲'!E1576","v":{"v":0,"d":"0.00"}},"光时域反射仪",0.83,{"v":153,"d":"153.00"},{"v":0,"d":"0.00"},{"v":0,"d":"0.00"}]
[{"$f":"SUBTOTAL(3,$B$7:B925)","v":23},"TXL6-118拆","用户光缆测试 264 芯以下","台班",{"$f":"'表三 甲'!E1576","v":{"v":0,"d":"0.00"}},"稳定光源",0.83,{"v":117,"d":"117.00"},{"v":0,"d":"0.00"},{"v":0,"d":"0.00"}]
[{"$f":"SUBTOTAL(3,$B$7:B926)","v":23},"TXL6-119拆","用户光缆测试 288 芯以下","台班",{"$f":"'表三 甲'!E1577","v":{"v":0,"d":"0.00"}},"光功率计",0.87,{"v":116,"d":"116.00"},{"v":0,"d":"0.00"},{"v":0,"d":"0.00"}]
[{"$f":"SUBTOTAL(3,$B$7:B927)","v":23},"TXL6-119拆","用户光缆测试 288 芯以下","台班",{"$f":"'表三 甲'!E1577","v":{"v":0,"d":"0.00"}},"光时域反射仪",0.87,{"v":153,"d":"153.00"},{"v":0,"d":"0.00"},{"v":0,"d":"0.00"}]
[{"$f":"SUBTOTAL(3,$B$7:B928)","v":23},"TXL6-119拆","用户光缆测试 288 芯以下","台班",{"$f":"'表三 甲'!E1577","v":{"v":0,"d":"0.00"}},"稳定光源",0.87,{"v":117,"d":"117.00"},{"v":0,"d":"0.00"},{"v":0,"d":"0.00"}]
[{"$f":"SUBTOTAL(3,$B$7:B929)","v":23},"TXL6-120拆","用户光缆测试 312 芯以下","台班",{"$f":"'表三 甲'!E1578","v":{"v":0,"d":"0.00"}},"光功率计",0.93,{"v":116,"d":"116.00"},{"v":0,"d":"0.00"},{"v":0,"d":"0.00"}]
[{"$f":"SUBTOTAL(3,$B$7:B930)","v":23},"TXL6-120拆","用户光缆测试 312 芯以下","台班",{"$f":"'表三 甲'!E1578","v":{"v":0,"d":"0.00"}},"稳定光源",0.93,{"v":117,"d":"117.00"},{"v":0,"d":"0.00"},{"v":0,"d":"0.00"}]
[{"$f":"SUBTOTAL(3,$B$7:B931)","v":23},"TXL6-120拆","用户光缆测试 312 芯以下","台班",{"$f":"'表三 甲'!E1578","v":{"v":0,"d":"0.00"}},"光时域反射仪",0.93,{"v":153,"d":"153.00"},{"v":0,"d":"0.00"},{"v":0,"d":"0.00"}]
[{"$f":"SUBTOTAL(3,$B$7:B932)","v":23},"TXL6-121拆","用户光缆测试 336 芯以下","台班",{"$f":"'表三 甲'!E1579","v":{"v":0,"d":"0.00"}},"光时域反射仪",0.98,{"v":153,"d":"153.00"},{"v":0,"d":"0.00"},{"v":0,"d":"0.00"}]
[{"$f":"SUBTOTAL(3,$B$7:B933)","v":23},"TXL6-121拆","用户光缆测试 336 芯以下","台班",{"$f":"'表三 甲'!E1579","v":{"v":0,"d":"0.00"}},"稳定光源",0.98,{"v":117,"d":"117.00"},{"v":0,"d":"0.00"},{"v":0,"d":"0.00"}]
[{"$f":"SUBTOTAL(3,$B$7:B934)","v":23},"TXL6-121拆","用户光缆测试 336 芯以下","台班",{"$f":"'表三 甲'!E1579","v":{"v":0,"d":"0.00"}},"光功率计",0.98,{"v":116,"d":"116.00"},{"v":0,"d":"0.00"},{"v":0,"d":"0.00"}]
[{"$f":"SUBTOTAL(3,$B$7:B935)","v":23},"TXL6-122拆","用户光缆测试 360 芯以下","台班",{"$f":"'表三 甲'!E1580","v":{"v":0,"d":"0.00"}},"光时域反射仪",1.02,{"v":153,"d":"153.00"},{"v":0,"d":"0.00"},{"v":0,"d":"0.00"}]
[{"$f":"SUBTOTAL(3,$B$7:B936)","v":23},"TXL6-122拆","用户光缆测试 360 芯以下","台班",{"$f":"'表三 甲'!E1580","v":{"v":0,"d":"0.00"}},"稳定光源",1.02,{"v":117,"d":"117.00"},{"v":0,"d":"0.00"},{"v":0,"d":"0.00"}]
[{"$f":"SUBTOTAL(3,$B$7:B937)","v":23},"TXL6-122拆","用户光缆测试 360 芯以下","台班",{"$f":"'表三 甲'!E1580","v":{"v":0,"d":"0.00"}},"光功率计",1.02,{"v":116,"d":"116.00"},{"v":0,"d":"0.00"},{"v":0,"d":"0.00"}]
[{"$f":"SUBTOTAL(3,$B$7:B938)","v":23},"TXL6-123拆","用户光缆测试 384 芯以下","台班",{"$f":"'表三 甲'!E1581","v":{"v":0,"d":"0.00"}},"光时域反射仪",1.05,{"v":153,"d":"153.00"},{"v":0,"d":"0.00"},{"v":0,"d":"0.00"}]
[{"$f":"SUBTOTAL(3,$B$7:B939)","v":23},"TXL6-123拆","用户光缆测试 384 芯以下","台班",{"$f":"'表三 甲'!E1581","v":{"v":0,"d":"0.00"}},"光功率计",1.05,{"v":116,"d":"116.00"},{"v":0,"d":"0.00"},{"v":0,"d":"0.00"}]
[{"$f":"SUBTOTAL(3,$B$7:B940)","v":23},"TXL6-123拆","用户光缆测试 384 芯以下","台班",{"$f":"'表三 甲'!E1581","v":{"v":0,"d":"0.00"}},"稳定光源",1.05,{"v":117,"d":"117.00"},{"v":0,"d":"0.00"},{"v":0,"d":"0.00"}]
[{"$f":"SUBTOTAL(3,$B$7:B941)","v":23},"TXL6-124拆","用户光缆测试 408 芯以下","台班",{"$f":"'表三 甲'!E1582","v":{"v":0,"d":"0.00"}},"光时域反射仪",1.08,{"v":153,"d":"153.00"},{"v":0,"d":"0.00"},{"v":0,"d":"0.00"}]
[{"$f":"SUBTOTAL(3,$B$7:B942)","v":23},"TXL6-124拆","用户光缆测试 408 芯以下","台班",{"$f":"'表三 甲'!E1582","v":{"v":0,"d":"0.00"}},"稳定光源",1.08,{"v":117,"d":"117.00"},{"v":0,"d":"0.00"},{"v":0,"d":"0.00"}]
[{"$f":"SUBTOTAL(3,$B$7:B943)","v":23},"TXL6-124拆","用户光缆测试 408 芯以下","台班",{"$f":"'表三 甲'!E1582","v":{"v":0,"d":"0.00"}},"光功率计",1.08,{"v":116,"d":"116.00"},{"v":0,"d":"0.00"},{"v":0,"d":"0.00"}]
[{"$f":"SUBTOTAL(3,$B$7:B944)","v":23},"TXL6-125拆","用户光缆测试 432 芯以下","台班",{"$f":"'表三 甲'!E1583","v":{"v":0,"d":"0.00"}},"光时域反射仪",{"v":1.1,"d":"1.10"},{"v":153,"d":"153.00"},{"v":0,"d":"0.00"},{"v":0,"d":"0.00"}]
[{"$f":"SUBTOTAL(3,$B$7:B945)","v":23},"TXL6-125拆","用户光缆测试 432 芯以下","台班",{"$f":"'表三 甲'!E1583","v":{"v":0,"d":"0.00"}},"光功率计",{"v":1.1,"d":"1.10"},{"v":116,"d":"116.00"},{"v":0,"d":"0.00"},{"v":0,"d":"0.00"}]
[{"$f":"SUBTOTAL(3,$B$7:B946)","v":23},"TXL6-125拆","用户光缆测试 432 芯以下","台班",{"$f":"'表三 甲'!E1583","v":{"v":0,"d":"0.00"}},"稳定光源",{"v":1.1,"d":"1.10"},{"v":117,"d":"117.00"},{"v":0,"d":"0.00"},{"v":0,"d":"0.00"}]
[{"$f":"SUBTOTAL(3,$B$7:B947)","v":23},"TXL6-126拆","用户光缆测试 456 芯以下","台班",{"$f":"'表三 甲'!E1584","v":{"v":0,"d":"0.00"}},"光功率计",1.11,{"v":116,"d":"116.00"},{"v":0,"d":"0.00"},{"v":0,"d":"0.00"}]
[{"$f":"SUBTOTAL(3,$B$7:B948)","v":23},"TXL6-126拆","用户光缆测试 456 芯以下","台班",{"$f":"'表三 甲'!E1584","v":{"v":0,"d":"0.00"}},"稳定光源",1.11,{"v":117,"d":"117.00"},{"v":0,"d":"0.00"},{"v":0,"d":"0.00"}]
[{"$f":"SUBTOTAL(3,$B$7:B949)","v":23},"TXL6-126拆","用户光缆测试 456 芯以下","台班",{"$f":"'表三 甲'!E1584","v":{"v":0,"d":"0.00"}},"光时域反射仪",1.11,{"v":153,"d":"153.00"},{"v":0,"d":"0.00"},{"v":0,"d":"0.00"}]
[{"$f":"SUBTOTAL(3,$B$7:B950)","v":23},"TXL6-127拆","用户光缆测试 480 芯以下","台班",{"$f":"'表三 甲'!E1585","v":{"v":0,"d":"0.00"}},"光时域反射仪",1.14,{"v":153,"d":"153.00"},{"v":0,"d":"0.00"},{"v":0,"d":"0.00"}]
[{"$f":"SUBTOTAL(3,$B$7:B951)","v":23},"TXL6-127拆","用户光缆测试 480 芯以下","台班",{"$f":"'表三 甲'!E1585","v":{"v":0,"d":"0.00"}},"光功率计",1.14,{"v":116,"d":"116.00"},{"v":0,"d":"0.00"},{"v":0,"d":"0.00"}]
[{"$f":"SUBTOTAL(3,$B$7:B952)","v":23},"TXL6-127拆","用户光缆测试 480 芯以下","台班",{"$f":"'表三 甲'!E1585","v":{"v":0,"d":"0.00"}},"稳定光源",1.14,{"v":117,"d":"117.00"},{"$f":"E952*G952","v":{"v":0,"d":"0.00"}},{"$f":"H952*I952","v":{"v":0,"d":"0.00"}}]
[{"$f":"SUBTOTAL(3,$B$7:B953)","v":23},"TXL6-128拆","用户光缆测试 504 芯以下","台班",{"$f":"'表三 甲'!E1586","v":{"v":0,"d":"0.00"}},"光功率计",1.16,{"v":116,"d":"116.00"},{"v":0,"d":"0.00"},{"v":0,"d":"0.00"}]
[{"$f":"SUBTOTAL(3,$B$7:B954)","v":23},"TXL6-128拆","用户光缆测试 504 芯以下","台班",{"$f":"'表三 甲'!E1586","v":{"v":0,"d":"0.00"}},"光时域反射仪",1.16,{"v":153,"d":"153.00"},{"v":0,"d":"0.00"},{"v":0,"d":"0.00"}]
[{"$f":"SUBTOTAL(3,$B$7:B955)","v":23},"TXL6-128拆","用户光缆测试 504 芯以下","台班",{"$f":"'表三 甲'!E1586","v":{"v":0,"d":"0.00"}},"稳定光源",1.16,{"v":117,"d":"117.00"},{"v":0,"d":"0.00"},{"v":0,"d":"0.00"}]
[{"$f":"SUBTOTAL(3,$B$7:B956)","v":23},"TXL6-129拆","用户光缆测试 528 芯以下","台班",{"$f":"'表三 甲'!E1587","v":{"v":0,"d":"0.00"}},"稳定光源",1.17,{"v":117,"d":"117.00"},{"v":0,"d":"0.00"},{"v":0,"d":"0.00"}]
[{"$f":"SUBTOTAL(3,$B$7:B957)","v":23},"TXL6-129拆","用户光缆测试 528 芯以下","台班",{"$f":"'表三 甲'!E1587","v":{"v":0,"d":"0.00"}},"光功率计",1.17,{"v":116,"d":"116.00"},{"v":0,"d":"0.00"},{"v":0,"d":"0.00"}]
[{"$f":"SUBTOTAL(3,$B$7:B958)","v":23},"TXL6-129拆","用户光缆测试 528 芯以下","台班",{"$f":"'表三 甲'!E1587","v":{"v":0,"d":"0.00"}},"光时域反射仪",1.17,{"v":153,"d":"153.00"},{"v":0,"d":"0.00"},{"v":0,"d":"0.00"}]
[{"$f":"SUBTOTAL(3,$B$7:B959)","v":23},"TXL6-130拆","用户光缆测试 552 芯以下","台班",{"$f":"'表三 甲'!E1588","v":{"v":0,"d":"0.00"}},"稳定光源",1.19,{"v":117,"d":"117.00"},{"v":0,"d":"0.00"},{"v":0,"d":"0.00"}]
[{"$f":"SUBTOTAL(3,$B$7:B960)","v":23},"TXL6-130拆","用户光缆测试 552 芯以下","台班",{"$f":"'表三 甲'!E1588","v":{"v":0,"d":"0.00"}},"光功率计",1.19,{"v":116,"d":"116.00"},{"v":0,"d":"0.00"},{"v":0,"d":"0.00"}]
[{"$f":"SUBTOTAL(3,$B$7:B961)","v":23},"TXL6-130拆","用户光缆测试 552 芯以下","台班",{"$f":"'表三 甲'!E1588","v":{"v":0,"d":"0.00"}},"光时域反射仪",1.19,{"v":153,"d":"153.00"},{"v":0,"d":"0.00"},{"v":0,"d":"0.00"}]
[{"$f":"SUBTOTAL(3,$B$7:B962)","v":23},"TXL6-131拆","用户光缆测试 576 芯以上","台班",{"$f":"'表三 甲'!E1589","v":{"v":0,"d":"0.00"}},"光时域反射仪",1.21,{"v":153,"d":"153.00"},{"v":0,"d":"0.00"},{"v":0,"d":"0.00"}]
[{"$f":"SUBTOTAL(3,$B$7:B963)","v":23},"TXL6-131拆","用户光缆测试 576 芯以上","台班",{"$f":"'表三 甲'!E1589","v":{"v":0,"d":"0.00"}},"光功率计",1.21,{"v":116,"d":"116.00"},{"v":0,"d":"0.00"},{"v":0,"d":"0.00"}]
[{"$f":"SUBTOTAL(3,$B$7:B964)","v":23},"TXL6-131拆","用户光缆测试 576 芯以上","台班",{"$f":"'表三 甲'!E1589","v":{"v":0,"d":"0.00"}},"稳定光源",1.21,{"v":117,"d":"117.00"},{"v":0,"d":"0.00"},{"v":0,"d":"0.00"}]
[{"$f":"SUBTOTAL(3,$B$7:B965)","v":23},"TXL6-132拆","光分配网（ODN）光纤链路全程测试 光纤链路衰减测试 1:2","台班",{"$f":"'表三 甲'!E1590","v":{"v":0,"d":"0.00"}},"光功率计",0.06,{"v":116,"d":"116.00"},{"v":0,"d":"0.00"},{"v":0,"d":"0.00"}]
[{"$f":"SUBTOTAL(3,$B$7:B966)","v":23},"TXL6-132拆","光分配网（ODN）光纤链路全程测试 光纤链路衰减测试 1:2","台班",{"$f":"E965","v":{"v":0,"d":"0.00"}},"稳定光源",0.06,{"v":117,"d":"117.00"},{"v":0,"d":"0.00"},{"v":0,"d":"0.00"}]
[{"$f":"SUBTOTAL(3,$B$7:B967)","v":23},"TXL6-133拆","光分配网（ODN）光纤链路全程测试 光纤链路衰减测试 1:4","台班",{"$f":"'表三 甲'!E1591","v":{"v":0,"d":"0.00"}},"光功率计",0.06,{"v":116,"d":"116.00"},{"v":0,"d":"0.00"},{"v":0,"d":"0.00"}]
[{"$f":"SUBTOTAL(3,$B$7:B968)","v":23},"TXL6-133拆","光分配网（ODN）光纤链路全程测试 光纤链路衰减测试 1:4","台班",{"$f":"E967","v":{"v":0,"d":"0.00"}},"稳定光源",0.06,{"v":117,"d":"117.00"},{"v":0,"d":"0.00"},{"v":0,"d":"0.00"}]
[{"$f":"SUBTOTAL(3,$B$7:B969)","v":23},"TXL6-134拆","光分配网（ODN）光纤链路全程测试 光纤链路衰减测试 1:8","台班",{"$f":"'表三 甲'!E1592","v":{"v":0,"d":"0.00"}},"稳定光源",0.1,{"v":117,"d":"117.00"},{"v":0,"d":"0.00"},{"v":0,"d":"0.00"}]
[{"$f":"SUBTOTAL(3,$B$7:B970)","v":23},"TXL6-134拆","光分配网（ODN）光纤链路全程测试 光纤链路衰减测试 1:8","台班",{"$f":"E969","v":{"v":0,"d":"0.00"}},"光功率计",0.1,{"v":116,"d":"116.00"},{"v":0,"d":"0.00"},{"v":0,"d":"0.00"}]
[{"$f":"SUBTOTAL(3,$B$7:B971)","v":23},"TXL6-135拆","光分配网（ODN）光纤链路全程测试 光纤链路衰减测试 1:16","台班",{"$f":"'表三 甲'!E1593","v":{"v":0,"d":"0.00"}},"光功率计",0.1,{"v":116,"d":"116.00"},{"v":0,"d":"0.00"},{"v":0,"d":"0.00"}]
[{"$f":"SUBTOTAL(3,$B$7:B972)","v":23},"TXL6-135拆","光分配网（ODN）光纤链路全程测试 光纤链路衰减测试 1:16","台班",{"$f":"E971","v":{"v":0,"d":"0.00"}},"稳定光源",0.1,{"v":117,"d":"117.00"},{"v":0,"d":"0.00"},{"v":0,"d":"0.00"}]
[{"$f":"SUBTOTAL(3,$B$7:B973)","v":23},"TXL6-136拆","光分配网（ODN）光纤链路全程测试 光纤链路衰减测试 1:32","台班",{"$f":"'表三 甲'!E1594","v":{"v":0,"d":"0.00"}},"光功率计",0.15,{"v":116,"d":"116.00"},{"v":0,"d":"0.00"},{"v":0,"d":"0.00"}]
[{"$f":"SUBTOTAL(3,$B$7:B974)","v":23},"TXL6-136拆","光分配网（ODN）光纤链路全程测试 光纤链路衰减测试 1:32","台班",{"$f":"E973","v":{"v":0,"d":"0.00"}},"稳定光源",0.15,{"v":117,"d":"117.00"},{"v":0,"d":"0.00"},{"v":0,"d":"0.00"}]
[{"$f":"SUBTOTAL(3,$B$7:B975)","v":23},"TXL6-137拆","光分配网（ODN）光纤链路全程测试 光纤链路衰减测试 1:64","台班",{"$f":"'表三 甲'!E1595","v":{"v":0,"d":"0.00"}},"稳定光源",0.15,{"v":117,"d":"117.00"},{"v":0,"d":"0.00"},{"v":0,"d":"0.00"}]
[{"$f":"SUBTOTAL(3,$B$7:B976)","v":23},"TXL6-137拆","光分配网（ODN）光纤链路全程测试 光纤链路衰减测试 1:64","台班",{"$f":"E975","v":{"v":0,"d":"0.00"}},"光功率计",0.15,{"v":116,"d":"116.00"},{"v":0,"d":"0.00"},{"v":0,"d":"0.00"}]
[{"$f":"SUBTOTAL(3,$B$7:B977)","v":23},"TXL6-138拆","光分配网（ODN）光纤链路全程测试 光纤链路衰减测试 1:128","台班",{"$f":"'表三 甲'!E1596","v":{"v":0,"d":"0.00"}},"稳定光源",0.2,{"v":117,"d":"117.00"},{"v":0,"d":"0.00"},{"v":0,"d":"0.00"}]
[{"$f":"SUBTOTAL(3,$B$7:B978)","v":23},"TXL6-138拆","光分配网（ODN）光纤链路全程测试 光纤链路衰减测试 1:128","台班",{"$f":"E977","v":{"v":0,"d":"0.00"}},"光功率计",0.2,{"v":116,"d":"116.00"},{"v":0,"d":"0.00"},{"v":0,"d":"0.00"}]
[{"$f":"SUBTOTAL(3,$B$7:B979)","v":23},"TXL6-139拆","光分配网（ODN）光纤链路全程测试 光纤链路回 波损耗测试","台班",{"$f":"'表三 甲'!E1597","v":{"v":0,"d":"0.00"}},"光回波损耗测试仪 (OLTS)",0.1,{"v":0,"d":"0.00"},{"v":0,"d":"0.00"},{"v":0,"d":"0.00"}]
[{"$f":"SUBTOTAL(3,$B$7:B980)","v":23},"TXL6-210拆","电缆链路 测试","台班",{"$f":"'表三 甲'!E1668","v":{"v":0,"d":"0.00"}},"综合布线线路分析仪",0.05,{"v":156,"d":"156.00"},{"v":0,"d":"0.00"},{"v":0,"d":"0.00"}]
[{"$f":"SUBTOTAL(3,$B$7:B981)","v":23},"TXL7-001拆","安装光（电）缆承托铁架","台班",{"$f":"'表三 甲'!E1672","v":{"v":0,"d":"0.00"}},"有毒有害气体检测仪",0,{"v":117,"d":"117.00"},{"v":0,"d":"0.00"},{"v":0,"d":"0.00"}]
[{"$f":"SUBTOTAL(3,$B$7:B982)","v":23},"TXL7-001拆","安装光（电）缆承托铁架","台班",{"$f":"E981","v":{"v":0,"d":"0.00"}},"可燃气体检测仪",0,{"v":117,"d":"117.00"},{"v":0,"d":"0.00"},{"v":0,"d":"0.00"}]
[{"$f":"SUBTOTAL(3,$B$7:B983)","v":23},"TXL7-002拆","安装光（电）缆托架","台班",{"$f":"'表三 甲'!E1673","v":{"v":0,"d":"0.00"}},"有毒有害气体检测仪",0,{"v":117,"d":"117.00"},{"v":0,"d":"0.00"},{"v":0,"d":"0.00"}]
[{"$f":"SUBTOTAL(3,$B$7:B984)","v":23},"TXL7-002拆","安装光（电）缆托架","台班",{"$f":"E983","v":{"v":0,"d":"0.00"}},"可燃气体检测仪",0,{"v":117,"d":"117.00"},{"v":0,"d":"0.00"},{"v":0,"d":"0.00"}]
[{"$f":"SUBTOTAL(3,$B$7:B985)","v":23},"TXL7-003拆","安装固定光缆盘","台班",{"$f":"'表三 甲'!E1674","v":{"v":0,"d":"0.00"}},"有毒有害气体检测仪",0,{"v":117,"d":"117.00"},{"v":0,"d":"0.00"},{"v":0,"d":"0.00"}]
[{"$f":"SUBTOTAL(3,$B$7:B986)","v":23},"TXL7-003拆","安装固定光缆盘","台班",{"$f":"E985","v":{"v":0,"d":"0.00"}},"可燃气体检测仪",0,{"v":117,"d":"117.00"},{"v":0,"d":"0.00"},{"v":0,"d":"0.00"}]
[{"$f":"SUBTOTAL(3,$B$7:B987)","v":23},"TXL7-031拆","光分路器本机测试① 1:2","台班",{"$f":"'表三 甲'!E1702","v":{"v":0,"d":"0.00"}},"稳定光源",0.06,{"v":117,"d":"117.00"},{"v":0,"d":"0.00"},{"v":0,"d":"0.00"}]
[{"$f":"SUBTOTAL(3,$B$7:B988)","v":23},"TXL7-031拆","光分路器本机测试① 1:2","台班",{"$f":"E987","v":{"v":0,"d":"0.00"}},"光功率计",0.06,{"v":116,"d":"116.00"},{"v":0,"d":"0.00"},{"v":0,"d":"0.00"}]
[{"$f":"SUBTOTAL(3,$B$7:B989)","v":23},"TXL7-032拆","光分路器本机测试① 1:4","台班",{"$f":"'表三 甲'!E1703","v":{"v":0,"d":"0.00"}},"稳定光源",0.12,{"v":117,"d":"117.00"},{"v":0,"d":"0.00"},{"v":0,"d":"0.00"}]
[{"$f":"SUBTOTAL(3,$B$7:B990)","v":23},"TXL7-032拆","光分路器本机测试① 1:4","台班",{"$f":"E989","v":{"v":0,"d":"0.00"}},"光功率计",0.12,{"v":116,"d":"116.00"},{"v":0,"d":"0.00"},{"v":0,"d":"0.00"}]
[{"$f":"SUBTOTAL(3,$B$7:B991)","v":23},"TXL7-033拆","光分路器本机测试① 1:8","台班",{"$f":"'表三 甲'!E1704","v":{"v":0,"d":"0.00"}},"稳定光源",0.18,{"v":117,"d":"117.00"},{"v":0,"d":"0.00"},{"v":0,"d":"0.00"}]
[{"$f":"SUBTOTAL(3,$B$7:B992)","v":23},"TXL7-033拆","光分路器本机测试① 1:8","台班",{"$f":"E991","v":{"v":0,"d":"0.00"}},"光功率计",0.18,{"v":116,"d":"116.00"},{"v":0,"d":"0.00"},{"v":0,"d":"0.00"}]
[{"$f":"SUBTOTAL(3,$B$7:B993)","v":23},"TXL7-034拆","光分路器本机测试① 1:16","台班",{"$f":"'表三 甲'!E1705","v":{"v":0,"d":"0.00"}},"稳定光源",0.24,{"v":117,"d":"117.00"},{"v":0,"d":"0.00"},{"v":0,"d":"0.00"}]
[{"$f":"SUBTOTAL(3,$B$7:B994)","v":23},"TXL7-034拆","光分路器本机测试① 1:16","台班",{"$f":"E993","v":{"v":0,"d":"0.00"}},"光功率计",0.24,{"v":116,"d":"116.00"},{"v":0,"d":"0.00"},{"v":0,"d":"0.00"}]
[{"$f":"SUBTOTAL(3,$B$7:B995)","v":23},"TXL7-035拆","光分路器本机测试① 1:32","台班",{"$f":"'表三 甲'!E1706","v":{"v":0,"d":"0.00"}},"光功率计",0.28,{"v":116,"d":"116.00"},{"v":0,"d":"0.00"},{"v":0,"d":"0.00"}]
[{"$f":"SUBTOTAL(3,$B$7:B996)","v":23},"TXL7-035拆","光分路器本机测试① 1:32","台班",{"$f":"E995","v":{"v":0,"d":"0.00"}},"稳定光源",0.28,{"v":117,"d":"117.00"},{"v":0,"d":"0.00"},{"v":0,"d":"0.00"}]
[{"$f":"SUBTOTAL(3,$B$7:B997)","v":23},"TXL7-036拆","光分路器本机测试① 1:64","台班",{"$f":"'表三 甲'!E1707","v":{"v":0,"d":"0.00"}},"稳定光源",0.32,{"v":117,"d":"117.00"},{"v":0,"d":"0.00"},{"v":0,"d":"0.00"}]
[{"$f":"SUBTOTAL(3,$B$7:B998)","v":23},"TXL7-036拆","光分路器本机测试① 1:64","台班",{"$f":"E997","v":{"v":0,"d":"0.00"}},"光功率计",0.32,{"v":116,"d":"116.00"},{"v":0,"d":"0.00"},{"v":0,"d":"0.00"}]
[{"$f":"SUBTOTAL(3,$B$7:B999)","v":23},"TXL7-037拆","光分路器本机测试① 1:128","台班",{"$f":"'表三 甲'!E1708","v":{"v":0,"d":"0.00"}},"稳定光源",0.36,{"v":117,"d":"117.00"},{"v":0,"d":"0.00"},{"v":0,"d":"0.00"}]
[{"$f":"SUBTOTAL(3,$B$7:B1000)","v":23},"TXL7-037拆","光分路器本机测试① 1:128","台班",{"$f":"E999","v":{"v":0,"d":"0.00"}},"光功率计",0.36,{"v":116,"d":"116.00"},{"v":0,"d":"0.00"},{"v":0,"d":"0.00"}]
[{"$f":"SUBTOTAL(3,$B$7:B1002)","v":23},"合同价","光缆穿测费","每箱",{"$nulls":3},20,null,{"$f":"H1001*E1001","v":{"v":0,"d":"0.00"}}]
[null,null,"小   计1",null,null,".",{"$nulls":3},{"$f":"SUM(J7:J1001)","v":{"v":9592.4466,"d":"9592.45"}}]
[{"$f":"SUBTOTAL(3,$B$7:B1003)","v":23},"招标协议价","带状光缆接续","带",null,null,146,null,null,{"$f":"E1003*G1003","v":0}]
[{"$f":"SUBTOTAL(3,$B$7:B1004)","v":23},"招标协议价","普通光缆成端","芯",null,null,33,null,null,{"$f":"E1004*G1004","v":0}]
[{"$f":"SUBTOTAL(3,$B$7:B1005)","v":23},"招标协议价","光缆接头接续12芯以下","芯",null,null,28,null,null,{"$f":"E1005*G1005","v":0}]
[{"$f":"SUBTOTAL(3,$B$7:B1006)","v":23},"招标协议价","光缆接头接续12芯及以上","芯",null,null,23,null,null,{"$f":"E1006*G1006","v":0}]
[{"$f":"SUBTOTAL(3,$B$7:B1007)","v":23},"招标协议价","光缆接头接续96芯以下","芯",null,null,20,null,null,{"$f":"E1007*G1007","v":0}]
[null,null,"小   计2",{"$nulls":6},{"$f":"SUM(J1003:J1007)","v":{"v":0,"d":"0.00"}}]
[{"$f":"SUBTOTAL(3,$B$7:B1009)","v":23},"估列","敷设暗管暗线（五类缆）","户",null,"20米以下 ",30,null,null,{"$f":"E1009*G1009","v":0}]
[{"$f":"SUBTOTAL(3,$B$7:B1010)","v":23},"估列","敷设暗管暗线（五类缆）","户",null,"20米以上至40米以下",45,null,null,{"$f":"E1010*G1010","v":0}]
[{"$f":"SUBTOTAL(3,$B$7:B1011)","v":23},"估列","敷设暗管暗线（五类缆）","户",null,"40米以上",60,null,null,{"$f":"E1011*G1011","v":0}]
[{"$f":"SUBTOTAL(3,$B$7:B1012)","v":23},"估列","敷设明管暗线（户线)","户",null,"20米以下 ",50,null,null,{"$f":"E1012*G1012","v":0}]
[{"$f":"SUBTOTAL(3,$B$7:B1013)","v":23},"估列","敷设明管（楼内安装明管）（含重直打墙洞）","户",null,null,50,null,null,0]
[{"$f":"SUBTOTAL(3,$B$7:B1014)","v":23},"估列","敷设明管（弱电井（竖井）的楼宇安装明管）","户",null,null,35,null,null,0]
[{"$f":"SUBTOTAL(3,$B$7:B1015)","v":23},"估列","敷设明管或暗管内皮线光缆","户",null,null,25,null,null,0]
[{"$f":"SUBTOTAL(3,$B$7:B1016)","v":23},"估列","入户墙体打洞","处",null,"Φ12.5mm（外径）×30cm（长）",22,null,null,0]
[{"$f":"SUBTOTAL(3,$B$7:B1017)","v":23},"估列","皮线光缆成端（热熔）","端",null,null,21,null,null,0]
[{"$f":"SUBTOTAL(3,$B$7:B1018)","v":23},"估列","ODF架至用户侧调纤","条",null,null,10,null,null,0]
[{"$f":"SUBTOTAL(3,$B$7:B1019)","v":23},"估列","FTTH工程完工后进行业务穿测","个",null,null,20,null,null,0]
[{"$f":"SUBTOTAL(3,$B$7:B1020)","v":23},"估列","机械顶管（包工包料）","米",null,null,150,null,null,0]
[{"$f":"SUBTOTAL(3,$B$7:B1021)","v":23},"估列","新做40*70沟槽","个",null,null,250,null,null,{"v":0,"d":"0.00"}]
[{"$f":"SUBTOTAL(3,$B$7:B1022)","v":23},"估列","新做90*120手孔","个",null,null,1150,null,null,{"v":0,"d":"0.00"}]
[{"$f":"SUBTOTAL(3,$B$7:B1023)","v":23},"估列","开挖破水泥、柏油路面等","米",null,null,76,null,null,{"v":0,"d":"0.00"}]
[{"$f":"SUBTOTAL(3,$B$7:B1024)","v":23},"估列","管道段维修","米",null,null,39,null,null,{"v":0,"d":"0.00"}]
[{"$f":"SUBTOTAL(3,$B$7:B1025)","v":23},"估列","光缆交接箱基座（包工包料）","个",null,"576芯以下",600,null,null,{"v":0,"d":"0.00"}]
[{"$f":"SUBTOTAL(3,$B$7:B1026)","v":23},"估列","光缆交接箱基座（包工包料）","个",null,"288芯以下",{"$f":"IF(D1026=\"576芯以下\",600,300)","v":300},null,null,{"v":0,"d":"0.00"}]
[{"$f":"SUBTOTAL(3,$B$7:B1027)","v":23},"估列","敷设PVC塑料管及接头包封(1*1)1孔","米",null,null,1,null,null,{"v":0,"d":"0.00"}]
[{"$f":"SUBTOTAL(3,$B$7:B1028)","v":23},"估列","开挖主管道沟(深0.8-1.2m)","米",null,null,11,null,null,0]
[null,null,"小   计3",{"$nulls":6},{"$f":"SUM(J1009:J1028)","v":{"v":0,"d":"0.00"}}]
[]
[{"$f":"SUBTOTAL(3,$B$7:B1031)","v":24},".","合计",null,".",{"$nulls":4},{"$f":"J1002+J1008+J1029","v":{"v":9592.4466,"d":"9592.45"}}]

{"sheet":"表四甲","index":7,"n_rows":381,"n_cols":12,"rows_kept":381,"merged":[[0,0,0,9],[3,0,4,0],[3,1,4,1],[3,2,4,2],[3,3,4,3],[3,4,4,4],[3,6,3,8]]}
["国内器材预算表（表四）甲"]
[{"$f":"ASC(综合信息表!C3)","v":"建设项目名称:"}]
[{"$f":"ASC(综合信息表!C4)","v":"单项工程名称:2023年景德镇电信乐平水利枢纽工程建设杆线迁改工程"},{"$nulls":4},{"$f":"ASC(综合信息表!C6)","v":"建设单位名称:中国电信股份有限公司景德镇分公司"},null,null,{"$f":"ASC(综合信息表!G12)","v":"表格编号:TXL-4甲A"},"第全页"]
["序号","名称","规格程式","单位","数量","单价（元）","合计（元）",null,null,"备注"]
[{"$nulls":5},"含税价（元）","合计（元）","增值税","含税价"]
["Ⅰ","Ⅱ","Ⅲ","Ⅳ","Ⅴ","Ⅵ","Ⅸ","Ⅹ","Ⅺ","Ⅻ"]
[{"$f":"SUBTOTAL(3,$B$7:B7)","v":0},"光缆-GYTA-单模G.652D-4芯",null,"皮长公里",null,"831.117293",{"$f":"E7*F7","v":{"v":0,"d":"0.00"}},null,null,"J05010303085","普通光缆",{"$f":"E7*4","v":{"v":0,"d":"0.00"}}]
[{"$f":"SUBTOTAL(3,$B$7:B8)","v":0},"光缆-GYTA-单模G.652D-6芯",null,"皮长公里",null,"889.117293",{"v":0,"d":"0.00"},null,null,"J05010303089","普通光缆"]
[{"$f":"SUBTOTAL(3,$B$7:B9)","v":1},"光缆-GYTA-单模G.652D-8芯",null,"皮长公里",{"v":0.3,"d":"0.30"},"975.791884",{"v":292.7375652,"d":"292.74"},{"$f":"G9*13%","v":{"v":38.055883476,"d":"38.06"}},{"$f":"G9+H9","v":{"v":330.793448676,"d":"330.79"}},"J05010303093","普通光缆"]
[{"$f":"SUBTOTAL(3,$B$7:B10)","v":2},"光缆-GYTA-单模G.652D-12芯",null,"皮长公里",{"v":0.3,"d":"0.30"},"1091.791884",{"v":327.5375652,"d":"327.54"},{"v":42.579883476,"d":"42.58"},{"v":370.117448676,"d":"370.12"},"J05010303103","普通光缆"]
[{"$f":"SUBTOTAL(3,$B$7:B11)","v":3},"光缆-GYTA-单模G.652D-24芯",null,"皮长公里",{"v":1.2,"d":"1.20"},"1490.31",{"v":1788.372,"d":"1788.37"},{"v":232.48836,"d":"232.49"},{"v":2020.86036,"d":"2020.86"},"J05010303120","普通光缆"]
[{"$f":"SUBTOTAL(3,$B$7:B12)","v":3},"光缆-GYTA-单模G.652D-36芯",null,"皮长公里",null,"1982.318403",{"v":0,"d":"0.00"},null,null,"J05010303126","普通光缆"]
[{"$f":"SUBTOTAL(3,$B$7:B13)","v":4},"光缆-GYTA-单模G.652D-48芯",null,"皮长公里",{"v":0.8,"d":"0.80"},"2555.108133",{"v":2044.0865064,"d":"2044.09"},{"$f":"G13*13%","v":{"v":265.731245832,"d":"265.73"}},{"$f":"G13+H13","v":{"v":2309.817752232,"d":"2309.82"}},"J05010303129","普通光缆"]
[{"$f":"SUBTOTAL(3,$B$7:B14)","v":4},"光缆-GYTA-单模G.652D-72芯",null,"皮长公里",null,"3514.660191",{"v":0,"d":"0.00"},null,null,"J05010303138","普通光缆"]
[{"$f":"SUBTOTAL(3,$B$7:B15)","v":4},"光缆-GYTA-单模G.652D-96芯",null,"皮长公里",null,"4604.161365",{"v":0,"d":"0.00"},null,null,"J05010303147","普通光缆"]
[{"$f":"SUBTOTAL(3,$B$7:B16)","v":4},"光缆-GYTA-单模G.652D-144芯",null,"皮长公里",null,"6786.658677",{"v":0,"d":"0.00"},null,null,"J05010303157","普通光缆"]
[{"$f":"SUBTOTAL(3,$B$7:B17)","v":4},"光缆-GYTA-单模G.652D-168芯",null,"皮长公里",null,"7602.361194",{"v":0,"d":"0.00"},null,null,"J05010303161","普通光缆"]
[{"$f":"SUBTOTAL(3,$B$7:B18)","v":4},"光缆-GYTA-单模G.652D-240芯",null,"皮长公里",null,"10320.169593",{"v":0,"d":"0.00"},null,null,"J05010303173","普通光缆"]
[{"$f":"SUBTOTAL(3,$B$7:B19)","v":4},"光缆-GYXTS-单模G.652D-4芯",null,"皮长公里",null,1500.16,{"v":0,"d":"0.00"},{"$f":"G19*13%","v":{"v":0,"d":"0.00"}},{"$f":"G19+H19","v":{"v":0,"d":"0.00"}}]
[{"$f":"SUBTOTAL(3,$B$7:B20)","v":4},"光缆-GYXTS-单模G.652D-6芯",null,"皮长公里",null,1551.52,{"v":0,"d":"0.00"},{"$f":"G20*13%","v":{"v":0,"d":"0.00"}},{"$f":"G20+H20","v":{"v":0,"d":"0.00"}}]
[{"$f":"SUBTOTAL(3,$B$7:B21)","v":4},"光缆-GYXTS-单模G.652D-8芯",null,"皮长公里",null,1652.29,{"v":0,"d":"0.00"},{"v":0,"d":"0.00"},{"v":0,"d":"0.00"}]
[{"$f":"SUBTOTAL(3,$B$7:B22)","v":4},"光缆-GYXTS-单模G.652D-12芯",null,"皮长公里",null,1755.02,{"v":0,"d":"0.00"},{"v":0,"d":"0.00"},{"v":0,"d":"0.00"}]
[{"$f":"SUBTOTAL(3,$B$7:B23)","v":4},"光缆-GYXTS-单模G.652D-24芯",null,"皮长公里",null,2158.28,{"v":0,"d":"0.00"},{"v":0,"d":"0.00"},{"v":0,"d":"0.00"}]
[{"$f":"SUBTOTAL(3,$B$7:B24)","v":4},"光缆-GYXTS-单模G.652D-36芯",null,"皮长公里",null,2625.34,{"v":0,"d":"0.00"},{"v":0,"d":"0.00"},{"v":0,"d":"0.00"}]
[{"$f":"SUBTOTAL(3,$B$7:B25)","v":4},"光缆-GYXTS-单模G.652D-48芯",null,"皮长公里",null,3254.57,{"v":0,"d":"0.00"},{"v":0,"d":"0.00"},{"v":0,"d":"0.00"}]
[{"$f":"SUBTOTAL(3,$B$7:B26)","v":4},"光缆-GYTS-单模G.652D-72芯",null,"皮长公里",null,5266.290341,{"v":0,"d":"0.00"},null,null,"J05010303216","普通光缆（防鼠咬）",{"$f":"E25*12","v":{"v":0,"d":"0.00"}}]
[{"$f":"SUBTOTAL(3,$B$7:B27)","v":4},"光缆-GYXTS-单模G.652D-96芯",null,"皮长公里",null,{"v":5509.4,"d":"5509.40"},{"v":0,"d":"0.00"},{"$f":"G27*13%","v":{"v":0,"d":"0.00"}},{"$f":"G27+H27","v":{"v":0,"d":"0.00"}}]
[{"$f":"SUBTOTAL(3,$B$7:B28)","v":4},"光缆-GYTS-单模G.652D-144芯",null,"皮长公里",null,"6854.651613",{"v":0,"d":"0.00"},null,null,"J05010303228","普通光缆（防鼠咬）",{"$f":"E26*16","v":{"v":0,"d":"0.00"}}]
[{"$f":"SUBTOTAL(3,$B$7:B29)","v":4},"光缆-GYTS-单模G.652D-168芯",null,"皮长公里",null,"7708.798734",{"v":0,"d":"0.00"},null,null,"J05010303232","普通光缆（防鼠咬）",{"$f":"E28*24","v":{"v":0,"d":"0.00"}}]
[{"$f":"SUBTOTAL(3,$B$7:B30)","v":4},"光缆-GYTA53-单模G.652D-8芯",null,"皮长公里",null,"1683.442663",{"v":0,"d":"0.00"},null,null,"J05010303310","普通铠装光缆"]
[{"$f":"SUBTOTAL(3,$B$7:B31)","v":4},"光缆-GYTA53-单模G.652D-12芯",null,"皮长公里",null,"1799.442663",{"v":0,"d":"0.00"},null,null,"J05010303314","普通铠装光缆",{"$f":"E29*36","v":{"v":0,"d":"0.00"}}]
[{"$f":"SUBTOTAL(3,$B$7:B32)","v":4},"光缆-GYTA53-单模G.652D-18芯",null,"皮长公里",null,"2004.579615",{"v":0,"d":"0.00"},null,null,"J05010303321","普通铠装光缆"]
[{"$f":"SUBTOTAL(3,$B$7:B33)","v":4},"光缆-GYTA53-单模G.652D-24芯",null,"皮长公里",null,"2187.475887",{"v":0,"d":"0.00"},null,null,"J05010303326","普通铠装光缆"]
[{"$f":"SUBTOTAL(3,$B$7:B34)","v":4},"光缆-GYTA53-单模G.652D-36芯",null,"皮长公里",null,"2590.680432",{"v":0,"d":"0.00"},null,null,"J05010303333","普通铠装光缆"]
[{"$f":"SUBTOTAL(3,$B$7:B35)","v":4},"光缆-GYTA53-单模G.652D-48芯",null,"皮长公里",null,"3253.06833",{"v":0,"d":"0.00"},null,null,"J05010303340","普通铠装光缆",{"$f":"E33*4","v":{"v":0,"d":"0.00"}}]
[{"$f":"SUBTOTAL(3,$B$7:B36)","v":4},"光缆-GYTA53-单模G.652D-72芯",null,"皮长公里",null,"4215.559335",{"v":0,"d":"0.00"},null,null,"J05010303351","普通铠装光缆"]
[{"$f":"SUBTOTAL(3,$B$7:B37)","v":4},"光缆-GYTA53-单模G.652D-96芯",null,"皮长公里",null,"5483.462535",{"v":0,"d":"0.00"},null,null,"J05010303354","普通铠装光缆",{"$f":"E35*6","v":{"v":0,"d":"0.00"}}]
[{"$f":"SUBTOTAL(3,$B$7:B38)","v":4},"光缆-GYFTY-单模G.652D-4芯",null,"皮长公里",null,"866.066933",{"v":0,"d":"0.00"},null,null,"J05010303648","无加强芯光缆"]
[{"$f":"SUBTOTAL(3,$B$7:B39)","v":4},"光缆-GYFTY-单模G.652D-6芯",null,"皮长公里",null,"924.066933",{"v":0,"d":"0.00"},null,null,"J05010303649","无加强芯光缆"]
[{"$f":"SUBTOTAL(3,$B$7:B40)","v":4},"光缆-GYFTY-单模G.652D-8芯",null,"皮长公里",null,"1022.576743",{"v":0,"d":"0.00"},null,null,"J05010302908","无加强芯光缆",{"$f":"E39*24","v":{"v":0,"d":"0.00"}}]
[{"$f":"SUBTOTAL(3,$B$7:B41)","v":4},"光缆-GYFTY-单模G.652D-12芯",null,"皮长公里",null,"1138.576743",{"v":0,"d":"0.00"},null,null,"J05010302912","无加强芯光缆",{"$f":"E7*6","v":{"v":0,"d":"0.00"}}]
[{"$f":"SUBTOTAL(3,$B$7:B42)","v":4},"光缆-GYFTY-单模G.652D-24芯",null,"皮长公里",null,"1563.465951",{"v":0,"d":"0.00"},null,null,"J05010302915","无加强芯光缆",{"$f":"E41*8","v":{"v":0,"d":"0.00"}}]
[{"$f":"SUBTOTAL(3,$B$7:B43)","v":4},"光缆-GYFTY-单模G.652D-36芯",null,"皮长公里",null,"2009.642667",{"v":0,"d":"0.00"},null,null,"J05010302917","无加强芯光缆",{"$f":"E42*12","v":{"v":0,"d":"0.00"}}]
[{"$f":"SUBTOTAL(3,$B$7:B44)","v":4},"光缆-GYFTY-单模G.652D-48芯",null,"皮长公里",null,"2522.938578",{"$f":"E44*F44","v":{"v":0,"d":"0.00"}},null,null,"J05010302921","无加强芯光缆"]
[{"$f":"SUBTOTAL(3,$B$7:B45)","v":4},"光缆-GYFTY-单模G.652D-72芯",null,"皮长公里",null,"3404.17167",{"v":0,"d":"0.00"},null,null,"J05010302927","无加强芯光缆",{"$f":"E33*16","v":{"v":0,"d":"0.00"}}]
[{"$f":"SUBTOTAL(3,$B$7:B46)","v":4},"GYTA53(不锈钢带)-4芯",null,"皮长公里",null,"2306.70698",{"v":0,"d":"0.00"},null,null,"J05010303060","不锈钢带铠装光缆",{"$f":"E45*24","v":{"v":0,"d":"0.00"}}]
[{"$f":"SUBTOTAL(3,$B$7:B47)","v":4},"GYTA53(不锈钢带)-6芯",null,"皮长公里",null,"2364.70698",{"v":0,"d":"0.00"},null,null,"J05010303065","不锈钢带铠装光缆"]
[{"$f":"SUBTOTAL(3,$B$7:B48)","v":4},"GYTA53(不锈钢带)-8芯",null,"皮长公里",null,"2475.13144",{"v":0,"d":"0.00"},null,null,"J05010303068","不锈钢带铠装光缆",{"$f":"E46*36","v":{"v":0,"d":"0.00"}}]
[{"$f":"SUBTOTAL(3,$B$7:B49)","v":4},"GYTA53(不锈钢带)-12芯",null,"皮长公里",null,"2591.13144",{"v":0,"d":"0.00"},null,null,"J05010303072","不锈钢带铠装光缆",{"$f":"E47*48","v":{"v":0,"d":"0.00"}}]
[{"$f":"SUBTOTAL(3,$B$7:B50)","v":4},"GYTA53(不锈钢带)-18芯",null,"皮长公里",null,"2811.360282",{"v":0,"d":"0.00"},null,null,"J05010303079","不锈钢带铠装光缆",{"$f":"E48*48","v":{"v":0,"d":"0.00"}}]
[{"$f":"SUBTOTAL(3,$B$7:B51)","v":4},"GYTA53(不锈钢带)-24芯",null,"皮长公里",null,"3038.896776",{"v":0,"d":"0.00"},null,null,"J05010303082","不锈钢带铠装光缆"]
[{"$f":"SUBTOTAL(3,$B$7:B52)","v":4},"GYTA53(不锈钢带)-36芯",null,"皮长公里",null,"3508.74393",{"v":0,"d":"0.00"},null,null,"J05010303087","不锈钢带铠装光缆",{"$f":"E50*4","v":{"v":0,"d":"0.00"}}]
[{"$f":"SUBTOTAL(3,$B$7:B53)","v":4},"GYTA53(不锈钢带)-48芯",null,"皮长公里",null,"4188.844941",{"v":0,"d":"0.00"},null,null,"J05010303091","不锈钢带铠装光缆",{"$f":"E52*6","v":{"v":0,"d":"0.00"}}]
[{"$f":"SUBTOTAL(3,$B$7:B54)","v":4},"GYTA53(不锈钢带)-72芯",null,"皮长公里",null,"5368.897455",{"v":0,"d":"0.00"},null,null,"J05010303095","不锈钢带铠装光缆"]
[{"$f":"SUBTOTAL(3,$B$7:B55)","v":4},"GYTA53(不锈钢带)-96芯",null,"皮长公里",null,"6670.479399",{"v":0,"d":"0.00"},null,null,"J05010303098","不锈钢带铠装光缆",{"$f":"E43*16","v":{"v":0,"d":"0.00"}}]
[{"$f":"SUBTOTAL(3,$B$7:B56)","v":4},"光缆-GYDTA-单模G.652D-96芯",null,"皮长公里",null,"5744.790525",{"v":0,"d":"0.00"},null,null,"J05010303480","带状光缆",{"$f":"E55*24","v":{"v":0,"d":"0.00"}}]
[{"$f":"SUBTOTAL(3,$B$7:B57)","v":4},"光缆-GYDTA-单模G.652D-144芯",null,"皮长公里",null,"7590.500397",{"v":0,"d":"0.00"},null,null,"J05010303489","带状光缆"]
[{"$f":"SUBTOTAL(3,$B$7:B58)","v":4},"光缆-GYDTA-单模G.652D-168芯",null,"皮长公里",null,"8612.882376",{"v":0,"d":"0.00"},null,null,"J05010303492","带状光缆",{"$f":"E56*36","v":{"v":0,"d":"0.00"}}]
[{"$f":"SUBTOTAL(3,$B$7:B59)","v":4},"光缆-GYDTA-单模G.652D-240芯",null,"皮长公里",null,"11383.51239",{"v":0,"d":"0.00"},null,null,"J05010303504","带状光缆",{"$f":"E57*48","v":{"v":0,"d":"0.00"}}]
[{"$f":"SUBTOTAL(3,$B$7:B60)","v":4},"光缆-GYDTA-单模G.652D-288芯",null,"皮长公里",null,"13199.435637",{"v":0,"d":"0.00"},null,null,"J05010303512","带状光缆",{"$f":"E58*48","v":{"v":0,"d":"0.00"}}]
[{"$f":"SUBTOTAL(3,$B$7:B61)","v":4},"蝶形引入光缆","GJYXCH-1B6","千米",null,{"v":386.7,"d":"386.70"},{"$f":"E61*F61","v":{"v":0,"d":"0.00"}},null,null,"J05010400221","省模板材料，建议不要用"]
[{"$f":"SUBTOTAL(3,$B$7:B62)","v":4},"蝶形引入光缆","GJYXFCH-1B6","千米",null,{"v":446,"d":"446.00"},{"v":0,"d":"0.00"},null,null,"J05010400224","省模板材料，建议不要用"]
[{"$f":"SUBTOTAL(3,$B$7:B63)","v":4},"通信电源用阻燃软电缆            ","1.5-ZA-RVV-二芯","米",null,1.66,{"v":0,"d":"0.00"},null,null,"J05030201969","省模板材料，建议不要用"]
[{"$f":"SUBTOTAL(3,$B$7:B64)","v":4},"铝芯电力电缆                ","VLV-2×10MM","米",null,{"v":4.3,"d":"4.30"},{"$f":"E64*F64","v":{"v":0,"d":"0.00"}},null,null,"L05030204295","省模板材料，建议不要用"]
[{"$f":"SUBTOTAL(3,$B$7:B65)","v":4},"尾纤","FC-FC-3米","条",null,{"v":6.418715,"d":"6.42"},{"v":0,"d":"0.00"},null,null,"J05061405153_JX0003","省模板材料，建议不要用"]
[{"$f":"SUBTOTAL(3,$B$7:B66)","v":4},"尾纤","SC-SC-3米","条",null,9.43,{"v":0,"d":"0.00"},null,null,"J05061405153_JX0008","省模板材料，建议不要用"]
[{"$f":"SUBTOTAL(3,$B$7:B67)","v":4},"尾纤","FC-SC-3米","条",null,8.55,{"v":0,"d":"0.00"},null,null,"J05061405153_JX0013","省模板材料，建议不要用"]
[{"$f":"SUBTOTAL(3,$B$7:B68)","v":4},"光纤热熔管/单芯","光纤热熔管/单芯","条",null,{"v":0.2,"d":"0.20"},{"v":0,"d":"0.00"},null,null,"J05050100044","省模板材料，建议不要用"]
[{"$f":"SUBTOTAL(3,$B$7:B69)","v":4},"通信杆-ф150×6m","水泥电杆-Φ130mm-6米","个",null,{"v":170,"d":"170.00"},{"v":0,"d":"0.00"},null,null,"J05070200778","省模板材料，建议不要用"]
[{"$f":"SUBTOTAL(3,$B$7:B70)","v":5},"通信杆-ф150×7m","通信杆-ф150×7m","个",{"v":6,"d":"6.00"},387.94,2327.64,{"$f":"G70*13%","v":{"v":302.5932,"d":"302.59"}},{"$f":"G70+H70","v":{"v":2630.2332,"d":"2630.23"}}]
[{"$f":"SUBTOTAL(3,$B$7:B71)","v":5},"通信杆-ф150×8m","通信杆-ф150×8m","个",null,{"v":288,"d":"288.00"},{"v":0,"d":"0.00"},null,null,"J05070200776","省模板材料，建议不要用"]
[{"$f":"SUBTOTAL(3,$B$7:B72)","v":5},"通信杆-ф150×9m","通信杆-ф150×9m","个",null,{"v":669,"d":"669.00"},{"v":0,"d":"0.00"},{"v":0,"d":"0.00"},{"v":0,"d":"0.00"}]
[{"$f":"SUBTOTAL(3,$B$7:B73)","v":5},"通信杆-ф150×10m","通信杆-ф150×10m","个",null,{"v":675,"d":"675.00"},{"v":0,"d":"0.00"},{"v":0,"d":"0.00"},{"v":0,"d":"0.00"}]
[{"$f":"SUBTOTAL(3,$B$7:B74)","v":5},"增高架","双槽钢-2000×50×50×5mm","个",null,{"v":150,"d":"150.00"},{"v":0,"d":"0.00"},null,null,"J05070102924","省模板材料，建议不要用"]
[{"$f":"SUBTOTAL(3,$B$7:B75)","v":5},"单杆圆形站台","大号","付",null,{"v":430,"d":"430.00"},{"v":0,"d":"0.00"},null,null,"L01130301732","省模板材料，建议不要用"]
[{"$f":"SUBTOTAL(3,$B$7:B76)","v":5},"交接箱站台 ","大号单面","付",null,{"v":1120,"d":"1120.00"},{"v":0,"d":"0.00"},null,null,"J05070103194","省模板材料，建议不要用"]
[{"$f":"SUBTOTAL(3,$B$7:B77)","v":5},"交接箱站台 ","大号双面","付",null,{"v":1260,"d":"1260.00"},{"v":0,"d":"0.00"},null,null,"J05070103195","省模板材料，建议不要用"]
[{"$f":"SUBTOTAL(3,$B$7:B78)","v":5},"水泥拉线盘","LP600*400*150","块",null,17.41,{"v":0,"d":"0.00"},null,null,"J05070200731","省模板材料，建议不要用"]
[{"$f":"SUBTOTAL(3,$B$7:B79)","v":5},"单吊线抱箍","144×50×8m/m","个",null,17.51,{"v":0,"d":"0.00"},null,null,"J05070102873","省模板材料，建议不要用"]
[{"$f":"SUBTOTAL(3,$B$7:B80)","v":5},"单吊线抱箍","164×50×8m/m","个",null,15.82,{"v":0,"d":"0.00"},null,null,"J05070103498_JX0003","省模板材料，建议不要用"]
[{"$f":"SUBTOTAL(3,$B$7:B81)","v":5},"拉线抱箍","164×50×8m/m","个",null,13.93,{"v":0,"d":"0.00"},null,null,"J05070103498_JX0004","省模板材料，建议不要用"]
[{"$f":"SUBTOTAL(3,$B$7:B82)","v":5},"双吊线抱箍","164×50×8m/m","个",null,{"v":23,"d":"23.00"},{"v":0,"d":"0.00"},null,null,"J05070102532","省模板材料，建议不要用"]
[{"$f":"SUBTOTAL(3,$B$7:B83)","v":5},"塑托挂钩-电缆-35mm","塑托挂钩-电缆-35mm","个",null,0.14,{"v":0,"d":"0.00"},null,null,"J05070103083","省模板材料，建议不要用"]
[{"$f":"SUBTOTAL(3,$B$7:B84)","v":5},"塑托挂钩-电缆-45mm","塑托挂钩-电缆-45mm","个",null,0.19,{"v":0,"d":"0.00"},null,null,"J05070103084","省模板材料，建议不要用"]
[{"$f":"SUBTOTAL(3,$B$7:B85)","v":5},"电缆挂钩-65m/m铝托","电缆挂钩-65m/m铝托","个",null,{"v":0.2,"d":"0.20"},{"v":0,"d":"0.00"},null,null,"J05070103077","省模板材料，建议不要用"]
[{"$f":"SUBTOTAL(3,$B$7:B86)","v":5},"拉线地锚棒","φ16×1800","个",null,{"v":16,"d":"16.00"},{"v":0,"d":"0.00"},null,null,"J05070102515","省模板材料，建议不要用"]
[{"$f":"SUBTOTAL(3,$B$7:B87)","v":5},"地线棒-16×1500mm","地线棒-12×1800","个",null,{"v":20.6,"d":"20.60"},{"v":0,"d":"0.00"},null,null,"J05070102838","省模板材料，建议不要用"]
[{"$f":"SUBTOTAL(3,$B$7:B88)","v":5},"U型抱箍（2个）","1:32SMC室外楼道箱抱杆使用","个  ",null,11.44,{"$f":"E88*F88","v":{"v":0,"d":"0.00"}},null,null,"L05070106801","省模板材料，建议不要用"]
[{"$f":"SUBTOTAL(3,$B$7:B89)","v":5},"钢担U型抱箍","R=75","付",null,{"v":4.5,"d":"4.50"},{"v":0,"d":"0.00"},null,null,"J05070102538","省模板材料，建议不要用"]
[{"$f":"SUBTOTAL(3,$B$7:B90)","v":5},"二线角钢担","400*40*40*4","条",null,{"v":19.8,"d":"19.80"},{"v":0,"d":"0.00"},null,null,"L05070106499","省模板材料，建议不要用"]
[{"$f":"SUBTOTAL(3,$B$7:B91)","v":5},"镀锌钢绞线","7*2.2","公斤",null,6.15,{"v":0,"d":"0.00"},null,null,"J05070103313","省模板材料，建议不要用"]
[{"$f":"SUBTOTAL(3,$B$7:B92)","v":5},"镀锌钢绞线","7*2.6","公斤",null,{"v":7,"d":"7.00"},{"v":0,"d":"0.00"},null,null,"J05070103319","省模板材料，建议不要用"]
[{"$f":"SUBTOTAL(3,$B$7:B93)","v":5},"铁线","1.5mm","公斤",null,5.81,{"v":0,"d":"0.00"},null,null,"J05070102828","省模板材料，建议不要用"]
[{"$f":"SUBTOTAL(3,$B$7:B94)","v":5},"铁线","3.0mm","公斤",null,5.91,{"v":0,"d":"0.00"},null,null,"J05070102506","省模板材料，建议不要用"]
[{"$f":"SUBTOTAL(3,$B$7:B95)","v":5},"铁线","4.0mm","公斤",null,5.91,{"v":0,"d":"0.00"},null,null,"J05070102826","省模板材料，建议不要用"]
[{"$f":"SUBTOTAL(3,$B$7:B96)","v":5},"拉线衬环","三股","只",null,{"v":0.7,"d":"0.70"},{"v":0,"d":"0.00"},null,null,"J05070102552","省模板材料，建议不要用"]
[{"$f":"SUBTOTAL(3,$B$7:B97)","v":5},"拉线衬环","五股","只",null,1.11,{"v":0,"d":"0.00"},null,null,"J05070102553","省模板材料，建议不要用"]
[{"$f":"SUBTOTAL(3,$B$7:B98)","v":5},"拉线隔电子","J-45","个",null,3.85,{"v":0,"d":"0.00"},null,null,"J05070102450","省模板材料，建议不要用"]
[{"$f":"SUBTOTAL(3,$B$7:B99)","v":5},"跨路警示标牌-400mm×150mm","400mm×150mm","个",null,{"v":6,"d":"6.00"},{"v":0,"d":"0.00"},null,null,"J05070400073","省模板材料，建议不要用"]
[{"$f":"SUBTOTAL(3,$B$7:B100)","v":5},"拉线标志保护管","反光漆","个",null,6.41,{"v":0,"d":"0.00"},null,null,"J05070102611","省模板材料，建议不要用"]
[{"$f":"SUBTOTAL(3,$B$7:B101)","v":5},"三线交叉保护套(硬)",null,"米",null,{"v":5.3,"d":"5.30"},{"v":0,"d":"0.00"},null,null,"J05070300189","省模板材料，建议不要用"]
[{"$f":"SUBTOTAL(3,$B$7:B102)","v":5},"光缆盘留支架","650×650mm","个",null,35.36,{"v":0,"d":"0.00"},null,null,"J05062101241","省模板材料，建议不要用"]
[{"$f":"SUBTOTAL(3,$B$7:B103)","v":5},"U型钢绞线卡子-10m/m","U型钢绞线卡子-10m/m","个",null,{"v":2.2,"d":"2.20"},{"v":0,"d":"0.00"},null,null,"J05070102846","省模板材料，建议不要用"]
[{"$f":"SUBTOTAL(3,$B$7:B104)","v":5},"U型钢绞线卡子-8m/m","U型钢绞线卡子-8m/m","个",null,1.07,{"v":0,"d":"0.00"},null,null,"J05070102848","省模板材料，建议不要用"]
[{"$f":"SUBTOTAL(3,$B$7:B105)","v":5},"三眼单槽夹板","142×42×24","个",null,6.74,{"v":0,"d":"0.00"},null,null,"J05070103498_JX0013","省模板材料，建议不要用"]
[{"$f":"SUBTOTAL(3,$B$7:B106)","v":5},"三眼双槽夹板",null,"个",null,8.32,{"v":0,"d":"0.00"},null,null,"J05070103498_JX0012","省模板材料，建议不要用"]
[{"$f":"SUBTOTAL(3,$B$7:B107)","v":5},"塑料电缆卡","6#","个",null,0.04,{"v":0,"d":"0.00"},null,null,"J05070600015","省模板材料，建议不要用"]
[{"$f":"SUBTOTAL(3,$B$7:B108)","v":5},"线卡-10#","线卡-10#","个",null,0.05,{"v":0,"d":"0.00"},null,null,"J05070103140","省模板材料，建议不要用"]
[{"$f":"SUBTOTAL(3,$B$7:B109)","v":5},"线卡-12#","线卡-12#","个",null,0.06,{"v":0,"d":"0.00"},null,null,"J05070103141","省模板材料，建议不要用"]
[{"$f":"SUBTOTAL(3,$B$7:B110)","v":5},"线卡-16#","线卡-16#","个",null,0.11,{"v":0,"d":"0.00"},null,null,"J05070103143","省模板材料，建议不要用"]
[{"$f":"SUBTOTAL(3,$B$7:B111)","v":5},"线卡-18#","线卡-18#","个",null,0.16,{"v":0,"d":"0.00"},null,null,"J05070600015","省模板材料，建议不要用"]
[{"$f":"SUBTOTAL(3,$B$7:B112)","v":5},"线卡-20#","线卡-20#","个",null,0.14,{"v":0,"d":"0.00"},null,null,"J05070103145","省模板材料，建议不要用"]
[{"$f":"SUBTOTAL(3,$B$7:B113)","v":5},"线卡-25#","线卡-25#","个",null,0.18,{"v":0,"d":"0.00"},null,null,"J05070600015","省模板材料，建议不要用"]
[{"$f":"SUBTOTAL(3,$B$7:B114)","v":5},"线卡-32#","线卡-32#","个",null,0.45,{"v":0,"d":"0.00"},null,null,"J05070600015","省模板材料，建议不要用"]
[{"$f":"SUBTOTAL(3,$B$7:B115)","v":5},"压线卡","7#","只",null,0.04,{"v":0,"d":"0.00"},null,null,"J05070600015","省模板材料，建议不要用"]
[{"$f":"SUBTOTAL(3,$B$7:B116)","v":5},"隔电子","小号直角","个",null,0.95,{"v":0,"d":"0.00"},null,null,"J05070102450","省模板材料，建议不要用"]
[{"$f":"SUBTOTAL(3,$B$7:B117)","v":5},"拉攀","一号","个",null,{"v":9,"d":"9.00"},{"v":0,"d":"0.00"},null,null,"J05070102561","省模板材料，建议不要用"]
[{"$f":"SUBTOTAL(3,$B$7:B118)","v":5},"三沟隔电子","三沟隔电子","个",null,1.07,{"v":0,"d":"0.00"},null,null,"J05070102863","省模板材料，建议不要用"]
[{"$f":"SUBTOTAL(3,$B$7:B119)","v":5},"二号拉攀",null,"付",null,{"v":5,"d":"5.00"},{"v":0,"d":"0.00"},null,null,"J05070102562","省模板材料，建议不要用"]
[{"$f":"SUBTOTAL(3,$B$7:B120)","v":5},"突出支架","大号8*50","付",null,{"v":17,"d":"17.00"},{"v":0,"d":"0.00"},null,null,"J05070102572","省模板材料，建议不要用"]
[{"$f":"SUBTOTAL(3,$B$7:B121)","v":5},"突出支架","小号8*50","付",null,{"v":14,"d":"14.00"},{"v":0,"d":"0.00"},null,null,"J05070102573","省模板材料，建议不要用"]
[{"$f":"SUBTOTAL(3,$B$7:B122)","v":5},"波纹柔管","ф16mm","米",null,{"v":1.2,"d":"1.20"},{"v":0,"d":"0.00"},null,null,"J05080201695","省模板材料，建议不要用"]
[{"$f":"SUBTOTAL(3,$B$7:B123)","v":5},"波纹柔管","ф20mm","米",null,{"v":1.6,"d":"1.60"},{"$f":"E123*F123","v":{"v":0,"d":"0.00"}},null,null,"J05080201687","省模板材料，建议不要用"]
[{"$f":"SUBTOTAL(3,$B$7:B124)","v":5},"波纹柔管","ф25","米",null,{"v":1.8,"d":"1.80"},{"v":0,"d":"0.00"},null,null,"J05080201688","省模板材料，建议不要用"]
[{"$f":"SUBTOTAL(3,$B$7:B125)","v":5},"光缆保护管",null,"米",null,0.72,{"v":0,"d":"0.00"},null,null,"L05070300422","省模板材料，建议不要用"]
[{"$f":"SUBTOTAL(3,$B$7:B126)","v":5},"机电工具","黑胶布","个",null,{"v":2.8,"d":"2.80"},{"v":0,"d":"0.00"},null,null,"L10150200721","省模板材料，建议不要用"]
[{"$f":"SUBTOTAL(3,$B$7:B127)","v":5},"防护类辅材","封堵胶泥","个",null,{"v":6.7,"d":"6.70"},{"v":0,"d":"0.00"},null,null,"J05080201737","省模板材料，建议不要用"]
[{"$f":"SUBTOTAL(3,$B$7:B128)","v":5},"PE半硬塑料管","Φ50/40","米",null,{"v":4.784,"d":"4.78"},{"v":0,"d":"0.00"},null,null,"J05080201489","省模板材料，建议不要用"]
[{"$f":"SUBTOTAL(3,$B$7:B129)","v":5},"PE子管","32mm×28mm","米",null,{"v":2.4,"d":"2.40"},{"v":0,"d":"0.00"},null,null,"J05080201514","省模板材料，建议不要用"]
[{"$f":"SUBTOTAL(3,$B$7:B130)","v":5},"PVC双壁波纹管","110/100SVBY","米",null,{"v":7.5,"d":"7.50"},{"v":0,"d":"0.00"},null,null,"J05080201512","省模板材料，建议不要用"]
[{"$f":"SUBTOTAL(3,$B$7:B131)","v":5},"PVC实壁管（单孔管）","Φ16/12","米",null,{"v":1.2,"d":"1.20"},{"v":0,"d":"0.00"},null,null,"J05080202003","省模板材料，建议不要用"]
[{"$f":"SUBTOTAL(3,$B$7:B132)","v":5},"PVC实壁管（单孔管）","Φ20/16","米",null,{"v":1.5,"d":"1.50"},{"v":0,"d":"0.00"},null,null,"J05080202006","省模板材料，建议不要用"]
[{"$f":"SUBTOTAL(3,$B$7:B133)","v":5},"PVC实壁管（单孔管）","Φ25/21","米",null,1.85,{"v":0,"d":"0.00"},null,null,"J05080202008","省模板材料，建议不要用"]
[{"$f":"SUBTOTAL(3,$B$7:B134)","v":5},"PVC实壁管（单孔管）","Φ32/28","米",null,{"v":2.8,"d":"2.80"},{"v":0,"d":"0.00"},null,null,"J05080201495","省模板材料，建议不要用"]
[{"$f":"SUBTOTAL(3,$B$7:B135)","v":6},"镀锌钢管","φ50","米",{"v":6,"d":"6.00"},39.23,235.38,{"$f":"G135*13%","v":{"v":30.5994,"d":"30.60"}},{"$f":"G135+H135","v":{"v":265.9794,"d":"265.98"}},"J05080300342"]
[{"$f":"SUBTOTAL(3,$B$7:B136)","v":6},"镀锌钢管","φ80","米",null,45.84,{"v":0,"d":"0.00"},null,null,"J05080300303","省模板材料，建议不要用"]
[{"$f":"SUBTOTAL(3,$B$7:B137)","v":6},"镀锌钢管管卡","φ50","个",null,{"v":1.2,"d":"1.20"},{"v":0,"d":"0.00"},null,null,"J05080300318","省模板材料，建议不要用"]
[{"$f":"SUBTOTAL(3,$B$7:B138)","v":6},"镀锌钢管管卡","φ80","个",null,{"v":1.8,"d":"1.80"},{"v":0,"d":"0.00"},null,null,"J05070600015","省模板材料，建议不要用"]
[{"$f":"SUBTOTAL(3,$B$7:B139)","v":6},"钢管直接头","φ50","只",null,{"v":7.5,"d":"7.50"},{"v":0,"d":"0.00"},null,null,"J05080300307","省模板材料，建议不要用"]
[{"$f":"SUBTOTAL(3,$B$7:B140)","v":6},"钢管直接头","φ100","只",null,{"v":28,"d":"28.00"},{"v":0,"d":"0.00"},null,null,"J05080300305","省模板材料，建议不要用"]
[{"$f":"SUBTOTAL(3,$B$7:B141)","v":6},"钢管直接头","φ80","只",null,{"v":18,"d":"18.00"},{"v":0,"d":"0.00"},null,null,"J05080300307","省模板材料，建议不要用"]
[{"$f":"SUBTOTAL(3,$B$7:B142)","v":6},"镀锌钢管","φ100",null,null,61.17,{"v":0,"d":"0.00"},null,null,"J05080300302","省模板材料，建议不要用"]
[{"$f":"SUBTOTAL(3,$B$7:B143)","v":6},"光缆配线箱","光缆配线箱-壁挂式-450×400×120mm-48芯","套",null,{"v":574,"d":"574.00"},{"v":0,"d":"0.00"},null,null,"J05050500035","省模板材料，建议不要用"]
[{"$f":"SUBTOTAL(3,$B$7:B144)","v":6},"光缆配线箱","室外 72芯","套",null,{"v":720,"d":"720.00"},{"v":0,"d":"0.00"},null,null,"L05050500222","省模板材料，建议不要用"]
[{"$f":"SUBTOTAL(3,$B$7:B145)","v":6},"光缆配线箱","室外 96芯","套",null,{"v":1370,"d":"1370.00"},{"v":0,"d":"0.00"},null,null,"J05050500031","省模板材料，建议不要用"]
[{"$f":"SUBTOTAL(3,$B$7:B146)","v":6},"光纤终端盒","光纤终端盒-挂墙式-直熔-12芯","个",null,36.75,{"$f":"E146*F146","v":{"v":0,"d":"0.00"}},null,null,"J05050300082","省模板材料，建议不要用"]
[{"$f":"SUBTOTAL(3,$B$7:B147)","v":6},"光纤终端盒","光纤终端盒-挂墙式-直熔-24芯","个",null,{"v":48,"d":"48.00"},{"v":0,"d":"0.00"},null,null,"J05050300083","省模板材料，建议不要用"]
[{"$f":"SUBTOTAL(3,$B$7:B148)","v":6},"光缆接头盒","GPJ 二进二出 12芯","套",null,82.44,{"v":0,"d":"0.00"},null,null,"J05050400973","省模板材料，建议不要用"]
[{"$f":"SUBTOTAL(3,$B$7:B149)","v":6},"光缆接头盒","GPJ 二进二出 24芯","套",null,84.47,{"v":0,"d":"0.00"},null,null,"J05050400974","省模板材料，建议不要用"]
[{"$f":"SUBTOTAL(3,$B$7:B150)","v":6},"光缆接头盒","GPJ 二进二出 48芯","套",null,158.95,{"v":0,"d":"0.00"},null,null,"J05050400976","省模板材料，建议不要用"]
[{"$f":"SUBTOTAL(3,$B$7:B151)","v":6},"光缆接头盒","3M 2178 36芯","套",null,{"v":1380,"d":"1380.00"},{"v":0,"d":"0.00"},null,null,"J05050400900","省模板材料，建议不要用"]
[{"$f":"SUBTOTAL(3,$B$7:B152)","v":6},"光缆接头盒","3M 2178C 72芯","套",null,{"v":1081,"d":"1081.00"},{"v":0,"d":"0.00"},null,null,"J05050400900","省模板材料，建议不要用"]
[{"$f":"SUBTOTAL(3,$B$7:B153)","v":6},"光缆接头盒","3M 2178C 168芯","套",null,{"v":1720,"d":"1720.00"},{"v":0,"d":"0.00"},null,null,"估价"]
[{"$f":"SUBTOTAL(3,$B$7:B154)","v":6},"光缆接头盒","3M 2178C 240芯","套",null,{"v":1920,"d":"1920.00"},{"v":0,"d":"0.00"},null,null,"估价"]
[{"$f":"SUBTOTAL(3,$B$7:B160)","v":7},"皮缆及光缆两用接头盒","GJS-SPW202","只",null,{"v":340,"d":"340.00"},{"v":0,"d":"0.00"},null,null,"J05050400900","省模板材料，建议不要用"]
[{"$f":"SUBTOTAL(3,$B$7:B156)","v":6},"光缆交接箱","光缆交接箱（144芯SMC箱体）满配 SC","台",null,2004.76,{"v":0,"d":"0.00"},null,null,"J05050100860_JX0030","省模板材料，建议不要用"]
[{"$f":"SUBTOTAL(3,$B$7:B157)","v":6},"光缆交接箱","（144芯SMC箱体）满配 FC","台",null,2004.76,{"v":0,"d":"0.00"},null,null,"J05050100860_JX0013","省模板材料，建议不要用"]
[{"$f":"SUBTOTAL(3,$B$7:B158)","v":6},"光缆交接箱","（288芯SMC箱体）满配 SC","个",null,3214.31,{"$f":"E158*F158","v":{"v":0,"d":"0.00"}},null,null,"J05050100860_JX0028","省模板材料，建议不要用"]
[{"$f":"SUBTOTAL(3,$B$7:B159)","v":6},"光缆交接箱","（288芯SMC箱体）满配 FC","个",null,3214.31,{"v":0,"d":"0.00"},null,null,"J05050100860_JX0012","省模板材料，建议不要用"]
[{"$f":"SUBTOTAL(3,$B$7:B160)","v":7},"光缆交接箱","（576芯双面SMC箱体）半配 FC","个",{"v":0,"d":"0.00"},{"v":4577,"d":"4577.00"},{"v":0,"d":"0.00"},{"$f":"G160*13%","v":{"v":0,"d":"0.00"}},{"$f":"G160+H160","v":{"v":0,"d":"0.00"}}]
[{"$f":"SUBTOTAL(3,$B$7:B161)","v":7},"壁挂式免跳接室外光缆交接箱","72芯SMC箱体","台",null,1190.45,{"v":0,"d":"0.00"},null,null,"J05050100860_JX0009","省模板材料，建议不要用"]
[{"$f":"SUBTOTAL(3,$B$7:B162)","v":7},"壁挂式免跳接室外光缆交接箱","144芯SMC箱体","台",null,{"v":2365.2,"d":"2365.20"},{"v":0,"d":"0.00"},null,null,"J05050100860_JX0011","省模板材料，建议不要用"]
[{"$f":"SUBTOTAL(3,$B$7:B163)","v":7},"免跳接室外光缆交接箱","288芯SMC箱体（半配）","台",null,3414.31,{"v":0,"d":"0.00"},null,null,"J05050100860_JX0007","省模板材料，建议不要用"]
[{"$f":"SUBTOTAL(3,$B$7:B164)","v":7},"免跳接室外光缆交接箱","288芯SMC箱体（满配）","台",null,{"v":4377,"d":"4377.00"},{"v":0,"d":"0.00"},null,null,"J05050100860_JX0006","省模板材料，建议不要用"]
[{"$f":"SUBTOTAL(3,$B$7:B165)","v":7},"免跳接室外光缆交接箱","576芯双面SMC箱体 （半配）","台",null,{"v":5490,"d":"5490.00"},{"v":0,"d":"0.00"},null,null,"J05050100860_JX0032","省模板材料，建议不要用"]
[{"$f":"SUBTOTAL(3,$B$7:B166)","v":7},"日海分光器","光交接箱NTM-SA1模块（含光分器1：4，FC适配器）","个",null,{"v":263,"d":"263.00"},{"$f":"E166*F166","v":{"v":0,"d":"0.00"}},null,null,"J05061100694","省模板材料，建议不要用"]
[{"$f":"SUBTOTAL(3,$B$7:B167)","v":7},"日海分光器","光交接箱NTM-SA1模块（含光分器1：8，FC适配器）","个",null,281.05,{"v":0,"d":"0.00"},null,null,"J05061100695","省模板材料，建议不要用"]
[{"$f":"SUBTOTAL(3,$B$7:B168)","v":7},"光交接箱型光分路器","光交接箱NTM-SA1模块（含光分器1：16，FC适配器）","块",null,{"v":681,"d":"681.00"},{"v":0,"d":"0.00"},null,null,"L05050200848","省模板材料，建议不要用"]
[{"$f":"SUBTOTAL(3,$B$7:B169)","v":7},"光交接箱型光分路器","光交接箱NTM-SA1模块（含光分器1：32，FC适配器）","块",null,{"v":1173,"d":"1173.00"},{"v":0,"d":"0.00"},null,null,"L05050200849","省模板材料，建议不要用"]
[{"$f":"SUBTOTAL(3,$B$7:B170)","v":7},"1：1X8SA12尾纤分路器模块盒","1：8","只",null,{"v":293,"d":"293.00"},{"v":0,"d":"0.00"},null,null,"J05061100707","省模板材料，建议不要用"]
[{"$f":"SUBTOTAL(3,$B$7:B171)","v":7},"1X32SA12尾纤分路器模块盒","1：32","只",null,{"v":818,"d":"818.00"},{"v":0,"d":"0.00"},null,null,"J05061100709","省模板材料，建议不要用"]
[{"$f":"SUBTOTAL(3,$B$7:B172)","v":7},"1X4SA12尾纤分路器模块盒","1：4","只",null,{"v":246,"d":"246.00"},{"v":0,"d":"0.00"},null,null,"J05061100706","省模板材料，建议不要用"]
[{"$f":"SUBTOTAL(3,$B$7:B173)","v":7},"1×4插片式光分路器","1×4插片式,SC/UPC","个",null,{"v":47.3201842105,"d":"47.32"},{"v":0,"d":"0.00"},null,null,"J05061100148","省模板材料，建议不要用"]
[{"$f":"SUBTOTAL(3,$B$7:B174)","v":7},"1×8插片式光分路器","1×8插片式,SC/UPC","个",null,65.33,{"v":0,"d":"0.00"},null,null,"J05061100224","省模板材料，建议不要用"]
[{"$f":"SUBTOTAL(3,$B$7:B175)","v":7},"1×16插片式光分路器","1×16插片式,SC/UPC","套",null,{"v":68.239,"d":"68.24"},{"v":0,"d":"0.00"},null,null,"J05061100037","省模板材料，建议不要用"]
[{"$f":"SUBTOTAL(3,$B$7:B176)","v":7},"1×32插片式光分路器","1×32插片式,SC/UPC","个",null,172.87,{"$f":"E176*F176","v":{"v":0,"d":"0.00"}},null,null,"J05061100106","省模板材料，建议不要用"]
[{"$f":"SUBTOTAL(3,$B$7:B177)","v":7},"熔纤托盘12芯","熔纤托盘12芯","个",null,{"v":147.5,"d":"147.50"},{"v":0,"d":"0.00"},null,null,"J05050100860_JX0045","省模板材料，建议不要用"]
[{"$f":"SUBTOTAL(3,$B$7:B178)","v":7},"现场连接器-SC插头","6040027","个",null,{"v":29,"d":"29.00"},{"v":0,"d":"0.00"},null,null,"J05061300052","省模板材料，建议不要用"]
[{"$f":"SUBTOTAL(3,$B$7:B179)","v":7},"皮线光缆对接冷接子","HML925BP","只",null,{"v":18,"d":"18.00"},{"v":0,"d":"0.00"},null,null,"J05061300052","省模板材料，建议不要用"]
[{"$f":"SUBTOTAL(3,$B$7:B180)","v":7},"连接器","光纤快速连接器-连面板","个",null,{"v":23,"d":"23.00"},{"v":0,"d":"0.00"},null,null,"J05061300052","省模板材料，建议不要用"]
[{"$f":"SUBTOTAL(3,$B$7:B181)","v":7},"适配器","FC-FC","只",null,{"v":3.6,"d":"3.60"},{"v":0,"d":"0.00"},null,null,"J05061403524","省模板材料，建议不要用"]
[{"$f":"SUBTOTAL(3,$B$7:B182)","v":7},"适配器","FC-SC","只",null,{"v":6.8,"d":"6.80"},{"v":0,"d":"0.00"},null,null,"J05061400034","省模板材料，建议不要用"]
[{"$f":"SUBTOTAL(3,$B$7:B183)","v":7},"过路盒",null,"只",null,{"v":7.8,"d":"7.80"},{"v":0,"d":"0.00"},null,null,"J05062101173","省模板材料，建议不要用"]
[{"$f":"SUBTOTAL(3,$B$7:B184)","v":7},"日海分光器单元箱","S01 A1单元箱体","个",null,{"v":72,"d":"72.00"},{"v":0,"d":"0.00"},null,null,"L05050200860","省模板材料，建议不要用"]
[{"$f":"SUBTOTAL(3,$B$7:B185)","v":7},"壁挂式四槽塑模光分路箱（室内型）","（1:32）（塑模标配）","套",null,200.83,{"v":0,"d":"0.00"},null,null,"J05050200211","省模板材料，建议不要用"]
[{"$f":"SUBTOTAL(3,$B$7:B186)","v":7},"壁挂式二槽塑模光分路箱（室内型）","（1:16）（塑模标配）","套",null,122.01,{"v":0,"d":"0.00"},null,null,"J05050200208","省模板材料，建议不要用"]
[{"$f":"SUBTOTAL(3,$B$7:B187)","v":7},"壁挂式24芯塑模光配线箱（室内型）","（24芯）（塑模标配）","套",null,171.93,{"v":0,"d":"0.00"},null,null,"J05050500039","省模板材料，建议不要用"]
[{"$f":"SUBTOTAL(3,$B$7:B188)","v":7},"壁挂式四槽塑模光分路箱（室外型）","（1:32）（塑模标配）","套",null,189.33,{"v":0,"d":"0.00"},null,null,"J05050200202","省模板材料，建议不要用"]
[{"$f":"SUBTOTAL(3,$B$7:B189)","v":7},"壁挂式二槽塑模光分路箱（室外型）","（1:16）（塑模标配）","套",null,144.46,{"v":0,"d":"0.00"},null,null,"J05050200200","省模板材料，建议不要用"]
[{"$f":"SUBTOTAL(3,$B$7:B190)","v":7},"壁挂式四槽塑模光分路箱（抱杆型）","（1:32）（塑模标配）","套",null,{"v":204.9,"d":"204.90"},{"v":0,"d":"0.00"},null,null,"J05050200202","省模板材料，建议不要用"]
[{"$f":"SUBTOTAL(3,$B$7:B191)","v":7},"壁挂式二槽塑模光分路箱（抱杆型）","（1:16）（塑模标配）","套",null,{"v":123.4,"d":"123.40"},{"v":0,"d":"0.00"},null,null,"J05050200200","省模板材料，建议不要用"]
[{"$f":"SUBTOTAL(3,$B$7:B192)","v":7},"镀锌膨胀螺栓","12×100","个",null,1.26,{"v":0,"d":"0.00"},null,null,"J05070102588","省模板材料，建议不要用"]
[{"$f":"SUBTOTAL(3,$B$7:B193)","v":7},"CTGPX09PODF机架","2000mm×840mm×300mm","个",null,3782.88,{"v":0,"d":"0.00"},null,null,"J05060600034","省模板材料，建议不要用"]
[{"$f":"SUBTOTAL(3,$B$7:B194)","v":7},"ODF框","72芯","框",null,535.23,{"v":0,"d":"0.00"},null,null,"J05060600780_JX0005","省模板材料，建议不要用"]
[{"$f":"SUBTOTAL(3,$B$7:B195)","v":7},"ODF框","ODF框/24芯","框",null,401.36,{"v":0,"d":"0.00"},null,null,"J05060600780_JX0003","省模板材料，建议不要用"]
[{"$f":"SUBTOTAL(3,$B$7:B196)","v":7},"尼龙扎带","5*200","根",null,{"v":0.5,"d":"0.50"},{"v":0,"d":"0.00"},null,null,"J05062101080","省模板材料，建议不要用"]
[{"$f":"SUBTOTAL(3,$B$7:B197)","v":8},"镀锌铁线-3.0mm-B(厚)级","-","公斤",{"$f":"Sheet1!E14","v":3.12},{"v":9.9,"d":"9.90"},{"v":30.888,"d":"30.89"},{"$f":"G197*13%","v":{"v":4.01544,"d":"4.02"}},{"$f":"G197+H197","v":{"v":34.90344,"d":"34.90"}}]
[{"$f":"SUBTOTAL(3,$B$7:B198)","v":9},"镀锌钢绞线","7*2.2","公斤",{"$f":"Sheet1!E13","v":22.88},{"v":9.5,"d":"9.50"},217.36,{"v":28.2568,"d":"28.26"},{"v":245.6168,"d":"245.62"}]
[{"$f":"SUBTOTAL(3,$B$7:B199)","v":10},"镀锌钢绞线","7*2.6","公斤",{"$f":"Sheet1!V13","v":{"v":40,"d":"40.00"}},{"v":9.5,"d":"9.50"},{"v":380,"d":"380.00"},{"v":49.4,"d":"49.40"},{"v":429.4,"d":"429.40"}]
[{"$f":"SUBTOTAL(3,$B$7:B200)","v":11},"单吊线抱箍-164×50×8mm","-","个",{"$f":"Sheet1!E16","v":{"v":2.6,"d":"2.60"}},{"v":19.1,"d":"19.10"},49.66,{"v":6.4558,"d":"6.46"},{"v":56.1158,"d":"56.12"}]
[{"$f":"SUBTOTAL(3,$B$7:B201)","v":12},"拉线抱箍-164×50×8mm","-","个",{"$f":"Sheet1!V8","v":{"v":8,"d":"8.00"}},18.68,149.44,{"v":19.4272,"d":"19.43"},{"v":168.8672,"d":"168.87"}]
[{"$f":"SUBTOTAL(3,$B$7:B202)","v":13},"三眼单槽夹板","-","付",{"$f":"Sheet1!E18","v":{"v":2.6,"d":"2.60"}},{"v":12,"d":"12.00"},{"v":31.2,"d":"31.20"},{"v":4.056,"d":"4.06"},{"v":35.256,"d":"35.26"}]
[{"$f":"SUBTOTAL(3,$B$7:B203)","v":14},"三眼双槽夹板","-","付",{"$f":"Sheet1!V9","v":{"v":16,"d":"16.00"}},{"v":12,"d":"12.00"},{"v":192,"d":"192.00"},24.96,216.96]
[{"$f":"SUBTOTAL(3,$B$7:B204)","v":15},"挂钩-电缆-45mm-普通","-","只",{"$f":"Sheet1!E15","v":{"v":260,"d":"260.00"}},0.57,{"v":148.2,"d":"148.20"},{"v":19.266,"d":"19.27"},{"v":167.466,"d":"167.47"}]
[{"$f":"SUBTOTAL(3,$B$7:B205)","v":16},"拉线地锚-16×1800mm","-","个",{"$f":"Sheet1!V10","v":{"v":8,"d":"8.00"}},74.98,599.84]
[{"$f":"SUBTOTAL(3,$B$7:B206)","v":17},"地线棒-16×1800mm","-","个",{"$f":"Sheet1!V11","v":{"v":8,"d":"8.00"}},21.39,171.12]
[{"$f":"SUBTOTAL(3,$B$7:B207)","v":18},"线路铁件-镀锌膨胀螺栓-12×100mm","-","个",{"$f":"Sheet1!E20","v":{"v":55.8,"d":"55.80"}},0.94,{"v":52.452,"d":"52.45"}]
[{"$f":"SUBTOTAL(3,$B$7:B208)","v":19},"拉线衬环-五股","-","只",{"$f":"Sheet1!V12","v":{"v":16,"d":"16.00"}},0.95,{"v":15.2,"d":"15.20"}]
[{"$f":"SUBTOTAL(3,$B$7:B209)","v":19},"水泥电杆-Φ150mm-7米","-","根",null,{"v":234,"d":"234.00"},{"v":0,"d":"0.00"},null,null,"J05070200777"]
[{"$f":"SUBTOTAL(3,$B$7:B210)","v":20},"线路铁件-拉线警示护套-硬质","-","米",{"$f":"Sheet1!V8","v":{"v":8,"d":"8.00"}},{"v":13,"d":"13.00"},{"v":104,"d":"104.00"}]
[{"$f":"SUBTOTAL(3,$B$7:B211)","v":20}," 三眼单槽夹板 ",{"$nulls":3},7.52,{"v":0,"d":"0.00"},null,null,"J05070102495","景德镇常用材料"]
[{"$f":"SUBTOTAL(3,$B$7:B212)","v":20}," 室内外电缆分线盒、箱-铝合金-壁挂式-20对XF0(带锁) ",{"$nulls":3},{"v":23.9316,"d":"23.93"},{"v":0,"d":"0.00"},null,null,"J05040200125","景德镇常用材料"]
[{"$f":"SUBTOTAL(3,$B$7:B213)","v":20}," 室内外电缆分线盒、箱-铝合金-壁挂式-50对XF0(带锁) ",{"$nulls":3},{"v":52.9915,"d":"52.99"},{"v":0,"d":"0.00"},null,null,"J05040200127","景德镇常用材料"]
[{"$f":"SUBTOTAL(3,$B$7:B214)","v":20}," 线路铁件-双槽钢-2000×50×50×5mm ",{"$nulls":3},123.95,{"v":0,"d":"0.00"},null,null,"J05070102924","景德镇常用材料"]
[{"$f":"SUBTOTAL(3,$B$7:B215)","v":20},"1×8插片式适配器型SC/UPC光分路器",{"$nulls":3},{"v":57.775791,"d":"57.78"},{"v":0,"d":"0.00"},null,null,"J05061100224","景德镇常用材料"]
[{"$f":"SUBTOTAL(3,$B$7:B216)","v":20},"5类25对室外阻水电缆",{"$nulls":3},6.07,{"v":0,"d":"0.00"},null,null,"L05020401487","景德镇常用材料"]
[{"$f":"SUBTOTAL(3,$B$7:B217)","v":20},"CT-GPX-T-ODF机架-2000×840×300mm",null,"架",null,1362.39,{"v":0,"d":"0.00"},null,null,"J05060600719","景德镇常用材料"]
[{"$f":"SUBTOTAL(3,$B$7:B218)","v":20},"CT-GXF09T-12芯熔配一体化托盘",null,"块",null,11.62,{"v":0,"d":"0.00"},null,null,"J05050100019","景德镇常用材料"]
[{"$f":"SUBTOTAL(3,$B$7:B219)","v":20},"CT-GXFD-插片式光分路器型-2(36/144壁挂式-1)SMC箱体",{"$nulls":3},1848.56,{"v":0,"d":"0.00"},null,null,"J05050100727","景德镇常用材料"]
[{"$f":"SUBTOTAL(3,$B$7:B220)","v":20},"CT-GXFD-插片式光分路器型-4(24/144芯)SMC箱体",{"$nulls":3},1848.56,{"v":0,"d":"0.00"},null,null,"J05050100744","景德镇常用材料"]
[{"$f":"SUBTOTAL(3,$B$7:B221)","v":20},"CT-GXFT-144芯SMC箱体",{"$nulls":3},2020.05,{"v":0,"d":"0.00"},null,null,"J05050100706","景德镇常用材料"]
[{"$f":"SUBTOTAL(3,$B$7:B222)","v":20},"CT-GXFT-144芯双层不锈钢箱体",{"$nulls":3},{"v":3339.115,"d":"3339.12"},{"v":0,"d":"0.00"},null,null,"J05050100711","景德镇常用材料"]
[{"$f":"SUBTOTAL(3,$B$7:B223)","v":20},"CT-GXFT-288芯SMC箱体",{"$nulls":3},{"v":3456.941,"d":"3456.94"},{"v":0,"d":"0.00"},null,null,"J05050100707","景德镇常用材料"]
[{"$f":"SUBTOTAL(3,$B$7:B224)","v":20},"576芯双面SMC箱体半配","上海汇玉","台",null,1960.84,{"v":0,"d":"0.00"},{"$nulls":3},"景德镇常用材料"]
[{"$f":"SUBTOTAL(3,$B$7:B225)","v":20},"FC/UPC-单模连接器插头",{"$nulls":3},2.84,{"v":0,"d":"0.00"},null,null,"J05061404459","景德镇常用材料"]
[{"$f":"SUBTOTAL(3,$B$7:B226)","v":20},"FC/UPC单芯适配器",{"$nulls":3},1.21,{"v":0,"d":"0.00"},null,null,"J05061403524","景德镇常用材料"]
[{"$f":"SUBTOTAL(3,$B$7:B227)","v":20},"G.657A2单芯单模2mm尾纤",{"$nulls":3},0.42,{"v":0,"d":"0.00"},null,null,"J05061400122","景德镇常用材料"]
[{"$f":"SUBTOTAL(3,$B$7:B228)","v":20},"G.657A2单芯单模3mm尾纤",{"$nulls":3},0.33,{"v":0,"d":"0.00"},null,null,"J05061400123","景德镇常用材料"]
[{"$f":"SUBTOTAL(3,$B$7:B229)","v":20},"ODF-机架机框配置",null,"框",null,{"v":564.1336666667,"d":"564.13"},{"v":0,"d":"0.00"},null,null,"J05060600780","景德镇常用材料"]
[{"$f":"SUBTOTAL(3,$B$7:B230)","v":20},"ODF配件-CT-GPX-T-存储单元",{"$nulls":3},42.74,{"v":0,"d":"0.00"},null,null,"J05060600732","景德镇常用材料"]
[{"$f":"SUBTOTAL(3,$B$7:B231)","v":20},"ODF配件-CT-GZP-72芯终端熔接一体化机框",{"$nulls":3},128.21,{"v":0,"d":"0.00"},null,null,"J05060600734","景德镇常用材料"]
[{"$f":"SUBTOTAL(3,$B$7:B232)","v":20},"ODF配件-CT-GZP-光缆分支盒-带状",{"$nulls":3},11.97,{"v":0,"d":"0.00"},null,null,"J05060600760","景德镇常用材料"]
[{"$f":"SUBTOTAL(3,$B$7:B233)","v":20},"ODF配件-SC单芯适配器(PC/UPC/APC)-国产",{"$nulls":3},0.34,{"v":0,"d":"0.00"},null,null,"J05060600745","景德镇常用材料"]
[{"$f":"SUBTOTAL(3,$B$7:B234)","v":20},"ODF配件-测试托盘",{"$nulls":3},42.74,{"v":0,"d":"0.00"},null,null,"J05060600752","景德镇常用材料"]
[{"$f":"SUBTOTAL(3,$B$7:B235)","v":20},"ODF配件-光纤保护套管",{"$nulls":3},0.51,{"v":0,"d":"0.00"},null,null,"J05060600749","景德镇常用材料"]
[{"$f":"SUBTOTAL(3,$B$7:B236)","v":20},"ODF配件-光纤热熔管-单芯",null,"只",null,{"v":0.436893,"d":"0.44"},{"v":0,"d":"0.00"},null,null,"J05060600737","景德镇常用材料"]
[{"$f":"SUBTOTAL(3,$B$7:B237)","v":20},"ODF配件-卡具组件",{"$nulls":3},17.09,{"v":0,"d":"0.00"},null,null,"J05060600764","景德镇常用材料"]
[{"$f":"SUBTOTAL(3,$B$7:B238)","v":20},"ODF配件-熔配一体化托盘-12芯",{"$nulls":3},{"v":9.4,"d":"9.40"},{"v":0,"d":"0.00"},null,null,"J05060600748","景德镇常用材料"]
[{"$f":"SUBTOTAL(3,$B$7:B239)","v":20},"ODF配件-一体化托盘用SC/(PC/UPC/APC)-0.9束状尾纤",{"$nulls":3},2.39,{"v":0,"d":"0.00"},null,null,"J05060600741","景德镇常用材料"]
[{"$f":"SUBTOTAL(3,$B$7:B240)","v":20},"PE光缆子管-LDPE-外径／内径32/28",null,"米",null,2.41,{"$f":"E240*F240","v":{"v":0,"d":"0.00"}},null,null,"J05080201514","景德镇常用材料"]
[{"$f":"SUBTOTAL(3,$B$7:B241)","v":20},"PVC管管卡-Φ40mm",{"$nulls":3},{"v":0.8,"d":"0.80"},{"v":0,"d":"0.00"},null,null,"J05080201613","景德镇常用材料"]
[{"$f":"SUBTOTAL(3,$B$7:B242)","v":20},"PVC管-硅芯管-60/32mm",{"$nulls":3},1.85,{"v":0,"d":"0.00"},null,null,"J05080201892","景德镇常用材料"]
[{"$f":"SUBTOTAL(3,$B$7:B243)","v":20},"PVC管-软质管道光缆保护套管-20.2/19mm",{"$nulls":3},{"v":2,"d":"2.00"},{"v":0,"d":"0.00"},null,null,"J05080201871","景德镇常用材料"]
[{"$f":"SUBTOTAL(3,$B$7:B244)","v":20},"PVC双壁波纹管-PVC-U-外径／内径100/90",null,"米",null,1.55,{"v":0,"d":"0.00"},null,null,"J05080201498","景德镇常用材料"]
[{"$f":"SUBTOTAL(3,$B$7:B245)","v":20},"PVC双壁波纹管-PVC-U-外径／内径110/100",null,"米",null,{"v":5.57265,"d":"5.57"},{"v":0,"d":"0.00"},null,null,"J05080201497","景德镇常用材料"]
[{"$f":"SUBTOTAL(3,$B$7:B246)","v":20},"RJ11水晶头",{"$nulls":3},0.35,{"v":0,"d":"0.00"},null,null,"J05020700093","景德镇常用材料"]
[{"$f":"SUBTOTAL(3,$B$7:B247)","v":20},"RJ45水晶头",{"$nulls":3},0.35,{"v":0,"d":"0.00"},null,null,"J05020400423","景德镇常用材料"]
[{"$f":"SUBTOTAL(3,$B$7:B248)","v":20},"SC/UPC-单模连接器插头",{"$nulls":3},2.83,{"v":0,"d":"0.00"},null,null,"J05061404461","景德镇常用材料"]
[{"$f":"SUBTOTAL(3,$B$7:B249)","v":20},"包扎带",{"$nulls":3},2.17,{"v":0,"d":"0.00"},null,null,"J05020600238","景德镇常用材料"]
[{"$f":"SUBTOTAL(3,$B$7:B250)","v":20},"保护管",{"$nulls":3},{"v":5.9,"d":"5.90"},{"v":0,"d":"0.00"},null,null,"J05070300187","景德镇常用材料"]
[{"$f":"SUBTOTAL(3,$B$7:B251)","v":20},"抱箍-1对装,含2个抱箍",{"$nulls":3},13.75,{"v":0,"d":"0.00"},null,null,"J05050200166","景德镇常用材料"]
[{"$f":"SUBTOTAL(3,$B$7:B252)","v":20},"壁挂式免跳接室外光缆交接箱(72芯SMC箱体）",{"$nulls":3},1192.27,{"v":0,"d":"0.00"},null,null,"L05050102965","景德镇常用材料"]
[{"$f":"SUBTOTAL(3,$B$7:B253)","v":20},"标牌",{"$nulls":3},0.43,{"v":0,"d":"0.00"},null,null,"J05070400107","景德镇常用材料"]
[{"$f":"SUBTOTAL(3,$B$7:B254)","v":20},"波纹管-HDPE-16×0.30mm",{"$nulls":3},1.28,{"v":0,"d":"0.00"},null,null,"J05080201700","景德镇常用材料"]
[{"$f":"SUBTOTAL(3,$B$7:B255)","v":20},"波纹管-PE型-外径／内径110/90",{"$nulls":3},{"v":12.5,"d":"12.50"},{"v":0,"d":"0.00"},null,null,"J05080201499","景德镇常用材料"]
[{"$f":"SUBTOTAL(3,$B$7:B256)","v":20},"单模跳纤-SC/UPC-SC/UPC-双芯3.0mm-2m",{"$nulls":3},{"v":5,"d":"5.00"},{"v":0,"d":"0.00"},null,null,"J05061404627","景德镇常用材料"]
[{"$f":"SUBTOTAL(3,$B$7:B257)","v":20},"地线棒-12×760mm",{"$nulls":3},{"v":7,"d":"7.00"},{"v":0,"d":"0.00"},null,null,"J05070102839","景德镇常用材料"]
[{"$f":"SUBTOTAL(3,$B$7:B258)","v":20},"电话用户线-HBSYV1-16MHz-1×2×0.50mm",{"$nulls":3},0.35,{"v":0,"d":"0.00"},null,null,"J05020700118","景德镇常用材料"]
[{"$f":"SUBTOTAL(3,$B$7:B259)","v":20},"电源线-RVV-2×1.0mm2 ",{"$nulls":3},{"v":1,"d":"1.00"},{"v":0,"d":"0.00"},null,null,"J05030202357","景德镇常用材料"]
[{"$f":"SUBTOTAL(3,$B$7:B260)","v":20},"吊牌警示牌-电杆标牌",{"$nulls":3},{"v":0.407767,"d":"0.41"},{"v":0,"d":"0.00"},null,null,"J05070400074","景德镇常用材料"]
[{"$f":"SUBTOTAL(3,$B$7:B261)","v":20},"吊牌警示牌-线路吊牌",{"$nulls":3},0.41,{"v":0,"d":"0.00"},null,null,"J05070400075","景德镇常用材料"]
[{"$f":"SUBTOTAL(3,$B$7:B262)","v":20},"蝶形引入光缆-GJYXCH-单模G.657A2(B6a2)-1芯",{"$nulls":3},362.37,{"v":0,"d":"0.00"},null,null,"J05010400221","景德镇常用材料"]
[{"$f":"SUBTOTAL(3,$B$7:B263)","v":20},"镀锌单吊线抱箍-164mm",{"$nulls":3},13.93,{"v":0,"d":"0.00"},null,null,"J05070102875","景德镇常用材料"]
[{"$f":"SUBTOTAL(3,$B$7:B264)","v":20},"镀锌钢管-100×4.5mm",{"$nulls":3},54.37,{"v":0,"d":"0.00"},null,null,"J05080300302","景德镇常用材料"]
[{"$f":"SUBTOTAL(3,$B$7:B265)","v":20},"镀锌钢管-40×3.0mm",null,"米",null,{"v":156,"d":"156.00"},{"v":0,"d":"0.00"},null,null,"J05080300356","景德镇常用材料"]
[{"$f":"SUBTOTAL(3,$B$7:B266)","v":20},"镀锌钢管-50×2.5mm",null,"米",null,{"v":156,"d":"156.00"},{"v":0,"d":"0.00"},null,null,"J05080300304","景德镇常用材料"]
[{"$f":"SUBTOTAL(3,$B$7:B267)","v":20},"镀锌钢管-80×4.0mm",{"$nulls":3},16.58,{"v":0,"d":"0.00"},null,null,"J05080300303","景德镇常用材料"]
[{"$f":"SUBTOTAL(3,$B$7:B268)","v":20},"镀锌钢管管卡-Φ50mm ",{"$nulls":3},{"v":23.300971,"d":"23.30"},{"v":0,"d":"0.00"},null,null,"J05080300318","景德镇常用材料"]
[{"$f":"SUBTOTAL(3,$B$7:B269)","v":20},"镀锌钢管接头-100×4.5mm",{"$nulls":3},66.02,{"v":0,"d":"0.00"},null,null,"J05080300305","景德镇常用材料"]
[{"$f":"SUBTOTAL(3,$B$7:B270)","v":20},"镀锌钢绞线-1×7-1370Mpa-B级-2.6mm",{"$nulls":3},5.63,{"v":0,"d":"0.00"},null,null,"J05070103319","景德镇常用材料"]
[{"$f":"SUBTOTAL(3,$B$7:B271)","v":20},"镀锌钢绞线-1×7-1470MPa-B级-2.2mm",{"$nulls":3},{"v":7,"d":"7.00"},{"v":0,"d":"0.00"},null,null,"J05070103233","景德镇常用材料"]
[{"$f":"SUBTOTAL(3,$B$7:B272)","v":20},"镀锌钢绞线-1×7-1570MPA-B(厚)级-2.2mm",{"$nulls":3},7.86,{"v":0,"d":"0.00"},null,null,"J05070102558","景德镇常用材料"]
[{"$f":"SUBTOTAL(3,$B$7:B273)","v":20},"镀锌钢绞线-1×7-1570MPA-B(厚)级-2.6mm",{"$nulls":3},8.08,{"v":0,"d":"0.00"},null,null,"J05070102559","景德镇常用材料"]
[{"$f":"SUBTOTAL(3,$B$7:B274)","v":20},"镀锌钢绞线-运保费-1000＜L≤1500",{"$nulls":3},{"v":0.9099996718,"d":"0.91"},{"v":0,"d":"0.00"},null,null,"J05070103331","景德镇常用材料"]
[{"$f":"SUBTOTAL(3,$B$7:B275)","v":20},"镀锌拉线抱箍-164mm",{"$nulls":3},{"v":13.9315936255,"d":"13.93"},{"v":0,"d":"0.00"},null,null,"J05070102888","景德镇常用材料"]
[{"$f":"SUBTOTAL(3,$B$7:B276)","v":20},"镀锌拉线地锚棒-16×1800mm",{"$nulls":3},26.83,{"v":0,"d":"0.00"},null,null,"J05070103487","景德镇常用材料"]
[{"$f":"SUBTOTAL(3,$B$7:B277)","v":20},"镀锌铁线-4.0mm-B(厚)级",{"$nulls":3},{"v":0.5,"d":"0.50"},{"v":0,"d":"0.00"},null,null,"J05070102507","景德镇常用材料"]
[{"$f":"SUBTOTAL(3,$B$7:B278)","v":20},"封堵填充胶泥",null,"包",null,{"v":29,"d":"29.00"},{"v":0,"d":"0.00"},null,null,"J05080201737","景德镇常用材料"]
[{"$f":"SUBTOTAL(3,$B$7:B279)","v":20},"杆路配件-蛇形软管-Ф16mm",{"$nulls":3},{"v":0.970874,"d":"0.97"},{"v":0,"d":"0.00"},null,null,"J05062101117","景德镇常用材料"]
[{"$f":"SUBTOTAL(3,$B$7:B280)","v":20},"挂钩-光缆-35mm",{"$nulls":3},{"v":0.5,"d":"0.50"},{"v":0,"d":"0.00"},null,null,"J05070103338","景德镇常用材料"]
[{"$f":"SUBTOTAL(3,$B$7:B281)","v":20},"管道材料-线卡、板",{"$nulls":3},2.29,{"v":0,"d":"0.00"},null,null,"J05070600015","景德镇常用材料"]
[{"$f":"SUBTOTAL(3,$B$7:B282)","v":20},"光电缆托架穿钉-M16-16×200mm",{"$nulls":3},1.65,{"v":0,"d":"0.00"},null,null,"J05070102908","景德镇常用材料"]
[{"$f":"SUBTOTAL(3,$B$7:B283)","v":20},"光分路器-插片式适配器型-SC/UPC-1×32",{"$nulls":3},{"v":150,"d":"150.00"},{"v":0,"d":"0.00"},null,null,"J05061100640","景德镇常用材料"]
[{"$f":"SUBTOTAL(3,$B$7:B284)","v":20},"光分路器-插片式适配器型-SC/UPC-1×8",null,"只",null,55.57,{"v":0,"d":"0.00"},null,null,"J05061100638","景德镇常用材料"]
[{"$f":"SUBTOTAL(3,$B$7:B285)","v":20},"光分路器-盒式封装-FC/UPC-1×32",{"$nulls":3},{"v":150,"d":"150.00"},{"v":0,"d":"0.00"},null,null,"J05061100697","景德镇常用材料"]
[{"$f":"SUBTOTAL(3,$B$7:B286)","v":20},"光缆分光分纤盒-16芯-室内",null,"个",null,{"v":108.121192053,"d":"108.12"},{"v":0,"d":"0.00"},null,null,"J05050200208","景德镇常用材料"]
[{"$f":"SUBTOTAL(3,$B$7:B287)","v":20},"光缆分光分纤盒-SMC-16芯",null,"只",null,{"v":125.35012,"d":"125.35"},{"v":0,"d":"0.00"},null,null,"J05050200200","景德镇常用材料"]
[{"$f":"SUBTOTAL(3,$B$7:B288)","v":21},"光缆接头盒盒体-卧式-12芯",null,"套",{"$f":"SUM(Sheet1!I2:I5)","v":{"v":8,"d":"8.00"}},{"v":110,"d":"110.00"},{"v":880,"d":"880.00"}]
[{"$f":"SUBTOTAL(3,$B$7:B289)","v":21},"光缆接头盒盒体-卧式-144芯",null,"套",null,{"v":380,"d":"380.00"},{"v":0,"d":"0.00"},null,null,"J05050400979","景德镇常用材料"]
[{"$f":"SUBTOTAL(3,$B$7:B290)","v":22},"光缆接头盒盒体-卧式-24芯",null,"套",{"$f":"Sheet1!I6","v":{"v":18,"d":"18.00"}},{"v":130,"d":"130.00"},{"v":2340,"d":"2340.00"}]
[{"$f":"SUBTOTAL(3,$B$7:B291)","v":22},"光缆接头盒盒体-卧式-36芯",null,"套",{"$f":"Sheet1!I7","v":{"v":0,"d":"0.00"}},225.36,{"v":0,"d":"0.00"},{"$f":"G291*13%","v":{"v":0,"d":"0.00"}},{"$f":"G291+H291","v":{"v":0,"d":"0.00"}}]
[{"$f":"SUBTOTAL(3,$B$7:B292)","v":23},"光缆接头盒盒体-卧式-48芯",null,"套",{"$f":"Sheet1!I8","v":{"v":12,"d":"12.00"}},{"v":260,"d":"260.00"},{"v":3120,"d":"3120.00"}]
[{"$f":"SUBTOTAL(3,$B$7:B293)","v":23},"光缆接头盒盒体-卧式-72芯",null,"套",null,{"v":380,"d":"380.00"},{"v":0,"d":"0.00"},null,null,"J05050400977","景德镇常用材料"]
[{"$f":"SUBTOTAL(3,$B$7:B294)","v":23},"光缆接头盒盒体-卧式-96芯",null,"套",{"$f":"Sheet1!I9","v":{"v":0,"d":"0.00"}},{"v":380,"d":"380.00"},{"v":0,"d":"0.00"},{"$f":"G294*13%","v":{"v":0,"d":"0.00"}},{"$f":"G294+H294","v":{"v":0,"d":"0.00"}}]
[{"$f":"SUBTOTAL(3,$B$7:B295)","v":23},"光缆盘留架",{"$nulls":3},37.88,{"v":0,"d":"0.00"},null,null,"J05062101241","景德镇常用材料"]
[{"$f":"SUBTOTAL(3,$B$7:B296)","v":23},"光纤活动连接器1米、2米、3米、5米等配置",{"$nulls":3},{"v":6.769231,"d":"6.77"},{"v":0,"d":"0.00"},null,null,"J05061405153_JX0008","景德镇常用材料"]
[{"$f":"SUBTOTAL(3,$B$7:B297)","v":23},"光纤活动连接器1米、2米、3米、5米等配置",{"$nulls":3},{"v":6.4187165235,"d":"6.42"},{"v":0,"d":"0.00"},null,null,"J05061405153_JX0003","景德镇常用材料"]
[{"$f":"SUBTOTAL(3,$B$7:B298)","v":23},"光纤活动连接器2米、3米、5米配置",{"$nulls":3},6.91,{"v":0,"d":"0.00"},null,null,"J05010100223","景德镇常用材料"]
[{"$f":"SUBTOTAL(3,$B$7:B299)","v":23},"光纤热熔管-单芯",null,"条",null,0.44,{"v":0,"d":"0.00"},null,null,"J05050100538","景德镇常用材料"]
[{"$f":"SUBTOTAL(3,$B$7:B300)","v":23},"光纤终端盒",null,"套",null,{"v":25.641026,"d":"25.64"},{"v":0,"d":"0.00"},null,null,"J05050300069","景德镇常用材料"]
[{"$f":"SUBTOTAL(3,$B$7:B301)","v":23},"光纤终端盒-机柜式-FC/UPC-12芯",{"$nulls":3},{"v":25.641,"d":"25.64"},{"v":0,"d":"0.00"},null,null,"J05050300077","景德镇常用材料"]
[{"$f":"SUBTOTAL(3,$B$7:B302)","v":23},"硅芯管-HDPE-外径／内径40/33",{"$nulls":3},{"v":4.7,"d":"4.70"},{"v":0,"d":"0.00"},null,null,"J05080201511","景德镇常用材料"]
[{"$f":"SUBTOTAL(3,$B$7:B303)","v":23},"硅芯管-HDPE-外径／内径40/33 ",{"$nulls":3},4.58,{"v":0,"d":"0.00"},null,null,"J05080201508","景德镇常用材料"]
[{"$f":"SUBTOTAL(3,$B$7:B304)","v":23},"黑色尼龙扎带-8×500mm",{"$nulls":3},0.21,{"$f":"E304*F304","v":{"v":0,"d":"0.00"}},null,null,"J05020600200","景德镇常用材料"]
[{"$f":"SUBTOTAL(3,$B$7:B305)","v":23},"胶带",{"$nulls":3},2.17,{"v":0,"d":"0.00"},null,null,"J12020301065","景德镇常用材料"]
[{"$f":"SUBTOTAL(3,$B$7:B306)","v":23},"接线子-KT-1扣式",{"$nulls":3},0.06,{"v":0,"d":"0.00"},null,null,"J05020600188","景德镇常用材料"]
[{"$f":"SUBTOTAL(3,$B$7:B307)","v":23},"接线子-KT-3扣式",{"$nulls":3},{"v":15,"d":"15.00"},{"v":0,"d":"0.00"},null,null,"J05020600190","景德镇常用材料"]
[{"$f":"SUBTOTAL(3,$B$7:B308)","v":23},"局外市话电缆-HPVV-50×2×0.4mm",{"$nulls":3},{"v":0.8,"d":"0.80"},{"v":0,"d":"0.00"},null,null,"J05020200326","景德镇常用材料"]
[{"$f":"SUBTOTAL(3,$B$7:B309)","v":23},"局外市话电缆-HYA-100×2×0.4mm ",{"$nulls":3},{"v":0.4475,"d":"0.45"},{"v":0,"d":"0.00"},null,null,"J05020200211","景德镇常用材料"]
[{"$f":"SUBTOTAL(3,$B$7:B310)","v":23},"局外市话电缆-HYA-20×2×0.4mm",{"$nulls":3},0.11,{"v":0,"d":"0.00"},null,null,"J05020200208","景德镇常用材料"]
[{"$f":"SUBTOTAL(3,$B$7:B311)","v":23},"局外市话电缆-HYA-50×2×0.4mm ",{"$nulls":3},{"v":0.2272,"d":"0.23"},{"v":0,"d":"0.00"},null,null,"J05020200210","景德镇常用材料"]
[{"$f":"SUBTOTAL(3,$B$7:B312)","v":23},"局外市话电缆-HYAC-30×2×0.50mm",{"$nulls":3},{"v":1.2,"d":"1.20"},{"v":0,"d":"0.00"},null,null,"J05020200317","景德镇常用材料"]
[{"$f":"SUBTOTAL(3,$B$7:B313)","v":23},"拉线抱箍-144×50×8mm",{"$nulls":3},{"v":8,"d":"8.00"},{"v":0,"d":"0.00"},null,null,"J05070102523","景德镇常用材料"]
[{"$f":"SUBTOTAL(3,$B$7:B314)","v":23},"拉线衬环-五股",{"$nulls":3},{"v":0.6410313448,"d":"0.64"},{"v":0,"d":"0.00"},null,null,"J05070102553","景德镇常用材料"]
[{"$f":"SUBTOTAL(3,$B$7:B315)","v":23},"拉线地锚-20×2400mm",{"$nulls":3},21.37,{"v":0,"d":"0.00"},null,null,"J05070102519","景德镇常用材料"]
[{"$f":"SUBTOTAL(3,$B$7:B316)","v":23},"拉线地锚块-300×500×150mm",{"$nulls":3},21.37,{"v":0,"d":"0.00"},null,null,"J05070102950","景德镇常用材料"]
[{"$f":"SUBTOTAL(3,$B$7:B317)","v":23},"铝托挂钩-电缆-25mm",{"$nulls":3},{"v":0.8,"d":"0.80"},{"v":0,"d":"0.00"},null,null,"J05070103073","景德镇常用材料"]
[{"$f":"SUBTOTAL(3,$B$7:B318)","v":23},"铝托挂钩-电缆-55mm",{"$nulls":3},0.61,{"v":0,"d":"0.00"},null,null,"J05070103076","景德镇常用材料"]
[{"$f":"SUBTOTAL(3,$B$7:B319)","v":23},"免跳接室外光缆交接箱(288芯SMC箱体）(半配)",null,"台",null,{"v":3457,"d":"3457.00"},{"v":0,"d":"0.00"},null,null,"L05050102967","景德镇常用材料"]
[{"$f":"SUBTOTAL(3,$B$7:B320)","v":23},"免跳接室外光缆交接箱(576芯SMC箱体）（半配）",null,"台",null,3621.06,{"v":0,"d":"0.00"},null,null,"L05050102966","景德镇常用材料"]
[{"$f":"SUBTOTAL(3,$B$7:B321)","v":23},"尼龙扎带-3×200mm",{"$nulls":3},{"v":0.0377,"d":"0.04"},{"v":0,"d":"0.00"},null,null,"J05062101209","景德镇常用材料"]
[{"$f":"SUBTOTAL(3,$B$7:B322)","v":23},"皮线热熔管",{"$nulls":3},{"v":0.1538466819,"d":"0.15"},{"v":0,"d":"0.00"},null,null,"J05062101243","景德镇常用材料"]
[{"$f":"SUBTOTAL(3,$B$7:B323)","v":23},"热缩套管-RSBAF-50/18-400",{"$nulls":3},{"v":36.565,"d":"36.57"},{"v":0,"d":"0.00"},null,null,"J050206600714","景德镇常用材料"]
[{"$f":"SUBTOTAL(3,$B$7:B324)","v":23},"热缩套管-RSBJF-32/11-200",{"$nulls":3},18.18,{"v":0,"d":"0.00"},null,null,"J050206600751","景德镇常用材料"]
[{"$f":"SUBTOTAL(3,$B$7:B325)","v":23},"人行道人孔圆形井盖框-混凝土钢纤维-Φ760×50mm",null,"套",null,252.14,{"v":0,"d":"0.00"},null,null,"J05080101179","景德镇常用材料"]
[{"$f":"SUBTOTAL(3,$B$7:B326)","v":23},"人孔拉力环-16×880mm",{"$nulls":3},8.98,{"v":0,"d":"0.00"},null,null,"J05080101218","景德镇常用材料"]
[{"$f":"SUBTOTAL(3,$B$7:B327)","v":23},"人手井盖",null,"套",null,128.21,{"v":0,"d":"0.00"},null,null,"J05080100723","景德镇常用材料"]
[{"$f":"SUBTOTAL(3,$B$7:B328)","v":23},"三眼双槽夹板",{"$nulls":3},{"v":7.4358980583,"d":"7.44"},{"v":0,"d":"0.00"},null,null,"J05070102496","景德镇常用材料"]
[{"$f":"SUBTOTAL(3,$B$7:B329)","v":23},"适配器SS-OP-AD-FC-FC",{"$nulls":3},{"v":10,"d":"10.00"},{"v":0,"d":"0.00"},null,null,"J01030501007","景德镇常用材料"]
[{"$f":"SUBTOTAL(3,$B$7:B330)","v":23},"室外光缆交接箱扩容-机柜式-144芯扩容至288芯(有跳纤)",{"$nulls":3},2020.05,{"v":0,"d":"0.00"},null,null,"J05050100855","景德镇常用材料"]
[{"$f":"SUBTOTAL(3,$B$7:B331)","v":23},"双吊线抱箍-144×50×8mm",{"$nulls":3},{"v":12,"d":"12.00"},{"v":0,"d":"0.00"},null,null,"J05070102531","景德镇常用材料"]
[{"$f":"SUBTOTAL(3,$B$7:B332)","v":23},"水晶头RJ-45水晶头",null,"只",null,{"v":0.2,"d":"0.20"},{"v":0,"d":"0.00"},null,null,"J05020400172","景德镇常用材料"]
[{"$f":"SUBTOTAL(3,$B$7:B333)","v":23},"水泥电杆-Φ150mm-7米",null,"根",null,{"v":209.4,"d":"209.40"},{"v":0,"d":"0.00"},null,null,"J05070200777","景德镇常用材料"]
[{"$f":"SUBTOTAL(3,$B$7:B334)","v":23},"水泥电杆-ф150-9米",null,"根",null,{"v":209.4,"d":"209.40"},{"v":0,"d":"0.00"},null,null,"J05070200735","景德镇常用材料"]
[{"$f":"SUBTOTAL(3,$B$7:B335)","v":23},"塑料管材-塑料软管",{"$nulls":3},{"v":72.5,"d":"72.50"},{"v":0,"d":"0.00"},null,null,"J05080201477","景德镇常用材料"]
[{"$f":"SUBTOTAL(3,$B$7:B336)","v":23},"塑料拉链袋",{"$nulls":3},{"v":0.485437,"d":"0.49"},{"v":0,"d":"0.00"},null,null,"L12020303754","景德镇常用材料"]
[{"$f":"SUBTOTAL(3,$B$7:B337)","v":23},"铁芯电话线",{"$nulls":3},0.26,{"v":0,"d":"0.00"},null,null,"L05020700873","景德镇常用材料"]
[{"$f":"SUBTOTAL(3,$B$7:B338)","v":23},"网线TIA/EIA508-B.2,超五类线",null,"米",null,{"v":1.4,"d":"1.40"},{"v":0,"d":"0.00"},null,null,"J01030401123","景德镇常用材料"]
[{"$f":"SUBTOTAL(3,$B$7:B339)","v":23},"线路铁件-镀锌膨胀螺栓-6×60mm",{"$nulls":3},1.65,{"v":0,"d":"0.00"},null,null,"J05070102921","景德镇常用材料"]
[{"$f":"SUBTOTAL(3,$B$7:B340)","v":23},"线路铁件-方形压线卡-12#",{"$nulls":3},0.05,{"v":0,"d":"0.00"},null,null,"J05070103131","景德镇常用材料"]
[{"$f":"SUBTOTAL(3,$B$7:B341)","v":23},"线路铁件-方形压线卡-14#",{"$nulls":3},{"v":0.07767,"d":"0.08"},{"v":0,"d":"0.00"},null,null,"J05070103132","景德镇常用材料"]
[{"$f":"SUBTOTAL(3,$B$7:B342)","v":23},"线路铁件-方形压线卡-20#",{"$nulls":3},0.05,{"v":0,"d":"0.00"},null,null,"J05070103134","景德镇常用材料"]
[{"$f":"SUBTOTAL(3,$B$7:B343)","v":23},"线路铁件-方形压线卡-6#",{"$nulls":3},0.03,{"v":0,"d":"0.00"},null,null,"J05070103127","景德镇常用材料"]
[{"$f":"SUBTOTAL(3,$B$7:B344)","v":23},"线路铁件-方形压线卡-8#",{"$nulls":3},1.47,{"v":0,"d":"0.00"},null,null,"J05070103129","景德镇常用材料"]
[{"$f":"SUBTOTAL(3,$B$7:B345)","v":23},"线路铁件-拉线衬环",{"$nulls":3},1.41,{"v":0,"d":"0.00"},null,null,"J05070102444","景德镇常用材料"]
[{"$f":"SUBTOTAL(3,$B$7:B346)","v":23},"线路铁件-连接棒",{"$nulls":3},{"v":24,"d":"24.00"},{"v":0,"d":"0.00"},null,null,"J05070102761","景德镇常用材料"]
[{"$f":"SUBTOTAL(3,$B$7:B347)","v":23},"消防装备-防火泥",{"$nulls":3},{"v":8.5,"d":"8.50"},{"v":0,"d":"0.00"},null,null,"J13040200104","景德镇常用材料"]
[{"$f":"SUBTOTAL(3,$B$7:B348)","v":23},"小号手孔上覆-加强型-1600×1300×250mm",{"$nulls":3},111.11,{"v":0,"d":"0.00"},null,null,"J05080100928","景德镇常用材料"]
[{"$f":"SUBTOTAL(3,$B$7:B349)","v":23},"乙式托架-铸铁-60cm",{"$nulls":3},11.43,{"v":0,"d":"0.00"},null,null,"J05080100901","景德镇常用材料"]
[{"$f":"SUBTOTAL(3,$B$7:B350)","v":23},"预制成端数字通信电缆-HSYV-5-4×2×0.5mm",{"$nulls":3},0.76,{"v":0,"d":"0.00"},null,null,"J05020400461","景德镇常用材料"]
[{"$f":"SUBTOTAL(3,$B$7:B351)","v":23},"落地机柜",null,"台",null,1862.39,{"v":0,"d":"0.00"}]
[{"$f":"SUBTOTAL(3,$B$7:B352)","v":23},"主BAN箱（I型）（横向）",null,"套",null,{"v":614.224667,"d":"614.22"},{"v":0,"d":"0.00"},null,null,"L05060800652","景德镇常用材料"]
[{"$f":"SUBTOTAL(3,$B$7:B353)","v":23},"综合信息箱配件-熔纤盘-24芯",{"$nulls":3},{"v":200,"d":"200.00"},{"v":0,"d":"0.00"},null,null,"J05060800067","景德镇常用材料"]
[{"$f":"SUBTOTAL(3,$B$7:B354)","v":23},"CT-GPX-S-ODF机架-2200×840×600mm","MODF产品","架",null,"650",{"$f":"E354*F354","v":{"v":0,"d":"0.00"}},null,null,"J05060600723"]
[{"$f":"SUBTOTAL(3,$B$7:B355)","v":23},"ODF配件-熔配一体化托盘-12芯","MODF产品","个",null,"10.5",{"v":0,"d":"0.00"},null,null,"J05060600748"]
[{"$f":"SUBTOTAL(3,$B$7:B356)","v":23},"ODF配件-CT-GPX-S-配纤单元-96芯","MODF产品","个",null,"11.81",{"v":0,"d":"0.00"},null,null,"J05060600731"]
[{"$f":"SUBTOTAL(3,$B$7:B357)","v":23},"ODF配件-CT-GZP-72芯终端熔接一体化机框","MODF产品","个",null,"9.24",{"v":0,"d":"0.00"},null,null,"J05060600734"]
[{"$f":"SUBTOTAL(3,$B$7:B358)","v":23},"ODF配件-CT-GZP-储纤单元","MODF产品","个",null,"2.02",{"v":0,"d":"0.00"},null,null,"J05060600735"]
[{"$f":"SUBTOTAL(3,$B$7:B359)","v":23},"ODF配件-SC单芯适配(PC/UPC/APC)","MODF产品","只",null,"0.07",{"v":0,"d":"0.00"},null,null,"J05060600888"]
[{"$f":"SUBTOTAL(3,$B$7:B360)","v":23},"ODF配件-测试托盘","MODF产品","个",null,"1.87",{"v":0,"d":"0.00"},null,null,"J05060600752"]
[{"$f":"SUBTOTAL(3,$B$7:B361)","v":23},"ODF配件-CT-GZP-门","MODF产品","套",null,"54.21",{"v":0,"d":"0.00"},null,null,"J05060600755"]
[{"$f":"SUBTOTAL(3,$B$7:B362)","v":23},"ODF配件-CT-GZP-侧板","MODF产品","套",null,"39.93",{"v":0,"d":"0.00"},null,null,"J05060600757"]
[{"$f":"SUBTOTAL(3,$B$7:B363)","v":23},"ODF配件-CT-GZP-光缆分支盒-带状","MODF产品","个",null,"1.03",{"v":0,"d":"0.00"},null,null,"J05060600760"]
[{"$f":"SUBTOTAL(3,$B$7:B364)","v":23},"ODF配件-CT-GZP-光缆引入单元二层","MODF产品","个",null,"2.86",{"v":0,"d":"0.00"},null,null,"J05060600763"]
[{"$f":"SUBTOTAL(3,$B$7:B365)","v":23},"ODF配件-卡具组件","MODF产品","套",null,"0.21",{"v":0,"d":"0.00"},null,null,"J05060600764"]
[{"$f":"SUBTOTAL(3,$B$7:B366)","v":24},"水泥","#325","吨",1.06,{"v":680,"d":"680.00"},{"$f":"E366*F366","v":{"v":720.8,"d":"720.80"}}]
[{"$f":"SUBTOTAL(3,$B$7:B367)","v":25},"板方材","Ⅲ等","立方米",0.02,{"v":850,"d":"850.00"},{"v":17,"d":"17.00"}]
[{"$f":"SUBTOTAL(3,$B$7:B368)","v":26},"积水罐带盖","11.5kg","套",{"v":2,"d":"2.00"},35.15,{"v":70.3,"d":"70.30"}]
[{"$f":"SUBTOTAL(3,$B$7:B369)","v":27},"镀锌钢管","φ100mm","米",{"v":99,"d":"99.00"},58.62,5803.38]
[{"$f":"SUBTOTAL(3,$B$7:B370)","v":28},"镀锌钢管管箍",null,"个",{"v":16,"d":"16.00"},{"v":20,"d":"20.00"},{"v":320,"d":"320.00"}]
[{"$f":"SUBTOTAL(3,$B$7:B371)","v":29},"人孔口圈","160kg","套",{"v":2,"d":"2.00"},{"v":465.5,"d":"465.50"},{"v":931,"d":"931.00"}]
[{"$f":"SUBTOTAL(3,$B$7:B372)","v":30},"人孔托架","120cm","根",{"v":8,"d":"8.00"},12.43,99.44]
[{"$f":"SUBTOTAL(3,$B$7:B373)","v":31},"穿钉","M16","根",{"v":16,"d":"16.00"},2.65,{"v":42.4,"d":"42.40"}]
[{"$f":"SUBTOTAL(3,$B$7:B374)","v":32},"圆钢","φ10mm","公斤",3.52,{"v":6.8,"d":"6.80"},{"v":23.936,"d":"23.94"}]
[{"$f":"SUBTOTAL(3,$B$7:B375)","v":33},"圆钢","φ12mm","公斤",26.82,{"v":6.8,"d":"6.80"},{"v":182.376,"d":"182.38"}]
[{"$f":"SUBTOTAL(3,$B$7:B376)","v":34},"圆钢","φ14mm","公斤",27.64,{"v":6.8,"d":"6.80"},{"v":187.952,"d":"187.95"}]
[{"$f":"SUBTOTAL(3,$B$7:B377)","v":35},"粗砂",null,"吨",2.76,{"v":185,"d":"185.00"},{"v":510.6,"d":"510.60"}]
[{"$f":"SUBTOTAL(3,$B$7:B378)","v":36},"碎石",null,"吨",1.44,{"v":120,"d":"120.00"},{"v":172.8,"d":"172.80"}]
[{"$f":"SUBTOTAL(3,$B$7:B379)","v":37},"机制砖",null,"千块",1.66,{"v":550,"d":"550.00"},{"v":913,"d":"913.00"}]
[{"$f":"SUBTOTAL(3,$B$7:B380)","v":38},"拉力环",null,"个",{"v":4,"d":"4.00"},17.55,{"v":70.2,"d":"70.20"}]
[{"$f":"SUBTOTAL(3,$B$7:B381)","v":39},"合计：",{"$nulls":4},{"$f":"SUM(G7:G380)","v":{"v":25562.2976368,"d":"25562.30"}}]

{"sheet":"Sheet2","index":8,"n_rows":25,"n_cols":40,"rows_kept":25,"hidden":true}
["4d","架","引上","管道","进","6d","架","引上","管道","进","8d","架","引上","管道","进","12d","架","引上","管道","进","24d","架","引上","管道","进","36d","架","引上","管道","进","48d","架","引上","管道","进","72d","架","引上","管道","进"]
{"$rows_empty":11}
[null,{"$f":"SUM(B2:B12)","v":0},0,0,0,0,0,0,0,0,0,0,0,0,0,0,0,0,0,0,0,0,0,0,0,0,0,0,0,0,0,0,0,0,0,0,0,0,0,0]
["拆"]
{"$rows_empty":10}
[null,{"$f":"SUM(B15:B24)","v":0},0,0,0,0,0,0,0,0,0,0,0,0,0,0,0,0,0,0,0,0,0,0,0,0,0,0,0,0,0,0,0,0,0,0,0,0,0,0]

{"sheet":"表五甲","index":9,"n_rows":23,"n_cols":7,"rows_kept":23,"merged":[[0,0,0,6],[3,0,4,0],[3,1,4,1],[3,2,4,2],[3,3,3,5]]}
["工程建设其他费预算表（表五）甲"]
[{"$f":"ASC(综合信息表!C3)","v":"建设项目名称:"}]
[{"$f":"ASC(综合信息表!C4)","v":"单项工程名称:2023年景德镇电信乐平水利枢纽工程建设杆线迁改工程"},null,null,{"$f":"ASC(综合信息表!C6)","v":"建设单位名称:中国电信股份有限公司景德镇分公司"},null,{"$f":"ASC(综合信息表!G13)","v":"表格编号:TXL-5甲"},"第全页"]
["序号","费用名称","计算依据及方法","金额（元）"]
[{"$nulls":3},"除税价","增值税","含税价","备注"]
["Ⅰ","Ⅱ","Ⅲ","Ⅳ","Ⅴ","Ⅵ","Ⅸ"]
[1,"建设用地及综合赔补费"]
[2,"项目建设管理费"]
[3,"可行性研究费"]
[4,"研究试验费"]
[5,"勘察设计费","((基价+内插值×(路由长度－基准长度)×80%)+(折后建安费（含税价）×4.5%×1))",{"$f":"F11/1.06","v":{"v":0,"d":"0.00"}},{"$f":"D11*6%","v":{"v":0,"d":"0.00"}},{"v":0,"d":"0.00"},"增值税税率为6%"]
[6,"环境影响评价费"]
[7,"建设工程监理费","建安费（含税价）×3.3%",{"v":0,"d":"0.00"},{"v":0,"d":"0.00"},{"v":0,"d":"0.00"},"增值税税率为6%"]
[8,"安全生产费","折前建筑安装工程费（除税价）×2%",{"$f":"表二!D7*2%","v":{"v":2000.29001616064,"d":"2000.29"}},{"$f":"D14*3%","v":{"v":60.0087004848193,"d":"60.01"}},{"$f":"D14+E14","v":{"v":2060.29871664546,"d":"2060.30"}},"增值税税率为3%"]
[9,"工程质量监督费"]
[10,"工程保险费"]
[11,"工程招标代理费"]
[12,"专利及专利技术使用费"]
[13,"其它费用（资源录入费）"]
[14,"审计咨询费"]
[null,"总  计",null,{"$f":"SUM(D7:D20)","v":{"v":2000.29001616064,"d":"2000.29"}},{"v":0,"d":"0.00"},{"$f":"D21+E21","v":{"v":2000.29001616064,"d":"2000.29"}}]
[15,"生产准备及开办费（运营费）"]
[{"$f":"ASC(综合信息表!C8)","v":"设计负责人:"},null,{"$f":"ASC(综合信息表!C9)","v":"审核:"},{"$f":"ASC(综合信息表!C10)","v":"编制:"},null,null,{"$f":"ASC(综合信息表!C11)","v":"编制日期:   2023 年05月"}]

{"sheet":"ODN导入表","index":10,"n_rows":59,"n_cols":5,"rows_kept":59,"hidden":true,"merged":[[0,0,0,3]]}
["ODN驻地网项目概预算"]
["项目","值","单位","注释","类型"]
["设计完成日期","2020-03-15",null,null,"日期（2013-01-01）"]
["普工工日",{"$f":"'表三 甲'!I1776","v":{"v":85.9711232,"d":"85.97"}},"工日",null,"小数8.2"]
["技工工日",{"$f":"'表三 甲'!H1776","v":{"v":200.25429,"d":"200.25"}},"工日",null,"小数8.2"]
["表二，建筑安装工程投资",{"$f":"表二!D6","v":{"v":0,"d":"0.00"}},"元人民币","（一）+（二）+（三）+（四）+（五）+（六）+（七）","小数8.2"]
["（一）人工费",{"$f":"表二!D10","v":{"v":28073.2275752,"d":"28073.23"}},"元人民币",null,"小数8.2"]
["技工费*114",{"$f":"表二!D11","v":{"v":22828.98906,"d":"22828.99"}},"元人民币",null,"必填"]
["普工费*61",{"$f":"表二!D12","v":{"v":5244.2385152,"d":"5244.24"}},"元人民币",null,"必填"]
["（二）材料费",{"$f":"表二!D13","v":{"v":25638.9845297104,"d":"25638.98"}},"元人民币",null,"小数8.2"]
["主要材料费",{"$f":"表二!D14","v":{"v":25562.2976368,"d":"25562.30"}},null,null,"必填"]
["辅助材料费",{"$f":"表二!D15","v":{"v":76.6868929104,"d":"76.69"}},null,null,"必填且小于国内主材费×0.30%"]
["（三）机械台班费",{"$f":"B14+B15","v":{"v":13163.5346,"d":"13163.53"}},null,null,"小数8.2"]
["机械使用费",{"$f":"表二!D16","v":{"v":3571.088,"d":"3571.09"}},null,null,"必填"]
["仪表使用费",{"$f":"表二!D17","v":{"v":9592.4466,"d":"9592.45"}},null,null,"必填"]
["（四）措施费",{"$f":"表二!D18","v":{"v":8309.6753622592,"d":"8309.68"}},null,null,"小数8.2"]
["文明施工费",{"$f":"表二!D19","v":{"v":421.098413628,"d":"421.10"}},"元人民币",null,"必填且小于人工费×1.5%"]
["工地器材搬运费",{"$f":"表二!D20","v":{"v":954.4897375568,"d":"954.49"}},"元人民币",null,"必填且小于人工费×3.4%"]
["工程干扰费",{"$f":"表二!D21","v":{"v":1684.393654512,"d":"1684.39"}},"元人民币",null,"必填且小于人工费×6.0%"]
["工程点交、场地清理费",{"$f":"表二!D22","v":{"v":926.4165099816,"d":"926.42"}},"元人民币",null,"必填且小于人工费×3.3%"]
["临时设施费",{"$f":"表二!D23","v":{"v":729.9039169552,"d":"729.90"}},"元人民币",null,"必填且小于人工费×2.6%"]
["工程车辆使用费",{"$f":"表二!D24","v":{"v":1403.66137876,"d":"1403.66"}},"元人民币",null,"必填且小于人工费×5.0%"]
["夜间施工增加费",{"$f":"表二!I6","v":{"v":701.83068938,"d":"701.83"}},"元人民币",null,"必填且小于人工费×2.5%"]
["冬雨季施工增加费",{"$f":"表二!I7","v":{"v":505.3180963536,"d":"505.32"}},"元人民币",null,"必填且小于人工费×1.8%"]
["生产工具用具使用费",{"$f":"表二!I8","v":{"v":421.098413628,"d":"421.10"}},"元人民币",null,"必填且小于人工费×1.5%"]
["已完工程及设备保护费",{"$f":"表二!I11","v":{"v":561.464551504,"d":"561.46"}},"元人民币",null,"必填且小于人工费×2.0%"]
["（五）间接费",{"v":2988.60335085484,"d":"2988.60"},null,null,"小数8.2"]
["社会保障费",{"$f":"表二!I18","v":{"v":8000.869858932,"d":"8000.87"}},"元人民币",null,"必填且小于人工费×28.5%"]
["住房公积金",{"$f":"表二!I19","v":{"v":1176.26823540088,"d":"1176.27"}},"元人民币",null,"必填且小于人工费×4.19%"]
["危险作业意外伤害保险费",{"$f":"表二!I20","v":{"v":280.732275752,"d":"280.73"}},"元人民币",null,"必填且小于人工费×1.00%"]
["企业管理费",{"$f":"表二!I21","v":{"v":7692.0643556048,"d":"7692.06"}},"元人民币",null,"必填且小于人工费×27.4%"]
["（六）利润",{"$f":"表二!I22","v":{"v":5614.64551504,"d":"5614.65"}},"元人民币",null,"必填且小于人工费×20.00%"]
["（七）销项税额",{"$f":"表二!I24","v":{"v":0,"d":"0.00"}},"元人民币",null,"必填"]
["二、表五费用",{"$f":"表五甲!F21","v":{"v":2000.29001616064,"d":"2000.29"}},"元人民币",null,"必填"]
["勘察设计费",{"$f":"表五甲!F11","v":{"v":0,"d":"0.00"}},"元人民币",null,"必填"]
["监理费",{"$f":"表五甲!F13","v":{"v":0,"d":"0.00"}},"元人民币",null,"必填且小于工程费*3.3%*83%"]
["安全生产费/折扣率%",{"$f":"表五甲!F14","v":{"v":2060.29871664546,"d":"2060.30"}},"元人民币",null,"必填"]
["建设用地及综合赔补费",{"v":0,"d":"0.00"},"元人民币",null,"系统提示"]
["资源录入费",{"$f":"表五甲!F19","v":{"v":0,"d":"0.00"}},"元人民币",null,"必填且小于工程费*1%"]
["三、预备费",{"v":0,"d":"0.00"},"元人民币",null,"不取"]
["四、投资",{"$f":"表一!L12","v":{"v":102014.790824193,"d":"102014.79"}},"元人民币",null,"必填"]
["五、建设信息",{"$nulls":3},"必填"]
["  项目类型","主干层建设",null,"主干层建设/配线层建设/混合建设","必填"]
["  区域类型","城区",null,"城区/农村","必填"]
["  建设原因","能力新增",null,"网络结构优化/能力新增"]
["六、能力指标",{"$nulls":3},"必填"]
["24芯以下",{"v":0,"d":"0.00"},"KM",null,"必填"]
["36芯以下",{"v":1,"d":"1.00"},"KM",null,"必填"]
["48芯以下",{"v":5.8,"d":"5.80"},"KM",null,"必填"]
["72芯以下",{"v":0.5,"d":"0.50"},"KM",null,"必填"]
["96芯以下",{"v":0,"d":"0.00"},"KM",null,"必填"]
["144芯以下",0.28,"KM",null,"必填"]
["192芯以下",1.85,"KM",null,"必填"]
["240芯以下",{"v":1.9,"d":"1.90"},"KM",null,"必填"]
["288芯以下",{"v":0,"d":"0.00"},"KM",null,"必填"]
["  新建576芯光交以下",7,"个",null,"必填"]
["  新建288芯光交以下",0,"个",null,"必填"]
["  新建144芯光交以下",0,"个",null,"必填"]
["  新建MODF架",1,"个",null,"必填"]

{"sheet":"工作量统计","index":11,"n_rows":56,"n_cols":29,"rows_kept":56,"hidden":true}
[]
["项目","管道","墙壁附挂","新设墙壁光缆","钉固","架空","架空附挂","槽道","直埋","通道","引上m","余缆","人孔数","新设引上","立杆7m","立杆8m","立杆9m","立杆10m","撑杆","架设吊线7/2.2","架设吊线7/2.6","7/2.6拉线","7/3.0拉线","安装拉线隔电子","拉线警示管","单孔子管","三孔子管","合计","取整"]
["施工测量",{"$nulls":26},{"$f":"SUM(B3:J3)/1000","v":{"v":0,"d":"0.00"}},{"$f":"ROUNDUP(AB3,-2)","v":{"v":0,"d":"0.00"}}]
["4芯(FTTH)",{"$nulls":26},{"$f":"B4*1.015+C4*1.01+D4*1.01+E4*1.01+F4*1.007+G4*1.007+H4*1.02+I4*1.005+J4+K4+L4","v":{"v":0,"d":"0.00"}},{"$f":"ROUNDUP(AB4,-2)","v":{"v":0,"d":"0.00"}}]
["6芯（FTTH)",{"$nulls":26},{"$f":"B5*1.015+C5*1.01+D5*1.01+E5*1.01+F5*1.007+G5*1.007+H5*1.02+I5*1.005+J5+K5+L5","v":{"v":0,"d":"0.00"}},{"$f":"ROUNDUP(AB5,-2)","v":{"v":0,"d":"0.00"}}]
["8芯（FTTH)",{"$nulls":26},{"v":0,"d":"0.00"},{"v":0,"d":"0.00"}]
["12芯（FTTH)",{"$nulls":26},{"v":0,"d":"0.00"},{"v":0,"d":"0.00"}]
["16芯（FTTH)",{"$nulls":26},{"v":0,"d":"0.00"},{"v":0,"d":"0.00"}]
["24芯（FTTH)",{"$nulls":26},{"v":0,"d":"0.00"},{"v":0,"d":"0.00"}]
["4芯(普通）",{"$nulls":26},{"$f":"B10*1.015+C10*1.01+D10*1.01+E10*1.01+F10*1.007+G10*1.007+H10*1.02+I10*1.005+J10+K10+L10","v":{"v":0,"d":"0.00"}},{"v":0,"d":"0.00"}]
["6芯(普通）",{"$nulls":26},{"v":0,"d":"0.00"},{"v":0,"d":"0.00"}]
["8芯(普通）",{"$nulls":26},{"v":0,"d":"0.00"},{"v":0,"d":"0.00"}]
["12芯(普通）",{"$nulls":26},{"v":0,"d":"0.00"},{"v":0,"d":"0.00"}]
["16芯(普通）",{"$nulls":26},{"v":0,"d":"0.00"},{"v":0,"d":"0.00"}]
["24芯(普通）",{"$nulls":26},{"v":0,"d":"0.00"},{"v":0,"d":"0.00"}]
["36芯(普通）",{"$nulls":26},{"v":0,"d":"0.00"},{"v":0,"d":"0.00"}]
["48芯(普通）",{"$nulls":26},{"v":0,"d":"0.00"},{"v":0,"d":"0.00"}]
["72芯(普通）",{"$nulls":26},{"v":0,"d":"0.00"},{"v":0,"d":"0.00"}]
["72芯(带状)",{"$nulls":26},{"v":0,"d":"0.00"},{"v":0,"d":"0.00"}]
["96芯(带状)",{"$nulls":26},{"v":0,"d":"0.00"},{"v":0,"d":"0.00"}]
["120芯(带状)",{"$nulls":26},{"v":0,"d":"0.00"},{"v":0,"d":"0.00"}]
["144芯(带状)",{"$nulls":26},{"v":0,"d":"0.00"},{"v":0,"d":"0.00"}]
["288芯(带状)",{"$nulls":26},{"v":0,"d":"0.00"},{"v":0,"d":"0.00"}]
["设计条长",{"$f":"SUM(B4:B23)","v":{"v":0,"d":"0.00"}},{"$f":"SUM(C4:C23)","v":{"v":0,"d":"0.00"}},{"v":0,"d":"0.00"},{"v":0,"d":"0.00"},{"v":0,"d":"0.00"},{"v":0,"d":"0.00"},{"v":0,"d":"0.00"},{"v":0,"d":"0.00"},{"v":0,"d":"0.00"},{"v":0,"d":"0.00"},{"v":0,"d":"0.00"},{"$nulls":15},{"$f":"SUM(B24:J24)/1000","v":{"v":0,"d":"0.00"}},{"v":0,"d":"0.00"}]
["铁线1.5",{"$f":"B3*3.05/1000","v":{"v":0,"d":"0.00"}},{"$f":"C3*0.1/100","v":{"v":0,"d":"0.00"}},{"$f":"D3*0.1/100","v":{"v":0,"d":"0.00"}},null,{"$f":"F3*0.61/1000","v":{"v":0,"d":"0.00"}},{"$f":"G3*0.61/1000","v":{"v":0,"d":"0.00"}},null,{"$f":"I3*1.02/1000","v":{"v":0,"d":"0.00"}},{"$f":"J3*0.3/100","v":{"v":0,"d":"0.00"}},{"$nulls":9},{"$f":"T3*0.1/1000","v":{"v":0,"d":"0.00"}},{"$f":"U3*0.1/1000","v":{"v":0,"d":"0.00"}},{"$f":"V3*0.04","v":{"v":0,"d":"0.00"}},{"$f":"W3*0.04","v":{"v":0,"d":"0.00"}},null,null,{"$f":"Z3*3/1000","v":{"v":0,"d":"0.00"}},{"$f":"AA3*3.05/1000","v":{"v":0,"d":"0.00"}},{"$f":"SUM(B25:W25)","v":{"v":0,"d":"0.00"}},{"$f":"ROUNDUP(AB25,-0.1)","v":{"v":0,"d":"0.00"}}]
["铁线3.0",{"$nulls":7},{"$f":"I3*0.51/1000","v":{"v":0,"d":"0.00"}},{"$nulls":10},{"$f":"T3*1/1000","v":{"v":0,"d":"0.00"}},{"$f":"U3*2/1000","v":{"v":0,"d":"0.00"}},{"$f":"V3*0.55","v":{"v":0,"d":"0.00"}},{"$f":"W3*0.45","v":{"v":0,"d":"0.00"}},{"v":0.6,"d":"0.60"},{"$nulls":3},{"v":0,"d":"0.00"},{"$f":"ROUNDUP(AB26,-0.1)","v":{"v":0,"d":"0.00"}}]
["铁线4.0",{"$f":"B3*20.3/1000","v":{"v":0,"d":"0.00"}},{"$nulls":6},{"$f":"I3*0.51/1000","v":{"v":0,"d":"0.00"}},{"$nulls":10},{"$f":"T3*2/1000","v":{"v":0,"d":"0.00"}},{"$f":"U3*2/1000","v":{"v":0,"d":"0.00"}},{"$f":"V3*0.22","v":{"v":0,"d":"0.00"}},{"$f":"W3*0.22","v":{"v":0,"d":"0.00"}},null,null,{"$f":"Z3*20/1000","v":{"v":0,"d":"0.00"}},{"$f":"AA3*20.3/1000","v":{"v":0,"d":"0.00"}},{"v":0,"d":"0.00"},{"v":0,"d":"0.00"}]
["7/2.2纲绞线",null,null,{"$f":"D3*23/100","v":{"v":0,"d":"0.00"}},{"$nulls":15},{"$f":"T3*222/1000","v":{"v":0,"d":"0.00"}},{"$nulls":7},{"v":0,"d":"0.00"},{"v":0,"d":"0.00"}]
["7/2.6纲绞线",{"$nulls":19},{"$f":"U3*323/1000","v":{"v":0,"d":"0.00"}},{"$f":"V3*3.8","v":{"v":0,"d":"0.00"}},{"$nulls":5},{"v":0,"d":"0.00"},{"v":0,"d":"0.00"}]
["7/3.0纲绞线",{"$nulls":21},{"$f":"W3*5","v":{"v":0,"d":"0.00"}},{"$nulls":4},{"v":0,"d":"0.00"},{"v":0,"d":"0.00"}]
["中间支撑物",null,null,{"$f":"D3*8/100","v":{"v":0,"d":"0.00"}},{"$nulls":23},{"v":0,"d":"0.00"},{"v":0,"d":"0.00"}]
["终端转角墙担",null,null,{"$f":"D3*4/100","v":{"v":0,"d":"0.00"}},{"$nulls":23},{"v":0,"d":"0.00"},{"v":0,"d":"0.00"}]
["膨胀螺丝M12",null,null,{"$f":"D3*24/100","v":{"v":0,"d":"0.00"}},{"$nulls":23},{"v":0,"d":"0.00"},{"v":0,"d":"0.00"}]
["u型钢卡￠8",null,null,{"$f":"D3*14/100","v":{"v":0,"d":"0.00"}},{"$nulls":23},{"v":0,"d":"0.00"},{"v":0,"d":"0.00"}]
["标志牌",{"$f":"B24/100","v":{"v":0,"d":"0.00"}},{"$f":"C24*0.05","v":{"v":0,"d":"0.00"}},{"$f":"D24*0.05","v":{"v":0,"d":"0.00"}},null,{"$f":"(F24*2*1.03)/50","v":{"v":0,"d":"0.00"}},{"$f":"(G24*2*1.03)/50","v":{"v":0,"d":"0.00"}},{"$f":"H24/10","v":{"v":0,"d":"0.00"}},null,{"$f":"J24/5","v":{"v":0,"d":"0.00"}},null,{"$f":"L24/10","v":{"v":0,"d":"0.00"}},{"$nulls":15},{"v":0,"d":"0.00"},{"v":0,"d":"0.00"}]
["扎带",{"$f":"B35*2+B37*6","v":{"v":0,"d":"0.00"}},{"$f":"C35*2+C37*6","v":{"v":0,"d":"0.00"}},{"$f":"D35*2+D37*6","v":{"v":0,"d":"0.00"}},null,{"$f":"F24*6/50","v":{"v":0,"d":"0.00"}},{"$f":"G24*6/50","v":{"v":0,"d":"0.00"}},{"$f":"H24*2/10","v":{"v":0,"d":"0.00"}},null,{"$f":"J35*2.2","v":{"v":0,"d":"0.00"}},null,{"$f":"L35*5","v":{"v":0,"d":"0.00"}},{"$nulls":15},{"v":0,"d":"0.00"},{"v":0,"d":"0.00"}]
["塑料螺旋软管",{"$f":"B24/1000*26.7","v":{"v":0,"d":"0.00"}},{"$f":"C24/30","v":{"v":0,"d":"0.00"}},{"$f":"D24/30","v":{"v":0,"d":"0.00"}},null,{"$f":"F24/1000*25","v":{"v":0,"d":"0.00"}},{"$f":"G24/1000*25","v":{"v":0,"d":"0.00"}},{"$nulls":20},{"v":0,"d":"0.00"},{"v":0,"d":"0.00"}]
["电缆挂钩",null,{"$f":"C3*2.06*20%","v":{"v":0,"d":"0.00"}},{"$f":"D3*2","v":{"v":0,"d":"0.00"}},null,{"$f":"F3*2.06","v":{"v":0,"d":"0.00"}},{"$f":"G24*2.06*20%","v":{"v":0,"d":"0.00"}},{"$nulls":20},{"v":0,"d":"0.00"},{"v":0,"d":"0.00"}]
["电缆卡子",{"$nulls":3},{"$f":"E24*3","v":{"v":0,"d":"0.00"}},{"$nulls":22},{"v":0,"d":"0.00"},{"v":0,"d":"0.00"}]
["吊线担",{"$nulls":26},{"v":0,"d":"0.00"},{"v":0,"d":"0.00"}]
["吊线抱箍",{"$nulls":18},{"$f":"T3*23/1000","v":{"v":0,"d":"0.00"}},{"$f":"U3*23/1000","v":{"v":0,"d":"0.00"}},{"$nulls":6},{"v":0,"d":"0.00"},{"v":0,"d":"0.00"}]
["地锚铁柄",{"$nulls":20},{"$f":"V3*1.003","v":{"v":0,"d":"0.00"}},{"$f":"W3*1","v":{"v":0,"d":"0.00"}},{"$nulls":4},{"v":0,"d":"0.00"},{"v":0,"d":"0.00"}]
["水泥拉线盘",{"$nulls":20},{"$f":"V3*1","v":{"v":0,"d":"0.00"}},{"$f":"W3*1","v":{"v":0,"d":"0.00"}},{"$nulls":4},{"v":0,"d":"0.00"},{"v":0,"d":"0.00"}]
["三眼双槽夹板",{"$nulls":20},{"$f":"V3*2","v":{"v":0,"d":"0.00"}},{"$f":"W3*4","v":{"v":0,"d":"0.00"}},{"$nulls":4},{"v":0,"d":"0.00"},{"v":0,"d":"0.00"}]
["拉线衬环",null,null,{"$f":"D3*4.04/100","v":{"v":0,"d":"0.00"}},{"$nulls":17},{"$f":"V3*2","v":{"v":0,"d":"0.00"}},{"$f":"W3*2","v":{"v":0,"d":"0.00"}},{"$nulls":4},{"v":0,"d":"0.00"},{"v":0,"d":"0.00"}]
["拉线抱箍",{"$nulls":20},{"$f":"V3*1","v":{"v":0,"d":"0.00"}},{"$f":"W3*1","v":{"v":0,"d":"0.00"}},{"$nulls":4},{"v":0,"d":"0.00"},{"v":0,"d":"0.00"}]
["三眼单槽夹板",{"$nulls":18},{"$f":"T3*23/1000","v":{"v":0,"d":"0.00"}},{"$f":"U3*23/1000","v":{"v":0,"d":"0.00"}},{"$nulls":6},{"v":0,"d":"0.00"},{"v":0,"d":"0.00"}]
["拉线隔电子",{"$nulls":22},{"$f":"X3*1","v":{"v":0,"d":"0.00"}},{"$nulls":3},{"v":0,"d":"0.00"},{"v":0,"d":"0.00"}]
["拉线警示管",{"$nulls":23},{"$f":"Y3*1","v":{"v":0,"d":"0.00"}},null,null,{"v":0,"d":"0.00"},{"v":0,"d":"0.00"}]
["水泥电杆7m",{"$nulls":13},{"$f":"O3*1","v":{"v":0,"d":"0.00"}},{"$nulls":3},{"$f":"S3*1","v":{"v":0,"d":"0.00"}},{"$nulls":8},{"v":0,"d":"0.00"},{"v":0,"d":"0.00"}]
["水泥电杆8m",{"$nulls":14},{"$f":"P3*1","v":{"v":0,"d":"0.00"}},{"$nulls":11},{"v":0,"d":"0.00"},{"v":0,"d":"0.00"}]
["水泥电杆9m",{"$nulls":15},{"$f":"Q3*1","v":{"v":0,"d":"0.00"}},{"$nulls":10},{"v":0,"d":"0.00"},{"v":0,"d":"0.00"}]
["水泥电杆10m",{"$nulls":16},{"$f":"R3*1","v":{"v":0,"d":"0.00"}},{"$nulls":9},{"v":0,"d":"0.00"},{"v":0,"d":"0.00"}]
["PE子管",{"$nulls":24},{"$f":"Z3*1.1","v":{"v":0,"d":"0.00"}},{"$f":"AA3*3.3","v":{"v":0,"d":"0.00"}},{"v":0,"d":"0.00"},{"v":0,"d":"0.00"}]
["引上钢管(50mm)",{"$nulls":12},{"$f":"N3*2","v":{"v":0,"d":"0.00"}},{"$nulls":13},{"v":0,"d":"0.00"},{"v":0,"d":"0.00"}]
["钢管抱箍(50mm)",{"$nulls":12},{"$f":"N3*2","v":{"v":0,"d":"0.00"}},{"$nulls":13},{"v":0,"d":"0.00"},{"v":0,"d":"0.00"}]

{"sheet":"正式文本中要的数据","index":12,"n_rows":12,"n_cols":12,"rows_kept":12,"hidden":true,"merged":[[0,1,0,4],[0,6,0,11],[2,11,3,11],[11,3,11,4]]}
[null,"预算投资(元)/各项费用所占比例",{"$nulls":4},"预算投资(元)/各项费用所占比例"]
[null,"序号","费用名称","金额（元）","占比",null,"费用名称","需要安装设备","安装工程","其它费用","预备费","合计"]
[null,1,"需要安装的设备费",{"$f":"表一!E7","v":{"v":0,"d":"0.00"}},{"$f":"D3/D11","v":{"v":0,"d":"0.00%"}},null,"金  额(元）",{"$f":"表一!E7","v":{"v":0,"d":"0.00"}},{"$f":"表一!G7","v":{"v":100014.500808032,"d":"100014.50"}},{"$f":"表一!H9","v":{"v":2000.29001616064,"d":"2000.29"}},{"$f":"表一!I10","v":{"v":0,"d":"0.00"}},{"$f":"表一!J20","v":{"v":0,"d":"0.00"}}]
[null,2,"不需要安装的设备、工器具费",{"$f":"表一!F7","v":{"v":0,"d":"0.00"}},{"$f":"D4/D11","v":{"v":0,"d":"0.00%"}},null,"所占百分比%",{"$f":"H3/L3","v":{"$error":"#DIV/0!"}},{"$f":"I3/L3","v":{"$error":"#DIV/0!"}},{"$f":"J3/L3","v":{"$error":"#DIV/0!"}},{"$f":"K3/L3","v":{"$error":"#DIV/0!"}}]
[null,3,"建筑安装工程费",{"$f":"表一!L7","v":{"v":100014.500808032,"d":"100014.50"}},{"$f":"D5/D11","v":{"v":0.980392156862745,"d":"98.04%"}}]
[null,4,"其他费用",{"$f":"表一!L8","v":{"v":2000.29001616064,"d":"2000.29"}},{"$f":"D6/D11","v":{"v":0.0196078431372549,"d":"1.96%"}},null,"单位造价：","皮长公里：",{"$f":"SUM(表四甲!E7:E60)","v":2.6}]
[null,5,"其中：勘察、设计费",{"$f":"表五甲!F11","v":{"v":0,"d":"0.00"}},{"$f":"D7/D11","v":{"v":0,"d":"0.00%"}},null,null,"纤芯公里：",{"$f":"表四甲!K61","v":"省模板材料，建议不要用"}]
[null,6,"监理费",{"$f":"表五甲!F13","v":{"v":0,"d":"0.00"}},{"$f":"D8/D11","v":{"v":0,"d":"0.00%"}},null,null,"皮长公里造价：",{"$f":"D11/I6","v":39236.458009305}]
[null,7,"      安全生产费",{"$f":"表五甲!F14","v":{"v":2060.29871664546,"d":"2060.30"}},{"$f":"D9/D11","v":{"v":0.0201960784313725,"d":"2.02%"}},null,null,"纤芯公里造价：",{"$f":"D11/I7","v":{"$error":"#VALUE!"}}]
[null,8,"预备费",{"$f":"表一!I10","v":{"v":0,"d":"0.00"}},{"$f":"D10/D11","v":{"v":0,"d":"0.00%"}}]
[null,9,"总投资",{"$f":"表一!L12","v":{"v":102014.790824193,"d":"102014.79"}},{"$f":"SUM(E3:E6)+E10","v":{"v":1,"d":"100.00%"}},"户数:",1,"填写在红色区域内"]
[null,10,"折合：户均投资（总投资/户数）",{"$f":"D11/G11","v":{"v":102014.790824193,"d":"102014.79"}}]

{"sheet":"预算定额表(该定额需该实)","index":13,"n_rows":1632,"n_cols":17,"rows_kept":1632,"hidden":true,"merged":[[21,18,21,24],[23,18,23,19]]}
["定额编号","项目名称","单位","技工","普工","定额编号","项目名称","单位","机械名称","数量（台班）","单价","定额编号","项目名称","单位","仪表","数量（台班）","单价"]
["TXL1-001","光（电）缆工程施工测量-直埋","百米",0.56,0.14,"TXL1-004","光（电）缆工程施工测量-海上","百米","海缆施工驳船 500t 以下带拖轮",0.02,0,"TXL1-001","光（电）缆工程施工测量-直埋","百米","地下管线探测仪",0.05,157]
["TXL1-002","光（电）缆工程施工测量-架空","百米",0.46,0.12,"TXL1-004","光（电）缆工程施工测量-海上","百米","海缆施工自航船 5000t 以下",0.02,0,"TXL1-001","光（电）缆工程施工测量-直埋","百米","激光测距仪",0.04,119]
["TXL1-002A","附挂光（电）缆工程施工测量-架空（工日×0.3）","百米",{"$f":"0.46*0.3","v":{"v":0.138,"d":"0.14"}},{"$f":"0.12*0.3","v":{"v":0.036,"d":"0.04"}},"TXL1-008","人工开挖路面-混凝土100m以内","百平方米","燃油式空气压缩机 (含风镐) 6m³/min",0.85,372,"TXL1-002","光（电）缆工程施工测量-架空","百米","激光测距仪",0.05,119]
["TXL1-003","光（电）缆工程施工测量-管道","百米",0.35,0.09,"TXL1-008","人工开挖路面-混凝土100m以内","百平方米","路面切割机",0.5,210,"TXL1-003","光（电）缆工程施工测量-管道","百米","激光测距仪",0.04,119]
["TXL1-004","光（电）缆工程施工测量-海上","百米",4.25,{"v":0,"d":"0.00"},"TXL1-009","人工开挖路面-混凝土每增加10m","百平方米","燃油式空气压缩机 (含风镐) 6m³/min",0.1,372,"TXL1-005","GPS定位","点","GPS 定位仪",0.01,118]
["TXL1-005","GPS定位","点",0.05,{"v":0,"d":"0.00"},"TXL1-010","人工开挖路面-沥青柏油100m以内","百平方米","燃油式空气压缩机 (含风镐) 6m³/min",0.35,372,"TXL1-006","单盘检验光缆-单窗口测试","芯盘","偏振模色散测试仪",0.05,455]
["TXL1-006","单盘检验光缆-单窗口测试","芯盘",0.02,{"v":0,"d":"0.00"},"TXL1-010","人工开挖路面-沥青柏油100m以内","百平方米","路面切割机",0.5,210,"TXL1-006","单盘检验光缆-单窗口测试","芯盘","光时域反射仪",0.05,153]
["TXL1-006A","单盘检验光缆-双窗口测试","芯盘",{"v":0.024,"d":"0.02"},{"v":0,"d":"0.00"},"TXL1-011","人工开挖路面-沥青柏油每增加10m","百平方米","燃油式空气压缩机 (含风镐) 6m³/min",0.04,372,"TXL2-128","安装防雷设施-敷设排流线(双条)","km","对地绝缘探测仪",0.35,153]
["TXL1-007","单盘检验-电缆","百对盘",{"v":0.5,"d":"0.50"},{"v":0,"d":"0.00"},"TXL1-012","人工开挖路面-砂石100m以内","百平方米","燃油式空气压缩机 (含风镐) 6m³/min",0.2,372,"TXL4-004","人工敷设塑料子管-1孔子管","km","有毒有害气体检测仪",0.25,117]
["TXL1-008","人工开挖路面-混凝土100m以内","百平方米",3.33,24.25,"TXL1-013","人工开挖路面-砂石每增加10m","百平方米","燃油式空气压缩机 (含风镐) 6m³/min",0.02,372,"TXL4-004","人工敷设塑料子管-1孔子管","km","可燃气体检测仪",0.25,117]
["TXL1-009","人工开挖路面-混凝土每增加10m","百平方米",0.33,1.75,"TXL1-017","机械开挖路面-混凝土100m以内","百平方米","破碎锤(含机身)",0.4,768,"TXL4-005","人工敷设塑料子管-2孔子管","km","有毒有害气体检测仪",0.3,117]
["TXL1-010","人工开挖路面-沥青柏油100m以内","百平方米",1.88,{"v":13,"d":"13.00"},"TXL1-017","机械开挖路面-混凝土100m以内","百平方米","挖掘机 0.6m3",0.3,743,"TXL4-005","人工敷设塑料子管-2孔子管","km","可燃气体检测仪",0.3,117]
["TXL1-011","人工开挖路面-沥青柏油每增加10m","百平方米",0.19,1.25,"TXL1-017","机械开挖路面-混凝土100m以内","百平方米","路面切割机",0.5,210,"TXL4-006","人工敷设塑料子管-3孔子管","km","有毒有害气体检测仪",0.42,117]
["TXL1-012","人工开挖路面-砂石100m以内","百平方米",1.04,6.29,"TXL1-018","机械开挖路面-混凝土每增加10m","百平方米","挖掘机 0.6m3",0.03,743,"TXL4-006","人工敷设塑料子管-3孔子管","km","可燃气体检测仪",0.42,117]
["TXL1-013","人工开挖路面-砂石每增加10m","百平方米",0.09,0.59,"TXL1-018","机械开挖路面-混凝土每增加10m","百平方米","破碎锤(含机身)",0.04,768,"TXL4-007","人工敷设塑料子管-4孔子管","km","有毒有害气体检测仪",0.5,117]
["TXL1-014","人工开挖路面-混凝土砌块","百平方米",0.38,3.75,"TXL1-019","机械开挖路面-沥青柏油100m以内","百平方米","挖掘机 0.6m3",0.24,743,"TXL4-007","人工敷设塑料子管-4孔子管","km","可燃气体检测仪",0.5,117]
["TXL1-015","人工开挖路面-水泥花砖","百平方米",0.31,2.88,"TXL1-019","机械开挖路面-沥青柏油100m以内","百平方米","路面切割机",0.5,210,"TXL4-008","人工敷设塑料子管-5孔子管","km","有毒有害气体检测仪",0.6,117]
["TXL1-016","人工开挖路面-条石","百平方米",{"v":5,"d":"5.00"},25.88,"TXL1-019","机械开挖路面-沥青柏油100m以内","百平方米","破碎锤(含机身)",0.11,768,"TXL4-008","人工敷设塑料子管-5孔子管","km","可燃气体检测仪",0.6,117]
["TXL1-017","机械开挖路面-混凝土100m以内","百平方米",{"v":0,"d":"0.00"},4.25,"TXL1-020","机械开挖路面-沥青柏油每增加10m","百平方米","破碎锤(含机身)",0.01,768,"TXL4-009","空闲管孔中人工敷设一带纺织子管","km","有毒有害气体检测仪",0.2,117]
["TXL1-018","机械开挖路面-混凝土每增加10m","百平方米",{"v":0,"d":"0.00"},0.38,"TXL1-020","机械开挖路面-沥青柏油每增加10m","百平方米","挖掘机 0.6m3",0.02,743,"TXL4-009","空闲管孔中人工敷设一带纺织子管","km","可燃气体检测仪",0.2,117]
["TXL1-019","机械开挖路面-沥青柏油100m以内","百平方米",{"v":0,"d":"0.00"},3.25,"TXL1-021","机械开挖路面-砂石100m以内","百平方米","挖掘机 0.6m3",0.21,743,"TXL4-010","非空闲管孔中人工敷设一带纺织子管","km","有毒有害气体检测仪",0.4,117]
["TXL1-020","机械开挖路面-沥青柏油每增加10m","百平方米",{"v":0,"d":"0.00"},0.08,"TXL1-022","机械开挖路面-砂石每增加10m","百平方米","挖掘机 0.6m3",0.02,743,"TXL4-010","非空闲管孔中人工敷设一带纺织子管","km","可燃气体检测仪",0.4,117]
["TXL1-021","机械开挖路面-砂石100m以内","百平方米",{"v":0,"d":"0.00"},4.25,"TXL2-005","挖、松填光(电)缆沟及接头坑-软石","百立方米","燃油式空气压缩机 (含风镐) 6m³/min",3,372,"TXL4-011","敷设管道光缆-12芯以下","千米条","可燃气体检测仪",0.25,117]
["TXL1-022","机械开挖路面-砂石每增加10m","百平方米",{"v":0,"d":"0.00"},0.13,"TXL2-006","挖、松填光(电)缆沟及接头坑-坚石（人工）","百立方米","燃油式空气压缩机 (含风镐) 6m³/min",10,372,"TXL4-011","敷设管道光缆-12芯以下","千米条","有毒有害气体检测仪",0.25,117]
["TXL2-001","挖、松填光(电)缆沟及接头坑-普通土","百立方米",{"v":0,"d":"0.00"},39.38,"TXL2-007","挖、夯填光(电)缆沟及接头坑-普通土","百立方米","夯实机",0.75,117,"TXL4-012","敷设管道光缆-24芯以下","千米条","有毒有害气体检测仪",0.3,117]
["TXL2-002","挖、松填光(电)缆沟及接头坑-硬土","百立方米",{"v":0,"d":"0.00"},{"v":51.5,"d":"51.50"},"TXL2-008","挖、夯填光(电)缆沟及接头坑-硬土","百立方米","夯实机",0.75,117,"TXL4-012","敷设管道光缆-24芯以下","千米条","可燃气体检测仪",0.3,117]
["TXL2-003","挖、松填光(电)缆沟及接头坑-砂砾土","百立方米",{"v":0,"d":"0.00"},62.13,"TXL2-009","挖、夯填光(电)缆沟及接头坑-砂砾土","百立方米","夯实机",0.75,117,"TXL4-013","敷设管道光缆-48芯以下","千米条","有毒有害气体检测仪",0.42,117]
["TXL2-004","挖、松填光(电)缆沟及接头坑-冻土","百立方米",{"v":0,"d":"0.00"},{"v":139.5,"d":"139.50"},"TXL2-011","挖、夯填光(电)缆沟及接头坑-软石","百立方米","燃油式空气压缩机 (含风镐) 6m³/min",3,372,"TXL4-013","敷设管道光缆-48芯以下","千米条","可燃气体检测仪",0.42,117]
["TXL2-005","挖、松填光(电)缆沟及接头坑-软石","百立方米",5.55,262.25,"TXL2-012","挖、夯填光(电)缆沟及接头坑-坚石（人工）","百立方米","燃油式空气压缩机 (含风镐) 6m³/min",10,372,"TXL4-014","敷设管道光缆-96芯以下","千米条","有毒有害气体检测仪",0.5,117]
["TXL2-006","挖、松填光(电)缆沟及接头坑-坚石（人工）","百立方米",{"v":36.2,"d":"36.20"},{"v":455.5,"d":"455.50"},"TXL2-041","埋设定型手孔","个","载重汽车 5t",0.1,372,"TXL4-014","敷设管道光缆-96芯以下","千米条","可燃气体检测仪",0.5,117]
["TXL2-007","挖、夯填光(电)缆沟及接头坑-普通土","百立方米",{"v":0,"d":"0.00"},40.88,"TXL2-041","埋设定型手孔","个","汽车式起重机 5t",0.1,516,"TXL4-015","敷设管道光缆-144芯以下","千米条","有毒有害气体检测仪",0.6,117]
["TXL2-008","挖、夯填光(电)缆沟及接头坑-硬土","百立方米",{"v":0,"d":"0.00"},{"v":55,"d":"55.00"},"TXL2-090","小孔径塑料管试通","孔千米","气流敷设设备(敷设光缆)",0.08,1007,"TXL4-015","敷设管道光缆-144芯以下","千米条","可燃气体检测仪",0.6,117]
["TXL2-009","挖、夯填光(电)缆沟及接头坑-砂砾土","百立方米",{"v":0,"d":"0.00"},71.13,"TXL2-090","小孔径塑料管试通","孔千米","载重汽车 5t",0.08,372,"TXL4-016","敷设管道光缆-288芯以下","千米条","有毒有害气体检测仪",0.72,117]
["TXL2-010","挖、夯填光(电)缆沟及接头坑-冻土","百立方米",{"v":0,"d":"0.00"},{"v":145.5,"d":"145.50"},"TXL2-091","小口径塑料管道充气试验","孔千米","载重汽车 5t",0.12,372,"TXL4-016","敷设管道光缆-288芯以下","千米条","可燃气体检测仪",0.72,117]
["TXL2-011","挖、夯填光(电)缆沟及接头坑-软石","百立方米",6.55,270.25,"TXL2-091","小口径塑料管道充气试验","孔千米","燃油式空气压缩机",0.12,368,"TXL4-017","敷设管道光缆-576芯以下","千米条","有毒有害气体检测仪",0.87,117]
["TXL2-012","挖、夯填光(电)缆沟及接头坑-坚石（人工）","百立方米",{"v":38.2,"d":"38.20"},{"v":480.5,"d":"480.50"},"TXL2-092","地下定向钻孔敷管-工作孔径φ120mm以内-每处30m以内","处","汽车式起重机 8t",1,636,"TXL4-017","敷设管道光缆-576芯以下","千米条","可燃气体检测仪",0.87,117]
["TXL2-013","实质沟铺盖细土","沟千米",{"v":0,"d":"0.00"},{"v":6,"d":"6.00"},"TXL2-092","地下定向钻孔敷管-工作孔径φ120mm以内-每处30m以内","处","载重汽车 8t",1,456,"TXL4-018","敷设管道光缆-576芯以上","千米条","有毒有害气体检测仪",1,117]
["TXL2-014","手推车倒运土方","百立方米",{"v":0,"d":"0.00"},{"v":12,"d":"12.00"},"TXL2-092","地下定向钻孔敷管-工作孔径φ120mm以内-每处30m以内","处","微控钻孔敷管设备（25t以下）",1.07,0,"TXL4-018","敷设管道光缆-576芯以上","千米条","可燃气体检测仪",1,117]
["TXL2-015","平原地区敷设埋式光缆-36芯以下","千米条",5.88,26.88,"TXL2-093","地下定向钻孔敷管-工作孔径φ120mm以内-每增加10m","十米","载重汽车 8t",0.2,456,"TXL4-019","人工敷设管道电缆-200对以下","千米条","可燃气体检测仪",0.3,117]
["TXL2-016","平原地区敷设埋式光缆-72芯以下","千米条",{"v":8.2,"d":"8.20"},29.26,"TXL2-093","地下定向钻孔敷管-工作孔径φ120mm以内-每增加10m","十米","微控钻孔敷管设备（25t以下）",0.21,0,"TXL4-019","人工敷设管道电缆-200对以下","千米条","有毒有害气体检测仪",0.3,117]
["TXL2-017","平原地区敷设埋式光缆-96芯以下","千米条",10.42,30.94,"TXL2-093","地下定向钻孔敷管-工作孔径φ120mm以内-每增加10m","十米","汽车式起重机 8t",0.2,636,"TXL4-020","人工敷设管道电缆-400对以下","千米条","可燃气体检测仪",0.42,117]
["TXL2-018","平原地区敷设埋式光缆-144芯以下","千米条",12.63,32.62,"TXL2-094","地下定向钻孔敷管-工作孔径φ240mm以内-每处30m以内","处","载重汽车 8t",1.4,456,"TXL4-020","人工敷设管道电缆-400对以下","千米条","有毒有害气体检测仪",0.42,117]
["TXL2-019","平原地区敷设埋式光缆-288芯以下","千米条",14.85,{"v":34.3,"d":"34.30"},"TXL2-094","地下定向钻孔敷管-工作孔径φ240mm以内-每处30m以内","处","微控钻孔敷管设备（25t以下）",1.5,0,"TXL4-021","人工敷设管道电缆-800对以下","千米条","有毒有害气体检测仪",0.5,117]
["TXL2-020","平原地区敷设埋式光缆-288芯以上","千米条",18.18,36.82,"TXL2-094","地下定向钻孔敷管-工作孔径φ240mm以内-每处30m以内","处","汽车式起重机 8t",1.4,636,"TXL4-021","人工敷设管道电缆-800对以下","千米条","可燃气体检测仪",0.5,117]
["TXL2-021","丘陵、水田、城区敷设埋式光缆-36芯以下","千米条",7.44,30.58,"TXL2-095","地下定向钻孔敷管-工作孔径φ240mm以内-每增加10m","十米","载重汽车 8t",0.28,456,"TXL4-022","人工敷设管道电缆-1200对以下","千米条","有毒有害气体检测仪",0.6,117]
["TXL2-022","丘陵、水田、城区敷设埋式光缆-72芯以下","千米条",10.05,33.69,"TXL2-095","地下定向钻孔敷管-工作孔径φ240mm以内-每增加10m","十米","微控钻孔敷管设备（25t以下）",0.3,0,"TXL4-022","人工敷设管道电缆-1200对以下","千米条","可燃气体检测仪",0.6,117]
["TXL2-023","丘陵、水田、城区敷设埋式光缆-96芯以下","千米条",12.76,36.52,"TXL2-095","地下定向钻孔敷管-工作孔径φ240mm以内-每增加10m","十米","汽车式起重机 8t",0.28,636,"TXL4-023","人工敷设管道电缆-1800对以下","千米条","可燃气体检测仪",0.72,117]
["TXL2-024","丘陵、水田、城区敷设埋式光缆-144芯以下","千米条",{"v":15.5,"d":"15.50"},38.44,"TXL2-096","地下定向钻孔敷管-工作孔径φ360mm以内-每处30m以内","处","载重汽车 8t",1.96,456,"TXL4-023","人工敷设管道电缆-1800对以下","千米条","有毒有害气体检测仪",0.72,117]
["TXL2-025","丘陵、水田、城区敷设埋式光缆-288芯以下","千米条",17.88,41.25,"TXL2-096","地下定向钻孔敷管-工作孔径φ360mm以内-每处30m以内","处","汽车式起重机 8t",1.96,636,"TXL4-024","人工敷设管道电缆-2400对以下","千米条","有毒有害气体检测仪",0.87,117]
["TXL2-026","丘陵、水田、城区敷设埋式光缆-288芯以上","千米条",{"v":22.1,"d":"22.10"},{"v":45,"d":"45.00"},"TXL2-096","地下定向钻孔敷管-工作孔径φ360mm以内-每处30m以内","处","微控钻孔敷管设备（25t以下）",2.1,0,"TXL4-024","人工敷设管道电缆-2400对以下","千米条","可燃气体检测仪",0.87,117]
["TXL2-027","山区敷设埋式光缆-36芯以下","千米条",9.05,40.22,"TXL2-097","地下定向钻孔敷管-工作孔径φ360mm以内-每增加10m","十米","微控钻孔敷管设备（25t以下)",0.42,0,"TXL4-025","人工敷设管道电缆-2400对以上","千米条","可燃气体检测仪",1,117]
["TXL2-027A","山区敷设埋式光缆-36芯以下-钢丝拉力为20kN以内","千米条",10.86,48.26,"TXL2-097","地下定向钻孔敷管-工作孔径φ360mm以内-每增加10m","十米","载重汽车 8t",0.39,456,"TXL4-025","人工敷设管道电缆-2400对以上","千米条","有毒有害气体检测仪",1,117]
["TXL2-027B","山区敷设埋式光缆-36芯以下-钢丝拉力为40kN以内","千米条",13.58,60.33,"TXL2-097","地下定向钻孔敷管-工作孔径φ360mm以内-每增加10m","十米","汽车式起重机 8t",0.39,636,"TXL4-026","机械敷设管道电缆-200对以下","千米条","有毒有害气体检测仪",0.4,117]
["TXL2-028","山区敷设埋式光缆-72芯以下","千米条",12.55,43.54,"TXL2-098","地下定向钻孔敷管-工作孔径φ600mm以内-每处30m以内","处","微控钻孔敷管设备 (25t以上)",2.94,0,"TXL4-026","机械敷设管道电缆-200对以下","千米条","可燃气体检测仪",0.4,117]
["TXL2-028A","山区敷设埋式光缆-72芯以下-钢丝拉力为20kN以内","千米条",15.06,52.25,"TXL2-098","地下定向钻孔敷管-工作孔径φ600mm以内-每处30m以内","处","汽车式起重机 16t",2.74,768,"TXL4-027","机械敷设管道电缆-400对以下","千米条","有毒有害气体检测仪",0.42,117]
["TXL2-028B","山区敷设埋式光缆-72芯以下-钢丝拉力为40kN以内","千米条",18.83,65.31,"TXL2-098","地下定向钻孔敷管-工作孔径φ600mm以内-每处30m以内","处","载重汽车 12t",2.74,582,"TXL4-027","机械敷设管道电缆-400对以下","千米条","可燃气体检测仪",0.42,117]
["TXL2-029","山区敷设埋式光缆-96芯以下","千米条",15.86,{"v":47.1,"d":"47.10"},"TXL2-099","地下定向钻孔敷管-工作孔径φ600mm以内-每增加10m","十米","微控钻孔敷管设备 (25t以上)",0.59,0,"TXL4-028","机械敷设管道电缆-800对以下","千米条","可燃气体检测仪",0.5,117]
["TXL2-029A","山区敷设埋式光缆-96芯以下-钢丝拉力为20kN以内","千米条",19.03,56.52,"TXL2-099","地下定向钻孔敷管-工作孔径φ600mm以内-每增加10m","十米","汽车式起重机 16t",0.55,768,"TXL4-028","机械敷设管道电缆-800对以下","千米条","有毒有害气体检测仪",0.5,117]
["TXL2-029B","山区敷设埋式光缆-96芯以下-钢丝拉力为40kN以内","千米条",23.79,70.65,"TXL2-099","地下定向钻孔敷管-工作孔径φ600mm以内-每增加10m","十米","载重汽车 12t",0.55,582,"TXL4-029","机械敷设管道电缆-1200对以下","千米条","有毒有害气体检测仪",0.6,117]
["TXL2-030","山区敷设埋式光缆-144芯以下","千米条",{"v":19.2,"d":"19.20"},50.14,"TXL2-100","地下定向钻孔敷管-工作孔径φ840mm以内-每处30m以内","处","微控钻孔敷管设备 (25t以上)",4.12,0,"TXL4-029","机械敷设管道电缆-1200对以下","千米条","可燃气体检测仪",0.6,117]
["TXL2-030A","山区敷设埋式光缆-144芯以下-钢丝拉力为20kN以内","千米条",23.04,60.17,"TXL2-100","地下定向钻孔敷管-工作孔径φ840mm以内-每处30m以内","处","载重汽车 12t",3.84,582,"TXL4-030","机械敷设管道电缆-1800对以下","千米条","可燃气体检测仪",0.72,117]
["TXL2-030B","山区敷设埋式光缆-144芯以下-钢丝拉力为40kN以内","千米条",{"v":28.8,"d":"28.80"},75.21,"TXL2-100","地下定向钻孔敷管-工作孔径φ840mm以内-每处30m以内","处","汽车式起重机 16t",3.84,768,"TXL4-030","机械敷设管道电缆-1800对以下","千米条","有毒有害气体检测仪",0.72,117]
["TXL2-031","山区敷设埋式光缆-288芯以下","千米条",22.53,53.13,"TXL2-101","地下定向钻孔敷管-工作孔径φ840mm以内-每增加10m","十米","载重汽车 12t",0.77,582,"TXL4-031","机械敷设管道电缆-2400对以下","千米条","有毒有害气体检测仪",0.87,117]
["TXL2-031A","山区敷设埋式光缆-288芯以下-钢丝拉力为20kN以内","千米条",27.04,63.76,"TXL2-101","地下定向钻孔敷管-工作孔径φ840mm以内-每增加10m","十米","汽车式起重机 16t",0.77,768,"TXL4-031","机械敷设管道电缆-2400对以下","千米条","可燃气体检测仪",0.87,117]
["TXL2-031B","山区敷设埋式光缆-288芯以下-钢丝拉力为40kN以内","千米条",{"v":33.8,"d":"33.80"},{"v":79.7,"d":"79.70"},"TXL2-101","地下定向钻孔敷管-工作孔径φ840mm以内-每增加10m","十米","微控钻孔敷管设备 (25t以上)",0.82,0,"TXL4-032","机械敷设管道电缆-2400对以上","千米条","可燃气体检测仪",1,117]
["TXL2-032","山区敷设埋式光缆-288芯以上","千米条",{"v":27.5,"d":"27.50"},57.46,"TXL2-102","地下定向钻孔敷管-工作孔径φ950mm以内-每处30m以内","处","汽车式起重机 16t",4.61,768,"TXL4-032","机械敷设管道电缆-2400对以上","千米条","有毒有害气体检测仪",1,117]
["TXL2-032A","山区敷设埋式光缆-288芯以上-钢丝拉力为20kN以内","千米条",{"v":33,"d":"33.00"},68.95,"TXL2-102","地下定向钻孔敷管-工作孔径φ950mm以内-每处30m以内","处","微控钻孔敷管设备 (25t以上)",5.22,0,"TXL5-001","城区气流法敷设微管-3根以下","km","可燃气体检测仪",0.2,117]
["TXL2-032B","山区敷设埋式光缆-288芯以上-钢丝拉力为40kN以内","千米条",41.25,86.19,"TXL2-102","地下定向钻孔敷管-工作孔径φ950mm以内-每处30m以内","处","载重汽车 12t",4.61,582,"TXL5-001","城区气流法敷设微管-3根以下","km","有毒有害气体检测仪",0.2,117]
["TXL2-033","敷设埋式电缆-200对以下","千米条",8.35,22.84,"TXL2-103","地下定向钻孔敷管-工作孔径φ950mm以内-每增加10m","十米","汽车式起重机 16t",1.06,768,"TXL5-002","城区气流法敷设微管-5根以下","km","可燃气体检测仪",0.2,117]
["TXL2-034","敷设埋式电缆-400对以下","千米条",9.49,25.91,"TXL2-103","地下定向钻孔敷管-工作孔径φ950mm以内-每增加10m","十米","微控钻孔敷管设备(25t以上)",1.1,0,"TXL5-002","城区气流法敷设微管-5根以下","km","有毒有害气体检测仪",0.2,117]
["TXL2-035","敷设埋式电缆-600对以下","千米条",11.08,30.23,"TXL2-103","地下定向钻孔敷管-工作孔径φ950mm以内-每增加10m","十米","载重汽车 12t",1.06,582,"TXL5-003","城区气流法敷设微管-5根以上","km","有毒有害气体检测仪",0.2,117]
["TXL2-036","敷设埋式电缆-600对以上","千米条",13.51,36.76,"TXL2-108","机械顶管","m","液压顶管机 5t",0.15,444,"TXL5-003","城区气流法敷设微管-5根以上","km","可燃气体检测仪",0.2,117]
["TXL2-037","砖砌专用塑料管道光缆手孔-I型（1.2×0.9×1.0）","个",{"v":6.4,"d":"6.40"},6.14,"TXL2-136","水泵冲槽","百米/处","水泵冲槽设备（套）",10,645,"TXL5-004","非城区气流法敷设微管-3根以下","km","可燃气体检测仪",0.2,117]
["TXL2-038","砖砌专用塑料管道光缆手孔-II型（2.6×0.9×1.0）","个",8.67,8.33,"TXL2-145","挖冲机敷设96芯以下水底光缆-平河水-普通土","百米条","水下光(电)缆沟 挖冲机",2.5,677,"TXL5-004","非城区气流法敷设微管-3根以下","km","有毒有害气体检测仪",0.2,117]
["TXL2-039","砖砌专用塑料管道光缆手孔-III型（1.2×0.9×0.7）","个",5.12,4.91,"TXL2-146","挖冲机敷设96芯以下水底光缆-平河水-硬土","百米条","水下光(电)缆沟 挖冲机",3.75,677,"TXL5-005","非城区气流法敷设微管-5根以下","km","有毒有害气体检测仪",0.2,117]
["TXL2-040","砖砌专用塑料管道光缆手孔-IV型（2.6×0.9×0.7）","个",6.94,6.66,"TXL2-147","挖冲机敷设96芯以下水底光缆-潮河水-普通土","百米条","水下光(电)缆沟 挖冲机",3.75,677,"TXL5-005","非城区气流法敷设微管-5根以下","km","可燃气体检测仪",0.2,117]
["TXL2-041","埋设定型手孔","个",{"v":1,"d":"1.00"},{"v":2,"d":"2.00"},"TXL2-148","挖冲机敷设96芯以下水底光缆-潮河水-硬土","百米条","水下光(电)缆沟 挖冲机",5.63,677,"TXL5-006","非城区气流法敷设微管-5根以上","km","可燃气体检测仪",0.2,117]
["TXL2-042","平原地区人工敷设小口径塑料管-1管","Km",{"v":4.1,"d":"4.10"},15.73,"TXL2-149","挖冲机敷设96芯以上水底光缆-平河水-普通土","百米条","水下光(电)缆沟 挖冲机",2.5,677,"TXL5-006","非城区气流法敷设微管-5根以上","km","有毒有害气体检测仪",0.2,117]
["TXL2-043","平原地区人工敷设小口径塑料管-2管","Km",{"v":7.5,"d":"7.50"},29.41,"TXL2-150","挖冲机敷设96芯以上水底光缆-平河水-硬土","百米条","水下光(电)缆沟 挖冲机",3.75,677,"TXL5-007","城区人工布放微管-空闲保护管内-3根以下","km","有毒有害气体检测仪",0.2,117]
["TXL2-044","平原地区人工敷设小口径塑料管-3管","Km",11.65,{"v":45.4,"d":"45.40"},"TXL2-151","挖冲机敷设96芯以上水底光缆-潮河水-普通土","百米条","水下光(电)缆沟 挖冲机",3.75,677,"TXL5-007","城区人工布放微管-空闲保护管内-3根以下","km","可燃气体检测仪",0.2,117]
["TXL2-045","平原地区人工敷设小口径塑料管-4管","Km",15.05,{"v":58.5,"d":"58.50"},"TXL2-152","挖冲机敷设96芯以上水底光缆-潮河水-硬土","百米条","水下光(电)缆沟 挖冲机",5.63,677,"TXL5-008","城区人工布放微管-空闲保护管内-4~5根","km","可燃气体检测仪",0.25,117]
["TXL2-046","平原地区人工敷设小口径塑料管-5管","Km",19.22,{"v":71.6,"d":"71.60"},"TXL2-153","海缆装船-自航船","千米条","辅助船",0.13,0,"TXL5-008","城区人工布放微管-空闲保护管内-4~5根","km","有毒有害气体检测仪",0.25,117]
["TXL2-047","平原地区人工敷设小口径塑料管-6管","Km",{"v":22.6,"d":"22.60"},{"v":84.8,"d":"84.80"},"TXL2-153","海缆装船-自航船","千米条","海缆施工自航船 （5000t以下）",0.13,0,"TXL5-009","城区人工布放微管-空闲保护管内-5根以上每增加2根","km","有毒有害气体检测仪",0.05,117]
["TXL2-048","平原地区人工敷设小口径塑料管-7管","Km",{"v":25.6,"d":"25.60"},{"v":99.5,"d":"99.50"},"TXL2-154","海缆装船-驳船","千米条","辅助船",0.13,0,"TXL5-009","城区人工布放微管-空闲保护管内-5根以上每增加2根","km","可燃气体检测仪",0.05,117]
["TXL2-049","平原地区人工敷设小口径塑料管-8管","Km",{"v":29.1,"d":"29.10"},112.45,"TXL2-154","海缆装船-驳船","千米条","海缆施工驳船（500t以下）带拖轮",0.13,0,"TXL5-010","城区人工布放微管-非空闲保护管内-3根以下","km","有毒有害气体检测仪",0.45,117]
["TXL2-050","平原地区人工敷设小口径塑料管-9管","Km",{"v":33.1,"d":"33.10"},{"v":128.2,"d":"128.20"},"TXL2-155","航行-自航船","百千米","海缆施工自航船 （5000t以下）",0.65,0,"TXL5-010","城区人工布放微管-非空闲保护管内-3根以下","km","可燃气体检测仪",0.45,117]
["TXL2-051","平原地区人工敷设小口径塑料管-10管","Km",{"v":36.5,"d":"36.50"},{"v":141,"d":"141.00"},"TXL2-156","航行-驳船","百千米","海缆施工驳船 （500t 以下）带拖轮",1.6,0,"TXL5-011","城区人工布放微管-非空闲保护管内-4~5根","km","有毒有害气体检测仪",0.6,117]
["TXL2-052","平原地区人工敷设小口径塑料管-11管","Km",{"v":39.8,"d":"39.80"},154.05,"TXL2-157","海中敷设海缆-自航船","千米条","海缆施工自航船 （5000t 以下）",0.03,0,"TXL5-011","城区人工布放微管-非空闲保护管内-4~5根","km","可燃气体检测仪",0.6,117]
["TXL2-053","平原地区人工敷设小口径塑料管-12管","Km",{"v":43.2,"d":"43.20"},{"v":167,"d":"167.00"},"TXL2-158","海中敷设海缆-驳船","千米条","海缆施工驳船 （500t 以下）带拖轮",0.03,0,"TXL5-012","管道内人工布放集束管","km","有毒有害气体检测仪",0.3,117]
["TXL2-054","平原地区人工敷设小口径塑料管-13管","Km",{"v":47.3,"d":"47.30"},{"v":182.8,"d":"182.80"},"TXL2-159","海中埋设海缆-自航船-埋深3m以上","千米条","海缆施工自航船 （5000t以下）",0.9,0,"TXL5-012","管道内人工布放集束管","km","可燃气体检测仪",0.3,117]
["TXL2-055","平原地区人工敷设小口径塑料管-14管","Km",{"v":50.6,"d":"50.60"},{"v":195.5,"d":"195.50"},"TXL2-160","海中埋设海缆-自航船-埋深3m以下","千米条","海缆施工自航船 （5000t 以下）",0.3,0,"TXL5-041","托板式敷设室内通道光缆","百米条","有毒有害气体检测仪",0.15,117]
["TXL2-056","平原地区人工敷设小口径塑料管-15管","Km",{"v":54,"d":"54.00"},208.65,"TXL2-161","海中埋设海缆-驳船-埋深3m以上","千米条","海缆施工驳船 （500t 以下）带拖轮",0.9,0,"TXL5-041","托板式敷设室内通道光缆","百米条","可燃气体检测仪",0.15,117]
["TXL2-057","平原地区人工敷设小口径塑料管-16管","Km",{"v":57.4,"d":"57.40"},{"v":221.6,"d":"221.60"},"TXL2-162","海中埋设海缆-驳船-埋深3m以下","千米条","海缆施工驳船 （500t 以下）带拖轮",0.45,0,"TXL5-042","钉固式敷设室内通道光缆","百米条","可燃气体检测仪",0.3,117]
["TXL2-058","丘陵、城区、水田地区人工敷设小口径塑料管-1管","Km",{"v":4.8,"d":"4.80"},{"v":18.5,"d":"18.50"},"TXL2-163","海底光缆接续-自航船","头","接头设备",3,0,"TXL5-042","钉固式敷设室内通道光缆","百米条","有毒有害气体检测仪",0.3,117]
["TXL2-059","丘陵、城区、水田地区人工敷设小口径塑料管-2管","Km",{"v":8.8,"d":"8.80"},{"v":34.6,"d":"34.60"},"TXL2-163","海底光缆接续-自航船","头","海缆施工自航船 （5000t 以下）",3,0,"TXL5-043","竖井引上光缆","百米条","有毒有害气体检测仪",0.4,117]
["TXL2-060","丘陵、城区、水田地区人工敷设小口径塑料管-3管","Km",{"v":13.7,"d":"13.70"},{"v":53.4,"d":"53.40"},"TXL2-164","海底光缆接续-驳船","头","海缆施工驳船（ 500t 以下）带拖轮",3,0,"TXL5-043","竖井引上光缆","百米条","可燃气体检测仪",0.4,117]
["TXL2-061","丘陵、城区、水田地区人工敷设小口径塑料管-4管","Km",{"v":17.7,"d":"17.70"},{"v":68.9,"d":"68.90"},"TXL2-164","海底光缆接续-驳船","头","接头设备",3,0,"TXL6-003","机械法光缆接续","芯","光时域反射仪",0.05,153]
["TXL2-062","丘陵、城区、水田地区人工敷设小口径塑料管-5管","Km",{"v":22.4,"d":"22.40"},{"v":84.1,"d":"84.10"},"TXL2-165","辅助船法敷设登陆海缆-自航船","端","辅助船",2,0,"TXL6-004","现场组装光纤活动连接器","芯","光时域反射仪",0.05,153]
["TXL2-063","丘陵、城区、水田地区人工敷设小口径塑料管-6管","Km",{"v":26.6,"d":"26.60"},{"v":103.3,"d":"103.30"},"TXL2-165","辅助船法敷设登陆海缆-自航船","端","海缆施工自航船 （5000t 以下）",1,0,"TXL6-005","光缆成端接头-束状","芯","光时域反射仪",0.05,153]
["TXL2-064","丘陵、城区、水田地区人工敷设小口径塑料管-7管","Km",{"v":30.3,"d":"30.30"},114.35,"TXL2-166","辅助船法敷设登陆海缆-驳船","端","海缆施工驳船（500t 以下）带拖轮",1,0,"TXL6-006","光缆成端接头-带状","芯","光时域反射仪",0.01,153]
["TXL2-065","丘陵、城区、水田地区人工敷设小口径塑料管-8管","Km",{"v":34.6,"d":"34.60"},{"v":133.9,"d":"133.90"},"TXL2-166","辅助船法敷设登陆海缆-驳船","端","辅助船",2,0,"TXL6-007","光缆接续-4芯以下","头","光时域反射仪",0.6,153]
["TXL2-066","丘陵、城区、水田地区人工敷设小口径塑料管-9管","Km",{"v":39,"d":"39.00"},{"v":147.4,"d":"147.40"},"TXL2-167","浮球法敷设登陆海缆-自航船","端","海缆施工自航船 （5000t 以下）",1,0,"TXL6-008","光缆接续-12芯以下","头","光时域反射仪",0.7,153]
["TXL2-067","丘陵、城区、水田地区人工敷设小口径塑料管-10管","Km",{"v":43,"d":"43.00"},{"v":162.1,"d":"162.10"},"TXL2-167","浮球法敷设登陆海缆-自航船","端","辅助船",3,0,"TXL6-009","光缆接续-24芯以下","头","光时域反射仪",0.8,153]
["TXL2-068","丘陵、城区、水田地区人工敷设小口径塑料管-11管","Km",{"v":46.9,"d":"46.90"},177.05,"TXL2-167","浮球法敷设登陆海缆-自航船","端","机械牵引设备",1,0,"TXL6-010","光缆接续-36芯以下","头","光时域反射仪",0.95,153]
["TXL2-069","丘陵、城区、水田地区人工敷设小口径塑料管-12管","Km",{"v":51.4,"d":"51.40"},{"v":198.9,"d":"198.90"},"TXL2-168","浮球法敷设登陆海缆-驳船","端","辅助船",3,0,"TXL6-011","光缆接续-48芯以下","头","光时域反射仪",1.1,153]
["TXL2-070","丘陵、城区、水田地区人工敷设小口径塑料管-13管","Km",{"v":55.8,"d":"55.80"},{"v":210,"d":"210.00"},"TXL2-168","浮球法敷设登陆海缆-驳船","端","机械牵引设备",1,0,"TXL6-012","光缆接续-60芯以下","头","光时域反射仪",1.25,153]
["TXL2-071","丘陵、城区、水田地区人工敷设小口径塑料管-14管","Km",{"v":59.5,"d":"59.50"},{"v":225.5,"d":"225.50"},"TXL2-168","浮球法敷设登陆海缆-驳船","端","海缆施工驳船 (500t 以下)带拖轮",1,0,"TXL6-013","光缆接续-72芯以下","头","光时域反射仪",1.4,153]
["TXL2-072","丘陵、城区、水田地区人工敷设小口径塑料管-15管","Km",{"v":63.2,"d":"63.20"},{"v":239.9,"d":"239.90"},"TXL2-169","海底光缆冲埋-水深20m以下","百米条","辅助船",6,0,"TXL6-014","光缆接续-84芯以下","头","光时域反射仪",1.6,153]
["TXL2-073","丘陵、城区、水田地区人工敷设小口径塑料管-16管","Km",{"v":67,"d":"67.00"},{"v":254.4,"d":"254.40"},"TXL2-169","海底光缆冲埋-水深20m以下","百米条","海缆施工驳船 (500t 以下)带拖轮",3,0,"TXL6-015","光缆接续-96芯以下","头","光时域反射仪",1.7,153]
["TXL2-074","山区人工敷设小口径塑料管-1管","Km",{"v":5.7,"d":"5.70"},{"v":21.8,"d":"21.80"},"TXL2-170","海底光缆冲埋-水深20~30m","百米条","海缆施工驳船 (500t 以下)带拖轮",5,0,"TXL6-016","光缆接续-108芯以下","头","光时域反射仪",1.75,153]
["TXL2-075","山区人工敷设小口径塑料管-2管","Km",{"v":10.6,"d":"10.60"},{"v":40.5,"d":"40.50"},"TXL2-170","海底光缆冲埋-水深20~30m","百米条","辅助船",10,0,"TXL6-017","光缆接续-132芯以下","头","光时域反射仪",1.85,153]
["TXL2-076","山区人工敷设小口径塑料管-3管","Km",{"v":16.5,"d":"16.50"},{"v":63.1,"d":"63.10"},"TXL2-171","水下机器人(ROV)后冲埋海底光缆-自航船","百米条","海缆施工自航船 (5000t 以下)",0.05,0,"TXL6-018","光缆接续-144芯以下","头","光时域反射仪",1.85,153]
["TXL2-077","山区人工敷设小口径塑料管-4管","Km",{"v":21.2,"d":"21.20"},{"v":80.3,"d":"80.30"},"TXL2-171","水下机器人(ROV)后冲埋海底光缆-自航船","百米条","冲埋设备",0.05,0,"TXL6-019","光缆接续-192芯以下","头","光时域反射仪",1.9,153]
["TXL2-078","山区人工敷设小口径塑料管-5管","Km",{"v":26.8,"d":"26.80"},{"v":99.5,"d":"99.50"},"TXL2-172","水下机器人(ROV)后冲埋海底光缆-驳船","百米条","海缆施工驳船 (500t 以下)带拖轮",0.05,0,"TXL6-020","光缆接续-288芯以下","头","光时域反射仪",1.9,153]
["TXL2-079","山区人工敷设小口径塑料管-6管","Km",{"v":32,"d":"32.00"},{"v":121,"d":"121.00"},"TXL2-172","水下机器人(ROV)后冲埋海底光缆-驳船","百米条","冲埋设备",0.05,0,"TXL6-021","光缆接续-288芯以上","头","光时域反射仪",2.1,153]
["TXL2-080","山区人工敷设小口径塑料管-7管","Km",{"v":36.4,"d":"36.40"},{"v":134.5,"d":"134.50"},"TXL2-173","水下安装关节套管","m","海缆施工自航船 (5000t 以下)",0.2,0,"TXL6-022","8芯带以下带状光缆接续-48芯以下","头","光时域反射仪",1.1,153]
["TXL2-081","山区人工敷设小口径塑料管-8管","Km",{"v":41.5,"d":"41.50"},{"v":158,"d":"158.00"},"TXL3-001","立9m以下水泥杆-综合土","根","汽车式起重机 5t",0.04,516,"TXL6-023","8芯带以下带状光缆接续-72芯以下","头","光时域反射仪",1.4,153]
["TXL2-082","山区人工敷设小口径塑料管-9管","Km",{"v":46.8,"d":"46.80"},{"v":173.9,"d":"173.90"},"TXL3-002","立9m以下水泥杆-软石","根","汽车式起重机 5t",0.04,516,"TXL6-024","8芯带以下带状光缆接续-96芯以下","头","光时域反射仪",1.7,153]
["TXL2-083","山区人工敷设小口径塑料管-10管","Km",{"v":51.6,"d":"51.60"},{"v":191.3,"d":"191.30"},"TXL3-003","立9m以下水泥杆-坚石","根","汽车式起重机 5t",0.04,516,"TXL6-025","8芯带以下带状光缆接续-108芯以下","头","光时域反射仪",1.75,153]
["TXL2-084","山区人工敷设小口径塑料管-11管","Km",{"v":56.3,"d":"56.30"},{"v":209,"d":"209.00"},"TXL3-004","立11m以下水泥杆-综合土","根","汽车式起重机 5t",0.04,516,"TXL6-026","8芯带以下带状光缆接续-120芯以下","头","光时域反射仪",1.8,153]
["TXL2-085","山区人工敷设小口径塑料管-12管","Km",{"v":61.7,"d":"61.70"},{"v":234.7,"d":"234.70"},"TXL3-005","立11m以下水泥杆-软石","根","汽车式起重机 5t",0.04,516,"TXL6-027","8芯带以下带状光缆接续-144芯以下","头","光时域反射仪",1.85,153]
["TXL2-086","山区人工敷设小口径塑料管-13管","Km",{"v":67,"d":"67.00"},{"v":247.8,"d":"247.80"},"TXL3-006","立11m以下水泥杆-坚石","根","汽车式起重机 5t",0.04,516,"TXL6-028","8芯带以下带状光缆接续-192芯以下","头","光时域反射仪",1.9,153]
["TXL2-087","山区人工敷设小口径塑料管-14管","Km",{"v":71.4,"d":"71.40"},{"v":266,"d":"266.00"},"TXL3-007","立13m以下水泥杆-综合土","根","汽车式起重机 5t",0.06,516,"TXL6-029","8芯带以下带状光缆接续-288芯以下","头","光时域反射仪",1.9,153]
["TXL2-088","山区人工敷设小口径塑料管-15管","Km",75.85,{"v":283.1,"d":"283.10"},"TXL3-008","立13m以下水泥杆-软石","根","汽车式起重机 5t",0.06,516,"TXL6-030","8芯带以下带状光缆接续-289芯以上","头","光时域反射仪",2.1,153]
["TXL2-089","山区人工敷设小口径塑料管-16管","Km",{"v":80.4,"d":"80.40"},{"v":299.9,"d":"299.90"},"TXL3-009","立13m以下水泥杆-坚石","根","汽车式起重机 5t",0.06,516,"TXL6-031","8芯带以上带状光缆接续-48芯以下","头","光时域反射仪",1.1,153]
["TXL2-090","小孔径塑料管试通","孔千米",0.63,0.63,"TXL3-010","立13m以下水泥H杆-综合土","座","汽车式起重机 5t",0.12,516,"TXL6-032","8芯带以上带状光缆接续-72芯以下","头","光时域反射仪",1.4,153]
["TXL2-091","小口径塑料管道充气试验","孔千米",0.38,0.38,"TXL3-011","立13m以下水泥H杆-软石","座","汽车式起重机 5t",0.12,516,"TXL6-033","8芯带以上带状光缆接续-96芯以下","头","光时域反射仪",1.7,153]
["TXL2-092","地下定向钻孔敷管-工作孔径φ120mm以内-每处30m以内","处",2.64,7.98,"TXL3-012","立13m以下水泥H杆-坚石","座","汽车式起重机 5t",0.12,516,"TXL6-034","8芯带以上带状光缆接续-108芯以下","头","光时域反射仪",1.75,153]
["TXL2-092A","地下定向钻孔敷管-工作孔径φ120mm以内-每处30m以内-土层为回填垃圾","处",3.17,9.58,"TXL3-048","装水泥撑杆-综合土","根","汽车式起重机（5t）",0.05,516,"TXL6-035","8芯带以上带状光缆接续-120芯以下","头","光时域反射仪",1.8,153]
["TXL2-092B","地下定向钻孔敷管-工作孔径φ120mm以内-每处30m以内-土层为粘性土夹碎石土","处",3.96,11.97,"TXL3-049","装水泥撑杆-软石","根","汽车式起重机（5t）",0.05,516,"TXL6-036","8芯带以上带状光缆接续-144芯以下","头","光时域反射仪",1.85,153]
["TXL2-092C","地下定向钻孔敷管-工作孔径φ120mm以内-每处30m以内-土层为纯砂层或碎石土","处",5.28,15.96,"TXL3-050","装水泥撑杆-坚石","根","汽车式起重机（5t）",0.05,516,"TXL6-037","8芯带以上带状光缆接续-192芯以下","头","光时域反射仪",1.9,153]
["TXL2-092D","地下定向钻孔敷管-工作孔径φ120mm以内-每处30m以内-路由长度超过300m","处",2.64,7.98,"TXL3-203","缠绕法架设架空光缆-平原-36芯以下","千米条","缠绕机",0.3,137,"TXL6-038","8芯带以上带状光缆接续-288芯以下","头","光时域反射仪",1.9,153]
["TXL2-092E","地下定向钻孔敷管-工作孔径φ120mm以内-每处30m以内-土层为回填垃圾-路由长度超过300m","处",3.17,9.58,"TXL3-204","缠绕法架设架空光缆-平原-72芯以下","千米条","缠绕机",0.3,137,"TXL6-039","8芯带以上带状光缆接续-384芯以下","头","光时域反射仪",2.1,153]
["TXL2-092F","地下定向钻孔敷管-工作孔径φ120mm以内-每处30m以内-土层为粘性土夹碎石土-路由长度超过300m","处",3.96,11.97,"TXL3-205","缠绕法架设架空光缆-平原-144芯以下","千米条","缠绕机",0.3,137,"TXL6-040","8芯带以上带状光缆接续-480芯以下","头","光时域反射仪",2.3,153]
["TXL2-092G","地下定向钻孔敷管-工作孔径φ120mm以内-每处30m以内-土层为纯砂层或碎石土-路由长度超过300m","处",5.28,15.96,"TXL3-206","缠绕法架设架空光缆-平原-288芯以下","千米条","缠绕机",0.3,137,"TXL6-041","8芯带以上带状光缆接续-576芯以下","头","光时域反射仪",2.5,153]
["TXL2-093","地下定向钻孔敷管-工作孔径φ120mm以内-每增加10m","十米",0.53,{"v":1.6,"d":"1.60"},"TXL3-207","缠绕法架设架空光缆-平原-288芯以上","千米条","缠绕机",0.3,137,"TXL6-042","8芯带以上带状光缆接续-577芯以上","头","光时域反射仪",2.75,153]
["TXL2-093A","地下定向钻孔敷管-工作孔径φ120mm以内-每增加10m-土层为回填垃圾","十米",0.64,1.92,"TXL3-208","缠绕法架设架空光缆-丘陵、城区、水田-36芯以下","千米条","缠绕机",0.35,137,"TXL6-043","40千米以上中继段光缆测试-12芯以下","中继段","稳定光源",0.36,117]
["TXL2-093B","地下定向钻孔敷管-工作孔径φ120mm以内-每增加10m-土层为粘性土夹碎石土","十米",{"v":0.8,"d":"0.80"},{"v":2.4,"d":"2.40"},"TXL3-209","缠绕法架设架空光缆-丘陵、城区、水田-72芯以下","千米条","缠绕机",0.35,137,"TXL6-043","40千米以上中继段光缆测试-12芯以下","中继段","光时域反射仪",0.36,153]
["TXL2-093C","地下定向钻孔敷管-工作孔径φ120mm以内-每增加10m-土层为纯砂层或碎石土","十米",1.06,{"v":3.2,"d":"3.20"},"TXL3-210","缠绕法架设架空光缆-丘陵、城区、水田-144芯以下","千米条","缠绕机",0.35,137,"TXL6-043","40千米以上中继段光缆测试-12芯以下","中继段","偏振模色散测试仪",0.36,455]
["TXL2-093D","地下定向钻孔敷管-工作孔径φ120mm以内-每增加10m-路由长度超过300m","十米",0.53,{"v":1.6,"d":"1.60"},"TXL3-211","缠绕法架设架空光缆-丘陵、城区、水田-288芯以下","千米条","缠绕机",0.35,137,"TXL6-043","40千米以上中继段光缆测试-12芯以下","中继段","光功率计",0.36,116]
["TXL2-093E","地下定向钻孔敷管-工作孔径φ120mm以内-每增加10m-土层为回填垃圾-路由长度超过300m","十米",0.64,1.92,"TXL3-212","缠绕法架设架空光缆-丘陵、城区、水田-288芯以上","千米条","缠绕机",0.35,137,"TXL6-044","40千米以上中继段光缆测试-24芯以下","中继段","光功率计",0.51,116]
["TXL2-093F","地下定向钻孔敷管-工作孔径φ120mm以内-每增加10m-土层为粘性土夹碎石土-路由长度超过300m","十米",{"v":0.8,"d":"0.80"},{"v":2.4,"d":"2.40"},"TXL3-213","缠绕法架设架空光缆-山区-36芯以下","千米条","缠绕机",0.42,137,"TXL6-044","40千米以上中继段光缆测试-24芯以下","中继段","稳定光源",0.51,117]
["TXL2-093G","地下定向钻孔敷管-工作孔径φ120mm以内-每增加10m-土层为纯砂层或碎石土-路由长度超过300m","十米",1.06,{"v":3.2,"d":"3.20"},"TXL3-214","缠绕法架设架空光缆-山区-72芯以下","千米条","缠绕机",0.42,137,"TXL6-044","40千米以上中继段光缆测试-24芯以下","中继段","偏振模色散测试仪",0.51,455]
["TXL2-094","地下定向钻孔敷管-工作孔径φ240mm以内-每处30m以内","处",3.96,10.26,"TXL3-215","缠绕法架设架空光缆-山区-144芯以下","千米条","缠绕机",0.42,137,"TXL6-044","40千米以上中继段光缆测试-24芯以下","中继段","光时域反射仪",0.51,153]
["TXL2-094A","地下定向钻孔敷管-工作孔径φ240mm以内-每处30m以内-土层为回填垃圾","处",4.75,12.31,"TXL3-216","缠绕法架设架空光缆-山区-288芯以下","千米条","缠绕机",0.42,137,"TXL6-045","40千米以上中继段光缆测试-36芯以下","中继段","光功率计",0.68,116]
["TXL2-094B","地下定向钻孔敷管-工作孔径φ240mm以内-每处30m以内-土层为粘性土夹碎石土","处",5.94,15.39,"TXL3-217","缠绕法架设架空光缆-山区-288芯以上","千米条","缠绕机",0.42,137,"TXL6-045","40千米以上中继段光缆测试-36芯以下","中继段","光时域反射仪",0.68,153]
["TXL2-094C","地下定向钻孔敷管-工作孔径φ240mm以内-每处30m以内-土层为纯砂层或碎石土","处",7.92,20.52,"TXL4-001","布放光(电)缆人孔抽水-积水","个","抽水机",0.2,119,"TXL6-045","40千米以上中继段光缆测试-36芯以下","中继段","稳定光源",0.68,117]
["TXL2-094D","地下定向钻孔敷管-工作孔径φ240mm以内-每处30m以内-路由长度超过300m","处",3.96,10.26,"TXL4-002","布放光(电)缆人孔抽水-流水","个","抽水机",0.5,119,"TXL6-045","40千米以上中继段光缆测试-36芯以下","中继段","偏振模色散测试仪",0.68,455]
["TXL2-094E","地下定向钻孔敷管-工作孔径φ240mm以内-每处30m以内-土层为回填垃圾-路由长度超过300m","处",4.75,12.31,"TXL4-003","布放光(电)缆手孔抽水","个","抽水机",0.1,119,"TXL6-046","40千米以上中继段光缆测试-48芯以下","中继段","光时域反射仪",0.86,153]
["TXL2-094F","地下定向钻孔敷管-工作孔径φ240mm以内-每处30m以内-土层为粘性土夹碎石土-路由长度超过300m","处",5.94,15.39,"TXL4-026","机械敷设管道电缆-200对以下","千米条","电缆拖车",0.4,138,"TXL6-046","40千米以上中继段光缆测试-48芯以下","中继段","光功率计",0.86,116]
["TXL2-094G","地下定向钻孔敷管-工作孔径φ240mm以内-每处30m以内-土层为纯砂层或碎石土-路由长度超过300m","处",7.92,20.52,"TXL4-026","机械敷设管道电缆-200对以下","千米条","载重汽车 (5t)",0.4,372,"TXL6-046","40千米以上中继段光缆测试-48芯以下","中继段","偏振模色散测试仪",0.86,455]
["TXL2-095","地下定向钻孔敷管-工作孔径φ240mm以内-每增加10m","十米",0.79,2.05,"TXL4-027","机械敷设管道电缆-400对以下","千米条","电缆拖车",0.55,138,"TXL6-046","40千米以上中继段光缆测试-48芯以下","中继段","稳定光源",0.86,117]
["TXL2-095A","地下定向钻孔敷管-工作孔径φ240mm以内-每增加10m-土层为回填垃圾","十米",0.95,2.46,"TXL4-027","机械敷设管道电缆-400对以下","千米条","载重汽车 (5t)",0.55,372,"TXL6-047","40千米以上中继段光缆测试-60芯以下","中继段","偏振模色散测试仪",1,455]
["TXL2-095B","地下定向钻孔敷管-工作孔径φ240mm以内-每增加10m-土层为粘性土夹碎石土","十米",1.19,3.08,"TXL4-028","机械敷设管道电缆-800对以下","千米条","电缆拖车",0.75,138,"TXL6-047","40千米以上中继段光缆测试-60芯以下","中继段","稳定光源",1,117]
["TXL2-095C","地下定向钻孔敷管-工作孔径φ240mm以内-每增加10m-土层为纯砂层或碎石土","十米",1.58,{"v":4.1,"d":"4.10"},"TXL4-028","机械敷设管道电缆-800对以下","千米条","载重汽车 (5t)",0.75,372,"TXL6-047","40千米以上中继段光缆测试-60芯以下","中继段","光功率计",1,116]
["TXL2-095D","地下定向钻孔敷管-工作孔径φ240mm以内-每增加10m-路由长度超过300m","十米",0.79,2.05,"TXL4-029","机械敷设管道电缆-1200对以下","千米条","电缆拖车",0.9,138,"TXL6-047","40千米以上中继段光缆测试-60芯以下","中继段","光时域反射仪",1,153]
["TXL2-095E","地下定向钻孔敷管-工作孔径φ240mm以内-每增加10m-土层为回填垃圾-路由长度超过300m","十米",0.95,2.46,"TXL4-029","机械敷设管道电缆-1200对以下","千米条","载重汽车 (5t)",0.9,372,"TXL6-048","40千米以上中继段光缆测试-72芯以下","中继段","偏振模色散测试仪",1.15,455]
["TXL2-095F","地下定向钻孔敷管-工作孔径φ240mm以内-每增加10m-土层为粘性土夹碎石土-路由长度超过300m","十米",1.19,3.08,"TXL4-030","机械敷设管道电缆-1800对以下","千米条","载重汽车 (5t)",1.1,372,"TXL6-048","40千米以上中继段光缆测试-72芯以下","中继段","光功率计",1.15,116]
["TXL2-095G","地下定向钻孔敷管-工作孔径φ240mm以内-每增加10m-土层为纯砂层或碎石土-路由长度超过300m","十米",1.58,{"v":4.1,"d":"4.10"},"TXL4-030","机械敷设管道电缆-1800对以下","千米条","电缆拖车",1.1,138,"TXL6-048","40千米以上中继段光缆测试-72芯以下","中继段","光时域反射仪",1.15,153]
["TXL2-096","地下定向钻孔敷管-工作孔径φ360mm以内-每处30m以内","处",5.94,13.34,"TXL4-031","机械敷设管道电缆-2400对以下","千米条","载重汽车 (5t)",1.4,372,"TXL6-048","40千米以上中继段光缆测试-72芯以下","中继段","稳定光源",1.15,117]
["TXL2-096A","地下定向钻孔敷管-工作孔径φ360mm以内-每处30m以内-土层为回填垃圾","处",7.13,16.01,"TXL4-031","机械敷设管道电缆-2400对以下","千米条","电缆拖车",1.4,138,"TXL6-049","40千米以上中继段光缆测试-84芯以下","中继段","光时域反射仪",1.25,153]
["TXL2-096B","地下定向钻孔敷管-工作孔径φ360mm以内-每处30m以内-土层为粘性土夹碎石土","处",8.91,20.01,"TXL4-032","机械敷设管道电缆-2400对以上","千米条","载重汽车 (5t)",2,372,"TXL6-049","40千米以上中继段光缆测试-84芯以下","中继段","光功率计",1.25,116]
["TXL2-096C","地下定向钻孔敷管-工作孔径φ360mm以内-每处30m以内-土层为纯砂层或碎石土","处",11.88,26.68,"TXL4-032","机械敷设管道电缆-2400对以上","千米条","电缆拖车",2,138,"TXL6-049","40千米以上中继段光缆测试-84芯以下","中继段","稳定光源",1.25,117]
["TXL2-096D","地下定向钻孔敷管-工作孔径φ360mm以内-每处30m以内-路由长度超过300m","处",5.94,13.34,"TXL5-001","城区气流法敷设微管-3根以下","km","气流敷设设备(敷设微管微缆)",0.23,814,"TXL6-049","40千米以上中继段光缆测试-84芯以下","中继段","偏振模色散测试仪",1.25,455]
["TXL2-096E","地下定向钻孔敷管-工作孔径φ360mm以内-每处30m以内-土层为回填垃圾-路由长度超过300m","处",7.13,16.01,"TXL5-001","城区气流法敷设微管-3根以下","km","载重汽车 （5t）",0.46,372,"TXL6-050","40千米以上中继段光缆测试-96芯以下","中继段","偏振模色散测试仪",1.37,455]
["TXL2-096F","地下定向钻孔敷管-工作孔径φ360mm以内-每处30m以内-土层为粘性土夹碎石土-路由长度超过300m","处",8.91,20.01,"TXL5-001","城区气流法敷设微管-3根以下","km","汽车式起重机 （5t）",0.18,516,"TXL6-050","40千米以上中继段光缆测试-96芯以下","中继段","光时域反射仪",1.37,153]
["TXL2-096G","地下定向钻孔敷管-工作孔径φ360mm以内-每处30m以内-土层为纯砂层或碎石土-路由长度超过300m","处",11.88,26.68,"TXL5-002","城区气流法敷设微管-5根以下","km","气流敷设设备(敷设微管微缆)",0.26,814,"TXL6-050","40千米以上中继段光缆测试-96芯以下","中继段","光功率计",1.37,116]
["TXL2-097","地下定向钻孔敷管-工作孔径φ360mm以内-每增加10m","十米",1.19,2.67,"TXL5-002","城区气流法敷设微管-5根以下","km","汽车式起重机 （5t）",0.18,516,"TXL6-050","40千米以上中继段光缆测试-96芯以下","中继段","稳定光源",1.37,117]
["TXL2-097A","地下定向钻孔敷管-工作孔径φ360mm以内-每增加10m-土层为回填垃圾","十米",1.43,{"v":3.2,"d":"3.20"},"TXL5-002","城区气流法敷设微管-5根以下","km","载重汽车 （5t）",0.52,372,"TXL6-051","40千米以上中继段光缆测试-108芯以下","中继段","偏振模色散测试仪",1.44,455]
["TXL2-097B","地下定向钻孔敷管-工作孔径φ360mm以内-每增加10m-土层为粘性土夹碎石土","十米",1.79,4.01,"TXL5-003","城区气流法敷设微管-5根以上","km","汽车式起重机 （5t）",0.18,516,"TXL6-051","40千米以上中继段光缆测试-108芯以下","中继段","光功率计",1.44,116]
["TXL2-097C","地下定向钻孔敷管-工作孔径φ360mm以内-每增加10m-土层为纯砂层或碎石土","十米",2.38,5.34,"TXL5-003","城区气流法敷设微管-5根以上","km","载重汽车 （5t）",0.6,372,"TXL6-051","40千米以上中继段光缆测试-108芯以下","中继段","光时域反射仪",1.44,153]
["TXL2-097D","地下定向钻孔敷管-工作孔径φ360mm以内-每增加10m-路由长度超过300m","十米",1.19,2.67,"TXL5-003","城区气流法敷设微管-5根以上","km","气流敷设设备(敷设微管微缆)",0.3,814,"TXL6-051","40千米以上中继段光缆测试-108芯以下","中继段","稳定光源",1.44,117]
["TXL2-097E","地下定向钻孔敷管-工作孔径φ360mm以内-每增加10m-土层为回填垃圾-路由长度超过300m","十米",1.43,{"v":3.2,"d":"3.20"},"TXL5-004","非城区气流法敷设微管-3根以下","km","汽车式起重机 （5t）",0.15,516,"TXL6-052","40千米以上中继段光缆测试-132芯以下","中继段","光功率计",1.51,116]
["TXL2-097F","地下定向钻孔敷管-工作孔径φ360mm以内-每增加10m-土层为粘性土夹碎石土-路由长度超过300m","十米",1.79,4.01,"TXL5-004","非城区气流法敷设微管-3根以下","km","载重汽车 （5t）",0.4,372,"TXL6-052","40千米以上中继段光缆测试-132芯以下","中继段","稳定光源",1.51,117]
["TXL2-097G","地下定向钻孔敷管-工作孔径φ360mm以内-每增加10m-土层为纯砂层或碎石土-路由长度超过300m","十米",2.38,5.34,"TXL5-004","非城区气流法敷设微管-3根以下","km","气流敷设设备(敷设微管微缆)",0.2,814,"TXL6-052","40千米以上中继段光缆测试-132芯以下","中继段","光时域反射仪",1.51,153]
["TXL2-098","地下定向钻孔敷管-工作孔径φ600mm以内-每处30m以内","处",8.91,17.34,"TXL5-005","非城区气流法敷设微管-5根以下","km","汽车式起重机 （5t）",0.15,516,"TXL6-052","40千米以上中继段光缆测试-132芯以下","中继段","偏振模色散测试仪",1.51,455]
["TXL2-098A","地下定向钻孔敷管-工作孔径φ600mm以内-每处30m以内-土层为回填垃圾","处",10.69,20.81,"TXL5-005","非城区气流法敷设微管-5根以下","km","气流敷设设备(敷设微管微缆)",0.23,814,"TXL6-053","40千米以上中继段光缆测试-144芯以下","中继段","光功率计",1.58,116]
["TXL2-098B","地下定向钻孔敷管-工作孔径φ600mm以内-每处30m以内-土层为粘性土夹碎石土","处",13.37,26.01,"TXL5-005","非城区气流法敷设微管-5根以下","km","载重汽车 （5t）",0.46,372,"TXL6-053","40千米以上中继段光缆测试-144芯以下","中继段","偏振模色散测试仪",1.58,455]
["TXL2-098C","地下定向钻孔敷管-工作孔径φ600mm以内-每处30m以内-土层为纯砂层或碎石土","处",17.82,34.68,"TXL5-006","非城区气流法敷设微管-5根以上","km","气流敷设设备(敷设微管微缆)",0.26,814,"TXL6-053","40千米以上中继段光缆测试-144芯以下","中继段","稳定光源",1.58,117]
["TXL2-099","地下定向钻孔敷管-工作孔径φ600mm以内-每增加10m","十米",1.78,3.47,"TXL5-006","非城区气流法敷设微管-5根以上","km","汽车式起重机 （5t）",0.15,516,"TXL6-053","40千米以上中继段光缆测试-144芯以下","中继段","光时域反射仪",1.58,153]
["TXL2-099A","地下定向钻孔敷管-工作孔径φ600mm以内-每增加10m-土层为回填垃圾","十米",2.14,4.16,"TXL5-006","非城区气流法敷设微管-5根以上","km","载重汽车 （5t）",0.52,372,"TXL6-054","40千米以上中继段光缆测试-168芯以下","中继段","光功率计",1.66,116]
["TXL2-099B","地下定向钻孔敷管-工作孔径φ600mm以内-每增加10m-土层为粘性土夹碎石土","十米",2.67,5.21,"TXL5-010","城区人工布放微管-非空闲保护管内-3根以下","km","燃油式空气压缩机",0.1,368,"TXL6-054","40千米以上中继段光缆测试-168芯以下","中继段","偏振模色散测试仪",1.66,455]
["TXL2-099C","地下定向钻孔敷管-工作孔径φ600mm以内-每增加10m-土层为纯砂层或碎石土","十米",3.56,6.94,"TXL5-011","城区人工布放微管-非空闲保护管内-4~5根","km","燃油式空气压缩机",0.12,368,"TXL6-054","40千米以上中继段光缆测试-168芯以下","中继段","稳定光源",1.66,117]
["TXL2-100","地下定向钻孔敷管-工作孔径φ840mm以内-每处30m以内","处",13.66,26.01,"TXL5-013","保护管贯通","孔千米","载重汽车 （5t）",0.08,372,"TXL6-054","40千米以上中继段光缆测试-168芯以下","中继段","光时域反射仪",1.66,153]
["TXL2-100A","地下定向钻孔敷管-工作孔径φ840mm以内-每处30m以内-土层为回填垃圾","处",16.39,31.21,"TXL5-013","保护管贯通","孔千米","气流敷设设备(敷设微管微缆)",0.08,814,"TXL6-055","40千米以上光缆中继段测试-192芯以下","中继段","偏振模色散测试仪",1.73,455]
["TXL2-100B","地下定向钻孔敷管-工作孔径φ840mm以内-每处30m以内-土层为粘性土夹碎石土","处",20.49,39.02,"TXL5-016","混凝土路面开微槽-30m以内","处","燃油式空气压缩机 (含风镐)",0.44,372,"TXL6-055","40千米以上光缆中继段测试-192芯以下","中继段","光时域反射仪",1.73,153]
["TXL2-100C","地下定向钻孔敷管-工作孔径φ840mm以内-每处30m以内-土层为纯砂层或碎石土","处",27.32,52.02,"TXL5-016","混凝土路面开微槽-30m以内","处","真空泵",0.63,137,"TXL6-055","40千米以上光缆中继段测试-192芯以下","中继段","稳定光源",1.73,117]
["TXL2-101","地下定向钻孔敷管-工作孔径φ840mm以内-每增加10m","十米",2.73,{"v":5.2,"d":"5.20"},"TXL5-016","混凝土路面开微槽-30m以内","处","路面切割机",0.7,210,"TXL6-055","40千米以上光缆中继段测试-192芯以下","中继段","光功率计",1.73,116]
["TXL2-101A","地下定向钻孔敷管-工作孔径φ840mm以内-每增加10m-土层为回填垃圾","十米",3.28,6.24,"TXL5-016","混凝土路面开微槽-30m以内","处","汽油发电机（10kW）",0.84,202,"TXL6-056","40千米以上光缆中继段测试-216芯以下","中继段","光功率计",1.8,116]
["TXL2-101B","地下定向钻孔敷管-工作孔径φ840mm以内-每增加10m-土层为粘性土夹碎石土","十米",{"v":4.1,"d":"4.10"},{"v":7.8,"d":"7.80"},"TXL5-017","混凝土路面开微槽-每增加10m","10米","汽油发电机（10kW）",0.17,202,"TXL6-056","40千米以上光缆中继段测试-216芯以下","中继段","偏振模色散测试仪",1.8,455]
["TXL2-101C","地下定向钻孔敷管-工作孔径φ840mm以内-每增加10m-土层为纯砂层或碎石土","十米",5.46,{"v":10.4,"d":"10.40"},"TXL5-017","混凝土路面开微槽-每增加10m","10米","燃油式空气压缩机 (含风镐)",0.08,372,"TXL6-056","40千米以上光缆中继段测试-216芯以下","中继段","稳定光源",1.8,117]
["TXL2-102","地下定向钻孔敷管-工作孔径φ950mm以内-每处30m以内","处",17.49,36.02,"TXL5-017","混凝土路面开微槽-每增加10m","10米","真空泵",0.1,137,"TXL6-056","40千米以上光缆中继段测试-216芯以下","中继段","光时域反射仪",1.8,153]
["TXL2-102A","地下定向钻孔敷管-工作孔径φ950mm以内-每处30m以内-土层为回填垃圾","处",20.99,43.22,"TXL5-017","混凝土路面开微槽-每增加10m","10米","路面切割机",0.11,210,"TXL6-057","40千米以上光缆中继段测试-240芯以下","中继段","光时域反射仪",1.91,153]
["TXL2-102B","地下定向钻孔敷管-工作孔径φ950mm以内-每处30m以内-土层为粘性土夹碎石土","处",26.24,54.03,"TXL5-018","沥青柏油路面开微槽-30m以内","处","路面切割机",0.7,210,"TXL6-057","40千米以上光缆中继段测试-240芯以下","中继段","偏振模色散测试仪",1.91,455]
["TXL2-102C","地下定向钻孔敷管-工作孔径φ950mm以内-每处30m以内-土层为纯砂层或碎石土","处",34.98,72.04,"TXL5-018","沥青柏油路面开微槽-30m以内","处","真空泵",0.63,137,"TXL6-057","40千米以上光缆中继段测试-240芯以下","中继段","稳定光源",1.91,117]
["TXL2-103","地下定向钻孔敷管-工作孔径φ950mm以内-每增加10m","十米",{"v":3.8,"d":"3.80"},{"v":6.8,"d":"6.80"},"TXL5-018","沥青柏油路面开微槽-30m以内","处","燃油式空气压缩机 (含风镐)",0.44,372,"TXL6-057","40千米以上光缆中继段测试-240芯以下","中继段","光功率计",1.91,116]
["TXL2-103A","地下定向钻孔敷管-工作孔径φ950mm以内-每增加10m-土层为回填垃圾","十米",4.56,8.16,"TXL5-018","沥青柏油路面开微槽-30m以内","处","汽油发电机（10kW）",0.84,202,"TXL6-058","40千米以上光缆中继段测试-264芯以下","中继段","光时域反射仪",1.98,153]
["TXL2-103B","地下定向钻孔敷管-工作孔径φ950mm以内-每增加10m-土层为粘性土夹碎石土","十米",{"v":5.7,"d":"5.70"},{"v":10.2,"d":"10.20"},"TXL5-019","沥青柏油路面开微槽-每增加10m","十米","真空泵",0.1,137,"TXL6-058","40千米以上光缆中继段测试-264芯以下","中继段","偏振模色散测试仪",1.98,455]
["TXL2-103C","地下定向钻孔敷管-工作孔径φ950mm以内-每增加10m-土层为纯砂层或碎石土","十米",{"v":7.6,"d":"7.60"},{"v":13.6,"d":"13.60"},"TXL5-019","沥青柏油路面开微槽-每增加10m","十米","路面切割机",0.11,210,"TXL6-058","40千米以上光缆中继段测试-264芯以下","中继段","稳定光源",1.98,117]
["TXL2-104","桥挂钢管","m",{"v":0.1,"d":"0.10"},{"v":0.2,"d":"0.20"},"TXL5-019","沥青柏油路面开微槽-每增加10m","十米","汽油发电机 10kW",0.17,202,"TXL6-058","40千米以上光缆中继段测试-264芯以下","中继段","光功率计",1.98,116]
["TXL2-105","桥挂塑料管","m",0.05,{"v":0.1,"d":"0.10"},"TXL5-019","沥青柏油路面开微槽-每增加10m","十米","燃油式空气压缩机 (含风镐)",0.08,372,"TXL6-059","40千米以上光缆中继段测试-288芯以下","中继段","光功率计",2.09,116]
["TXL2-106","桥挂槽道","m",0.08,0.15,"TXL5-020","平原地区气流法敷设光缆-36芯以下","千米条","气流敷设设备(敷设光缆)",0.2,1007,"TXL6-059","40千米以上光缆中继段测试-288芯以下","中继段","偏振模色散测试仪",2.09,455]
["TXL2-107","人工顶管","m",{"v":1,"d":"1.00"},{"v":2,"d":"2.00"},"TXL5-020","平原地区气流法敷设光缆-36芯以下","千米条","汽车式起重机 (5t)",0.2,516,"TXL6-059","40千米以上光缆中继段测试-288芯以下","中继段","稳定光源",2.09,117]
["TXL2-108","机械顶管","m",{"v":0.6,"d":"0.60"},{"v":0.2,"d":"0.20"},"TXL5-020","平原地区气流法敷设光缆-36芯以下","千米条","载重汽车 (5t)",0.2,372,"TXL6-059","40千米以上光缆中继段测试-288芯以下","中继段","光时域反射仪",2.09,153]
["TXL2-109","铺管保护-钢管","m",0.03,{"v":0.1,"d":"0.10"},"TXL5-021","平原地区气流法敷设光缆-72芯以下","千米条","载重汽车 (5t)",0.23,372,"TXL6-060","40千米以上光缆中继段测试-312芯以下","中继段","偏振模色散测试仪",2.23,455]
["TXL2-110","铺管保护-塑料管","m",0.01,{"v":0.1,"d":"0.10"},"TXL5-021","平原地区气流法敷设光缆-72芯以下","千米条","气流敷设设备(敷设光缆)",0.23,1007,"TXL6-060","40千米以上光缆中继段测试-312芯以下","中继段","光功率计",2.23,116]
["TXL2-111","铺管保护-大长度半硬塑料管","百米",{"v":1.5,"d":"1.50"},{"v":2.5,"d":"2.50"},"TXL5-021","平原地区气流法敷设光缆-72芯以下","千米条","汽车式起重机 (5t)",0.23,516,"TXL6-060","40千米以上光缆中继段测试-312芯以下","中继段","稳定光源",2.23,117]
["TXL2-112","铺砖保护-横铺砖","km",{"v":2,"d":"2.00"},{"v":15,"d":"15.00"},"TXL5-022","平原地区气流法敷设光缆-144芯以下","千米条","载重汽车 (5t)",0.26,372,"TXL6-060","40千米以上光缆中继段测试-312芯以下","中继段","光时域反射仪",2.23,153]
["TXL2-113","铺砖保护-竖铺砖","km",{"v":2,"d":"2.00"},{"v":10,"d":"10.00"},"TXL5-022","平原地区气流法敷设光缆-144芯以下","千米条","气流敷设设备(敷设光缆)",0.26,1007,"TXL6-061","40千米以上光缆中继段测试-336芯以下","中继段","光时域反射仪",2.34,153]
["TXL2-114","铺水泥盖板","km",{"v":2,"d":"2.00"},{"v":13,"d":"13.00"},"TXL5-022","平原地区气流法敷设光缆-144芯以下","千米条","汽车式起重机 (5t）",0.26,516,"TXL6-061","40千米以上光缆中继段测试-336芯以下","中继段","偏振模色散测试仪",2.34,455]
["TXL2-115","铺水泥槽","m",0.05,{"v":0.1,"d":"0.10"},"TXL5-023","平原地区气流法敷设光缆-288芯以下","千米条","汽车式起重机 （5t）",0.29,516,"TXL6-061","40千米以上光缆中继段测试-336芯以下","中继段","稳定光源",2.34,117]
["TXL2-116","石砌坡、坎、堵塞","m³",{"v":1,"d":"1.00"},2.58,"TXL5-023","平原地区气流法敷设光缆-288芯以下","千米条","气流敷设设备(敷设光缆)",0.29,1007,"TXL6-061","40千米以上光缆中继段测试-336芯以下","中继段","光功率计",2.34,116]
["TXL2-117","三七土护坎","m³",{"v":0.2,"d":"0.20"},{"v":0.5,"d":"0.50"},"TXL5-023","平原地区气流法敷设光缆-288芯以下","千米条","载重汽车 （5t）",0.29,372,"TXL6-062","40千米以上光缆中继段测试-360芯以下","中继段","光时域反射仪",2.45,153]
["TXL2-118","封石沟","m³",{"v":0.9,"d":"0.90"},{"v":2.1,"d":"2.10"},"TXL5-024","平原地区气流法敷设光缆-288芯以上","千米条","汽车式起重机 （5t)",0.32,516,"TXL6-062","40千米以上光缆中继段测试-360芯以下","中继段","稳定光源",2.45,117]
["TXL2-119","做漫水坝、档水墙","m³",{"v":2,"d":"2.00"},5.16,"TXL5-024","平原地区气流法敷设光缆-288芯以上","千米条","载重汽车 (5t)",0.32,372,"TXL6-062","40千米以上光缆中继段测试-360芯以下","中继段","光功率计",2.45,116]
["TXL2-120","埋设标石-平原","个",0.06,0.12,"TXL5-024","平原地区气流法敷设光缆-288芯以上","千米条","气流敷设设备(敷设光缆)",0.32,1007,"TXL6-062","40千米以上光缆中继段测试-360芯以下","中继段","偏振模色散测试仪",2.45,455]
["TXL2-121","埋设标石-丘陵、水田、城区","个",0.07,0.14,"TXL5-025","丘陵、水田地区气流法敷设光缆-36芯以下","千米条","气流敷设设备(敷设光缆)",0.23,1007,"TXL6-063","40千米以上光缆中继段测试-384芯以下","中继段","光时域反射仪",2.52,153]
["TXL2-122","埋设标石-山区","个",0.09,0.18,"TXL5-025","丘陵、水田地区气流法敷设光缆-36芯以下","千米条","汽车式起重机 (5t)",0.23,516,"TXL6-063","40千米以上光缆中继段测试-384芯以下","中继段","偏振模色散测试仪",2.52,455]
["TXL2-123","安装宣传警示牌","块",{"v":0.1,"d":"0.10"},{"v":0.5,"d":"0.50"},"TXL5-025","丘陵、水田地区气流法敷设光缆-36芯以下","千米条","载重汽车 (5t)",0.23,372,"TXL6-063","40千米以上光缆中继段测试-384芯以下","中继段","光功率计",2.52,116]
["TXL2-124","安装对地绝缘监测标石","块",0.26,0.52,"TXL5-026","丘陵、水田地区气流法敷设光缆-72芯以下","千米条","载重汽车 (5t)",0.27,372,"TXL6-063","40千米以上光缆中继段测试-384芯以下","中继段","稳定光源",2.52,117]
["TXL2-125","安装对地绝缘监测装置","点",{"v":0.7,"d":"0.70"},{"v":0.3,"d":"0.30"},"TXL5-026","丘陵、水田地区气流法敷设光缆-72芯以下","千米条","汽车式起重机 (5t)",0.27,516,"TXL6-064","40千米以上光缆中继段测试-408芯以下","中继段","光时域反射仪",2.59,153]
["TXL2-126","对地绝缘检查及处理","km",{"v":0.5,"d":"0.50"},{"v":0,"d":"0.00"},"TXL5-026","丘陵、水田地区气流法敷设光缆-72芯以下","千米条","气流敷设设备(敷设光缆)",0.27,1007,"TXL6-064","40千米以上光缆中继段测试-408芯以下","中继段","稳定光源",2.59,117]
["TXL2-127","安装防雷设施-敷设排流线(单条)","km",{"v":2.2,"d":"2.20"},8.25,"TXL5-027","丘陵、水田地区气流法敷设光缆-144芯以下","千米条","汽车式起重机 (5t)",0.3,516,"TXL6-064","40千米以上光缆中继段测试-408芯以下","中继段","偏振模色散测试仪",2.59,455]
["TXL2-128","安装防雷设施-敷设排流线(双条)","km",{"v":4,"d":"4.00"},{"v":15,"d":"15.00"},"TXL5-027","丘陵、水田地区气流法敷设光缆-144芯以下","千米条","载重汽车 (5t)",0.3,372,"TXL6-064","40千米以上光缆中继段测试-408芯以下","中继段","光功率计",2.59,116]
["TXL2-129","安装防雷设施-安装消弧线","处",{"v":3,"d":"3.00"},{"v":17,"d":"17.00"},"TXL5-027","丘陵、水田地区气流法敷设光缆-144芯以下","千米条","气流敷设设备(敷设光缆)",0.3,1007,"TXL6-065","40千米以上光缆中继段测试-432芯以下","中继段","光功率计",2.63,116]
["TXL2-130","安装防雷设施-安装避雷针","处",{"v":5,"d":"5.00"},{"v":10,"d":"10.00"},"TXL5-028","丘陵、水田地区气流法敷设光缆-288芯以下","千米条","汽车式起重机 (5t)",0.33,516,"TXL6-065","40千米以上光缆中继段测试-432芯以下","中继段","光时域反射仪",2.63,153]
["TXL2-131","敷设光缆船机具安装-拖轮布放法","处",{"v":42,"d":"42.00"},{"v":30,"d":"30.00"},"TXL5-028","丘陵、水田地区气流法敷设光缆-288芯以下","千米条","气流敷设设备(敷设光缆)",0.33,1007,"TXL6-065","40千米以上光缆中继段测试-432芯以下","中继段","偏振模色散测试仪",2.63,455]
["TXL2-132","敷设光缆船机具安装-抛锚布放法","处",{"v":30,"d":"30.00"},{"v":15,"d":"15.00"},"TXL5-028","丘陵、水田地区气流法敷设光缆-288芯以下","千米条","载重汽车 (5t)",0.33,372,"TXL6-065","40千米以上光缆中继段测试-432芯以下","中继段","稳定光源",2.63,117]
["TXL2-133","敷设光缆船机具安装-人工布放法","处",{"v":10,"d":"10.00"},{"v":4,"d":"4.00"},"TXL5-029","丘陵、水田地区气流法敷设光缆-288芯以上","千米条","气流敷设设备(敷设光缆)",0.37,1007,"TXL6-066","40千米以上光缆中继段测试-456芯以下","中继段","偏振模色散测试仪",2.66,455]
["TXL2-134","敷设光缆船机具安装-水泵冲槽法","处",{"v":10,"d":"10.00"},{"v":4,"d":"4.00"},"TXL5-029","丘陵、水田地区气流法敷设光缆-288芯以上","千米条","载重汽车 (5t)",0.37,372,"TXL6-066","40千米以上光缆中继段测试-456芯以下","中继段","稳定光源",2.66,117]
["TXL2-135","敷设光缆船机具安装-挖冲机敷设法","处",{"v":75,"d":"75.00"},{"v":35,"d":"35.00"},"TXL5-029","丘陵、水田地区气流法敷设光缆-288芯以上","千米条","汽车式起重机 (5t)",0.37,516,"TXL6-066","40千米以上光缆中继段测试-456芯以下","中继段","光时域反射仪",2.66,153]
["TXL2-136","水泵冲槽","百米/处",{"v":113,"d":"113.00"},{"v":13,"d":"13.00"},"TXL5-030","山区气流法敷设光缆-36芯以下","千米条","载重汽车 (5t)",0.28,372,"TXL6-066","40千米以上光缆中继段测试-456芯以下","中继段","光功率计",2.66,116]
["TXL2-137","人工截流挖沟-水面宽10m以内","处",23.74,52.83,"TXL5-030","山区气流法敷设光缆-36芯以下","千米条","气流敷设设备(敷设光缆)",0.28,1007,"TXL6-067","40千米以上光缆中继段测试-480芯以下","中继段","偏振模色散测试仪",2.74,455]
["TXL2-138","人工截流挖沟-水面每增加10m","十米",{"v":20,"d":"20.00"},{"v":25,"d":"25.00"},"TXL5-030","山区气流法敷设光缆-36芯以下","千米条","汽车式起重机 (5t)",0.28,516,"TXL6-067","40千米以上光缆中继段测试-480芯以下","中继段","光功率计",2.74,116]
["TXL2-139","拖轮布放水底光缆-96芯以下","百米条",5.54,7.29,"TXL5-031","山区气流法敷设光缆-72芯以下","千米条","汽车式起重机 (5t)",0.32,516,"TXL6-067","40千米以上光缆中继段测试-480芯以下","中继段","稳定光源",2.74,117]
["TXL2-140","拖轮布放水底光缆-288芯以下","百米条",5.91,7.78,"TXL5-031","山区气流法敷设光缆-72芯以下","千米条","载重汽车 (5t)",0.32,372,"TXL6-067","40千米以上光缆中继段测试-480芯以下","中继段","光时域反射仪",2.74,153]
["TXL2-141","抛锚布放水底光缆-96芯以下","百米条",9.91,13.08,"TXL5-031","山区气流法敷设光缆-72芯以下","千米条","气流敷设设备(敷设光缆)",0.32,1007,"TXL6-068","40千米以上光缆中继段测试-504芯以下","中继段","稳定光源",2.78,117]
["TXL2-142","抛锚布放水底光缆-288芯以下","百米条",10.28,13.57,"TXL5-032","山区气流法敷设光缆-144芯以下","千米条","载重汽车 (5t)",0.36,372,"TXL6-068","40千米以上光缆中继段测试-504芯以下","中继段","光功率计",2.78,116]
["TXL2-143","人工布放水底光缆-96芯以下","百米条",11.24,18.97,"TXL5-032","山区气流法敷设光缆-144芯以下","千米条","气流敷设设备(敷设光缆)",0.36,1007,"TXL6-068","40千米以上光缆中继段测试-504芯以下","中继段","偏振模色散测试仪",2.78,455]
["TXL2-144","人工布放水底光缆-288芯以下","百米条",11.56,19.51,"TXL5-032","山区气流法敷设光缆-144芯以下","千米条","汽车式起重机 (5t)",0.36,516,"TXL6-068","40千米以上光缆中继段测试-504芯以下","中继段","光时域反射仪",2.78,153]
["TXL2-145","挖冲机敷设96芯以下水底光缆-平河水-普通土","百米条",6.16,8.27,"TXL5-033","山区气流法敷设光缆-288芯以下","千米条","载重汽车 (5t)",0.41,372,"TXL6-069","40千米以上光缆中继段测试-528芯以下","中继段","偏振模色散测试仪",2.81,455]
["TXL2-146","挖冲机敷设96芯以下水底光缆-平河水-硬土","百米条",6.16,8.27,"TXL5-033","山区气流法敷设光缆-288芯以下","千米条","气流敷设设备(敷设光缆)",0.41,1007,"TXL6-069","40千米以上光缆中继段测试-528芯以下","中继段","光时域反射仪",2.81,153]
["TXL2-147","挖冲机敷设96芯以下水底光缆-潮河水-普通土","百米条",6.16,8.27,"TXL5-033","山区气流法敷设光缆-288芯以下","千米条","汽车式起重机 (5t)",0.41,516,"TXL6-069","40千米以上光缆中继段测试-528芯以下","中继段","光功率计",2.81,116]
["TXL2-148","挖冲机敷设96芯以下水底光缆-潮河水-硬土","百米条",6.16,8.27,"TXL5-034","山区气流法敷设光缆-288芯以上","千米条","气流敷设设备(敷设光缆)",0.45,1007,"TXL6-069","40千米以上光缆中继段测试-528芯以下","中继段","稳定光源",2.81,117]
["TXL2-149","挖冲机敷设96芯以上水底光缆-平河水-普通土","百米条",6.53,8.76,"TXL5-034","山区气流法敷设光缆-288芯以上","千米条","载重汽车 (5t)",0.45,372,"TXL6-070","40千米以上光缆中继段测试-576芯以下","中继段","偏振模色散测试仪",2.84,455]
["TXL2-150","挖冲机敷设96芯以上水底光缆-平河水-硬土","百米条",6.53,8.76,"TXL5-034","山区气流法敷设光缆-288芯以上","千米条","汽车式起重机 (5t)",0.45,516,"TXL6-070","40千米以上光缆中继段测试-576芯以下","中继段","光时域反射仪",2.84,153]
["TXL2-151","挖冲机敷设96芯以上水底光缆-潮河水-普通土","百米条",6.53,8.76,"TXL5-035","微管（集束管）贯通","孔千米","气流敷设设备(敷设微管微缆)",0.06,814,"TXL6-070","40千米以上光缆中继段测试-576芯以下","中继段","光功率计",2.84,116]
["TXL2-152","挖冲机敷设96芯以上水底光缆-潮河水-硬土","百米条",6.53,8.76,"TXL5-037","城区气流法敷设微型光缆-配盘长2km以下","千米条","气流敷设设备(敷设微管微缆)",0.38,814,"TXL6-070","40千米以上光缆中继段测试-576芯以下","中继段","稳定光源",2.84,117]
["TXL2-153","海缆装船-自航船","千米条",{"v":22,"d":"22.00"},{"v":0,"d":"0.00"},"TXL5-038","城区气流法敷设微型光缆-配盘长2km以上","千米条","气流敷设设备(敷设微管微缆)",0.46,814,"TXL6-071","40千米以上光缆中继段测试-576芯以上","中继段","偏振模色散测试仪",2.88,455]
["TXL2-154","海缆装船-驳船","千米条",{"v":22,"d":"22.00"},{"v":0,"d":"0.00"},"TXL5-039","非城区气流法敷设微型光缆-配盘长2km以下","千米条","气流敷设设备(敷设微管微缆)",0.25,814,"TXL6-071","40千米以上光缆中继段测试-576芯以上","中继段","光功率计",2.88,116]
["TXL2-155","航行-自航船","百千米",{"v":32.5,"d":"32.50"},{"v":0,"d":"0.00"},"TXL5-040","非城区气流法敷设微型光缆-配盘长2km以上","千米条","气流敷设设备(敷设微管微缆)",0.3,814,"TXL6-071","40千米以上光缆中继段测试-576芯以上","中继段","光时域反射仪",2.88,153]
["TXL2-156","航行-驳船","百千米",{"v":32.5,"d":"32.50"},{"v":0,"d":"0.00"},"TXL5-049","敷设钢管-φ25以内","百米","交流弧焊机 (21kVA)",0.3,120,"TXL6-071","40千米以上光缆中继段测试-576芯以上","中继段","稳定光源",2.88,117]
["TXL2-157","海中敷设海缆-自航船","千米条",23.63,{"v":0,"d":"0.00"},"TXL5-050","敷设钢管-φ50以内","百米","交流弧焊机 (21kVA)",0.5,120,"TXL6-072","40千米以下光缆中继段测试-12芯以下","中继段","光功率计",0.3,116]
["TXL2-158","海中敷设海缆-驳船","千米条",11.81,{"v":0,"d":"0.00"},"TXL6-005","光缆成端接头-束状","芯","光纤熔接机",0.03,144,"TXL6-072","40千米以下光缆中继段测试-12芯以下","中继段","光时域反射仪",0.3,153]
["TXL2-159","海中埋设海缆-自航船-埋深3m以上","千米条",79.89,{"v":0,"d":"0.00"},"TXL6-006","光缆成端接头-带状","芯","带状光纤熔接机",0.01,209,"TXL6-072","40千米以下光缆中继段测试-12芯以下","中继段","偏振模色散测试仪",0.3,455]
["TXL2-160","海中埋设海缆-自航船-埋深3m以下","千米条",26.63,{"v":0,"d":"0.00"},"TXL6-007","光缆接续-4芯以下","头","光纤熔接机",0.15,144,"TXL6-072","40千米以下光缆中继段测试-12芯以下","中继段","稳定光源",0.3,117]
["TXL2-161","海中埋设海缆-驳船-埋深3m以上","千米条",35.42,{"v":0,"d":"0.00"},"TXL6-007","光缆接续-4芯以下","头","汽油发电机 (10kW)",0.08,202,"TXL6-073A","40千米以下光缆中继段测试-24芯以下","中继段","偏振模色散测试仪",0.42,455]
["TXL2-162","海中埋设海缆-驳船-埋深3m以下","千米条",17.71,{"v":0,"d":"0.00"},"TXL6-008","光缆接续-12芯以下","头","汽油发电机 (10kW)",0.1,202,"TXL6-073B","40千米以下光缆中继段测试-24芯以下","中继段","稳定光源",0.42,117]
["TXL2-163","海底光缆接续-自航船","头",{"v":40,"d":"40.00"},{"v":20,"d":"20.00"},"TXL6-008","光缆接续-12芯以下","头","光纤熔接机",0.2,144,"TXL6-073C","40千米以下光缆中继段测试-24芯以下","中继段","光时域反射仪",0.42,153]
["TXL2-164","海底光缆接续-驳船","头",{"v":40,"d":"40.00"},{"v":20,"d":"20.00"},"TXL6-009","光缆接续-24芯以下","头","汽油发电机 (10kW)",0.15,202,"TXL6-073","40千米以下光缆中继段测试-24芯以下","中继段","光功率计",0.42,116]
["TXL2-165","辅助船法敷设登陆海缆-自航船","端",{"v":10,"d":"10.00"},{"v":150,"d":"150.00"},"TXL6-009","光缆接续-24芯以下","头","光纤熔接机",0.3,144,"TXL6-074","40千米以下光缆中继段测试-36芯以下","中继段","偏振模色散测试仪",0.57,455]
["TXL2-166","辅助船法敷设登陆海缆-驳船","端",{"v":10,"d":"10.00"},{"v":150,"d":"150.00"},"TXL6-010","光缆接续-36芯以下","头","光纤熔接机",0.45,144,"TXL6-074","40千米以下光缆中继段测试-36芯以下","中继段","光时域反射仪",0.57,153]
["TXL2-167","浮球法敷设登陆海缆-自航船","端",{"v":30,"d":"30.00"},{"v":150,"d":"150.00"},"TXL6-010","光缆接续-36芯以下","头","汽油发电机 (10kW)",0.25,202,"TXL6-074","40千米以下光缆中继段测试-36芯以下","中继段","光功率计",0.57,116]
["TXL2-168","浮球法敷设登陆海缆-驳船","端",{"v":30,"d":"30.00"},{"v":150,"d":"150.00"},"TXL6-011","光缆接续-48芯以下","头","汽油发电机 (10kW)",0.3,202,"TXL6-074","40千米以下光缆中继段测试-36芯以下","中继段","稳定光源",0.57,117]
["TXL2-169","海底光缆冲埋-水深20m以下","百米条",{"v":10,"d":"10.00"},{"v":0,"d":"0.00"},"TXL6-011","光缆接续-48芯以下","头","光纤熔接机",0.55,144,"TXL6-075","40千米以下光缆中继段测试-48芯以下","中继段","偏振模色散测试仪",0.72,455]
["TXL2-170","海底光缆冲埋-水深20~30m","百米条",{"v":15,"d":"15.00"},{"v":0,"d":"0.00"},"TXL6-012","光缆接续-60芯以下","头","汽油发电机 (10kW)",0.35,202,"TXL6-075","40千米以下光缆中继段测试-48芯以下","中继段","光功率计",0.72,116]
["TXL2-171","水下机器人(ROV)后冲埋海底光缆-自航船","百米条",0.08,{"v":0,"d":"0.00"},"TXL6-012","光缆接续-60芯以下","头","光纤熔接机",0.7,144,"TXL6-075","40千米以下光缆中继段测试-48芯以下","中继段","稳定光源",0.72,117]
["TXL2-172","水下机器人(ROV)后冲埋海底光缆-驳船","百米条",0.08,{"v":0,"d":"0.00"},"TXL6-013","光缆接续-72芯以下","头","汽油发电机 (10kW)",0.4,202,"TXL6-075","40千米以下光缆中继段测试-48芯以下","中继段","光时域反射仪",0.72,153]
["TXL2-173","水下安装关节套管","m",{"v":0.5,"d":"0.50"},{"v":0.5,"d":"0.50"},"TXL6-013","光缆接续-72芯以下","头","光纤熔接机",0.8,144,"TXL6-076","40千米以下光缆中继段测试-60芯以下","中继段","稳定光源",0.84,117]
["TXL2-174","安装海缆铠装固定装置","条",{"v":3,"d":"3.00"},{"v":10,"d":"10.00"},"TXL6-014","光缆接续-84芯以下","头","汽油发电机 (10kW)",0.45,202,"TXL6-076","40千米以下光缆中继段测试-60芯以下","中继段","偏振模色散测试仪",0.84,455]
["TXL2-175","铺水泥沙浆袋","m",{"v":0.1,"d":"0.10"},{"v":0.2,"d":"0.20"},"TXL6-014","光缆接续-84芯以下","头","光纤熔接机",0.95,144,"TXL6-076","40千米以下光缆中继段测试-60芯以下","中继段","光功率计",0.84,116]
["TXL2-176","安装关节型套管","m",{"v":0.1,"d":"0.10"},{"v":0.1,"d":"0.10"},"TXL6-015","光缆接续-96芯以下","头","光纤熔接机",1.1,144,"TXL6-076","40千米以下光缆中继段测试-60芯以下","中继段","光时域反射仪",0.84,153]
["TXL2-177","安装水线地锚","个",{"v":5,"d":"5.00"},{"v":2,"d":"2.00"},"TXL6-015","光缆接续-96芯以下","头","汽油发电机 (10kW)",0.5,202,"TXL6-077","40千米以下光缆中继段测试-72芯以下","中继段","偏振模色散测试仪",0.96,455]
["TXL2-178","安装水下永久标桩","个",{"v":2,"d":"2.00"},{"v":2,"d":"2.00"},"TXL6-016","光缆接续-108芯以下","头","汽油发电机 (10kW)",0.6,202,"TXL6-077","40千米以下光缆中继段测试-72芯以下","中继段","光功率计",0.96,116]
["TXL2-179","安装霓虹灯标志牌","块",{"v":15,"d":"15.00"},{"v":18,"d":"18.00"},"TXL6-016","光缆接续-108芯以下","头","光纤熔接机",1.2,144,"TXL6-077","40千米以下光缆中继段测试-72芯以下","中继段","光时域反射仪",0.96,153]
["TXL2-180","安装水线光缆标志牌-8m单杆边长1.2m(无信号灯)-木质","块",{"v":6,"d":"6.00"},{"v":6,"d":"6.00"},"TXL6-017","光缆接续-132芯以下","头","汽油发电机 (10kW)",0.65,202,"TXL6-077","40千米以下光缆中继段测试-72芯以下","中继段","稳定光源",0.96,117]
["TXL2-181","安装水线光缆标志牌-8m单杆边长1.2m(无信号灯)-铁质","块",{"v":6,"d":"6.00"},{"v":6,"d":"6.00"},"TXL6-017","光缆接续-132芯以下","头","光纤熔接机",1.3,144,"TXL6-078","40千米以下光缆中继段测试-84芯以下","中继段","偏振模色散测试仪",1.04,455]
["TXL2-182","安装水线光缆标志牌-10m以下双杆边长2m(无信号灯)-木质","块",{"v":10,"d":"10.00"},{"v":10,"d":"10.00"},"TXL6-018","光缆接续-144芯以下","头","汽油发电机 (10kW)",0.7,202,"TXL6-078","40千米以下光缆中继段测试-84芯以下","中继段","稳定光源",1.04,117]
["TXL2-183","安装水线光缆标志牌-10m以下双杆边长2m(无信号灯)-铁质","块",{"v":10,"d":"10.00"},{"v":10,"d":"10.00"},"TXL6-018","光缆接续-144芯以下","头","光纤熔接机",1.4,144,"TXL6-078","40千米以下光缆中继段测试-84芯以下","中继段","光功率计",1.04,116]
["TXL2-184","安装水线光缆标志牌-10m以下双杆边长3m(无信号灯)-木质","块",{"v":10,"d":"10.00"},{"v":10,"d":"10.00"},"TXL6-019","光缆接续-192芯以下","头","光纤熔接机",2.05,144,"TXL6-078","40千米以下光缆中继段测试-84芯以下","中继段","光时域反射仪",1.04,153]
["TXL2-185","安装水线光缆标志牌-10m以下双杆边长3m(无信号灯)-铁质","块",{"v":10,"d":"10.00"},{"v":10,"d":"10.00"},"TXL6-019","光缆接续-192芯以下","头","汽油发电机 (10kW)",1.05,202,"TXL6-079","40千米以下光缆中继段测试-96芯以下","中继段","偏振模色散测试仪",1.14,455]
["TXL2-186","安装水线光缆标志牌-12m以下双杆边长3m(无信号灯)-木质","块",{"v":12,"d":"12.00"},{"v":14,"d":"14.00"},"TXL6-020","光缆接续-288芯以下","头","光纤熔接机",3.05,144,"TXL6-079","40千米以下光缆中继段测试-96芯以下","中继段","光时域反射仪",1.14,153]
["TXL2-187","安装水线光缆标志牌-12m以下双杆边长3m(无信号灯)-铁质","块",{"v":12,"d":"12.00"},{"v":14,"d":"14.00"},"TXL6-020","光缆接续-288芯以下","头","汽油发电机 (10kW)",1.55,202,"TXL6-079","40千米以下光缆中继段测试-96芯以下","中继段","光功率计",1.14,116]
["TXL2-188","安装水线光缆标志牌-安装标志牌信号灯","块",{"v":1,"d":"1.00"},{"v":0,"d":"0.00"},"TXL6-021","光缆接续-288芯以上","头","汽油发电机 (10kW)",1.6,202,"TXL6-079","40千米以下光缆中继段测试-96芯以下","中继段","稳定光源",1.14,117]
["TXL3-001","立9m以下水泥杆-综合土","根",0.52,0.56,"TXL6-021","光缆接续-288芯以上","头","光纤熔接机",3.2,144,"TXL6-080","40千米以下光缆中继段测试-108芯以下","中继段","光时域反射仪",1.2,153]
["TXL3-001E","立9m以下水泥杆-综合土(工日*0.3)","根",{"$f":"0.52*0.3","v":{"v":0.156,"d":"0.16"}},{"$f":"0.56*0.3","v":{"v":0.168,"d":"0.17"}},"TXL6-022","8芯带以下带状光缆接续-48芯以下","头","汽油发电机 (10kW)",0.25,202,"TXL6-080","40千米以下光缆中继段测试-108芯以下","中继段","光功率计",1.2,116]
["TXL3-001A","立9m以下水泥杆-综合土-用于丘陵、水田、城区","根",0.68,0.73,"TXL6-022","8芯带以下带状光缆接续-48芯以下","头","带状光纤熔接机",0.5,209,"TXL6-080","40千米以下光缆中继段测试-108芯以下","中继段","偏振模色散测试仪",1.2,455]
["TXL3-001D","拆9m以下水泥杆-综合土-用于丘陵、水田、城区(工日*0.3)","根",{"$f":"0.68*0.3","v":{"v":0.204,"d":"0.20"}},{"$f":"0.73*0.3","v":{"v":0.219,"d":"0.22"}},"TXL6-023","8芯带以下带状光缆接续-72芯以下","头","汽油发电机 (10kW)",0.35,202,"TXL6-080","40千米以下光缆中继段测试-108芯以下","中继段","稳定光源",1.2,117]
["TXL3-001B","立9m以下水泥杆-综合土-用于山区","根",0.83,{"v":0.9,"d":"0.90"},"TXL6-023","8芯带以下带状光缆接续-72芯以下","头","带状光纤熔接机",0.75,209,"TXL6-081","40千米以下光缆中继段测试-132芯以下","中继段","光功率计",1.26,116]
["TXL3-001C","立9m以下水泥杆-综合土-更换电杆","根",1.04,1.12,"TXL6-024","8芯带以下带状光缆接续-96芯以下","头","汽油发电机 (10kW)",0.5,202,"TXL6-081","40千米以下光缆中继段测试-132芯以下","中继段","光时域反射仪",1.26,153]
["TXL3-002","立9m以下水泥杆-软石","根",{"v":0.6,"d":"0.60"},0.65,"TXL6-024","8芯带以下带状光缆接续-96芯以下","头","带状光纤熔接机",1,209,"TXL6-081","40千米以下光缆中继段测试-132芯以下","中继段","稳定光源",1.26,117]
["TXL3-002","拆除9m以下水泥杆-软石(工日*0.3)","根",{"$f":"0.6*0.3","v":0.18},{"$f":"0.65*0.3","v":{"v":0.195,"d":"0.20"}},"TXL6-025","8芯带以下带状光缆接续-108芯以下","头","汽油发电机 (10kW)",0.6,202,"TXL6-081","40千米以下光缆中继段测试-132芯以下","中继段","偏振模色散测试仪",1.26,455]
["TXL3-002A","立9m以下水泥杆-软石-用于丘陵、水田、城区","根",0.78,0.85,"TXL6-025","8芯带以下带状光缆接续-108芯以下","头","带状光纤熔接机",1.15,209,"TXL6-082","40千米以下光缆中继段测试-144芯以下","中继段","光时域反射仪",1.32,153]
["TXL3-002A","拆除9m以下水泥杆-软石-用于丘陵、水田、城区(工日*0.3)","根",{"$f":"0.78*0.3","v":{"v":0.234,"d":"0.23"}},{"$f":"0.85*0.3","v":{"v":0.255,"d":"0.26"}},"TXL6-026","8芯带以下带状光缆接续-120芯以下","头","带状光纤熔接机",1.3,209,"TXL6-082","40千米以下光缆中继段测试-144芯以下","中继段","偏振模色散测试仪",1.32,455]
["TXL3-002B","立9m以下水泥杆-软石-用于山区","根",0.96,1.04,"TXL6-026","8芯带以下带状光缆接续-120芯以下","头","汽油发电机 (10kW)",0.65,202,"TXL6-082","40千米以下光缆中继段测试-144芯以下","中继段","稳定光源",1.32,117]
["TXL3-002C","立9m以下水泥杆-软石-更换电杆","根",{"v":1.2,"d":"1.20"},{"v":1.3,"d":"1.30"},"TXL6-027","8芯带以下带状光缆接续-144芯以下","头","带状光纤熔接机",1.4,209,"TXL6-082","40千米以下光缆中继段测试-144芯以下","中继段","光功率计",1.32,116]
["TXL3-003","立9m以下水泥杆-坚石","根",0.69,0.81,"TXL6-027","8芯带以下带状光缆接续-144芯以下","头","汽油发电机 (10kW)",0.7,202,"TXL6-083","40千米以下光缆中继段测试-168芯以下","中继段","光功率计",1.38,116]
["TXL3-003A","立9m以下水泥杆-坚石-用于丘陵、水田、城区","根",{"v":0.9,"d":"0.90"},1.05,"TXL6-028","8芯带以下带状光缆接续-192芯以下","头","汽油发电机 (10kW)",0.8,202,"TXL6-083","40千米以下光缆中继段测试-168芯以下","中继段","稳定光源",1.38,117]
["TXL3-003B","立9m以下水泥杆-坚石-用于山区","根",{"v":1.1,"d":"1.10"},{"v":1.3,"d":"1.30"},"TXL6-028","8芯带以下带状光缆接续-192芯以下","头","带状光纤熔接机",1.55,209,"TXL6-083","40千米以下光缆中继段测试-168芯以下","中继段","偏振模色散测试仪",1.38,455]
["TXL3-003C","立9m以下水泥杆-坚石-更换电杆","根",1.38,1.62,"TXL6-029","8芯带以下带状光缆接续-288芯以下","头","带状光纤熔接机",1.75,209,"TXL6-083","40千米以下光缆中继段测试-168芯以下","中继段","光时域反射仪",1.38,153]
["TXL3-004","立11m以下水泥杆-综合土","根",0.77,0.85,"TXL6-029","8芯带以下带状光缆接续-288芯以下","头","汽油发电机 (10kW)",0.85,202,"TXL6-084","40千米以下光缆中继段测试-192芯以下","中继段","稳定光源",1.44,117]
["TXL3-004A","立11m以下水泥杆-综合土-用于丘陵、水田、城区","根",{"v":1,"d":"1.00"},1.11,"TXL6-030","8芯带以下带状光缆接续-289芯以上","头","带状光纤熔接机",1.85,209,"TXL6-084","40千米以下光缆中继段测试-192芯以下","中继段","偏振模色散测试仪",1.44,455]
["TXL3-004B","立11m以下水泥杆-综合土-用于山区","根",1.23,1.36,"TXL6-030","8芯带以下带状光缆接续-289芯以上","头","汽油发电机 (10kW)",0.95,202,"TXL6-084","40千米以下光缆中继段测试-192芯以下","中继段","光时域反射仪",1.44,153]
["TXL3-004C","立11m以下水泥杆-综合土-更换电杆","根",1.54,{"v":1.7,"d":"1.70"},"TXL6-031","8芯带以上带状光缆接续-48芯以下","头","汽油发电机 (10kW)",0.2,202,"TXL6-084","40千米以下光缆中继段测试-192芯以下","中继段","光功率计",1.44,116]
["TXL3-005","立11m以下水泥杆-软石","根",0.85,0.98,"TXL6-031","8芯带以上带状光缆接续-48芯以下","头","带状光纤熔接机",0.45,209,"TXL6-085","40千米以下光缆中继段测试-216芯以下","中继段","光时域反射仪",1.5,153]
["TXL3-005A","立11m以下水泥杆-软石-用于丘陵、水田、城区","根",1.11,1.27,"TXL6-032","8芯带以上带状光缆接续-72芯以下","头","带状光纤熔接机",0.7,209,"TXL6-085","40千米以下光缆中继段测试-216芯以下","中继段","偏振模色散测试仪",1.5,455]
["TXL3-005B","立11m以下水泥杆-软石-用于山区","根",1.36,1.57,"TXL6-032","8芯带以上带状光缆接续-72芯以下","头","汽油发电机 (10kW)",0.35,202,"TXL6-085","40千米以下光缆中继段测试-216芯以下","中继段","光功率计",1.5,116]
["TXL3-005C","立11m以下水泥杆-软石-更换电杆","根",{"v":1.7,"d":"1.70"},1.96,"TXL6-033","8芯带以上带状光缆接续-96芯以下","头","汽油发电机 (10kW)",0.45,202,"TXL6-085","40千米以下光缆中继段测试-216芯以下","中继段","稳定光源",1.5,117]
["TXL3-006","立11m以下水泥杆-坚石","根",0.94,1.27,"TXL6-033","8芯带以上带状光缆接续-96芯以下","头","带状光纤熔接机",0.9,209,"TXL6-086","40千米以下光缆中继段测试-240芯以下","中继段","偏振模色散测试仪",1.59,455]
["TXL3-006A","立11m以下水泥杆-坚石-用于丘陵、水田、城区","根",1.22,1.65,"TXL6-034","8芯带以上带状光缆接续-108芯以下","头","带状光纤熔接机",1.05,209,"TXL6-086","40千米以下光缆中继段测试-240芯以下","中继段","光时域反射仪",1.59,153]
["TXL3-006B","立11m以下水泥杆-坚石-用于山区","根",{"v":1.5,"d":"1.50"},2.03,"TXL6-034","8芯带以上带状光缆接续-108芯以下","头","汽油发电机 (10kW)",0.55,202,"TXL6-086","40千米以下光缆中继段测试-240芯以下","中继段","稳定光源",1.59,117]
["TXL3-006C","立11m以下水泥杆-坚石-更换电杆","根",1.88,2.54,"TXL6-035","8芯带以上带状光缆接续-120芯以下","头","汽油发电机 (10kW)",0.6,202,"TXL6-086","40千米以下光缆中继段测试-240芯以下","中继段","光功率计",1.59,116]
["TXL3-007","立13m以下水泥杆-综合土","根",1.02,1.23,"TXL6-035","8芯带以上带状光缆接续-120芯以下","头","带状光纤熔接机",1.15,209,"TXL6-087","40千米以下光缆中继段测试-264芯以下","中继段","稳定光源",1.65,117]
["TXL3-007A","立13m以下水泥杆-综合土-用于丘陵、水田、城区","根",1.33,{"v":1.6,"d":"1.60"},"TXL6-036","8芯带以上带状光缆接续-144芯以下","头","汽油发电机 (10kW)",0.65,202,"TXL6-087","40千米以下光缆中继段测试-264芯以下","中继段","光功率计",1.65,116]
["TXL3-007B","立13m以下水泥杆-综合土-用于山区","根",1.63,1.97,"TXL6-036","8芯带以上带状光缆接续-144芯以下","头","带状光纤熔接机",1.25,209,"TXL6-087","40千米以下光缆中继段测试-264芯以下","中继段","偏振模色散测试仪",1.65,455]
["TXL3-007C","立13m以下水泥杆-综合土-更换电杆","根",2.04,2.46,"TXL6-037","8芯带以上带状光缆接续-192芯以下","头","汽油发电机 (10kW)",0.7,202,"TXL6-087","40千米以下光缆中继段测试-264芯以下","中继段","光时域反射仪",1.65,153]
["TXL3-008","立13m以下水泥杆-软石","根",1.27,1.48,"TXL6-037","8芯带以上带状光缆接续-192芯以下","头","带状光纤熔接机",1.4,209,"TXL6-088","40千米以下光缆中继段测试-288芯以下","中继段","偏振模色散测试仪",1.74,455]
["TXL3-008A","立13m以下水泥杆-软石-用于丘陵、水田、城区","根",1.65,1.92,"TXL6-038","8芯带以上带状光缆接续-288芯以下","头","带状光纤熔接机",1.6,209,"TXL6-088","40千米以下光缆中继段测试-288芯以下","中继段","光功率计",1.74,116]
["TXL3-008B","立13m以下水泥杆-软石-用于山区","根",2.03,2.37,"TXL6-038","8芯带以上带状光缆接续-288芯以下","头","汽油发电机 (10kW)",0.8,202,"TXL6-088","40千米以下光缆中继段测试-288芯以下","中继段","稳定光源",1.74,117]
["TXL3-008C","立13m以下水泥杆-软石-更换电杆","根",2.54,2.96,"TXL6-039","8芯带以上带状光缆接续-384芯以下","头","带状光纤熔接机",1.85,209,"TXL6-088","40千米以下光缆中继段测试-288芯以下","中继段","光时域反射仪",1.74,153]
["TXL3-009","立13m以下水泥杆-坚石","根",1.52,2.06,"TXL6-039","8芯带以上带状光缆接续-384芯以下","头","汽油发电机 (10kW)",0.9,202,"TXL6-089","40千米以下光缆中继段测试-312芯以下","中继段","光时域反射仪",1.86,153]
["TXL3-009A","立13m以下水泥杆-坚石-用于丘陵、水田、城区","根",1.98,2.68,"TXL6-040","8芯带以上带状光缆接续-480芯以下","头","汽油发电机 (10kW)",1.05,202,"TXL6-089","40千米以下光缆中继段测试-312芯以下","中继段","稳定光源",1.86,117]
["TXL3-009B","立13m以下水泥杆-坚石-用于山区","根",2.43,{"v":3.3,"d":"3.30"},"TXL6-040","8芯带以上带状光缆接续-480芯以下","头","带状光纤熔接机",2.05,209,"TXL6-089","40千米以下光缆中继段测试-312芯以下","中继段","光功率计",1.86,116]
["TXL3-009C","立13m以下水泥杆-坚石-更换电杆","根",3.04,4.12,"TXL6-041","8芯带以上带状光缆接续-576芯以下","头","带状光纤熔接机",2.2,209,"TXL6-089","40千米以下光缆中继段测试-312芯以下","中继段","偏振模色散测试仪",1.86,455]
["TXL3-010","立13m以下水泥H杆-综合土","座",1.92,3.38,"TXL6-041","8芯带以上带状光缆接续-576芯以下","头","汽油发电机 (10kW)",1.1,202,"TXL6-090","40千米以下光缆中继段测试-336芯以下","中继段","偏振模色散测试仪",1.95,455]
["TXL3-010A","立13m以下水泥H杆-综合土-用于丘陵、水田、城区","座",{"v":2.5,"d":"2.50"},4.39,"TXL6-042","8芯带以上带状光缆接续-577芯以上","头","带状光纤熔接机",2.35,209,"TXL6-090","40千米以下光缆中继段测试-336芯以下","中继段","稳定光源",1.95,117]
["TXL3-010B","立13m以下水泥H杆-综合土-用于山区","座",3.07,5.41,"TXL6-042","8芯带以上带状光缆接续-577芯以上","头","汽油发电机 (10kW)",1.15,202,"TXL6-090","40千米以下光缆中继段测试-336芯以下","中继段","光时域反射仪",1.95,153]
["TXL3-010C","立13m以下水泥H杆-综合土-更换电杆","座",3.84,6.76,"TXL7-020","安装落地式室外综合机柜-宽800以下","套","汽车式起重机 (5t)",0.2,516,"TXL6-090","40千米以下光缆中继段测试-336芯以下","中继段","光功率计",1.95,116]
["TXL3-010D","立13m以下水泥L杆-综合土","座",2.88,5.07,"TXL7-021","安装落地式室外综合机柜-宽800以上","套","汽车式起重机 (5t)",0.2,516,"TXL6-091","40千米以下光缆中继段测试-360芯以下","中继段","光时域反射仪",2.04,153]
["TXL3-010E","立13m以下水泥L杆-综合土-用于丘陵、水田、城区","座",3.74,6.59,"TXL7-022","安装架空式室外综合机柜","套","汽车式起重机 (5t)",0.35,516,"TXL6-091","40千米以下光缆中继段测试-360芯以下","中继段","光功率计",2.04,116]
["TXL3-010F","立13m以下水泥L杆-综合土-用于山区","座",4.61,8.11,"TXL7-049","安装架空式交接箱-600对以下","个","汽车式起重机 (5t)",0.25,516,"TXL6-091","40千米以下光缆中继段测试-360芯以下","中继段","稳定光源",2.04,117]
["TXL3-010G","立13m以下水泥L杆-综合土-更换电杆","座",5.76,10.14,"TXL7-050","安装架空式交接箱-1200对以下","个","汽车式起重机 (5t)",0.25,516,"TXL6-091","40千米以下光缆中继段测试-360芯以下","中继段","偏振模色散测试仪",2.04,455]
["TXL3-010H","立13m以下水泥井字杆-综合土","座",3.84,6.76,"TXL7-051","安装架空式交接箱-2400对以下","个","汽车式起重机 (5t)",0.25,516,"TXL6-092","40千米以下光缆中继段测试-384芯以下","中继段","稳定光源",2.1,117]
["TXL3-010I","立13m以下水泥井字杆-综合土-用于丘陵、水田、城区","座",4.99,8.79,"TXL7-052","安装架空式交接箱-2400对以上","个","汽车式起重机 (5t)",0.25,516,"TXL6-092","40千米以下光缆中继段测试-384芯以下","中继段","光功率计",2.1,116]
["TXL3-010J","立13m以下水泥井字杆-综合土-用于山区","座",6.14,10.82,"TXL7-053","安装落地式交接箱-1200对以下","个","汽车式起重机 (5t)",0.25,516,"TXL6-092","40千米以下光缆中继段测试-384芯以下","中继段","偏振模色散测试仪",2.1,455]
["TXL3-010K","立13m以下水泥井字杆-综合土-更换电杆","座",7.68,13.52,"TXL7-054","安装落地式交接箱-2400对以下","个","汽车式起重机 (5t)",0.25,516,"TXL6-092","40千米以下光缆中继段测试-384芯以下","中继段","光时域反射仪",2.1,153]
["TXL3-011","立13m以下水泥H杆-软石","座",2.02,3.92,"TXL7-055","安装落地式交接箱-3600对以下","个","汽车式起重机 (5t)",0.25,516,"TXL6-093","40千米以下光缆中继段测试-408芯以下","中继段","光功率计",2.16,116]
["TXL3-011A","立13m以下水泥H杆-软石-用于丘陵、水田、城区","座",2.63,{"v":5.1,"d":"5.10"},"TXL7-056","安装墙挂式交接箱-600对以下","个","汽车式起重机 (5t)",0.25,516,"TXL6-093","40千米以下光缆中继段测试-408芯以下","中继段","稳定光源",2.16,117]
["TXL3-011B","立13m以下水泥H杆-软石-用于山区","座",3.23,6.27,"TXL7-057","安装墙挂式交接箱-1200对以下","个","汽车式起重机 (5t)",0.25,516,"TXL6-093","40千米以下光缆中继段测试-408芯以下","中继段","光时域反射仪",2.16,153]
["TXL3-011C","立13m以下水泥H杆-软石-更换电杆","座",4.04,7.84,"TXL7-058","安装墙挂式交接箱-2400对以下","个","汽车式起重机 (5t)",0.25,516,"TXL6-093","40千米以下光缆中继段测试-408芯以下","中继段","偏振模色散测试仪",2.16,455]
["TXL3-011D","立13m以下水泥L杆-软石","座",3.03,5.88,{"$nulls":6},"TXL6-094","40千米以下光缆中继段测试-432芯以下","中继段","稳定光源",2.19,117]
["TXL3-011E","立13m以下水泥L杆-软石-用于丘陵、水田、城区","座",3.94,7.64,{"$nulls":6},"TXL6-094","40千米以下光缆中继段测试-432芯以下","中继段","光功率计",2.19,116]
["TXL3-011F","立13m以下水泥L杆-软石-用于山区","座",4.85,9.41,{"$nulls":6},"TXL6-094","40千米以下光缆中继段测试-432芯以下","中继段","光时域反射仪",2.19,153]
["TXL3-011G","立13m以下水泥L杆-软石-更换电杆","座",6.06,11.76,{"$nulls":6},"TXL6-094","40千米以下光缆中继段测试-432芯以下","中继段","偏振模色散测试仪",2.19,455]
["TXL3-011H","立13m以下水泥井字杆-软石","座",4.04,7.84,{"$nulls":6},"TXL6-095","40千米以下光缆中继段测试-456芯以下","中继段","光功率计",2.22,116]
["TXL3-011I","立13m以下水泥井字杆-软石-用于丘陵、水田、城区","座",5.25,10.19,{"$nulls":6},"TXL6-095","40千米以下光缆中继段测试-456芯以下","中继段","稳定光源",2.22,117]
["TXL3-011J","立13m以下水泥井字杆-软石-用于山区","座",6.46,12.54,{"$nulls":6},"TXL6-095","40千米以下光缆中继段测试-456芯以下","中继段","偏振模色散测试仪",2.22,455]
["TXL3-011K","立13m以下水泥井字杆-软石-更换电杆","座",8.08,15.68,{"$nulls":6},"TXL6-095","40千米以下光缆中继段测试-456芯以下","中继段","光时域反射仪",2.22,153]
["TXL3-012","立13m以下水泥H杆-坚石","座",2.25,4.54,{"$nulls":6},"TXL6-096","40千米以下光缆中继段测试-480芯以下","中继段","光时域反射仪",2.28,153]
["TXL3-012A","立13m以下水泥H杆-坚石-用于丘陵、水田、城区","座",2.93,5.79,{"$nulls":6},"TXL6-096","40千米以下光缆中继段测试-480芯以下","中继段","偏振模色散测试仪",2.28,455]
["TXL3-012B","立13m以下水泥H杆-坚石-用于山区","座",{"v":3.6,"d":"3.60"},7.26,{"$nulls":6},"TXL6-096","40千米以下光缆中继段测试-480芯以下","中继段","光功率计",2.28,116]
["TXL3-012C","立13m以下水泥H杆-坚石-更换电杆","座",{"v":4.5,"d":"4.50"},9.08,{"$nulls":6},"TXL6-096","40千米以下光缆中继段测试-480芯以下","中继段","稳定光源",2.28,117]
["TXL3-012D","立13m以下水泥L杆-坚石","座",3.38,6.81,{"$nulls":6},"TXL6-097","40千米以下光缆中继段测试-504芯以下","中继段","光功率计",2.32,116]
["TXL3-012E","立13m以下水泥L杆-坚石-用于丘陵、水田、城区","座",4.39,8.85,{"$nulls":6},"TXL6-097","40千米以下光缆中继段测试-504芯以下","中继段","偏振模色散测试仪",2.32,455]
["TXL3-012F","立13m以下水泥L杆-坚石-用于山区","座",5.41,{"v":10.9,"d":"10.90"},{"$nulls":6},"TXL6-097","40千米以下光缆中继段测试-504芯以下","中继段","稳定光源",2.32,117]
["TXL3-012G","立13m以下水泥L杆-坚石-更换电杆","座",6.76,13.62,{"$nulls":6},"TXL6-097","40千米以下光缆中继段测试-504芯以下","中继段","光时域反射仪",2.32,153]
["TXL3-012H","立13m以下水泥井字杆-坚石","座",{"v":4.5,"d":"4.50"},9.08,{"$nulls":6},"TXL6-098","40千米以下光缆中继段测试-528芯以下","中继段","稳定光源",2.34,117]
["TXL3-012I","立13m以下水泥井字杆-坚石-用于丘陵、水田、城区","座",5.85,{"v":11.8,"d":"11.80"},{"$nulls":6},"TXL6-098","40千米以下光缆中继段测试-528芯以下","中继段","光时域反射仪",2.34,153]
["TXL3-012J","立13m以下水泥井字杆-坚石-用于山区","座",{"v":7.2,"d":"7.20"},14.53,{"$nulls":6},"TXL6-098","40千米以下光缆中继段测试-528芯以下","中继段","偏振模色散测试仪",2.34,455]
["TXL3-012K","立13m以下水泥井字杆-坚石-更换电杆","座",{"v":9,"d":"9.00"},18.16,{"$nulls":6},"TXL6-098","40千米以下光缆中继段测试-528芯以下","中继段","光功率计",2.34,116]
["TXL3-013","立8.5m以下木电杆-综合土","根",0.36,0.36,{"$nulls":6},"TXL6-099","40千米以下光缆中继段测试-552芯以下","中继段","光功率计",2.37,116]
["TXL3-013A","立8.5m以下木电杆-综合土-用于丘陵、水田、城区","根",0.47,0.47,{"$nulls":6},"TXL6-099","40千米以下光缆中继段测试-552芯以下","中继段","光时域反射仪",2.37,153]
["TXL3-013B","立8.5m以下木电杆-综合土-用于山区","根",0.58,0.58,{"$nulls":6},"TXL6-099","40千米以下光缆中继段测试-552芯以下","中继段","稳定光源",2.37,117]
["TXL3-013C","立8.5m以下木电杆-综合土-更换电杆","根",0.72,0.72,{"$nulls":6},"TXL6-099","40千米以下光缆中继段测试-552芯以下","中继段","偏振模色散测试仪",2.37,455]
["TXL3-014","立8.5m以下木电杆-软石","根",0.52,1.33,{"$nulls":6},"TXL6-100","40千米以下光缆中继段测试-576芯以下","中继段","光时域反射仪",2.4,153]
["TXL3-014A","立8.5m以下木电杆-软石-用于丘陵、水田、城区","根",0.68,1.73,{"$nulls":6},"TXL6-100","40千米以下光缆中继段测试-576芯以下","中继段","光功率计",2.4,116]
["TXL3-014B","立8.5m以下木电杆-软石-用于山区","根",0.83,2.13,{"$nulls":6},"TXL6-100","40千米以下光缆中继段测试-576芯以下","中继段","偏振模色散测试仪",2.4,455]
["TXL3-014C","立8.5m以下木电杆-软石-更换电杆","根",1.04,2.66,{"$nulls":6},"TXL6-100","40千米以下光缆中继段测试-576芯以下","中继段","稳定光源",2.4,117]
["TXL3-015","立8.5m以下木电杆-坚石","根",1.12,1.55,{"$nulls":6},"TXL6-101","用户光缆测试-2芯以下","段","稳定光源",0.05,117]
["TXL3-015A","立8.5m以下木电杆-坚石-用于丘陵、水田、城区","根",1.46,2.02,{"$nulls":6},"TXL6-101","用户光缆测试-2芯以下","段","光功率计",0.05,116]
["TXL3-015B","立8.5m以下木电杆-坚石-用于山区","根",1.79,2.48,{"$nulls":6},"TXL6-101","用户光缆测试-2芯以下","段","光时域反射仪",0.05,153]
["TXL3-015C","立8.5m以下木电杆-坚石-更换电杆","根",2.24,{"v":3.1,"d":"3.10"},{"$nulls":6},"TXL6-102A","用户光缆测试-6芯以下","段","光时域反射仪",0.08,153]
["TXL3-016","立10m以下木电杆-综合土","根",0.52,0.52,{"$nulls":6},"TXL6-102B","用户光缆测试-6芯以下","段","稳定光源",0.08,117]
["TXL3-016A","立10m以下木电杆-综合土-用于丘陵、水田、城区","根",0.68,0.68,{"$nulls":6},"TXL6-102C","用户光缆测试-6芯以下","段","光功率计",0.08,116]
["TXL3-016B","立10m以下木电杆-综合土-用于山区","根",0.83,0.83,{"$nulls":6},"TXL6-103A","用户光缆测试-12芯以下","段","稳定光源",0.15,117]
["TXL3-016C","立10m以下木电杆-综合土-更换电杆","根",1.04,1.04,{"$nulls":6},"TXL6-103B","用户光缆测试-12芯以下","段","光时域反射仪",0.15,153]
["TXL3-017","立10m以下木电杆-软石","根",0.82,{"v":2.2,"d":"2.20"},{"$nulls":6},"TXL6-103C","用户光缆测试-12芯以下","段","光功率计",0.15,116]
["TXL3-017A","立10m以下木电杆-软石-用于丘陵、水田、城区","根",1.07,2.86,{"$nulls":6},"TXL6-104A","用户光缆测试-24芯以下","段","光时域反射仪",0.21,153]
["TXL3-017B","立10m以下木电杆-软石-用于山区","根",1.31,3.52,{"$nulls":6},"TXL6-104B","用户光缆测试-24芯以下","段","光功率计",0.21,116]
["TXL3-017C","立10m以下木电杆-软石-更换电杆","根",1.64,{"v":4.4,"d":"4.40"},{"$nulls":6},"TXL6-104C","用户光缆测试-24芯以下","段","稳定光源",0.21,117]
["TXL3-018","立10m以下木电杆-坚石","根",1.67,2.31,{"$nulls":6},"TXL6-105A","用户光缆测试-36芯以下","段","稳定光源",0.29,117]
["TXL3-018A","立10m以下木电杆-坚石-用于丘陵、水田、城区","根",2.17,{"v":3,"d":"3.00"},{"$nulls":6},"TXL6-105B","用户光缆测试-36芯以下","段","光功率计",0.29,116]
["TXL3-018B","立10m以下木电杆-坚石-用于山区","根",2.67,{"v":3.7,"d":"3.70"},{"$nulls":6},"TXL6-105C","用户光缆测试-36芯以下","段","光时域反射仪",0.29,153]
["TXL3-018C","立10m以下木电杆-坚石-更换电杆","根",3.34,4.62,{"$nulls":6},"TXL6-106A","用户光缆测试-48芯以下","段","稳定光源",0.36,117]
["TXL3-019","立15m以下品接杆-综合土","座",2.35,2.35,{"$nulls":6},"TXL6-106B","用户光缆测试-48芯以下","段","光功率计",0.36,116]
["TXL3-019A","立15m以下品接杆-综合土-用于丘陵、水田、城区","座",3.06,3.06,{"$nulls":6},"TXL6-106C","用户光缆测试-48芯以下","段","光时域反射仪",0.36,153]
["TXL3-019B","立15m以下品接杆-综合土-用于山区","座",3.76,3.76,{"$nulls":6},"TXL6-107","用户光缆测试-60芯以下","段","光功率计",0.42,116]
["TXL3-019C","立15m以下品接杆-综合土-更换电杆","座",{"v":4.7,"d":"4.70"},{"v":4.7,"d":"4.70"},{"$nulls":6},"TXL6-107","用户光缆测试-60芯以下","段","稳定光源",0.42,117]
["TXL3-020","立15m以下品接杆-软石","座",2.73,7.17,{"$nulls":6},"TXL6-107","用户光缆测试-60芯以下","段","光时域反射仪",0.42,153]
["TXL3-020A","立15m以下品接杆-软石-用于丘陵、水田、城区","座",3.55,9.32,{"$nulls":6},"TXL6-108","用户光缆测试-72芯以下","段","光时域反射仪",0.48,153]
["TXL3-020B","立15m以下品接杆-软石-用于山区","座",4.37,11.47,{"$nulls":6},"TXL6-108","用户光缆测试-72芯以下","段","光功率计",0.48,116]
["TXL3-020C","立15m以下品接杆-软石-更换电杆","座",5.46,14.34,{"$nulls":6},"TXL6-108","用户光缆测试-72芯以下","段","稳定光源",0.48,117]
["TXL3-021","立15m以下品接杆-坚石","座",4.46,7.81,{"$nulls":6},"TXL6-109","用户光缆测试-84芯以下","段","稳定光源",0.52,117]
["TXL3-021A","立15m以下品接杆-坚石-用于丘陵、水田、城区","座",{"v":5.8,"d":"5.80"},10.15,{"$nulls":6},"TXL6-109","用户光缆测试-84芯以下","段","光功率计",0.52,116]
["TXL3-021B","立15m以下品接杆-坚石-用于山区","座",7.14,{"v":12.5,"d":"12.50"},{"$nulls":6},"TXL6-109","用户光缆测试-84芯以下","段","光时域反射仪",0.52,153]
["TXL3-021C","立15m以下品接杆-坚石-更换电杆","座",8.92,15.62,{"$nulls":6},"TXL6-110","用户光缆测试-96芯以下","段","光时域反射仪",0.57,153]
["TXL3-022","立24m以下特种品接杆-综合土","座",2.95,2.95,{"$nulls":6},"TXL6-110","用户光缆测试-96芯以下","段","稳定光源",0.57,117]
["TXL3-022A","立24m以下特种品接杆-综合土-用于丘陵、水田、城区","座",3.84,3.84,{"$nulls":6},"TXL6-110","用户光缆测试-96芯以下","段","光功率计",0.57,116]
["TXL3-022B","立24m以下特种品接杆-综合土-用于山区","座",4.72,4.72,{"$nulls":6},"TXL6-111","用户光缆测试-108芯以下","段","稳定光源",0.6,117]
["TXL3-022C","立24m以下特种品接杆-综合土-更换电杆","座",{"v":5.9,"d":"5.90"},{"v":5.9,"d":"5.90"},{"$nulls":6},"TXL6-111","用户光缆测试-108芯以下","段","光时域反射仪",0.6,153]
["TXL3-023","立24m以下特种品接杆-软石","座",3.13,7.97,{"$nulls":6},"TXL6-111","用户光缆测试-108芯以下","段","光功率计",0.6,116]
["TXL3-023A","立24m以下特种品接杆-软石-用于丘陵、水田、城区","座",4.07,10.36,{"$nulls":6},"TXL6-112","用户光缆测试-132芯以下","段","光功率计",0.63,116]
["TXL3-023B","立24m以下特种品接杆-软石-用于山区","座",5.01,12.75,{"$nulls":6},"TXL6-112","用户光缆测试-132芯以下","段","稳定光源",0.63,117]
["TXL3-023C","立24m以下特种品接杆-软石-更换电杆","座",6.26,15.94,{"$nulls":6},"TXL6-112","用户光缆测试-132芯以下","段","光时域反射仪",0.63,153]
["TXL3-024","立24m以下特种品接杆-坚石","座",6.06,8.41,{"$nulls":6},"TXL6-113","用户光缆测试-144芯以下","段","光时域反射仪",0.66,153]
["TXL3-024A","立24m以下特种品接杆-坚石-用于丘陵、水田、城区","座",7.88,10.93,{"$nulls":6},"TXL6-113","用户光缆测试-144芯以下","段","光功率计",0.66,116]
["TXL3-024B","立24m以下特种品接杆-坚石-用于山区","座",{"v":9.7,"d":"9.70"},13.46,{"$nulls":6},"TXL6-113","用户光缆测试-144芯以下","段","稳定光源",0.66,117]
["TXL3-024C","立24m以下特种品接杆-坚石-更换电杆","座",12.12,16.82,{"$nulls":6},"TXL6-114","用户光缆测试-168芯以下","段","稳定光源",0.69,117]
["TXL3-025","立10m以下H杆-综合土","座",1.54,1.54,{"$nulls":6},"TXL6-114","用户光缆测试-168芯以下","段","光时域反射仪",0.69,153]
["TXL3-025A","立10m以下H杆-综合土-用于丘陵、水田、城区","座",{"v":2,"d":"2.00"},{"v":2,"d":"2.00"},{"$nulls":6},"TXL6-114","用户光缆测试-168芯以下","段","光功率计",0.69,116]
["TXL3-025B","立10m以下H杆-综合土-用于山区","座",2.46,2.46,{"$nulls":6},"TXL6-115","用户光缆测试-192芯以下","段","稳定光源",0.72,117]
["TXL3-025C","立10m以下H杆-综合土-更换电杆","座",3.08,3.08,{"$nulls":6},"TXL6-115","用户光缆测试-192芯以下","段","光时域反射仪",0.72,153]
["TXL3-025D","立10m以下L杆-综合土","座",2.31,2.31,{"$nulls":6},"TXL6-115","用户光缆测试-192芯以下","段","光功率计",0.72,116]
["TXL3-025E","立10m以下L杆-综合土-用于丘陵、水田、城区","座",{"v":3,"d":"3.00"},{"v":3,"d":"3.00"},{"$nulls":6},"TXL6-116","用户光缆测试-216芯以下","段","稳定光源",0.75,117]
["TXL3-025F","立10m以下L杆-综合土-用于山区","座",{"v":3.7,"d":"3.70"},{"v":3.7,"d":"3.70"},{"$nulls":6},"TXL6-116","用户光缆测试-216芯以下","段","光功率计",0.75,116]
["TXL3-025G","立10m以下L杆-综合土-更换电杆","座",4.62,4.62,{"$nulls":6},"TXL6-116","用户光缆测试-216芯以下","段","光时域反射仪",0.75,153]
["TXL3-025H","立10m以下井字杆-综合土","座",3.08,3.08,{"$nulls":6},"TXL6-117","用户光缆测试-240芯以下","段","光功率计",0.8,116]
["TXL3-025I","立10m以下井字杆-综合土-用于丘陵、水田、城区","座",{"v":4,"d":"4.00"},{"v":4,"d":"4.00"},{"$nulls":6},"TXL6-117","用户光缆测试-240芯以下","段","稳定光源",0.8,117]
["TXL3-025J","立10m以下井字杆-综合土-用于山区","座",4.93,4.93,{"$nulls":6},"TXL6-117","用户光缆测试-240芯以下","段","光时域反射仪",0.8,153]
["TXL3-025K","立10m以下井字杆-综合土-更换电杆","座",6.16,6.16,{"$nulls":6},"TXL6-118","用户光缆测试-264芯以下","段","光功率计",0.83,116]
["TXL3-026","立10m以下H杆-软石","座",2.15,6.01,{"$nulls":6},"TXL6-118","用户光缆测试-264芯以下","段","光时域反射仪",0.83,153]
["TXL3-026A","立10m以下H杆-软石-用于丘陵、水田、城区","座",{"v":2.8,"d":"2.80"},7.81,{"$nulls":6},"TXL6-118","用户光缆测试-264芯以下","段","稳定光源",0.83,117]
["TXL3-026B","立10m以下H杆-软石-用于山区","座",3.44,9.62,{"$nulls":6},"TXL6-119","用户光缆测试-288芯以下","段","光功率计",0.87,116]
["TXL3-026C","立10m以下H杆-软石-更换电杆","座",{"v":4.3,"d":"4.30"},12.02,{"$nulls":6},"TXL6-119","用户光缆测试-288芯以下","段","光时域反射仪",0.87,153]
["TXL3-026D","立10m以下L杆-软石","座",3.23,9.02,{"$nulls":6},"TXL6-119","用户光缆测试-288芯以下","段","稳定光源",0.87,117]
["TXL3-026E","立10m以下L杆-软石-用于丘陵、水田、城区","座",{"v":4.2,"d":"4.20"},11.73,{"$nulls":6},"TXL6-120","用户光缆测试-312芯以下","段","光功率计",0.93,116]
["TXL3-026F","立10m以下L杆-软石-用于山区","座",5.17,14.43,{"$nulls":6},"TXL6-120","用户光缆测试-312芯以下","段","稳定光源",0.93,117]
["TXL3-026G","立10m以下L杆-软石-更换电杆","座",6.46,18.04,{"$nulls":6},"TXL6-120","用户光缆测试-312芯以下","段","光时域反射仪",0.93,153]
["TXL3-026H","立10m以下井字杆-软石","座",{"v":4.3,"d":"4.30"},12.02,{"$nulls":6},"TXL6-121","用户光缆测试-336芯以下","段","光时域反射仪",0.98,153]
["TXL3-026I","立10m以下井字杆-软石-用于丘陵、水田、城区","座",5.59,15.63,{"$nulls":6},"TXL6-121","用户光缆测试-336芯以下","段","稳定光源",0.98,117]
["TXL3-026J","立10m以下井字杆-软石-用于山区","座",6.88,19.23,{"$nulls":6},"TXL6-121","用户光缆测试-336芯以下","段","光功率计",0.98,116]
["TXL3-026K","立10m以下井字杆-软石-更换电杆","座",{"v":8.6,"d":"8.60"},24.04,{"$nulls":6},"TXL6-122","用户光缆测试-360芯以下","段","光时域反射仪",1.02,153]
["TXL3-027","立10m以下H杆-坚石","座",4.96,7.96,{"$nulls":6},"TXL6-122","用户光缆测试-360芯以下","段","稳定光源",1.02,117]
["TXL3-027A","立10m以下H杆-坚石-用于丘陵、水田、城区","座",6.45,10.35,{"$nulls":6},"TXL6-122","用户光缆测试-360芯以下","段","光功率计",1.02,116]
["TXL3-027B","立10m以下H杆-坚石-用于山区","座",7.94,12.74,{"$nulls":6},"TXL6-123","用户光缆测试-384芯以下","段","光时域反射仪",1.05,153]
["TXL3-027C","立10m以下H杆-坚石-更换电杆","座",9.92,15.92,{"$nulls":6},"TXL6-123","用户光缆测试-384芯以下","段","光功率计",1.05,116]
["TXL3-027D","立10m以下L杆-坚石","座",7.44,11.94,{"$nulls":6},"TXL6-123","用户光缆测试-384芯以下","段","稳定光源",1.05,117]
["TXL3-027E","立10m以下L杆-坚石-用于丘陵、水田、城区","座",9.67,15.52,{"$nulls":6},"TXL6-124","用户光缆测试-408芯以下","段","光时域反射仪",1.08,153]
["TXL3-027F","立10m以下L杆-坚石-用于山区","座",{"v":11.9,"d":"11.90"},{"v":19.1,"d":"19.10"},{"$nulls":6},"TXL6-124","用户光缆测试-408芯以下","段","稳定光源",1.08,117]
["TXL3-027G","立10m以下L杆-坚石-更换电杆","座",14.88,23.88,{"$nulls":6},"TXL6-124","用户光缆测试-408芯以下","段","光功率计",1.08,116]
["TXL3-027H","立10m以下井字杆-坚石","座",9.92,15.92,{"$nulls":6},"TXL6-125","用户光缆测试-432芯以下","段","光时域反射仪",1.1,153]
["TXL3-027I","立10m以下井字杆-坚石-用于丘陵、水田、城区","座",{"v":12.9,"d":"12.90"},{"v":20.7,"d":"20.70"},{"$nulls":6},"TXL6-125","用户光缆测试-432芯以下","段","光功率计",1.1,116]
["TXL3-027J","立10m以下井字杆-坚石-用于山区","座",15.87,25.47,{"$nulls":6},"TXL6-125","用户光缆测试-432芯以下","段","稳定光源",1.1,117]
["TXL3-027K","立10m以下井字杆-坚石-更换电杆","座",19.84,31.84,{"$nulls":6},"TXL6-126","用户光缆测试-456芯以下","段","光功率计",1.11,116]
["TXL3-028","立15m以下品接H杆-综合土","座",{"v":5.2,"d":"5.20"},{"v":5.2,"d":"5.20"},{"$nulls":6},"TXL6-126","用户光缆测试-456芯以下","段","稳定光源",1.11,117]
["TXL3-028A","立15m以下品接H杆-综合土-用于丘陵、水田、城区","座",6.76,6.76,{"$nulls":6},"TXL6-126","用户光缆测试-456芯以下","段","光时域反射仪",1.11,153]
["TXL3-028B","立15m以下品接H杆-综合土-用于山区","座",8.32,8.32,{"$nulls":6},"TXL6-127","用户光缆测试-480芯以下","段","光时域反射仪",1.14,153]
["TXL3-028C","立15m以下品接H杆-综合土-更换电杆","座",{"v":10.4,"d":"10.40"},{"v":10.4,"d":"10.40"},{"$nulls":6},"TXL6-127","用户光缆测试-480芯以下","段","光功率计",1.14,116]
["TXL3-028D","立15m以下品接L杆-综合土","座",{"v":7.8,"d":"7.80"},{"v":7.8,"d":"7.80"},{"$nulls":6},"TXL6-127","用户光缆测试-480芯以下","段","稳定光源",1.14,117]
["TXL3-028E","立15m以下品接L杆-综合土-用于丘陵、水田、城区","座",10.14,10.14,{"$nulls":6},"TXL6-128","用户光缆测试-504芯以下","段","光功率计",1.16,116]
["TXL3-028F","立15m以下品接L杆-综合土-用于山区","座",12.48,12.48,{"$nulls":6},"TXL6-128","用户光缆测试-504芯以下","段","光时域反射仪",1.16,153]
["TXL3-028G","立15m以下品接L杆-综合土-更换电杆","座",{"v":15.6,"d":"15.60"},{"v":15.6,"d":"15.60"},{"$nulls":6},"TXL6-128","用户光缆测试-504芯以下","段","稳定光源",1.16,117]
["TXL3-028H","立15m以下品接井字杆-综合土","座",{"v":10.4,"d":"10.40"},{"v":10.4,"d":"10.40"},{"$nulls":6},"TXL6-129","用户光缆测试-528芯以下","段","稳定光源",1.17,117]
["TXL3-028I","立15m以下品接井字杆-综合土-用于丘陵、水田、城区","座",13.52,13.52,{"$nulls":6},"TXL6-129","用户光缆测试-528芯以下","段","光功率计",1.17,116]
["TXL3-028J","立15m以下品接井字杆-综合土-用于山区","座",16.64,16.64,{"$nulls":6},"TXL6-129","用户光缆测试-528芯以下","段","光时域反射仪",1.17,153]
["TXL3-028K","立15m以下品接井字杆-综合土-更换电杆","座",{"v":20.8,"d":"20.80"},{"v":20.8,"d":"20.80"},{"$nulls":6},"TXL6-130","用户光缆测试-552芯以下","段","稳定光源",1.19,117]
["TXL3-029","立15m以下品接H杆-软石","座",5.42,13.12,{"$nulls":6},"TXL6-130","用户光缆测试-552芯以下","段","光功率计",1.19,116]
["TXL3-029A","立15m以下品接H杆-软石-用于丘陵、水田、城区","座",7.05,17.06,{"$nulls":6},"TXL6-130","用户光缆测试-552芯以下","段","光时域反射仪",1.19,153]
["TXL3-029B","立15m以下品接H杆-软石-用于山区","座",8.67,20.99,{"$nulls":6},"TXL6-131","用户光缆测试-576芯以下","段","光时域反射仪",1.21,153]
["TXL3-029C","立15m以下品接H杆-软石-更换电杆","座",10.84,26.24,{"$nulls":6},"TXL6-131","用户光缆测试-576芯以下","段","光功率计",1.21,116]
["TXL3-029D","立15m以下品接L杆-软石","座",8.13,19.68,{"$nulls":6},"TXL6-131","用户光缆测试-576芯以下","段","稳定光源",1.21,117]
["TXL3-029E","立15m以下品接L杆-软石-用于丘陵、水田、城区","座",10.57,25.58,{"$nulls":6},"TXL6-132","光分配网(ODN)光纤链路全程测试-光纤链路衰减测试-1:2","链路组","光功率计",0.06,116]
["TXL3-029F","立15m以下品接L杆-软石-用于山区","座",13.01,31.49,{"$nulls":6},"TXL6-132","光分配网(ODN)光纤链路全程测试-光纤链路衰减测试-1:2","链路组","稳定光源",0.06,117]
["TXL3-029G","立15m以下品接L杆-软石-更换电杆","座",16.26,39.36,{"$nulls":6},"TXL6-133","光分配网(ODN)光纤链路全程测试-光纤链路衰减测试-1:4","链路组","光功率计",0.06,116]
["TXL3-029H","立15m以下品接井字杆-软石","座",10.84,26.24,{"$nulls":6},"TXL6-133","光分配网(ODN)光纤链路全程测试-光纤链路衰减测试-1:4","链路组","稳定光源",0.06,117]
["TXL3-029I","立15m以下品接井字杆-软石-用于丘陵、水田、城区","座",14.09,34.11,{"$nulls":6},"TXL6-134","光分配网(ODN)光纤链路全程测试-光纤链路衰减测试-1:8","链路组","稳定光源",0.1,117]
["TXL3-029J","立15m以下品接井字杆-软石-用于山区","座",17.34,41.98,{"$nulls":6},"TXL6-134","光分配网(ODN)光纤链路全程测试-光纤链路衰减测试-1:8","链路组","光功率计",0.1,116]
["TXL3-029K","立15m以下品接井字杆-软石-更换电杆","座",21.68,52.48,{"$nulls":6},"TXL6-135","光分配网(ODN)光纤链路全程测试-光纤链路衰减测试-1:16","链路组","光功率计",0.1,116]
["TXL3-030","立15m以下品接H杆-坚石","座",10.58,{"v":14,"d":"14.00"},{"$nulls":6},"TXL6-135","光分配网(ODN)光纤链路全程测试-光纤链路衰减测试-1:16","链路组","稳定光源",0.1,117]
["TXL3-030A","立15m以下品接H杆-坚石-用于丘陵、水田、城区","座",13.75,{"v":18.2,"d":"18.20"},{"$nulls":6},"TXL6-136","光分配网(ODN)光纤链路全程测试-光纤链路衰减测试-1:32","链路组","光功率计",0.15,116]
["TXL3-030B","立15m以下品接H杆-坚石-用于山区","座",16.93,{"v":22.4,"d":"22.40"},{"$nulls":6},"TXL6-136","光分配网(ODN)光纤链路全程测试-光纤链路衰减测试-1:32","链路组","稳定光源",0.15,117]
["TXL3-030C","立15m以下品接H杆-坚石-更换电杆","座",21.16,{"v":28,"d":"28.00"},{"$nulls":6},"TXL6-137","光分配网(ODN)光纤链路全程测试-光纤链路衰减测试-1:64","链路组","稳定光源",0.15,117]
["TXL3-030D","立15m以下品接L杆-坚石","座",15.87,{"v":21,"d":"21.00"},{"$nulls":6},"TXL6-137","光分配网(ODN)光纤链路全程测试-光纤链路衰减测试-1:64","链路组","光功率计",0.15,116]
["TXL3-030E","立15m以下品接L杆-坚石-用于丘陵、水田、城区","座",20.63,{"v":27.3,"d":"27.30"},{"$nulls":6},"TXL6-138","光分配网(ODN)光纤链路全程测试-光纤链路衰减测试-1:128","链路组","稳定光源",0.2,117]
["TXL3-030F","立15m以下品接L杆-坚石-用于山区","座",25.39,{"v":33.6,"d":"33.60"},{"$nulls":6},"TXL6-138","光分配网(ODN)光纤链路全程测试-光纤链路衰减测试-1:128","链路组","光功率计",0.2,116]
["TXL3-030G","立15m以下品接L杆-坚石-更换电杆","座",31.74,{"v":42,"d":"42.00"},{"$nulls":6},"TXL6-139","光纤链路回波损耗测试","链路组","光回波损耗测试仪 (OLTS)",0.1,0]
["TXL3-030H","立15m以下品接井字杆-坚石","座",21.16,{"v":28,"d":"28.00"},{"$nulls":6},"TXL6-210","电缆链路测试","链路","综合布线线路分析仪",0.05,156]
["TXL3-030I","立15m以下品接井字杆-坚石-用于丘陵、水田、城区","座",27.51,{"v":36.4,"d":"36.40"},{"$nulls":6},"TXL7-001","安装光（电）缆承托铁架","米条","有毒有害气体检测仪",0,117]
["TXL3-030J","立15m以下品接井字杆-坚石-用于山区","座",33.86,{"v":44.8,"d":"44.80"},{"$nulls":6},"TXL7-001","安装光（电）缆承托铁架","米条","可燃气体检测仪",0,117]
["TXL3-030K","立15m以下品接井字杆-坚石-更换电杆","座",42.32,{"v":56,"d":"56.00"},{"$nulls":6},"TXL7-002","安装光（电）缆托架","根","有毒有害气体检测仪",0,117]
["TXL3-031","立24m以下特种品接H杆-综合土","座",{"v":6.4,"d":"6.40"},{"v":6.4,"d":"6.40"},{"$nulls":6},"TXL7-002","安装光（电）缆托架","根","可燃气体检测仪",0,117]
["TXL3-031A","立24m以下特种品接H杆-综合土-用于丘陵、水田、城区","座",8.32,8.32,{"$nulls":6},"TXL7-003","安装固定光缆盘","套","有毒有害气体检测仪",0,117]
["TXL3-031B","立24m以下特种品接H杆-综合土-用于山区","座",10.24,10.24,{"$nulls":6},"TXL7-003","安装固定光缆盘","套","可燃气体检测仪",0,117]
["TXL3-031C","立24m以下特种品接H杆-综合土-更换电杆","座",{"v":12.8,"d":"12.80"},{"v":12.8,"d":"12.80"},{"$nulls":6},"TXL7-031","光分路器本机测试-1:2","套","稳定光源",0.06,117]
["TXL3-031D","立24m以下特种品接L杆-综合土","座",{"v":9.6,"d":"9.60"},{"v":9.6,"d":"9.60"},{"$nulls":6},"TXL7-031","光分路器本机测试-1:2","套","光功率计",0.06,116]
["TXL3-031E","立24m以下特种品接L杆-综合土-用于丘陵、水田、城区","座",12.48,12.48,{"$nulls":6},"TXL7-032","光分路器本机测试-1:4","套","稳定光源",0.12,117]
["TXL3-031F","立24m以下特种品接L杆-综合土-用于山区","座",15.36,15.36,{"$nulls":6},"TXL7-032","光分路器本机测试-1:4","套","光功率计",0.12,116]
["TXL3-031G","立24m以下特种品接L杆-综合土-更换电杆","座",{"v":19.2,"d":"19.20"},{"v":19.2,"d":"19.20"},{"$nulls":6},"TXL7-033","光分路器本机测试-1:8","套","稳定光源",0.18,117]
["TXL3-031H","立24m以下特种品接井字杆-综合土","座",{"v":12.8,"d":"12.80"},{"v":12.8,"d":"12.80"},{"$nulls":6},"TXL7-033","光分路器本机测试-1:8","套","光功率计",0.18,116]
["TXL3-031I","立24m以下特种品接井字杆-综合土-用于丘陵、水田、城区","座",16.64,16.64,{"$nulls":6},"TXL7-034","光分路器本机测试-1:16","套","稳定光源",0.24,117]
["TXL3-031J","立24m以下特种品接井字杆-综合土-用于山区","座",20.48,20.48,{"$nulls":6},"TXL7-034","光分路器本机测试-1:16","套","光功率计",0.24,116]
["TXL3-031K","立24m以下特种品接井字杆-综合土-更换电杆","座",24.56,24.56,{"$nulls":6},"TXL7-035","光分路器本机测试-1:32","套","光功率计",0.28,116]
["TXL3-032","立24m以下特种品接H杆-软石","座",6.22,14.72,{"$nulls":6},"TXL7-035","光分路器本机测试-1:32","套","稳定光源",0.28,117]
["TXL3-032A","立24m以下特种品接H杆-软石-用于丘陵、水田、城区","座",8.09,19.14,{"$nulls":6},"TXL7-036","光分路器本机测试-1:64","套","稳定光源",0.32,117]
["TXL3-032B","立24m以下特种品接H杆-软石-用于山区","座",9.95,23.55,{"$nulls":6},"TXL7-036","光分路器本机测试-1:64","套","光功率计",0.32,116]
["TXL3-032C","立24m以下特种品接H杆-软石-更换电杆","座",12.44,29.44,{"$nulls":6},"TXL7-037","光分路器本机测试-1:128","套","稳定光源",0.36,117]
["TXL3-032D","立24m以下特种品接L杆-软石","座",9.33,38.27,{"$nulls":6},"TXL7-037","光分路器本机测试-1:128","套","光功率计",0.36,116]
["TXL3-032E","立24m以下特种品接L杆-软石-用于丘陵、水田、城区","座",12.13,49.75]
["TXL3-032F","立24m以下特种品接L杆-软石-用于山区","座",14.93,61.23]
["TXL3-032G","立24m以下特种品接L杆-软石-更换电杆","座",18.66,76.54]
["TXL3-032H","立24m以下特种品接井字杆-软石","座",12.44,29.44]
["TXL3-032I","立24m以下特种品接井字杆-软石-用于丘陵、水田、城区","座",16.17,38.27]
["TXL3-032J","立24m以下特种品接井字杆-软石-用于山区","座",{"v":19.9,"d":"19.90"},{"v":47.1,"d":"47.10"}]
["TXL3-032K","立24m以下特种品接井字杆-软石-更换电杆","座",24.88,58.88]
["TXL3-033","立24m以下特种品接H杆-坚石","座",11.78,{"v":15.2,"d":"15.20"}]
["TXL3-033A","立24m以下特种品接H杆-坚石-用于丘陵、水田、城区","座",15.31,19.76]
["TXL3-033B","立24m以下特种品接H杆-坚石-用于山区","座",18.85,24.32]
["TXL3-033C","立24m以下特种品接H杆-坚石-更换电杆","座",23.56,{"v":30.4,"d":"30.40"}]
["TXL3-033D","立24m以下特种品接L杆-坚石","座",17.67,{"v":22.8,"d":"22.80"}]
["TXL3-033E","立24m以下特种品接L杆-坚石-用于丘陵、水田、城区","座",22.97,29.64]
["TXL3-033F","立24m以下特种品接L杆-坚石-用于山区","座",28.27,36.48]
["TXL3-033G","立24m以下特种品接L杆-坚石-更换电杆","座",35.34,{"v":45.6,"d":"45.60"}]
["TXL3-033H","立24m以下特种品接井字杆-坚石","座",23.56,{"v":30.4,"d":"30.40"}]
["TXL3-033I","立24m以下特种品接井字杆-坚石-用于丘陵、水田、城区","座",30.63,39.52]
["TXL3-033J","立24m以下特种品接井字杆-坚石-用于山区","座",{"v":37.7,"d":"37.70"},48.64]
["TXL3-033K","立24m以下特种品接井字杆-坚石-更换电杆","座",47.12,{"v":60.8,"d":"60.80"}]
["TXL3-034","电杆根部加固及保护-护桩","处",0.13,0.25]
["TXL3-034A","电杆根部加固及保护-护桩-用于H杆","处",0.26,{"v":0.5,"d":"0.50"}]
["TXL3-035","电杆根部加固及保护-木围桩","处",1.87,{"v":3.6,"d":"3.60"}]
["TXL3-035A","电杆根部加固及保护-木围桩-用于H杆","处",3.74,{"v":7.2,"d":"7.20"}]
["TXL3-036","电杆根部加固及保护-石笼","处",{"v":1.5,"d":"1.50"},{"v":3,"d":"3.00"}]
["TXL3-036A","电杆根部加固及保护-石笼-用于H杆","处",{"v":3,"d":"3.00"},{"v":6,"d":"6.00"}]
["TXL3-037","电杆根部加固及保护-石护墩","处",{"v":1.9,"d":"1.90"},{"v":3.6,"d":"3.60"}]
["TXL3-037A","电杆根部加固及保护-石护墩-用于H杆","处",{"v":3.8,"d":"3.80"},{"v":7.2,"d":"7.20"}]
["TXL3-038","电杆根部加固及保护-卡盘","块",{"v":0.1,"d":"0.10"},0.25]
["TXL3-038A","电杆根部加固及保护-卡盘-用于H杆","块",{"v":0.2,"d":"0.20"},{"v":0.5,"d":"0.50"}]
["TXL3-039","电杆根部加固及保护-底盘","块",{"v":0.1,"d":"0.10"},0.25]
["TXL3-039A","电杆根部加固及保护-底盘-用于H杆","块",{"v":0.2,"d":"0.20"},{"v":0.5,"d":"0.50"}]
["TXL3-040","电杆根部加固及保护-水泥帮桩","根",0.33,0.42]
["TXL3-040A","电杆根部加固及保护-水泥帮桩-用于H杆","根",0.66,0.84]
["TXL3-041","电杆根部加固及保护-木帮桩","根",0.33,0.42]
["TXL3-041A","电杆根部加固及保护-木帮桩-用于H杆","根",0.66,0.84]
["TXL3-042","电杆根部加固及保护-打桩单杆","处",{"v":12,"d":"12.00"},{"v":16.8,"d":"16.80"}]
["TXL3-042A","电杆根部加固及保护-打桩单杆-用于H杆","处",{"v":24,"d":"24.00"},{"v":33.6,"d":"33.60"}]
["TXL3-043","电杆根部加固及保护-打桩品接杆","处",25.68,35.52]
["TXL3-044","电杆根部加固及保护-打桩分水架","处",28.08,42.12]
["TXL3-045","装木撑杆-综合土","根",0.56,0.56]
["TXL3-045A","装木撑杆-综合土-用于丘陵、水田、城区","根",0.73,0.73]
["TXL3-045B","装木撑杆-综合土-用于山区","根",{"v":0.9,"d":"0.90"},{"v":0.9,"d":"0.90"}]
["TXL3-046","装木撑杆-软石","根",0.57,{"v":1.1,"d":"1.10"}]
["TXL3-046A","装木撑杆-软石-用于丘陵、水田、城区","根",0.74,1.43]
["TXL3-046B","装木撑杆-软石-用于山区","根",0.91,1.76]
["TXL3-047","装木撑杆-坚石","根",1.18,1.06]
["TXL3-047A","装木撑杆-坚石-用于丘陵、水田、城区","根",1.53,1.38]
["TXL3-047B","装木撑杆-坚石-用于山区","根",1.89,2.12]
["TXL3-048","装水泥撑杆-综合土","根",0.62,0.62]
["TXL3-048A","装水泥撑杆-综合土-用于丘陵、水田、城区","根",0.81,0.81]
["TXL3-048B","装水泥撑杆-综合土-用于山区","根",0.99,0.99]
["TXL3-049","装水泥撑杆-软石","根",0.73,1.42]
["TXL3-049A","装水泥撑杆-软石-用于丘陵、水田、城区","根",0.95,1.85]
["TXL3-049B","装水泥撑杆-软石-用于山区","根",1.17,2.27]
["TXL3-050","装水泥撑杆-坚石","根",1.46,1.32]
["TXL3-050A","装水泥撑杆-坚石-用于丘陵、水田、城区","根",{"v":1.9,"d":"1.90"},1.72]
["TXL3-050B","装水泥撑杆-坚石-用于山区","根",2.34,2.11]
["TXL3-051","夹板法装7/2.2单股拉线-综合土","条",0.78,{"v":0.6,"d":"0.60"}]
["TXL3-051A","夹板法装7/2.2单股拉线-综合土-用于丘陵、水田、城区","条",1.01,0.78]
["TXL3-051B","夹板法装7/2.2单股拉线-综合土-用于山区","条",1.25,0.96]
["TXL3-051C","夹板法装7/2.2单股拉线-综合土-更换拉线","条",1.56,{"v":1.2,"d":"1.20"}]
["TXL3-052","夹板法装7/2.2单股拉线-软石","条",0.94,1.63]
["TXL3-052A","夹板法装7/2.2单股拉线-软石-用于丘陵、水田、城区","条",1.22,2.12]
["TXL3-052B","夹板法装7/2.2单股拉线-软石-用于山区","条",{"v":1.5,"d":"1.50"},2.61]
["TXL3-052C","夹板法装7/2.2单股拉线-软石-更换拉线","条",1.88,3.26]
["TXL3-053","夹板法装7/2.2单股拉线-坚石","条",1.76,0.07]
["TXL3-053A","夹板法装7/2.2单股拉线-坚石-用于丘陵、水田、城区","条",2.29,{"v":0.1,"d":"0.10"}]
["TXL3-053B","夹板法装7/2.2单股拉线-坚石-用于山区","条",2.82,0.25]
["TXL3-053C","夹板法装7/2.2单股拉线-坚石-更换拉线","条",3.52,0.14]
["TXL3-054","夹板法装7/2.6单股拉线-综合土","条",0.84,{"v":0.6,"d":"0.60"}]
["TXL3-054A","夹板法装7/2.6单股拉线-综合土-用于丘陵、水田、城区","条",{"v":1.1,"d":"1.10"},0.78]
["TXL3-054B","拆除夹板法装7/2.6单股拉线-综合土-用于丘陵、水田、城区(工日*0.3)","条",{"$f":"1.1*0.3","v":0.33},{"$f":"0.78*0.3","v":{"v":0.234,"d":"0.23"}}]
["TXL3-054D","夹板法装7/2.6单股拉线-综合土-用于山区","条",1.34,0.96]
["TXL3-054C","夹板法装7/2.6单股拉线-综合土-更换拉线","条",1.68,{"v":1.2,"d":"1.20"}]
["TXL3-055","夹板法装7/2.6单股拉线-软石","条",1.01,1.73]
["TXL3-055D","拆除夹板法7/2.6单股拉线-软石(工日*0.3)","条",{"$f":"1.01*0.3","v":{"v":0.303,"d":"0.30"}},{"$f":"1.73*0.3","v":{"v":0.519,"d":"0.52"}}]
["TXL3-055A","夹板法装7/2.6单股拉线-软石-用于丘陵、水田、城区","条",1.31,2.25]
["TXL3-055A","拆除夹板法装7/2.6单股拉线-软石-用于丘陵、水田、城区(工日*0.3)","条",{"$f":"1.31*0.3","v":{"v":0.393,"d":"0.39"}},{"$f":"2.25*0.3","v":{"v":0.675,"d":"0.68"}}]
["TXL3-055B","夹板法装7/2.6单股拉线-软石-用于山区","条",1.62,2.77]
["TXL3-055C","夹板法装7/2.6单股拉线-软石-更换拉线","条",2.02,3.46]
["TXL3-056","夹板法装7/2.6单股拉线-坚石","条",1.82,0.11]
["TXL3-056A","夹板法装7/2.6单股拉线-坚石-用于丘陵、水田、城区","条",2.37,0.14]
["TXL3-056B","夹板法装7/2.6单股拉线-坚石-用于山区","条",2.91,0.18]
["TXL3-056C","夹板法装7/2.6单股拉线-坚石-更换拉线","条",3.64,0.22]
["TXL3-057","夹板法装7/3.0单股拉线-综合土","条",0.98,{"v":0.6,"d":"0.60"}]
["TXL3-057A","夹板法装7/3.0单股拉线-综合土-用于丘陵、水田、城区","条",1.28,0.78]
["TXL3-057B","夹板法装7/3.0单股拉线-综合土-用于山区","条",1.57,0.96]
["TXL3-057C","夹板法装7/3.0单股拉线-综合土-更换拉线","条",1.96,{"v":1.2,"d":"1.20"}]
["TXL3-058","夹板法装7/3.0单股拉线-软石","条",1.16,1.83]
["TXL3-058A","夹板法装7/3.0单股拉线-软石-用于丘陵、水田、城区","条",1.51,2.38]
["TXL3-058B","夹板法装7/3.0单股拉线-软石-用于山区","条",1.86,2.93]
["TXL3-058C","夹板法装7/3.0单股拉线-软石-更换拉线","条",2.32,3.66]
["TXL3-059","夹板法装7/3.0单股拉线-坚石","条",1.96,0.11]
["TXL3-059A","夹板法装7/3.0单股拉线-坚石-用于丘陵、水田、城区","条",2.55,0.15]
["TXL3-059B","夹板法装7/3.0单股拉线-坚石-用于山区","条",3.14,0.18]
["TXL3-059C","夹板法装7/3.0单股拉线-坚石-更换拉线","条",3.92,0.22]
["TXL3-060","水泥杆另缠法装7/2.2单股拉线-综合土","条",0.86,{"v":0.6,"d":"0.60"}]
["TXL3-060A","水泥杆另缠法装7/2.2单股拉线-综合土-用于丘陵、水田、城区","条",{"v":1.118,"d":"1.12"},0.78]
["TXL3-060B","水泥杆另缠法装7/2.2单股拉线-综合土-用于山区","条",{"v":1.376,"d":"1.38"},0.96]
["TXL3-060C","水泥杆另缠法装7/2.2单股拉线-综合土-更换拉线","条",1.72,{"v":1.2,"d":"1.20"}]
["TXL3-061","水泥杆另缠法装7/2.2单股拉线-软石","条",1.03,1.63]
["TXL3-061A","水泥杆另缠法装7/2.2单股拉线-软石-用于丘陵、水田、城区","条",{"v":1.339,"d":"1.34"},{"v":2.119,"d":"2.12"}]
["TXL3-061B","水泥杆另缠法装7/2.2单股拉线-软石-用于山区","条",{"v":1.648,"d":"1.65"},{"v":2.608,"d":"2.61"}]
["TXL3-061C","水泥杆另缠法装7/2.2单股拉线-软石-更换拉线","条",2.06,3.26]
["TXL3-062","水泥杆另缠法装7/2.2单股拉线-坚石","条",1.76,0.06]
["TXL3-062A","水泥杆另缠法装7/2.2单股拉线-坚石-用于丘陵、水田、城区","条",{"v":2.288,"d":"2.29"},{"v":0.078,"d":"0.08"}]
["TXL3-062B","水泥杆另缠法装7/2.2单股拉线-坚石-用于山区","条",{"v":2.816,"d":"2.82"},{"v":0.096,"d":"0.10"}]
["TXL3-062C","水泥杆另缠法装7/2.2单股拉线-坚石-更换拉线","条",3.52,0.12]
["TXL3-063","水泥杆另缠法装7/2.6单股拉线-综合土","条",0.92,{"v":0.6,"d":"0.60"}]
["TXL3-063A","水泥杆另缠法装7/2.6单股拉线-综合土-用于丘陵、水田、城区","条",{"v":1.196,"d":"1.20"},0.78]
["TXL3-063B","水泥杆另缠法装7/2.6单股拉线-综合土-用于山区","条",{"v":1.472,"d":"1.47"},0.96]
["TXL3-063C","水泥杆另缠法装7/2.6单股拉线-综合土-更换拉线","条",1.84,{"v":1.2,"d":"1.20"}]
["TXL3-064","水泥杆另缠法装7/2.6单股拉线-软石","条",1.16,1.73]
["TXL3-064A","水泥杆另缠法装7/2.6单股拉线-软石-用于丘陵、水田、城区","条",{"v":1.508,"d":"1.51"},{"v":2.249,"d":"2.25"}]
["TXL3-064B","水泥杆另缠法装7/2.6单股拉线-软石-用于山区","条",{"v":1.856,"d":"1.86"},{"v":2.768,"d":"2.77"}]
["TXL3-064C","水泥杆另缠法装7/2.6单股拉线-软石-更换拉线","条",2.32,3.46]
["TXL3-065","水泥杆另缠法装7/2.6单股拉线-坚石","条",1.82,0.07]
["TXL3-065A","水泥杆另缠法装7/2.6单股拉线-坚石-用于丘陵、水田、城区","条",{"v":2.366,"d":"2.37"},{"v":0.091,"d":"0.09"}]
["TXL3-065B","水泥杆另缠法装7/2.6单股拉线-坚石-用于山区","条",{"v":2.912,"d":"2.91"},{"v":0.112,"d":"0.11"}]
["TXL3-065C","水泥杆另缠法装7/2.6单股拉线-坚石-更换拉线","条",3.64,0.14]
["TXL3-066","水泥杆另缠法装7/2.6V单股拉线-综合土","条",1.08,{"v":0.6,"d":"0.60"}]
["TXL3-066A","水泥杆另缠法装7/2.6V单股拉线-综合土-用于丘陵、水田、城区","条",{"v":1.404,"d":"1.40"},0.78]
["TXL3-066B","水泥杆另缠法装7/2.6V单股拉线-综合土-用于山区","条",{"v":1.728,"d":"1.73"},0.96]
["TXL3-066C","水泥杆另缠法装7/2.6V单股拉线-综合土-更换拉线","条",2.16,{"v":1.2,"d":"1.20"}]
["TXL3-067","水泥杆另缠法装7/2.6V单股拉线-软石","条",1.27,1.83]
["TXL3-067A","水泥杆另缠法装7/2.6V单股拉线-软石-用于丘陵、水田、城区","条",{"v":1.651,"d":"1.65"},{"v":2.379,"d":"2.38"}]
["TXL3-067B","水泥杆另缠法装7/2.6V单股拉线-软石-用于山区","条",{"v":2.032,"d":"2.03"},{"v":2.928,"d":"2.93"}]
["TXL3-067C","水泥杆另缠法装7/2.6V单股拉线-软石-更换拉线","条",2.54,3.66]
["TXL3-068","水泥杆另缠法装7/2.6V单股拉线-坚石","条",1.96,0.09]
["TXL3-068A","水泥杆另缠法装7/2.6V单股拉线-坚石-用于丘陵、水田、城区","条",{"v":2.548,"d":"2.55"},{"v":0.117,"d":"0.12"}]
["TXL3-068B","水泥杆另缠法装7/2.6V单股拉线-坚石-用于山区","条",{"v":3.136,"d":"3.14"},{"v":0.144,"d":"0.14"}]
["TXL3-068C","水泥杆另缠法装7/2.6V单股拉线-坚石-更换拉线","条",3.92,0.18]
["TXL3-069","水泥杆卡固法装7/2.2单股拉线-综合土","条",0.62,{"v":0.6,"d":"0.60"}]
["TXL3-069A","水泥杆卡固法装7/2.2单股拉线-综合土-用于丘陵、水田、城区","条",{"v":0.806,"d":"0.81"},0.78]
["TXL3-069B","水泥杆卡固法装7/2.2单股拉线-综合土-用于山区","条",{"v":0.992,"d":"0.99"},0.96]
["TXL3-069C","水泥杆卡固法装7/2.2单股拉线-综合土-更换拉线","条",1.24,{"v":1.2,"d":"1.20"}]
["TXL3-070","水泥杆卡固法装7/2.2单股拉线-软石","条",0.77,1.63]
["TXL3-70A","水泥杆卡固法装7/2.2单股拉线-软石-用于丘陵、水田、城区","条",{"v":1.001,"d":"1.00"},{"v":2.119,"d":"2.12"}]
["TXL3-070B","水泥杆卡固法装7/2.2单股拉线-软石-用于山区","条",{"v":1.232,"d":"1.23"},{"v":2.608,"d":"2.61"}]
["TXL3-070C","水泥杆卡固法装7/2.2单股拉线-软石-更换拉线","条",1.54,3.26]
["TXL3-071","水泥杆卡固法装7/2.6单股拉线-坚石","条",1.76,0.06]
["TXL3-071A","水泥杆卡固法装7/2.6单股拉线-坚石-用于丘陵、水田、城区","条",{"v":2.288,"d":"2.29"},{"v":0.078,"d":"0.08"}]
["TXL3-071B","水泥杆卡固法装7/2.6单股拉线-坚石-用于山区","条",{"v":2.816,"d":"2.82"},{"v":0.096,"d":"0.10"}]
["TXL3-071C","水泥杆卡固法装7/2.6单股拉线-坚石-更换拉线","条",3.52,0.12]
["TXL3-072","水泥杆卡固法装7/2.6单股拉线-综合土","条",0.68,{"v":0.6,"d":"0.60"}]
["TXL3-072A","水泥杆卡固法装7/2.6单股拉线-综合土-用于丘陵、水田、城区","条",{"v":0.884,"d":"0.88"},0.78]
["TXL3-072B","水泥杆卡固法装7/2.6单股拉线-综合土-用于山区","条",{"v":1.088,"d":"1.09"},0.96]
["TXL3-072C","水泥杆卡固法装7/2.6单股拉线-综合土-更换拉线","条",1.36,{"v":1.2,"d":"1.20"}]
["TXL3-073","水泥杆卡固法装7/2.6单股拉线-软石","条",0.83,1.73]
["TXL3-73A","水泥杆卡固法装7/2.6单股拉线-软石-用于丘陵、水田、城区","条",{"v":1.079,"d":"1.08"},{"v":2.249,"d":"2.25"}]
["TXL3-073B","水泥杆卡固法装7/2.6单股拉线-软石-用于山区","条",{"v":1.328,"d":"1.33"},{"v":2.768,"d":"2.77"}]
["TXL3-073C","水泥杆卡固法装7/2.6单股拉线-软石-更换拉线","条",1.66,3.46]
["TXL3-074","水泥杆卡固法装7/2.6单股拉线-坚石","条",1.82,0.07]
["TXL3-074A","水泥杆卡固法装7/2.6单股拉线-坚石-用于丘陵、水田、城区","条",{"v":2.366,"d":"2.37"},{"v":0.091,"d":"0.09"}]
["TXL3-074B","水泥杆卡固法装7/2.6单股拉线-坚石-用于山区","条",{"v":2.912,"d":"2.91"},{"v":0.112,"d":"0.11"}]
["TXL3-074C","水泥杆卡固法装7/2.6单股拉线-坚石-更换拉线","条",3.64,0.14]
["TXL3-075","水泥杆卡固法装7/2.6V单股拉线-综合土","条",0.78,{"v":0.6,"d":"0.60"}]
["TXL3-075A","水泥杆卡固法装7/2.6V单股拉线-综合土-用于丘陵、水田、城区","条",{"v":1.014,"d":"1.01"},0.78]
["TXL3-075B","水泥杆卡固法装7/2.6V单股拉线-综合土-用于山区","条",{"v":1.248,"d":"1.25"},0.96]
["TXL3-075C","水泥杆卡固法装7/2.6V单股拉线-综合土-更换拉线","条",1.56,{"v":1.2,"d":"1.20"}]
["TXL3-076","水泥杆卡固法装7/2.6V单股拉线-软石","条",0.95,1.83]
["TXL3-76A","水泥杆卡固法装7/2.6V单股拉线-软石-用于丘陵、水田、城区","条",{"v":1.235,"d":"1.24"},{"v":2.379,"d":"2.38"}]
["TXL3-076B","水泥杆卡固法装7/2.6V单股拉线-软石-用于山区","条",1.52,{"v":2.928,"d":"2.93"}]
["TXL3-076C","水泥杆卡固法装7/2.6V单股拉线-软石-更换拉线","条",{"v":1.9,"d":"1.90"},3.66]
["TXL3-077","水泥杆卡固法装7/2.6V单股拉线-坚石","条",1.96,0.09]
["TXL3-077A","水泥杆卡固法装7/2.6V单股拉线-坚石-用于丘陵、水田、城区","条",{"v":2.548,"d":"2.55"},{"v":0.117,"d":"0.12"}]
["TXL3-077B","水泥杆卡固法装7/2.6V单股拉线-坚石-用于山区","条",{"v":3.136,"d":"3.14"},{"v":0.144,"d":"0.14"}]
["TXL3-077C","水泥杆卡固法装7/2.6V单股拉线-坚石-更换拉线","条",3.92,0.18]
["TXL3-078","木杆夹板法装7/2.2单股拉线-综合土","条",0.86,{"v":0.6,"d":"0.60"}]
["TXL3-078A","木杆夹板法装7/2.2单股拉线-综合土-用于丘陵、水田、城区","条",{"v":1.118,"d":"1.12"},0.78]
["TXL3-078B","木杆夹板法装7/2.2单股拉线-综合土-用于山区","条",{"v":1.376,"d":"1.38"},0.96]
["TXL3-078C","木杆夹板法装7/2.2单股拉线-综合土-更换拉线","条",1.72,{"v":1.2,"d":"1.20"}]
["TXL3-079","木杆夹板法装7/2.2单股拉线-软石","条",1.03,1.63]
["TXL3-79A","木杆夹板法装7/2.2单股拉线-软石-用于丘陵、水田、城区","条",{"v":1.339,"d":"1.34"},{"v":2.119,"d":"2.12"}]
["TXL3-079B","木杆夹板法装7/2.2单股拉线-软石-用于山区","条",{"v":1.648,"d":"1.65"},{"v":2.608,"d":"2.61"}]
["TXL3-079C","木杆夹板法装7/2.2单股拉线-软石-更换拉线","条",2.06,3.26]
["TXL3-080","木杆夹板法装7/2.2单股拉线-坚石","条",1.94,0.07]
["TXL3-080A","木杆夹板法装7/2.2单股拉线-坚石-用于丘陵、水田、城区","条",{"v":2.522,"d":"2.52"},{"v":0.091,"d":"0.09"}]
["TXL3-080B","木杆夹板法装7/2.2单股拉线-坚石-用于山区","条",{"v":3.104,"d":"3.10"},{"v":0.112,"d":"0.11"}]
["TXL3-080C","木杆夹板法装7/2.2单股拉线-坚石-更换拉线","条",3.88,0.14]
["TXL3-081","木杆夹板法装7/2.6单股拉线-综合土","条",0.92,{"v":0.6,"d":"0.60"}]
["TXL3-081A","木杆夹板法装7/2.6单股拉线-综合土-用于丘陵、水田、城区","条",{"v":1.196,"d":"1.20"},0.78]
["TXL3-081B","木杆夹板法装7/2.6单股拉线-综合土-用于山区","条",{"v":1.472,"d":"1.47"},0.96]
["TXL3-081C","木杆夹板法装7/2.6单股拉线-综合土-更换拉线","条",1.84,{"v":1.2,"d":"1.20"}]
["TXL3-082","木杆夹板法装7/2.6单股拉线-软石","条",1.01,1.73]
["TXL3-82A","木杆夹板法装7/2.6单股拉线-软石-用于丘陵、水田、城区","条",{"v":1.313,"d":"1.31"},{"v":2.249,"d":"2.25"}]
["TXL3-082B","木杆夹板法装7/2.6单股拉线-软石-用于山区","条",{"v":1.616,"d":"1.62"},{"v":2.768,"d":"2.77"}]
["TXL3-082C","木杆夹板法装7/2.6单股拉线-软石-更换拉线","条",2.02,3.46]
["TXL3-083","木杆夹板法装7/2.6单股拉线-坚石","条",{"v":2,"d":"2.00"},0.11]
["TXL3-083A","木杆夹板法装7/2.6单股拉线-坚石-用于丘陵、水田、城区","条",{"v":2.6,"d":"2.60"},{"v":0.143,"d":"0.14"}]
["TXL3-083B","木杆夹板法装7/2.6单股拉线-坚石-用于山区","条",{"v":3.2,"d":"3.20"},{"v":0.176,"d":"0.18"}]
["TXL3-083C","木杆夹板法装7/2.6单股拉线-坚石-更换拉线","条",{"v":4,"d":"4.00"},0.22]
["TXL3-084","木杆夹板法装7/2.6V单股拉线-综合土","条",1.08,{"v":0.6,"d":"0.60"}]
["TXL3-084A","木杆夹板法装7/2.6V单股拉线-综合土-用于丘陵、水田、城区","条",{"v":1.404,"d":"1.40"},0.78]
["TXL3-084B","木杆夹板法装7/2.6V单股拉线-综合土-用于山区","条",{"v":1.728,"d":"1.73"},0.96]
["TXL3-084C","木杆夹板法装7/2.6V单股拉线-综合土-更换拉线","条",2.16,{"v":1.2,"d":"1.20"}]
["TXL3-085","木杆夹板法装7/2.6V单股拉线-软石","条",1.27,1.83]
["TXL3-85A","木杆夹板法装7/2.6V单股拉线-软石-用于丘陵、水田、城区","条",{"v":1.651,"d":"1.65"},{"v":2.379,"d":"2.38"}]
["TXL3-085B","木杆夹板法装7/2.6V单股拉线-软石-用于山区","条",{"v":2.032,"d":"2.03"},{"v":2.928,"d":"2.93"}]
["TXL3-085C","木杆夹板法装7/2.6V单股拉线-软石-更换拉线","条",2.54,3.66]
["TXL3-086","木杆夹板法装7/2.6V单股拉线-坚石","条",2.12,0.11]
["TXL3-086A","木杆夹板法装7/2.6V单股拉线-坚石-用于丘陵、水田、城区","条",{"v":2.756,"d":"2.76"},{"v":0.143,"d":"0.14"}]
["TXL3-086B","木杆夹板法装7/2.6V单股拉线-坚石-用于山区","条",{"v":3.392,"d":"3.39"},{"v":0.176,"d":"0.18"}]
["TXL3-086C","木杆夹板法装7/2.6V单股拉线-坚石-更换拉线","条",4.24,0.22]
["TXL3-087","木杆另缠法装7/2.2单股拉线-综合土","条",0.95,{"v":0.6,"d":"0.60"}]
["TXL3-087A","木杆另缠法装7/2.2单股拉线-综合土-用于丘陵、水田、城区","条",{"v":1.235,"d":"1.24"},0.78]
["TXL3-087B","木杆另缠法装7/2.2单股拉线-综合土-用于山区","条",1.52,0.96]
["TXL3-087C","木杆另缠法装7/2.2单股拉线-综合土-更换拉线","条",{"v":1.9,"d":"1.90"},{"v":1.2,"d":"1.20"}]
["TXL3-088","木杆另缠法装7/2.2单股拉线-软石","条",1.59,1.63]
["TXL3-88A","木杆另缠法装7/2.2单股拉线-软石-用于丘陵、水田、城区","条",{"v":2.067,"d":"2.07"},{"v":2.119,"d":"2.12"}]
["TXL3-088B","木杆另缠法装7/2.2单股拉线-软石-用于山区","条",{"v":2.544,"d":"2.54"},{"v":2.608,"d":"2.61"}]
["TXL3-088C","木杆另缠法装7/2.2单股拉线-软石-更换拉线","条",3.18,3.26]
["TXL3-089","木杆另缠法装7/2.2单股拉线-坚石","条",1.94,0.06]
["TXL3-089A","木杆另缠法装7/2.2单股拉线-坚石-用于丘陵、水田、城区","条",{"v":2.522,"d":"2.52"},{"v":0.078,"d":"0.08"}]
["TXL3-089B","木杆另缠法装7/2.2单股拉线-坚石-用于山区","条",{"v":3.104,"d":"3.10"},{"v":0.096,"d":"0.10"}]
["TXL3-089C","木杆另缠法装7/2.2单股拉线-坚石-更换拉线","条",3.88,0.12]
["TXL3-090","木杆另缠法装7/2.6单股拉线-综合土","条",1.05,{"v":0.6,"d":"0.60"}]
["TXL3-090A","木杆另缠法装7/2.6单股拉线-综合土-用于丘陵、水田、城区","条",{"v":1.365,"d":"1.37"},0.78]
["TXL3-090B","木杆另缠法装7/2.6单股拉线-综合土-用于山区","条",1.68,0.96]
["TXL3-090C","木杆另缠法装7/2.6单股拉线-综合土-更换拉线","条",{"v":2.1,"d":"2.10"},{"v":1.2,"d":"1.20"}]
["TXL3-091","木杆另缠法装7/2.6单股拉线-软石","条",1.49,1.73]
["TXL3-91A","木杆另缠法装7/2.6单股拉线-软石-用于丘陵、水田、城区","条",{"v":1.937,"d":"1.94"},{"v":2.249,"d":"2.25"}]
["TXL3-091B","木杆另缠法装7/2.6单股拉线-软石-用于山区","条",{"v":2.384,"d":"2.38"},{"v":2.768,"d":"2.77"}]
["TXL3-091C","木杆另缠法装7/2.6单股拉线-软石-更换拉线","条",2.98,3.46]
["TXL3-092","木杆另缠法装7/2.6单股拉线-坚石","条",{"v":2,"d":"2.00"},0.07]
["TXL3-092A","木杆另缠法装7/2.6单股拉线-坚石-用于丘陵、水田、城区","条",{"v":2.6,"d":"2.60"},{"v":0.091,"d":"0.09"}]
["TXL3-092B","木杆另缠法装7/2.6单股拉线-坚石-用于山区","条",{"v":3.2,"d":"3.20"},{"v":0.112,"d":"0.11"}]
["TXL3-092C","木杆另缠法装7/2.6单股拉线-坚石-更换拉线","条",{"v":4,"d":"4.00"},0.14]
["TXL3-093","木杆另缠法装7/2.6V单股拉线-综合土","条",1.25,{"v":0.6,"d":"0.60"}]
["TXL3-093A","木杆另缠法装7/2.6V单股拉线-综合土-用于丘陵、水田、城区","条",{"v":1.625,"d":"1.63"},0.78]
["TXL3-093B","木杆另缠法装7/2.6V单股拉线-综合土-用于山区","条",{"v":2,"d":"2.00"},0.96]
["TXL3-093C","木杆另缠法装7/2.6V单股拉线-综合土-更换拉线","条",{"v":2.5,"d":"2.50"},{"v":1.2,"d":"1.20"}]
["TXL3-094","木杆另缠法装7/2.6V单股拉线-软石","条",1.59,1.83]
["TXL3-94A","木杆另缠法装7/2.6V单股拉线-软石-用于丘陵、水田、城区","条",{"v":2.067,"d":"2.07"},{"v":2.379,"d":"2.38"}]
["TXL3-094B","木杆另缠法装7/2.6V单股拉线-软石-用于山区","条",{"v":2.544,"d":"2.54"},{"v":2.928,"d":"2.93"}]
["TXL3-094C","木杆另缠法装7/2.6V单股拉线-软石-更换拉线","条",3.18,3.66]
["TXL3-095","木杆另缠法装7/2.6V单股拉线-坚石","条",2.12,0.09]
["TXL3-095A","木杆另缠法装7/2.6V单股拉线-坚石-用于丘陵、水田、城区","条",{"v":2.756,"d":"2.76"},{"v":0.117,"d":"0.12"}]
["TXL3-095B","木杆另缠法装7/2.6V单股拉线-坚石-用于山区","条",{"v":3.392,"d":"3.39"},{"v":0.144,"d":"0.14"}]
["TXL3-095C","木杆另缠法装7/2.6V单股拉线-坚石-更换拉线","条",4.24,0.18]
["TXL3-096","木杆卡固法装7/2.2单股拉线-综合土","条",{"v":0.7,"d":"0.70"},{"v":0.6,"d":"0.60"}]
["TXL3-096A","木杆卡固法装7/2.2单股拉线-综合土-用于丘陵、水田、城区","条",0.91,0.78]
["TXL3-096B","木杆卡固法装7/2.2单股拉线-综合土-用于山区","条",1.12,0.96]
["TXL3-096C","木杆卡固法装7/2.2单股拉线-综合土-更换拉线","条",{"v":1.4,"d":"1.40"},{"v":1.2,"d":"1.20"}]
["TXL3-097","木杆卡固法装7/2.2单股拉线-软石","条",0.85,1.63]
["TXL3-97A","木杆卡固法装7/2.2单股拉线-软石-用于丘陵、水田、城区","条",{"v":1.105,"d":"1.11"},{"v":2.119,"d":"2.12"}]
["TXL3-097B","木杆卡固法装7/2.2单股拉线-软石-用于山区","条",1.36,{"v":2.608,"d":"2.61"}]
["TXL3-097C","木杆卡固法装7/2.2单股拉线-软石-更换拉线","条",{"v":1.7,"d":"1.70"},3.26]
["TXL3-098","木杆卡固法装7/2.2单股拉线-坚石","条",1.76,0.07]
["TXL3-098A","木杆卡固法装7/2.2单股拉线-坚石-用于丘陵、水田、城区","条",{"v":2.288,"d":"2.29"},{"v":0.091,"d":"0.09"}]
["TXL3-098B","木杆卡固法装7/2.2单股拉线-坚石-用于山区","条",{"v":2.816,"d":"2.82"},{"v":0.112,"d":"0.11"}]
["TXL3-098C","木杆卡固法装7/2.2单股拉线-坚石-更换拉线","条",3.52,0.14]
["TXL3-099","木杆卡固法装7/2.6单股拉线-综合土","条",0.75,{"v":0.6,"d":"0.60"}]
["TXL3-099A","木杆卡固法装7/2.6单股拉线-综合土-用于丘陵、水田、城区","条",{"v":0.975,"d":"0.98"},0.78]
["TXL3-099B","木杆卡固法装7/2.6单股拉线-综合土-用于山区","条",{"v":1.2,"d":"1.20"},0.96]
["TXL3-099C","木杆卡固法装7/2.6单股拉线-综合土-更换拉线","条",{"v":1.5,"d":"1.50"},{"v":1.2,"d":"1.20"}]
["TXL3-100","木杆卡固法装7/2.6单股拉线-软石","条",0.92,1.73]
["TXL3-100A","木杆卡固法装7/2.6单股拉线-软石-用于丘陵、水田、城区","条",{"v":1.196,"d":"1.20"},{"v":2.249,"d":"2.25"}]
["TXL3-100B","木杆卡固法装7/2.6单股拉线-软石-用于山区","条",{"v":1.472,"d":"1.47"},{"v":2.768,"d":"2.77"}]
["TXL3-100C","木杆卡固法装7/2.6单股拉线-软石-更换拉线","条",1.84,3.46]
["TXL3-101","木杆卡固法装7/2.6单股拉线-坚石","条",1.82,0.07]
["TXL3-101A","木杆卡固法装7/2.6单股拉线-坚石-用于丘陵、水田、城区","条",{"v":2.366,"d":"2.37"},{"v":0.091,"d":"0.09"}]
["TXL3-101B","木杆卡固法装7/2.6单股拉线-坚石-用于山区","条",{"v":2.912,"d":"2.91"},{"v":0.112,"d":"0.11"}]
["TXL3-101C","木杆卡固法装7/2.6单股拉线-坚石-更换拉线","条",3.64,0.14]
["TXL3-102","木杆卡固法装7/2.6V单股拉线-综合土","条",0.88,{"v":0.6,"d":"0.60"}]
["TXL3-102A","木杆卡固法装7/2.6V单股拉线-综合土-用于丘陵、水田、城区","条",{"v":1.144,"d":"1.14"},0.78]
["TXL3-102B","木杆卡固法装7/2.6V单股拉线-综合土-用于山区","条",{"v":1.408,"d":"1.41"},0.96]
["TXL3-102C","木杆卡固法装7/2.6V单股拉线-综合土-更换拉线","条",1.76,{"v":1.2,"d":"1.20"}]
["TXL3-103","木杆卡固法装7/2.6V单股拉线-软石","条",1.05,1.83]
["TXL3-103A","木杆卡固法装7/2.6V单股拉线-软石-用于丘陵、水田、城区","条",{"v":1.365,"d":"1.37"},{"v":2.379,"d":"2.38"}]
["TXL3-103B","木杆卡固法装7/2.6V单股拉线-软石-用于山区","条",1.68,{"v":2.928,"d":"2.93"}]
["TXL3-103C","木杆卡固法装7/2.6V单股拉线-软石-更换拉线","条",{"v":2.1,"d":"2.10"},3.66]
["TXL3-104","木杆卡固法装7/2.6V单股拉线-坚石","条",1.96,0.09]
["TXL3-104A","木杆卡固法装7/2.6V单股拉线-坚石-用于丘陵、水田、城区","条",{"v":2.548,"d":"2.55"},{"v":0.117,"d":"0.12"}]
["TXL3-104B","木杆卡固法装7/2.6V单股拉线-坚石-用于山区","条",{"v":3.136,"d":"3.14"},{"v":0.144,"d":"0.14"}]
["TXL3-104C","木杆卡固法装7/2.6V单股拉线-坚石-更换拉线","条",3.92,0.18]
["TXL3-105","装设2×7/2.6拉线-综合土","处",1.42,{"v":0.8,"d":"0.80"}]
["TXL3-105A","装设2×7/2.6拉线-综合土-用于丘陵、水田、城区","处",{"v":1.846,"d":"1.85"},1.04]
["TXL3-105B","装设2×7/2.6拉线-综合土-用于山区","处",{"v":2.272,"d":"2.27"},1.28]
["TXL3-105C","装设2×7/2.6拉线-综合土-更换拉线","处",2.84,{"v":1.6,"d":"1.60"}]
["TXL3-106","装设2×7/2.6拉线-软石","处",1.75,{"v":2.6,"d":"2.60"}]
["TXL3-106A","装设2×7/2.6拉线-软石-用于丘陵、水田、城区","处",{"v":2.275,"d":"2.28"},3.38]
["TXL3-106B","装设2×7/2.6拉线-软石-用于山区","处",{"v":2.8,"d":"2.80"},4.16]
["TXL3-106C","装设2×7/2.6拉线-软石-更换拉线","处",{"v":3.5,"d":"3.50"},{"v":5.2,"d":"5.20"}]
["TXL3-107","装设2×7/2.6拉线-坚石","处",2.38,0.13]
["TXL3-107A","装设2×7/2.6拉线-坚石-用于丘陵、水田、城区","处",{"v":3.094,"d":"3.09"},{"v":0.169,"d":"0.17"}]
["TXL3-107B","装设2×7/2.6拉线-坚石-用于山区","处",{"v":3.808,"d":"3.81"},{"v":0.208,"d":"0.21"}]
["TXL3-107C","装设2×7/2.6拉线-坚石-更换拉线","处",4.76,0.26]
["TXL3-108","装设2×7/3.0上2下1V型拉线-综合土","处",1.67,{"v":1,"d":"1.00"}]
["TXL3-108A","装设2×7/3.0上2下1V型拉线-综合土-用于丘陵、水田、城区","处",{"v":2.171,"d":"2.17"},{"v":1.3,"d":"1.30"}]
["TXL3-108B","装设2×7/3.0上2下1V型拉线-综合土-用于山区","处",{"v":2.672,"d":"2.67"},{"v":1.6,"d":"1.60"}]
["TXL3-108C","装设2×7/3.0上2下1V型拉线-综合土-更换拉线","处",3.34,{"v":2,"d":"2.00"}]
["TXL3-109","装设2×7/3.0上2下1V型拉线-软石","处",1.81,{"v":2.8,"d":"2.80"}]
["TXL3-109A","装设2×7/3.0上2下1V型拉线-软石-用于丘陵、水田、城区","处",{"v":2.353,"d":"2.35"},3.64]
["TXL3-109B","装设2×7/3.0上2下1V型拉线-软石-用于山区","处",{"v":2.896,"d":"2.90"},4.48]
["TXL3-109C","装设2×7/3.0上2下1V型拉线-软石-更换拉线","处",3.62,{"v":5.6,"d":"5.60"}]
["TXL3-110","装设2×7/3.0上2下1V型拉线-坚石","处",2.63,0.16]
["TXL3-110A","装设2×7/3.0上2下1V型拉线-坚石-用于丘陵、水田、城区","处",{"v":3.419,"d":"3.42"},{"v":0.208,"d":"0.21"}]
["TXL3-110B","装设2×7/3.0上2下1V型拉线-坚石-用于山区","处",{"v":4.208,"d":"4.21"},{"v":0.256,"d":"0.26"}]
["TXL3-110C","装设2×7/3.0上2下1V型拉线-坚石-更换拉线","处",5.26,0.32]
["TXL3-111","装设2×7/2.2V拉线-综合土","处",1.21,{"v":0.9,"d":"0.90"}]
["TXL3-111A","装设2×7/2.2V拉线-综合土-用于丘陵、水田、城区","处",{"v":1.573,"d":"1.57"},1.17]
["TXL3-111B","装设2×7/2.2V拉线-综合土-用于山区","处",{"v":1.936,"d":"1.94"},1.44]
["TXL3-111C","装设2×7/2.2V拉线-综合土-更换拉线","处",2.42,{"v":1.8,"d":"1.80"}]
["TXL3-112","装设2×7/2.2V拉线-软石","处",1.37,{"v":3,"d":"3.00"}]
["TXL3-112A","装设2×7/2.2V拉线-软石-用于丘陵、水田、城区","处",{"v":1.781,"d":"1.78"},{"v":3.9,"d":"3.90"}]
["TXL3-112B","装设2×7/2.2V拉线-软石-用于山区","处",{"v":2.192,"d":"2.19"},{"v":4.8,"d":"4.80"}]
["TXL3-112C","装设2×7/2.2V拉线-软石-更换拉线","处",2.74,{"v":6,"d":"6.00"}]
["TXL3-113","装设2×7/2.2V拉线-坚石","处",2.17,0.11]
["TXL3-113A","装设2×7/2.2V拉线-坚石-用于丘陵、水田、城区","处",{"v":2.821,"d":"2.82"},{"v":0.143,"d":"0.14"}]
["TXL3-113B","装设2×7/2.2V拉线-坚石-用于山区","处",{"v":3.472,"d":"3.47"},{"v":0.176,"d":"0.18"}]
["TXL3-113C","装设2×7/2.2V拉线-坚石-更换拉线","处",4.34,0.22]
["TXL3-114","装设2×7/3.0上2下1V型拉线-综合土","处",1.57,{"v":0.9,"d":"0.90"}]
["TXL3-114A","装设2×7/3.0上2下1V型拉线-综合土-用于丘陵、水田、城区","处",{"v":2.041,"d":"2.04"},1.17]
["TXL3-114B","装设2×7/3.0上2下1V型拉线-综合土-用于山区","处",{"v":2.512,"d":"2.51"},1.44]
["TXL3-114C","装设2×7/3.0上2下1V型拉线-综合土-更换拉线","处",3.14,{"v":1.8,"d":"1.80"}]
["TXL3-115","装设2×7/3.0上2下1V型拉线-软石","处",1.74,{"v":3.2,"d":"3.20"}]
["TXL3-115A","装设2×7/3.0上2下1V型拉线-软石-用于丘陵、水田、城区","处",{"v":2.262,"d":"2.26"},4.16]
["TXL3-115B","装设2×7/3.0上2下1V型拉线-软石-用于山区","处",{"v":2.784,"d":"2.78"},5.12]
["TXL3-115C","装设2×7/3.0上2下1V型拉线-软石-更换拉线","处",3.48,{"v":6.4,"d":"6.40"}]
["TXL3-116","装设2×7/3.0上2下1V型拉线-坚石","处",2.53,0.16]
["TXL3-116A","装设2×7/3.0上2下1V型拉线-坚石-用于丘陵、水田、城区","处",{"v":3.289,"d":"3.29"},{"v":0.208,"d":"0.21"}]
["TXL3-116B","装设2×7/3.0上2下1V型拉线-坚石-用于山区","处",{"v":4.048,"d":"4.05"},{"v":0.256,"d":"0.26"}]
["TXL3-116C","装设2×7/3.0上2下1V型拉线-坚石-更换拉线","处",5.06,0.32]
["TXL3-117","装设2×7/2.2吊板拉线-综合土","处",2.38,{"v":1.6,"d":"1.60"}]
["TXL3-117A","装设2×7/2.2吊板拉线-综合土-用于丘陵、水田、城区","处",{"v":3.094,"d":"3.09"},2.08]
["TXL3-117B","装设2×7/2.2吊板拉线-综合土-用于山区","处",{"v":3.808,"d":"3.81"},2.56]
["TXL3-117C","装设2×7/2.2吊板拉线-综合土-更换拉线","处",4.76,{"v":3.2,"d":"3.20"}]
["TXL3-118","装设2×7/2.2吊板拉线-软石","处",2.55,{"v":3.6,"d":"3.60"}]
["TXL3-118A","装设2×7/2.2吊板拉线-软石-用于丘陵、水田、城区","处",{"v":3.315,"d":"3.32"},4.68]
["TXL3-118B","装设2×7/2.2吊板拉线-软石-用于山区","处",4.08,5.76]
["TXL3-118C","装设2×7/2.2吊板拉线-软石-更换拉线","处",{"v":5.1,"d":"5.10"},{"v":7.2,"d":"7.20"}]
["TXL3-119","装设2×7/2.2吊板拉线-坚石","处",3.33,0.25]
["TXL3-119A","装设2×7/2.2吊板拉线-坚石-用于丘陵、水田、城区","处",{"v":4.329,"d":"4.33"},{"v":0.325,"d":"0.33"}]
["TXL3-119B","装设2×7/2.2吊板拉线-坚石-用于山区","处",{"v":5.328,"d":"5.33"},{"v":0.4,"d":"0.40"}]
["TXL3-119C","装设2×7/2.2吊板拉线-坚石-更换拉线","处",6.66,{"v":0.5,"d":"0.50"}]
["TXL3-120","装设2×7/2.6上2下1V型拉线-综合土","处",2.54,{"v":1.6,"d":"1.60"}]
["TXL3-120A","装设2×7/2.6上2下1V型拉线-综合土-用于丘陵、水田、城区","处",{"v":3.302,"d":"3.30"},2.08]
["TXL3-120B","装设2×7/2.6上2下1V型拉线-综合土-用于山区","处",{"v":4.064,"d":"4.06"},2.56]
["TXL3-120C","装设2×7/2.6上2下1V型拉线-综合土-更换拉线","处",5.08,{"v":3.2,"d":"3.20"}]
["TXL3-121","装设2×7/2.6上2下1V型拉线-软石","处",2.81,{"v":4.3,"d":"4.30"}]
["TXL3-121A","装设2×7/2.6上2下1V型拉线-软石-用于丘陵、水田、城区","处",{"v":3.653,"d":"3.65"},5.59]
["TXL3-121B","装设2×7/2.6上2下1V型拉线-软石-用于山区","处",{"v":4.496,"d":"4.50"},6.88]
["TXL3-121C","装设2×7/2.6上2下1V型拉线-软石-更换拉线","处",5.62,{"v":8.6,"d":"8.60"}]
["TXL3-122","装设2×7/2.6上2下1V型拉线-坚石","处",2.88,{"v":0.2,"d":"0.20"}]
["TXL3-122A","装设2×7/2.6上2下1V型拉线-坚石-用于丘陵、水田、城区","处",{"v":3.744,"d":"3.74"},0.26]
["TXL3-122B","装设2×7/2.6上2下1V型拉线-坚石-用于山区","处",{"v":4.608,"d":"4.61"},0.32]
["TXL3-122C","装设2×7/2.6上2下1V型拉线-坚石-更换拉线","处",5.76,{"v":0.4,"d":"0.40"}]
["TXL3-123","装设2×7/3.0上2下1V型拉线-综合土","处",{"v":3.3,"d":"3.30"},{"v":1.8,"d":"1.80"}]
["TXL3-123A","装设2×7/3.0上2下1V型拉线-综合土-用于丘陵、水田、城区","处",4.29,2.34]
["TXL3-123B","装设2×7/3.0上2下1V型拉线-综合土-用于山区","处",5.28,2.88]
["TXL3-123C","装设2×7/3.0上2下1V型拉线-综合土-更换拉线","处",{"v":6.6,"d":"6.60"},{"v":3.6,"d":"3.60"}]
["TXL3-124","装设2×7/3.0上2下1V型拉线-软石","处",{"v":3.7,"d":"3.70"},{"v":4.6,"d":"4.60"}]
["TXL3-124A","装设2×7/3.0上2下1V型拉线-软石-用于丘陵、水田、城区","处",4.81,5.98]
["TXL3-124B","装设2×7/3.0上2下1V型拉线-软石-用于山区","处",5.92,7.36]
["TXL3-124C","装设2×7/3.0上2下1V型拉线-软石-更换拉线","处",{"v":7.4,"d":"7.40"},{"v":9.2,"d":"9.20"}]
["TXL3-125","装设2×7/3.0上2下1V型拉线-坚石","处",3.75,{"v":0.3,"d":"0.30"}]
["TXL3-125A","装设2×7/3.0上2下1V型拉线-坚石-用于丘陵、水田、城区","处",{"v":4.875,"d":"4.88"},0.39]
["TXL3-125B","装设2×7/3.0上2下1V型拉线-坚石-用于山区","处",{"v":6,"d":"6.00"},0.48]
["TXL3-125C","装设2×7/3.0上2下1V型拉线-坚石-更换拉线","处",{"v":7.5,"d":"7.50"},{"v":0.6,"d":"0.60"}]
["TXL3-126","装设2×7/2.2吊板拉线-综合土","处",0.94,{"v":0.6,"d":"0.60"}]
["TXL3-126A","装设2×7/2.2吊板拉线-综合土-用于丘陵、水田、城区","处",{"v":1.222,"d":"1.22"},0.78]
["TXL3-126B","装设2×7/2.2吊板拉线-综合土-用于山区","处",{"v":1.504,"d":"1.50"},0.96]
["TXL3-126C","装设2×7/2.2吊板拉线-综合土-更换拉线","处",1.88,{"v":1.2,"d":"1.20"}]
["TXL3-127","装设2×7/2.2吊板拉线-软石","处",1.11,1.63]
["TXL3-127A","装设2×7/2.2吊板拉线-软石-用于丘陵、水田、城区","处",{"v":1.443,"d":"1.44"},{"v":2.119,"d":"2.12"}]
["TXL3-127B","装设2×7/2.2吊板拉线-软石-用于山区","处",{"v":1.776,"d":"1.78"},{"v":2.608,"d":"2.61"}]
["TXL3-127C","装设2×7/2.2吊板拉线-软石-更换拉线","处",2.22,3.26]
["TXL3-128","装设2×7/2.2吊板拉线-坚石","处",2.11,0.07]
["TXL3-128A","装设2×7/2.2吊板拉线-坚石-用于丘陵、水田、城区","处",{"v":2.743,"d":"2.74"},{"v":0.091,"d":"0.09"}]
["TXL3-128B","装设2×7/2.2吊板拉线-坚石-用于山区","处",{"v":3.376,"d":"3.38"},{"v":0.112,"d":"0.11"}]
["TXL3-128C","装设2×7/2.2吊板拉线-坚石-更换拉线","处",4.22,0.14]
["TXL3-129","装设2×7/2.6吊板拉线-综合土","处",{"v":1,"d":"1.00"},{"v":0.7,"d":"0.70"}]
["TXL3-129A","装设2×7/2.6吊板拉线-综合土-用于丘陵、水田、城区","处",{"v":1.3,"d":"1.30"},0.91]
["TXL3-129B","装设2×7/2.6吊板拉线-综合土-用于山区","处",{"v":1.6,"d":"1.60"},1.12]
["TXL3-129C","装设2×7/2.6吊板拉线-综合土-更换拉线","处",{"v":2,"d":"2.00"},{"v":1.4,"d":"1.40"}]
["TXL3-130","装设2×7/2.6吊板拉线-软石","处",1.19,1.93]
["TXL3-130A","装设2×7/2.6吊板拉线-软石-用于丘陵、水田、城区","处",{"v":1.547,"d":"1.55"},{"v":2.509,"d":"2.51"}]
["TXL3-130B","装设2×7/2.6吊板拉线-软石-用于山区","处",{"v":1.904,"d":"1.90"},{"v":3.088,"d":"3.09"}]
["TXL3-130C","装设2×7/2.6吊板拉线-软石-更换拉线","处",2.38,3.86]
["TXL3-131","装设2×7/2.6吊板拉线-坚石","处",2.18,0.08]
["TXL3-131A","装设2×7/2.6吊板拉线-坚石-用于丘陵、水田、城区","处",{"v":2.834,"d":"2.83"},{"v":0.104,"d":"0.10"}]
["TXL3-131B","装设2×7/2.6吊板拉线-坚石-用于山区","处",{"v":3.488,"d":"3.49"},{"v":0.128,"d":"0.13"}]
["TXL3-131C","装设2×7/2.6吊板拉线-坚石-更换拉线","处",4.36,0.16]
["TXL3-132","装设2×7/3.0吊板拉线-综合土","处",1.18,{"v":0.7,"d":"0.70"}]
["TXL3-132A","装设2×7/3.0吊板拉线-综合土-用于丘陵、水田、城区","处",{"v":1.534,"d":"1.53"},0.91]
["TXL3-132B","装设2×7/3.0吊板拉线-综合土-用于山区","处",{"v":1.888,"d":"1.89"},1.12]
["TXL3-132C","装设2×7/3.0吊板拉线-综合土-更换拉线","处",2.36,{"v":1.4,"d":"1.40"}]
["TXL3-133","装设2×7/3.0吊板拉线-软石","处",1.37,1.93]
["TXL3-133A","装设2×7/3.0吊板拉线-软石-用于丘陵、水田、城区","处",{"v":1.781,"d":"1.78"},{"v":2.509,"d":"2.51"}]
["TXL3-133B","装设2×7/3.0吊板拉线-软石-用于山区","处",{"v":2.192,"d":"2.19"},{"v":3.088,"d":"3.09"}]
["TXL3-133C","装设2×7/3.0吊板拉线-软石-更换拉线","处",2.74,3.86]
["TXL3-134","装设2×7/3.0吊板拉线-坚石","处",2.35,{"v":0.1,"d":"0.10"}]
["TXL3-134A","装设2×7/3.0吊板拉线-坚石-用于丘陵、水田、城区","处",{"v":3.055,"d":"3.06"},0.13]
["TXL3-134B","装设2×7/3.0吊板拉线-坚石-用于山区","处",3.76,0.16]
["TXL3-134C","装设2×7/3.0吊板拉线-坚石-更换拉线","处",{"v":4.7,"d":"4.70"},{"v":0.2,"d":"0.20"}]
["TXL3-135","制作横木拉线地锚-7/2.6单条单下","个",{"v":0.4,"d":"0.40"},{"v":0.2,"d":"0.20"}]
["TXL3-135A","制作横木拉线地锚-7/2.6单条单下-用于丘陵、水田、城区","个",0.52,0.26]
["TXL3-135B","制作横木拉线地锚-7/2.6单条单下-用于山区","个",0.64,0.32]
["TXL3-135C","制作横木拉线地锚-7/2.6单条单下-更换拉线","个",{"v":0.8,"d":"0.80"},{"v":0.4,"d":"0.40"}]
["TXL3-136","制作横木拉线地锚-7/3.0单条单下","个",0.42,{"v":0.2,"d":"0.20"}]
["TXL3-136A","制作横木拉线地锚-7/3.0单条单下-用于丘陵、水田、城区","个",{"v":0.546,"d":"0.55"},0.26]
["TXL3-136B","制作横木拉线地锚-7/3.0单条单下-用于山区","个",{"v":0.672,"d":"0.67"},0.32]
["TXL3-136C","制作横木拉线地锚-7/3.0单条单下-更换拉线","个",0.84,{"v":0.4,"d":"0.40"}]
["TXL3-137","制作横木拉线地锚-7/2.2单条双下","个",{"v":0.3,"d":"0.30"},{"v":0.2,"d":"0.20"}]
["TXL3-137A","制作横木拉线地锚-7/2.2单条双下-用于丘陵、水田、城区","个",0.39,0.26]
["TXL3-137B","制作横木拉线地锚-7/2.2单条双下-用于山区","个",0.48,0.32]
["TXL3-137C","制作横木拉线地锚-7/2.2单条双下-更换拉线","个",{"v":0.6,"d":"0.60"},{"v":0.4,"d":"0.40"}]
["TXL3-138","制作横木拉线地锚-7/2.6单条双下","个",0.32,{"v":0.2,"d":"0.20"}]
["TXL3-138A","制作横木拉线地锚-7/2.6单条双下-用于丘陵、水田、城区","个",{"v":0.416,"d":"0.42"},0.26]
["TXL3-138B","制作横木拉线地锚-7/2.6单条双下-用于山区","个",{"v":0.512,"d":"0.51"},0.32]
["TXL3-138C","制作横木拉线地锚-7/2.6单条双下-更换拉线","个",0.64,{"v":0.4,"d":"0.40"}]
["TXL3-139","制作横木拉线地锚-7/3.0单条双下","个",0.34,{"v":0.2,"d":"0.20"}]
["TXL3-139A","制作横木拉线地锚-7/3.0单条双下-用于丘陵、水田、城区","个",{"v":0.442,"d":"0.44"},0.26]
["TXL3-139B","制作横木拉线地锚-7/3.0单条双下-用于山区","个",{"v":0.544,"d":"0.54"},0.32]
["TXL3-139C","制作横木拉线地锚-7/3.0单条单下-更换拉线","个",0.68,{"v":0.4,"d":"0.40"}]
["TXL3-140","制作横木拉线地锚-7/3.0双条四下","个",0.41,0.24]
["TXL3-140A","制作横木拉线地锚-7/3.0双条四下-用于丘陵、水田、城区","个",{"v":0.533,"d":"0.53"},{"v":0.312,"d":"0.31"}]
["TXL3-140B","制作横木拉线地锚-7/3.0双条四下-用于山区","个",{"v":0.656,"d":"0.66"},{"v":0.384,"d":"0.38"}]
["TXL3-140C","制作横木拉线地锚-7/3.0双条四下-更换拉线","个",0.82,0.48]
["TXL3-141","制作横木拉线地锚-7/3.0三条六下","个",0.49,0.28]
["TXL3-141A","制作横木拉线地锚-7/3.0三条六下-用于丘陵、水田、城区","个",{"v":0.637,"d":"0.64"},{"v":0.364,"d":"0.36"}]
["TXL3-141B","制作横木拉线地锚-7/3.0三条六下-用于山区","个",{"v":0.784,"d":"0.78"},{"v":0.448,"d":"0.45"}]
["TXL3-141C","制作横木拉线地锚-7/3.0三条六下-更换拉线","个",0.98,0.56]
["TXL3-142","安装拉线隔电子","处",0.24,{"v":0.1,"d":"0.10"}]
["TXL3-142A","安装拉线隔电子-用于丘陵、水田、城区","处",{"v":0.312,"d":"0.31"},0.13]
["TXL3-142B","安装拉线隔电子-用于山区","处",{"v":0.384,"d":"0.38"},0.16]
["TXL3-143","安装拉线警示保护管","处",{"v":0.2,"d":"0.20"},{"v":0.2,"d":"0.20"}]
["TXL3-143A","安装拉线警示保护管-用于丘陵、水田、城区","处",0.26,0.26]
["TXL3-143B","安装拉线警示保护管-用于山区","处",0.32,0.32]
["TXL3-144","电杆接高装置-单槽钢","处",0.24,0.24]
["TXL3-144A","电杆接高装置-单槽钢-用于丘陵、水田、城区","处",{"v":0.312,"d":"0.31"},{"v":0.312,"d":"0.31"}]
["TXL3-144B","电杆接高装置-单槽钢-用于山区","处",{"v":0.384,"d":"0.38"},{"v":0.384,"d":"0.38"}]
["TXL3-145","电杆接高装置-双槽钢","处",{"v":0.4,"d":"0.40"},{"v":0.4,"d":"0.40"}]
["TXL3-145A","电杆接高装置-双槽钢-用于丘陵、水田、城区","处",0.52,0.52]
["TXL3-145B","电杆接高装置-双槽钢-用于山区","处",0.64,0.64]
["TXL3-146","电杆地线-拉线式","条",0.07,{"v":0,"d":"0.00"}]
["TXL3-146A","电杆地线-拉线式-用于丘陵、水田、城区","条",{"v":0.091,"d":"0.09"},{"v":0,"d":"0.00"}]
["TXL3-146B","电杆地线-拉线式-用于山区","条",{"v":0.112,"d":"0.11"},{"v":0,"d":"0.00"}]
["TXL3-147","电杆地线-直埋式","条",0.18,0.18]
["TXL3-147A","电杆地线-直埋式-用于丘陵、水田、城区","条",{"v":0.234,"d":"0.23"},{"v":0.234,"d":"0.23"}]
["TXL3-147B","电杆地线-直埋式-用于山区","条",{"v":0.288,"d":"0.29"},{"v":0.288,"d":"0.29"}]
["TXL3-148","电杆地线-延伸式","条",0.18,0.38]
["TXL3-148A","电杆地线-延伸式-用于丘陵、水田、城区","条",{"v":0.234,"d":"0.23"},{"v":0.494,"d":"0.49"}]
["TXL3-148B","电杆地线-延伸式-用于山区","条",{"v":0.288,"d":"0.29"},{"v":0.608,"d":"0.61"}]
["TXL3-149","安装预留缆架","架",{"v":0.1,"d":"0.10"},{"v":0.1,"d":"0.10"}]
["TXL3-149A","安装预留缆架-用于丘陵、水田、城区","架",0.13,0.13]
["TXL3-149B","安装预留缆架-用于山区","架",0.16,0.16]
["TXL3-150","安装吊线保护装置","m",0.05,0.05]
["TXL3-150A","安装吊线保护装置-用于丘陵、水田、城区","m",{"v":0.065,"d":"0.07"},{"v":0.065,"d":"0.07"}]
["TXL3-150B","安装吊线保护装置-用于山区","m",0.08,0.08]
["TXL3-151","单装上杆钉-10只以下","处",0.12,0.12]
["TXL3-151A","单装上杆钉-10只以下-用于丘陵、水田、城区","处",{"v":0.156,"d":"0.16"},{"v":0.156,"d":"0.16"}]
["TXL3-151B","单装上杆钉-10只以下-用于山区","处",{"v":0.192,"d":"0.19"},{"v":0.192,"d":"0.19"}]
["TXL3-152","单装上杆钉-10只以上","处",{"v":0.2,"d":"0.20"},{"v":0.2,"d":"0.20"}]
["TXL3-152A","单装上杆钉-10只以上-用于丘陵、水田、城区","处",0.26,0.26]
["TXL3-152B","单装上杆钉-10只以上-用于山区","处",0.32,0.32]
["TXL3-153","安装工作台及上杆钉-单杆","处",{"v":0.5,"d":"0.50"},{"v":0.5,"d":"0.50"}]
["TXL3-153A","安装工作台及上杆钉-单杆-用于丘陵、水田、城区","处",0.65,0.65]
["TXL3-153B","安装工作台及上杆钉-单杆-用于山区","处",{"v":0.8,"d":"0.80"},{"v":0.8,"d":"0.80"}]
["TXL3-154","安装工作台及上杆钉-H杆","处",{"v":1.6,"d":"1.60"},{"v":1.6,"d":"1.60"}]
["TXL3-154A","安装工作台及上杆钉-H杆-用于丘陵、水田、城区","处",2.08,2.08]
["TXL3-154B","安装工作台及上杆钉-H杆-用于山区","处",2.56,2.56]
["TXL3-155","线路整修","千米条",8.93,8.93]
["TXL3-155A","线路整修-用于丘陵、水田、城区","千米条",{"v":11.609,"d":"11.61"},{"v":11.609,"d":"11.61"}]
["TXL3-155B","线路整修-用于山区","千米条",{"v":14.288,"d":"14.29"},{"v":14.288,"d":"14.29"}]
["TXL3-156","木电杆架设7/2.2吊线-平原","千米条",{"v":3,"d":"3.00"},3.25]
["TXL3-157","木电杆架设7/2.2吊线-丘陵","千米条",4.25,4.54]
["TXL3-158","木电杆架设7/2.2吊线-山区","千米条",4.67,4.86]
["TXL3-159","木电杆架设7/2.2吊线-城区","千米条",{"v":4.5,"d":"4.50"},{"v":4.9,"d":"4.90"}]
["TXL3-160","木电杆架设7/2.2吊线-平原","千米条",3.18,3.43]
["TXL3-161","木电杆架设7/2.2吊线-丘陵","千米条",4.28,4.64]
["TXL3-162","木电杆架设7/2.2吊线-山区","千米条",{"v":4.7,"d":"4.70"},4.96]
["TXL3-163","木电杆架设7/2.2吊线-城区","千米条",4.53,4.98]
["TXL3-164","木电杆架设7/3.0吊线-平原","千米条",3.24,3.43]
["TXL3-165","木电杆架设7/3.0吊线-丘陵","千米条",4.33,4.76]
["TXL3-166","木电杆架设7/3.0吊线-山区","千米条",4.59,5.15]
["TXL3-167","木电杆架设7/3.0吊线-城区","千米条",4.59,5.15]
["TXL3-168","水泥杆架设7/2.2吊线-平原","千米条",{"v":3,"d":"3.00"},3.25]
["TXL3-169","水泥杆架设7/2.2吊线-丘陵","千米条",4.25,4.54]
["TXL3-169A","拆除水泥杆7/2.2吊线-丘陵(工日*0.3）","千米条",{"$f":"4.25*0.3","v":{"v":1.275,"d":"1.28"}},{"$f":"4.54*0.3","v":{"v":1.362,"d":"1.36"}}]
["TXL3-170","水泥杆架设7/2.2吊线-山区","千米条",4.67,4.86]
["TXL3-171","水泥杆架设7/2.2吊线-城区","千米条",{"v":4.5,"d":"4.50"},{"v":4.9,"d":"4.90"}]
["TXL3-172","水泥杆架设7/2.6吊线-平原","千米条",3.18,3.43]
["TXL3-173","水泥杆架设7/2.6吊线-丘陵","千米条",4.28,4.64]
["TXL3-174","水泥杆架设7/2.6吊线-山区","千米条",{"v":4.7,"d":"4.70"},4.96]
["TXL3-175","水泥杆架设7/3.0吊线-城区","千米条",4.53,4.98]
["TXL3-176","水泥杆架设7/3.0吊线-平原","千米条",3.24,3.43]
["TXL3-177","水泥杆架设7/3.0吊线-丘陵","千米条",4.33,4.76]
["TXL3-178","水泥杆架设7/3.0吊线-山区","千米条",4.59,5.15]
["TXL3-179","水泥杆架设7/3.0吊线-城区","千米条",4.59,5.15]
["TXL3-180","架设100m以内辅助吊线","条档",{"v":1,"d":"1.00"},{"v":1,"d":"1.00"}]
["TXL3-181","架设自承式架空光缆-36芯以下","千米条",6.48,10.31]
["TXL3-181A","架设自承式架空光缆-36芯以下-敷设档距在100米及以上","千米条",12.96,20.62]
["TXL3-182","架设自承式架空光缆-72芯以下","千米条",7.35,11.68]
["TXL3-182A","架设自承式架空光缆-72芯以下-敷设档距在100米及以上","千米条",{"v":14.7,"d":"14.70"},23.36]
["TXL3-183","架设自承式架空光缆-72芯以下","千米条",8.21,13.05]
["TXL3-183A","架设自承式架空光缆-72芯以下-敷设档距在100米及以上","千米条",16.42,{"v":26.1,"d":"26.10"}]
["TXL3-184","架设自承式架空光缆-288芯以下","千米条",{"v":9.5,"d":"9.50"},14.85]
["TXL3-184A","架设自承式架空光缆-288芯以下-敷设档距在100米及以上","千米条",{"v":19,"d":"19.00"},{"v":29.7,"d":"29.70"}]
["TXL3-185","架设自承式架空光缆-288芯以上","千米条",10.82,16.65]
["TXL3-185A","架设自承式架空光缆-288芯以上-敷设档距在100米及以上","千米条",21.64,{"v":33.3,"d":"33.30"}]
["TXL3-186","架设自承式蝶形光缆","百米条",0.75,{"v":0.9,"d":"0.90"}]
["TXL3-187","挂钩法架设架空光缆-平原-36芯以下","千米条",6.31,5.13]
["TXL3-187A","挂钩法架设架空光缆-平原-36芯以下-敷设档距在100米及以上","千米条",12.62,10.26]
["TXL3-188","挂钩法架设架空光缆-平原-72芯以下","千米条",7.52,5.81]
["TXL3-188A","挂钩法架设架空光缆-平原-72芯以下-敷设档距在100米及以上","千米条",15.04,11.62]
["TXL3-189","挂钩法架设架空光缆-平原-144芯以下","千米条",8.25,6.52]
["TXL3-189A","挂钩法架设架空光缆-平原-144芯以下-敷设档距在100米及以上","千米条",{"v":16.5,"d":"16.50"},13.04]
["TXL3-190","挂钩法架设架空光缆-平原-288芯以下","千米条",8.71,8.12]
["TXL3-190A","挂钩法架设架空光缆-平原-288芯以下-敷设档距在100米及以上","千米条",17.42,16.24]
["TXL3-191","挂钩法架设架空光缆-平原-288芯以上","千米条",9.15,8.56]
["TXL3-191A","挂钩法架设架空光缆-平原-288芯以上-敷设档距在100米及以上","千米条",{"v":18.3,"d":"18.30"},17.12]
["TXL3-192","挂钩法架设架空光缆-丘陵、城区、水田-36芯以下","千米条",8.68,6.86]
["TXL3-192B","拆除挂钩法架空光缆-丘陵、城区、水田-36芯以下（工日*0.7）","千米条",{"$f":"8.68*0.7","v":{"v":6.076,"d":"6.08"}},{"$f":"6.86*0.7","v":{"v":4.802,"d":"4.80"}}]
["TXL3-192C","移挂挂钩法架空光缆-丘陵、城区、水田-36芯以下（工日*1.3）","千米条",{"$f":"8.68*1.3","v":{"v":11.284,"d":"11.28"}},{"$f":"6.86*1.3","v":{"v":8.918,"d":"8.92"}}]
["TXL3-192A","挂钩法架设架空光缆-丘陵、城区、水田-36芯以下-敷设档距在100米及以上","千米条",17.36,13.72]
["TXL3-193","挂钩法架设架空光缆-丘陵、城区、水田-72芯以下","千米条",9.93,7.79]
["TXL3-193A","挂钩法架设架空光缆-丘陵、城区、水田-72芯以下-敷设档距在100米及以上","千米条",19.86,15.58]
["TXL3-194","挂钩法架设架空光缆-丘陵、城区、水田-144芯以下","千米条",11.05,8.75]
["TXL3-194A","挂钩法架设架空光缆-丘陵、城区、水田-144芯以下-敷设档距在100米及以上","千米条",{"v":22.1,"d":"22.10"},{"v":17.5,"d":"17.50"}]
["TXL3-195","挂钩法架设架空光缆-丘陵、城区、水田-288芯以下","千米条",11.68,10.86]
["TXL3-195A","挂钩法架设架空光缆-丘陵、城区、水田-288芯以下-敷设档距在100米及以上","千米条",23.36,21.72]
["TXL3-196","挂钩法架设架空光缆-丘陵、城区、水田-288芯以下","千米条",12.23,11.39]
["TXL3-196A","挂钩法架设架空光缆-丘陵、城区、水田-288芯以下-敷设档距在100米及以上","千米条",24.46,22.78]
["TXL3-197","挂钩法架设架空光缆-山区-36芯以下","千米条",10.24,7.98]
["TXL3-197A","挂钩法架设架空光缆-山区-36芯以下-敷设档距在100米及以上","千米条",20.48,15.96]
["TXL3-198","挂钩法架设架空光缆-山区-72芯以下","千米条",11.72,9.13]
["TXL3-198A","挂钩法架设架空光缆-山区-72芯以下-敷设档距在100米及以上","千米条",23.44,18.26]
["TXL3-199","挂钩法架设架空光缆-山区-144芯以下","千米条",12.94,11.12]
["TXL3-199A","挂钩法架设架空光缆-山区-144芯以下-敷设档距在100米及以上","千米条",25.88,22.24]
["TXL3-200","挂钩法架设架空光缆-山区-288芯以下","千米条",14.32,{"v":13.2,"d":"13.20"}]
["TXL3-200A","挂钩法架设架空光缆-山区-288芯以下-敷设档距在100米及以上","千米条",28.64,{"v":26.4,"d":"26.40"}]
["TXL3-201","挂钩法架设架空光缆-山区-288芯以上","千米条",15.25,{"v":14.1,"d":"14.10"}]
["TXL3-201A","挂钩法架设架空光缆-山区-288芯以上-敷设档距在100米及以上","千米条",{"v":30.5,"d":"30.50"},{"v":28.2,"d":"28.20"}]
["TXL3-202","挂钩法架设蝶形光缆","百米条",0.85,0.61]
["TXL3-202A","挂钩法架设蝶形光缆-敷设档距在100米及以上","百米条",{"v":1.7,"d":"1.70"},1.22]
["TXL3-202B","挂钩法架设蝶形光缆-同一吊线路由布放每增加一条","百米条",{"v":0.425,"d":"0.43"},{"v":0.305,"d":"0.31"}]
["TXL3-202C","挂钩法架设蝶形光缆-敷设档距在100米及以上-同一吊线路由布放每增加一条","百米条",0.85,0.61]
["TXL3-203","缠绕法架设架空光缆-平原-36芯以下","千米条",{"v":7,"d":"7.00"},{"v":8,"d":"8.00"}]
["TXL3-203A","缠绕法架设架空光缆-平原-36芯以下-敷设档距在100米及以上","千米条",{"v":14,"d":"14.00"},{"v":16,"d":"16.00"}]
["TXL3-204","缠绕法架设架空光缆-平原-72芯以下","千米条",{"v":7.9,"d":"7.90"},{"v":9.8,"d":"9.80"}]
["TXL3-204A","缠绕法架设架空光缆-平原-72芯以下-敷设档距在100米及以上","千米条",{"v":15.8,"d":"15.80"},{"v":19.6,"d":"19.60"}]
["TXL3-205","缠绕法架设架空光缆-平原-144芯以下","千米条",{"v":8.8,"d":"8.80"},{"v":11.6,"d":"11.60"}]
["TXL3-205A","缠绕法架设架空光缆-平原-144芯以下-敷设档距在100米及以上","千米条",{"v":17.6,"d":"17.60"},{"v":23.2,"d":"23.20"}]
["TXL3-206","缠绕法架设架空光缆-平原-288芯以下","千米条",{"v":9.7,"d":"9.70"},{"v":13.4,"d":"13.40"}]
["TXL3-206A","缠绕法架设架空光缆-平原-288芯以下-敷设档距在100米及以上","千米条",{"v":19.4,"d":"19.40"},{"v":26.8,"d":"26.80"}]
["TXL3-207","缠绕法架设架空光缆-平原-288芯以上","千米条",{"v":10.6,"d":"10.60"},{"v":15.2,"d":"15.20"}]
["TXL3-207A","缠绕法架设架空光缆-平原-288芯以上-敷设档距在100米及以上","千米条",{"v":21.2,"d":"21.20"},{"v":30.4,"d":"30.40"}]
["TXL3-208","缠绕法架设架空光缆-丘陵、城区、水田-36芯以下","千米条",{"v":9.8,"d":"9.80"},{"v":11.2,"d":"11.20"}]
["TXL3-208A","缠绕法架设架空光缆-丘陵、城区、水田-36芯以下-敷设档距在100米及以上","千米条",{"v":19.6,"d":"19.60"},{"v":22.4,"d":"22.40"}]
["TXL3-209","缠绕法架设架空光缆-丘陵、城区、水田-72芯以下","千米条",{"v":10.7,"d":"10.70"},{"v":13,"d":"13.00"}]
["TXL3-209A","缠绕法架设架空光缆-丘陵、城区、水田-72芯以下-敷设档距在100米及以上","千米条",{"v":21.4,"d":"21.40"},{"v":26,"d":"26.00"}]
["TXL3-210","缠绕法架设架空光缆-丘陵、城区、水田-144芯以下","千米条",{"v":11.6,"d":"11.60"},{"v":14.8,"d":"14.80"}]
["TXL3-210A","缠绕法架设架空光缆-丘陵、城区、水田-144芯以下-敷设档距在100米及以上","千米条",{"v":23.2,"d":"23.20"},{"v":29.6,"d":"29.60"}]
["TXL3-211","缠绕法架设架空光缆-丘陵、城区、水田-288芯以下","千米条",{"v":12.5,"d":"12.50"},{"v":16.5,"d":"16.50"}]
["TXL3-211A","缠绕法架设架空光缆-丘陵、城区、水田-288芯以下-敷设档距在100米及以上","千米条",{"v":25,"d":"25.00"},{"v":33,"d":"33.00"}]
["TXL3-212","缠绕法架设架空光缆-丘陵、城区、水田-288芯以上","千米条",{"v":13.4,"d":"13.40"},{"v":18.4,"d":"18.40"}]
["TXL3-212A","缠绕法架设架空光缆-丘陵、城区、水田-288芯以上-敷设档距在100米及以上","千米条",{"v":26.8,"d":"26.80"},{"v":36.8,"d":"36.80"}]
["TXL3-213","缠绕法架设架空光缆-山区-36芯以下","千米条",{"v":11.9,"d":"11.90"},{"v":13.6,"d":"13.60"}]
["TXL3-213A","缠绕法架设架空光缆-山区-36芯以下-敷设档距在100米及以上","千米条",{"v":23.8,"d":"23.80"},{"v":27.2,"d":"27.20"}]
["TXL3-214","缠绕法架设架空光缆-山区-72芯以下","千米条",{"v":12.8,"d":"12.80"},{"v":15.4,"d":"15.40"}]
["TXL3-214A","缠绕法架设架空光缆-山区-72芯以下-敷设档距在100米及以上","千米条",{"v":25.6,"d":"25.60"},{"v":30.8,"d":"30.80"}]
["TXL3-215","缠绕法架设架空光缆-山区-144芯以下","千米条",{"v":13.7,"d":"13.70"},{"v":17.2,"d":"17.20"}]
["TXL3-215A","缠绕法架设架空光缆-山区-144芯以下-敷设档距在100米及以上","千米条",{"v":27.4,"d":"27.40"},{"v":34.4,"d":"34.40"}]
["TXL3-216","缠绕法架设架空光缆-山区-288芯以下","千米条",{"v":14.6,"d":"14.60"},{"v":19,"d":"19.00"}]
["TXL3-216A","缠绕法架设架空光缆-山区-288芯以下-敷设档距在100米及以上","千米条",{"v":29.2,"d":"29.20"},{"v":38,"d":"38.00"}]
["TXL3-217","缠绕法架设架空光缆-山区-288芯以上","千米条",{"v":15.5,"d":"15.50"},{"v":20.8,"d":"20.80"}]
["TXL3-217A","缠绕法架设架空光缆-山区-288芯以上-敷设档距在100米及以上","千米条",{"v":31,"d":"31.00"},{"v":41.6,"d":"41.60"}]
["TXL3-218","吊线式架空电缆-100对以下","千米条",9.05,10.63]
["TXL3-218","拆除吊线式架空电缆-100对以下（工日*0.7）","千米条",{"$f":"9.05*0.7","v":{"v":6.335,"d":"6.34"}},{"$f":"10.63*0.7","v":{"v":7.441,"d":"7.44"}}]
["TXL3-218","移挂吊线式架空电缆-100对以下（工日*1.3）","千米条",{"$f":"9.05*1.3","v":{"v":11.765,"d":"11.77"}},{"$f":"10.63*1.3","v":{"v":13.819,"d":"13.82"}}]
["TXL3-218A","吊线式架空电缆-100对以下-敷设档距在100米及以上","千米条",{"v":18.1,"d":"18.10"},21.26]
["TXL3-219","吊线式架空电缆-200对以下","千米条",11.84,13.89]
["TXL3-219A","吊线式架空电缆-200对以下-敷设档距在100米及以上","千米条",23.68,27.78]
["TXL3-220","吊线式架空电缆-400对以下","千米条",13.58,15.95]
["TXL3-220A","吊线式架空电缆-400对以下-敷设档距在100米及以上","千米条",27.16,{"v":31.9,"d":"31.90"}]
["TXL3-221","架空自承式电缆-100对以下","千米条",14.59,15.18]
["TXL3-221A","架空自承式电缆-100对以下-敷设档距在100米及以上","千米条",29.18,30.36]
["TXL3-222","架空自承式电缆-100对以上","千米条",17.48,{"v":18.2,"d":"18.20"}]
["TXL3-222A","架空自承式电缆-100对以上-敷设档距在100米及以上","千米条",34.96,{"v":36.4,"d":"36.40"}]
["TXL4-001","布放光(电)缆人孔抽水-积水","个",0.25,{"v":0.5,"d":"0.50"}]
["TXL4-002","布放光(电)缆人孔抽水-流水","个",0.38,{"v":1,"d":"1.00"}]
["TXL4-003","布放光(电)缆手孔抽水","个",0.13,0.25]
["TXL4-004","人工敷设塑料子管-1孔子管","km",{"v":4,"d":"4.00"},5.57]
["TXL4-005","人工敷设塑料子管-2孔子管","km",{"v":5.2,"d":"5.20"},{"v":813,"d":"813.00"}]
["TXL4-006","人工敷设塑料子管-3孔子管","km",6.17,10.54]
["TXL4-007","人工敷设塑料子管-4孔子管","km",7.13,12.96]
["TXL4-008","人工敷设塑料子管-5孔子管","km",{"v":8.1,"d":"8.10"},15.37]
["TXL4-009","空闲管孔中人工敷设一带纺织子管","km",3.63,5.15]
["TXL4-010","非空闲管孔中人工敷设一带纺织子管","km",6.53,9.27]
["TXL4-011","敷设管道光缆-12芯以下","千米条",{"v":5.5,"d":"5.50"},10.94]
["TXL4-011A","敷设管道光缆-12芯以下-室外通道","千米条",3.85,7.66]
["TXL4-012","敷设管道光缆-24芯以下","千米条",6.83,13.08]
["TXL4-012A","敷设管道光缆-24芯以下-室外通道","千米条",4.79,9.16]
["TXL4-013","敷设管道光缆-48芯以下","千米条",8.02,15.35]
["TXL4-013A","敷设管道光缆-48芯以下-室外通道","千米条",5.62,10.75]
["TXL4-014","敷设管道光缆-96芯以下","千米条",9.02,17.62]
["TXL4-014A","敷设管道光缆-96芯以下-室外通道","千米条",16.31,12.33]
["TXL4-015","敷设管道光缆-144芯以下","千米条",{"v":10.4,"d":"10.40"},19.87]
["TXL4-015A","敷设管道光缆-144芯以下-室外通道","千米条",7.28,13.91]
["TXL4-016","敷设管道光缆-288芯以下","千米条",11.44,21.86]
["TXL4-016A","敷设管道光缆-288芯以下-室外通道","千米条",8.01,15.31]
["TXL4-017","敷设管道光缆-576芯以下","千米条",14.82,28.41]
["TXL4-017A","敷设管道光缆-576芯以下-室外通道","千米条",10.38,19.89]
["TXL4-018","敷设管道光缆-576芯以上","千米条",19.33,36.43]
["TXL4-018A","敷设管道光缆-576芯以上-室外通道","千米条",13.54,{"v":25.5,"d":"25.50"}]
["TXL4-019","人工敷设管道电缆-200对以下","千米条",11.76,20.03]
["TXL4-019A","人工敷设管道电缆-200对以下-通道内","千米条",8.23,14.02]
["TXL4-020","人工敷设管道电缆-400对以下","千米条",13.94,23.74]
["TXL4-020A","人工敷设管道电缆-400对以下-通道内","千米条",9.76,16.62]
["TXL4-021","人工敷设管道电缆-800对以下","千米条",17.79,30.26]
["TXL4-021A","人工敷设管道电缆-800对以下-通道内","千米条",12.46,21.19]
["TXL4-022","人工敷设管道电缆-1200对以下","千米条",21.63,36.83]
["TXL4-022A","人工敷设管道电缆-1200对以下-通道内","千米条",15.14,25.78]
["TXL4-023","人工敷设管道电缆-1800对以下","千米条",24.48,41.67]
["TXL4-023A","人工敷设管道电缆-1800对以下-通道内","千米条",17.14,29.17]
["TXL4-024","人工敷设管道电缆-2400对以下","千米条",28.84,49.11]
["TXL4-024A","人工敷设管道电缆-2400对以下-通道内","千米条",20.19,34.38]
["TXL4-025","人工敷设管道电缆-2400对以上","千米条",34.81,59.28]
["TXL4-025A","人工敷设管道电缆-2400对以上-通道内","千米条",24.37,{"v":41.5,"d":"41.50"}]
["TXL4-026","机械敷设管道电缆-200对以下","千米条",{"v":9.2,"d":"9.20"},15.67]
["TXL4-027","机械敷设管道电缆-400对以下","千米条",10.51,17.89]
["TXL4-028","机械敷设管道电缆-800对以下","千米条",13.33,22.71]
["TXL4-029","机械敷设管道电缆-1200对以下","千米条",16.08,27.39]
["TXL4-030","机械敷设管道电缆-1800对以下","千米条",19.06,32.46]
["TXL4-031","机械敷设管道电缆-2400对以下","千米条",22.58,38.45]
["TXL4-032","机械敷设管道电缆-2400对以上","千米条",{"v":27.5,"d":"27.50"},46.82]
["TXL4-033","打人(手)孔墙洞-砖砌人孔-3孔管以下","处",0.36,0.36]
["TXL4-034","打人(手)孔墙洞-砖砌人孔-3孔管以上","处",0.54,0.54]
["TXL4-035","打人(手)孔墙洞-混凝土人孔-3孔管以下","处",{"v":0.6,"d":"0.60"},{"v":0.6,"d":"0.60"}]
["TXL4-036","打人(手)孔墙洞-混凝土人孔-3孔管以上","处",{"v":0.9,"d":"0.90"},{"v":0.9,"d":"0.90"}]
["TXL4-037","打穿楼墙洞-砖墙","个",0.07,0.06]
["TXL4-038","打穿楼墙洞-混凝土墙","个",0.14,0.13]
["TXL4-039","打穿楼层洞-预制板-楼层","个",0.07,0.06]
["TXL4-040","打穿楼层洞-混凝土-楼层","个",0.14,0.13]
["TXL4-041","增装支撑物-终端支撑物","套",{"v":0.3,"d":"0.30"},{"v":0.3,"d":"0.30"}]
["TXL4-042","增装支撑物-中间支撑物","套",0.15,0.15]
["TXL4-043","安装引上钢管(Φ50以下)-杆上","套",{"v":0.2,"d":"0.20"},{"v":0.2,"d":"0.20"}]
["TXL4-044","安装引上钢管(Φ50以下)-墙上","套",0.25,0.25]
["TXL4-045","安装引上钢管(Φ50以上)-杆上","套",0.25,0.25]
["TXL4-046","安装引上钢管(Φ50以上)-墙上","套",0.35,0.35]
["TXL4-047","钉固塑料槽板","百米条",{"v":2.6,"d":"2.60"},{"v":2.6,"d":"2.60"}]
["TXL4-048","进局光(电)缆防水封堵","处",0.13,0.13]
["TXL4-049","光(电)缆上线洞楼层间防火封堵","处",0.06,0.06]
["TXL4-050","穿放引上光缆","条",0.52,0.52]
["TXL4-051","穿放引上电缆-200对以下","条",0.42,0.42]
["TXL4-052","穿放引上电缆-200对以上","条",0.46,0.46]
["TXL4-053","架设吊线式墙壁光缆","百米条",2.75,2.75]
["TXL4-053A","架设吊线式墙壁光缆-在已有墙壁吊线上敷设光缆","百米条",{"v":1.375,"d":"1.38"},{"v":1.375,"d":"1.38"}]
["TXL4-054","架设钉固式墙壁光缆","百米条",1.76,1.76]
["TXL4-055","架设自承式墙壁光缆","百米条",2.53,2.53]
["TXL4-056","墙壁方式敷设蝶形光缆","百米条",{"v":2,"d":"2.00"},{"v":2.5,"d":"2.50"}]
["TXL4-057","架设吊线式墙壁电缆-200对以下","百米条",5.23,5.23]
["TXL4-057A","架设吊线式墙壁电缆-200对以下-在已有墙壁吊线上敷设光缆","百米条",{"v":2.615,"d":"2.62"},{"v":2.615,"d":"2.62"}]
["TXL4-058","架设吊线式墙壁电缆-200对以上","百米条",5.48,5.48]
["TXL4-058A","架设吊线式墙壁电缆-200对以上-在已有墙壁吊线上敷设光缆","百米条",2.74,2.74]
["TXL4-059","架设钉固式墙壁电缆-200对以下","百米条",3.34,3.34]
["TXL4-060","架设钉固式墙壁电缆-200对以上","百米条",3.59,3.59]
["TXL4-061","架设自承式墙壁电缆-100对以下","百米条",4.81,4.81]
["TXL4-062","架设自承式墙壁电缆-100对以上","百米条",5.06,5.06]
["TXL5-001","城区气流法敷设微管-3根以下","km",4.33,0.64]
["TXL5-002","城区气流法敷设微管-5根以下","km",{"v":4.6,"d":"4.60"},{"v":1,"d":"1.00"}]
["TXL5-003","城区气流法敷设微管-5根以上","km",4.89,1.86]
["TXL5-004","非城区气流法敷设微管-3根以下","km",3.76,0.56]
["TXL5-005","非城区气流法敷设微管-5根以下","km",{"v":4,"d":"4.00"},0.87]
["TXL5-006","非城区气流法敷设微管-5根以上","km",4.25,1.62]
["TXL5-007","城区人工布放微管-空闲保护管内-3根以下","km",3.15,4.56]
["TXL5-008","城区人工布放微管-空闲保护管内-4~5根","km",3.75,5.18]
["TXL5-009","城区人工布放微管-空闲保护管内-5根以上每增加2根","km",0.42,0.78]
["TXL5-010","城区人工布放微管-非空闲保护管内-3根以下","km",6.55,{"v":7.5,"d":"7.50"}]
["TXL5-011","城区人工布放微管-非空闲保护管内-4~5根","km",{"v":7.1,"d":"7.10"},8.22]
["TXL5-012","管道内人工布放集束管","km",3.71,12.87]
["TXL5-013","保护管贯通","孔千米",{"v":0.8,"d":"0.80"},{"v":1.6,"d":"1.60"}]
["TXL5-014","微管连接","处",{"v":0.3,"d":"0.30"},{"v":0.6,"d":"0.60"}]
["TXL5-015","人（手）孔内安装微管保护装置","套",{"v":1.1,"d":"1.10"},0.55]
["TXL5-016","混凝土路面开微槽-30m以内","处",5.95,5.29]
["TXL5-017","混凝土路面开微槽-每增加10m","10米",1.05,0.95]
["TXL5-018","沥青柏油路面开微槽-30m以内","处",{"v":5.2,"d":"5.20"},4.75]
["TXL5-019","沥青柏油路面开微槽-每增加10m","十米",{"v":0.9,"d":"0.90"},0.85]
["TXL5-020","平原地区气流法敷设光缆-36芯以下","千米条",5.36,1.27]
["TXL5-021","平原地区气流法敷设光缆-72芯以下","千米条",6.01,1.43]
["TXL5-022","平原地区气流法敷设光缆-144芯以下","千米条",6.65,1.58]
["TXL5-023","平原地区气流法敷设光缆-288芯以下","千米条",{"v":7.3,"d":"7.30"},1.74]
["TXL5-024","平原地区气流法敷设光缆-288芯以上","千米条",7.94,1.89]
["TXL5-025","丘陵、水田地区气流法敷设光缆-36芯以下","千米条",6.16,1.47]
["TXL5-026","丘陵、水田地区气流法敷设光缆-72芯以下","千米条",6.91,1.65]
["TXL5-027","丘陵、水田地区气流法敷设光缆-144芯以下","千米条",7.65,1.82]
["TXL5-028","丘陵、水田地区气流法敷设光缆-288芯以下","千米条",8.39,{"v":2,"d":"2.00"}]
["TXL5-029","丘陵、水田地区气流法敷设光缆-288芯以上","千米条",9.13,2.17]
["TXL5-030","山区气流法敷设光缆-36芯以下","千米条",7.51,1.79]
["TXL5-031","山区气流法敷设光缆-72芯以下","千米条",8.41,{"v":2,"d":"2.00"}]
["TXL5-032","山区气流法敷设光缆-144芯以下","千米条",9.31,2.22]
["TXL5-033","山区气流法敷设光缆-288芯以下","千米条",10.22,2.43]
["TXL5-034","山区气流法敷设光缆-288芯以上","千米条",11.12,2.65]
["TXL5-035","微管（集束管）贯通","孔千米",{"v":0.8,"d":"0.80"},{"v":1.5,"d":"1.50"}]
["TXL5-036","人工敷设微槽光缆","千米条",{"v":10.2,"d":"10.20"},1.85]
["TXL5-037","城区气流法敷设微型光缆-配盘长2km以下","千米条",4.47,0.64]
["TXL5-038","城区气流法敷设微型光缆-配盘长2km以上","千米条",6.71,0.96]
["TXL5-039","非城区气流法敷设微型光缆-配盘长2km以下","千米条",3.01,0.46]
["TXL5-040","非城区气流法敷设微型光缆-配盘长2km以上","千米条",4.52,0.65]
["TXL5-041","托板式敷设室内通道光缆","百米条",{"v":0.6,"d":"0.60"},{"v":1.2,"d":"1.20"}]
["TXL5-042","钉固式敷设室内通道光缆","百米条",{"v":1.2,"d":"1.20"},{"v":1.8,"d":"1.80"}]
["TXL5-043","竖井引上光缆","百米条",{"v":1.5,"d":"1.50"},{"v":2,"d":"2.00"}]
["TXL5-044","槽道光缆","百米条",{"v":0.5,"d":"0.50"},{"v":0.5,"d":"0.50"}]
["TXL5-045","槽道电缆","百米条",0.65,0.65]
["TXL5-046","顶棚内光（电）缆","百米条",{"v":1,"d":"1.00"},{"v":1,"d":"1.00"}]
["TXL5-047","开槽-砖槽","m",0.01,0.05]
["TXL5-048","开槽-混凝土槽","m",0.01,0.18]
["TXL5-049","敷设钢管-φ25以内","百米",{"v":1.5,"d":"1.50"},4.13]
["TXL5-050","敷设钢管-φ50以内","百米",{"v":2,"d":"2.00"},5.13]
["TXL5-051","敷设硬质PVC管-φ25以内","百米",0.94,{"v":3,"d":"3.00"}]
["TXL5-052","敷设硬质PVC管-φ50以内","百米",{"v":1.5,"d":"1.50"},4.13]
["TXL5-053","敷设金属软管","根",{"v":0,"d":"0.00"},{"v":0.1,"d":"0.10"}]
["TXL5-054","敷设金属线槽-150宽以下","百米",3.27,6.63]
["TXL5-055","敷设金属线槽-300宽以下","百米",4.17,8.43]
["TXL5-056","敷设金属线槽-300宽以上","百米",7.13,11.38]
["TXL5-057","敷设塑料线槽-100宽以下","百米",2.45,4.99]
["TXL5-058","敷设塑料线槽-100宽以上","百米",2.65,5.38]
["TXL5-059","安装吊装式桥架-100宽以下","10m",0.28,1.33]
["TXL5-060","安装吊装式桥架-300宽以下","10m",0.32,1.46]
["TXL5-061","安装吊装式桥架-300宽以上","10m",0.35,1.61]
["TXL5-062","安装支撑式桥架-100宽以下","10m",0.22,1.01]
["TXL5-063","安装支撑式桥架-300宽以下","10m",0.24,1.11]
["TXL5-064","安装支撑式桥架-300宽以上","10m",0.26,1.22]
["TXL5-065","垂直安装桥架-100宽以下","10m",0.13,0.54]
["TXL5-066","垂直安装桥架-300宽以下","10m",0.17,0.71]
["TXL5-067","垂直安装桥架-300宽以上","10m",0.22,0.92]
["TXL5-068","管、暗槽内穿放光缆","百米条",0.49,0.49]
["TXL5-069","管、暗槽内穿放光缆-4对对绞电缆","百米条",0.45,0.45]
["TXL5-070","管、暗槽内穿放光缆-非屏蔽50对以下","百米条",0.55,0.55]
["TXL5-071","管、暗槽内穿放光缆-非屏蔽100对以下","百米条",{"v":0.7,"d":"0.70"},{"v":0.7,"d":"0.70"}]
["TXL5-072","管、暗槽内穿放光缆-屏蔽50对以下","百米条",0.65,0.65]
["TXL5-073","管、暗槽内穿放光缆-屏蔽100对以下","百米条",{"v":0.9,"d":"0.90"},{"v":0.9,"d":"0.90"}]
["TXL5-074","桥架、线槽、网络地板内明布光缆","百米条",{"v":0.4,"d":"0.40"},{"v":0.4,"d":"0.40"}]
["TXL5-075","桥架、线槽、网络地板内明布光缆-4对对绞电缆","百米条",{"v":0.4,"d":"0.40"},{"v":0.4,"d":"0.40"}]
["TXL5-076","桥架、线槽、网络地板内明布光缆-非屏蔽50对以下","百米条",{"v":0.5,"d":"0.50"},{"v":0.5,"d":"0.50"}]
["TXL5-077","桥架、线槽、网络地板内明布光缆-非屏蔽100对以下","百米条",{"v":0.6,"d":"0.60"},{"v":0.6,"d":"0.60"}]
["TXL5-078","桥架、线槽、网络地板内明布光缆-屏蔽50对以下","百米条",0.55,0.55]
["TXL5-079","桥架、线槽、网络地板内明布光缆-屏蔽100对以下","百米条",{"v":0.8,"d":"0.80"},{"v":0.8,"d":"0.80"}]
["TXL6-001","光缆掏纤-4芯以下","处",0.75,{"v":0,"d":"0.00"}]
["TXL6-002","光缆掏纤-每增加2芯","处",0.09,{"v":0,"d":"0.00"}]
["TXL6-003","机械法光缆接续","芯",{"v":0.1,"d":"0.10"},{"v":0,"d":"0.00"}]
["TXL6-004","现场组装光纤活动连接器","芯",0.08,{"v":0,"d":"0.00"}]
["TXL6-005","光缆成端接头-束状","芯",0.15,{"v":0,"d":"0.00"}]
["TXL6-006","光缆成端接头-带状","芯",0.05,{"v":0,"d":"0.00"}]
["TXL6-007","光缆接续-4芯以下","头",{"v":0.5,"d":"0.50"},{"v":0,"d":"0.00"}]
["TXL6-008","光缆接续-12芯以下","头",{"v":1.5,"d":"1.50"},{"v":0,"d":"0.00"}]
["TXL6-009","光缆接续-24芯以下","头",2.49,{"v":0,"d":"0.00"}]
["TXL6-010","光缆接续-36芯以下","头",3.42,{"v":0,"d":"0.00"}]
["TXL6-011","光缆接续-48芯以下","头",4.29,{"v":0,"d":"0.00"}]
["TXL6-012","光缆接续-60芯以下","头",{"v":5.1,"d":"5.10"},{"v":0,"d":"0.00"}]
["TXL6-013","光缆接续-72芯以下","头",{"v":5.9,"d":"5.90"},{"v":0,"d":"0.00"}]
["TXL6-014","光缆接续-84芯以下","头",6.54,{"v":0,"d":"0.00"}]
["TXL6-015","光缆接续-96芯以下","头",7.17,{"v":0,"d":"0.00"}]
["TXL6-016","光缆接续-108芯以下","头",7.74,{"v":0,"d":"0.00"}]
["TXL6-017","光缆接续-132芯以下","头",{"v":7.8,"d":"7.80"},{"v":0,"d":"0.00"}]
["TXL6-018","光缆接续-144芯以下","头",{"v":8.1,"d":"8.10"},{"v":0,"d":"0.00"}]
["TXL6-019","光缆接续-192芯以下","头",8.91,{"v":0,"d":"0.00"}]
["TXL6-020","光缆接续-288芯以下","头",{"v":9.6,"d":"9.60"},{"v":0,"d":"0.00"}]
["TXL6-021","光缆接续-288芯以上","头",10.17,{"v":0,"d":"0.00"}]
["TXL6-022","8芯带以下带状光缆接续-48芯以下","头",1.97,{"v":0,"d":"0.00"}]
["TXL6-023","8芯带以下带状光缆接续-72芯以下","头",2.55,{"v":0,"d":"0.00"}]
["TXL6-024","8芯带以下带状光缆接续-96芯以下","头",3.05,{"v":0,"d":"0.00"}]
["TXL6-025","8芯带以下带状光缆接续-108芯以下","头",3.14,{"v":0,"d":"0.00"}]
["TXL6-026","8芯带以下带状光缆接续-120芯以下","头",3.24,{"v":0,"d":"0.00"}]
["TXL6-027","8芯带以下带状光缆接续-144芯以下","头",3.48,{"v":0,"d":"0.00"}]
["TXL6-028","8芯带以下带状光缆接续-192芯以下","头",4.06,{"v":0,"d":"0.00"}]
["TXL6-029","8芯带以下带状光缆接续-288芯以下","头",4.44,{"v":0,"d":"0.00"}]
["TXL6-030","8芯带以下带状光缆接续-289芯以上","头",4.64,{"v":0,"d":"0.00"}]
["TXL6-031","8芯带以上带状光缆接续-48芯以下","头",1.29,{"v":0,"d":"0.00"}]
["TXL6-032","8芯带以上带状光缆接续-72芯以下","头",1.58,{"v":0,"d":"0.00"}]
["TXL6-033","8芯带以上带状光缆接续-96芯以下","头",1.83,{"v":0,"d":"0.00"}]
["TXL6-034","8芯带以上带状光缆接续-108芯以下","头",{"v":1.9,"d":"1.90"},{"v":0,"d":"0.00"}]
["TXL6-035","8芯带以上带状光缆接续-120芯以下","头",1.95,{"v":0,"d":"0.00"}]
["TXL6-036","8芯带以上带状光缆接续-144芯以下","头",2.15,{"v":0,"d":"0.00"}]
["TXL6-037","8芯带以上带状光缆接续-192芯以下","头",2.57,{"v":0,"d":"0.00"}]
["TXL6-038","8芯带以上带状光缆接续-288芯以下","头",2.94,{"v":0,"d":"0.00"}]
["TXL6-039","8芯带以上带状光缆接续-384芯以下","头",3.27,{"v":0,"d":"0.00"}]
["TXL6-040","8芯带以上带状光缆接续-480芯以下","头",3.96,{"v":0,"d":"0.00"}]
["TXL6-041","8芯带以上带状光缆接续-576芯以下","头",4.56,{"v":0,"d":"0.00"}]
["TXL6-042","8芯带以上带状光缆接续-577芯以上","头",5.07,{"v":0,"d":"0.00"}]
["TXL6-043","40千米以上中继段光缆测试-12芯以下","中继段",2.21,{"v":0,"d":"0.00"}]
["TXL6-043A","40千米以上中继段光缆测试-12芯以下-双窗口测试","中继段",{"v":3.978,"d":"3.98"},{"v":0,"d":"0.00"}]
["TXL6-044","40千米以上中继段光缆测试-24芯以下","中继段",{"v":3.1,"d":"3.10"},{"v":0,"d":"0.00"}]
["TXL6-044A","40千米以上中继段光缆测试-24芯以下-双窗口测试","中继段",5.58,{"v":0,"d":"0.00"}]
["TXL6-045","40千米以上中继段光缆测试-36芯以下","中继段",4.39,{"v":0,"d":"0.00"}]
["TXL6-045A","40千米以上中继段光缆测试-36芯以下-双窗口测试","中继段",{"v":7.902,"d":"7.90"},{"v":0,"d":"0.00"}]
["TXL6-046","40千米以上中继段光缆测试-48芯以下","中继段",5.47,{"v":0,"d":"0.00"}]
["TXL6-046A","40千米以上中继段光缆测试-48芯以下-双窗口测试","中继段",{"v":9.846,"d":"9.85"},{"v":0,"d":"0.00"}]
["TXL6-047","40千米以上中继段光缆测试-60芯以下","中继段",6.48,{"v":0,"d":"0.00"}]
["TXL6-047A","40千米以上中继段光缆测试-60芯以下-双窗口测试","中继段",{"v":11.664,"d":"11.66"},{"v":0,"d":"0.00"}]
["TXL6-048","40千米以上中继段光缆测试-72芯以下","中继段",7.27,{"v":0,"d":"0.00"}]
["TXL6-048A","40千米以上中继段光缆测试-72芯以下-双窗口测试","中继段",{"v":13.086,"d":"13.09"},{"v":0,"d":"0.00"}]
["TXL6-049","40千米以上中继段光缆测试-84芯以下","中继段",7.85,{"v":0,"d":"0.00"}]
["TXL6-049A","40千米以上中继段光缆测试-84芯以下-双窗口测试","中继段",14.13,{"v":0,"d":"0.00"}]
["TXL6-050","40千米以上中继段光缆测试-96芯以下","中继段",8.28,{"v":0,"d":"0.00"}]
["TXL6-050A","40千米以上中继段光缆测试-96芯以下-双窗口测试","中继段",{"v":14.904,"d":"14.90"},{"v":0,"d":"0.00"}]
["TXL6-051","40千米以上中继段光缆测试-108芯以下","中继段",8.75,{"v":0,"d":"0.00"}]
["TXL6-051A","40千米以上中继段光缆测试-108芯以下-双窗口测试","中继段",15.75,{"v":0,"d":"0.00"}]
["TXL6-052","40千米以上中继段光缆测试-132芯以下","中继段",9.17,{"v":0,"d":"0.00"}]
["TXL6-052A","40千米以上中继段光缆测试-132芯以下-双窗口测试","中继段",{"v":16.506,"d":"16.51"},{"v":0,"d":"0.00"}]
["TXL6-053","40千米以上中继段光缆测试-144芯以下","中继段",9.41,{"v":0,"d":"0.00"}]
["TXL6-053A","40千米以上中继段光缆测试-144芯以下-双窗口测试","中继段",{"v":16.938,"d":"16.94"},{"v":0,"d":"0.00"}]
["TXL6-054","40千米以上中继段光缆测试-168芯以下","中继段",10.03,{"v":0,"d":"0.00"}]
["TXL6-054A","40千米以上中继段光缆测试-168芯以下-双窗口测试","中继段",{"v":18.054,"d":"18.05"},{"v":0,"d":"0.00"}]
["TXL6-055","40千米以上光缆中继段测试-192芯以下","中继段",10.85,{"v":0,"d":"0.00"}]
["TXL6-055A","40千米以上光缆中继段测试-192芯以下-双窗口测试","中继段",19.53,{"v":0,"d":"0.00"}]
["TXL6-056","40千米以上光缆中继段测试-216芯以下","中继段",11.54,{"v":0,"d":"0.00"}]
["TXL6-056A","40千米以上光缆中继段测试-216芯以下-双窗口测试","中继段",{"v":20.772,"d":"20.77"},{"v":0,"d":"0.00"}]
["TXL6-057","40千米以上光缆中继段测试-240芯以下","中继段",{"v":12.1,"d":"12.10"},{"v":0,"d":"0.00"}]
["TXL6-057A","40千米以上光缆中继段测试-240芯以下-双窗口测试","中继段",21.78,{"v":0,"d":"0.00"}]
["TXL6-058","40千米以上光缆中继段测试-264芯以下","中继段",12.89,{"v":0,"d":"0.00"}]
["TXL6-058A","40千米以上光缆中继段测试-264芯以下-双窗口测试","中继段",{"v":23.202,"d":"23.20"},{"v":0,"d":"0.00"}]
["TXL6-059","40千米以上光缆中继段测试-288芯以下","中继段",13.58,{"v":0,"d":"0.00"}]
["TXL6-059A","40千米以上光缆中继段测试-288芯以下-双窗口测试","中继段",{"v":24.444,"d":"24.44"},{"v":0,"d":"0.00"}]
["TXL6-060","40千米以上光缆中继段测试-312芯以下","中继段",14.23,{"v":0,"d":"0.00"}]
["TXL6-060A","40千米以上光缆中继段测试-312芯以下-双窗口测试","中继段",{"v":25.614,"d":"25.61"},{"v":0,"d":"0.00"}]
["TXL6-061","40千米以上光缆中继段测试-336芯以下","中继段",14.83,{"v":0,"d":"0.00"}]
["TXL6-061A","40千米以上光缆中继段测试-336芯以下-双窗口测试","中继段",{"v":26.694,"d":"26.69"},{"v":0,"d":"0.00"}]
["TXL6-062","40千米以上光缆中继段测试-360芯以下","中继段",15.36,{"v":0,"d":"0.00"}]
["TXL6-062A","40千米以上光缆中继段测试-360芯以下-双窗口测试","中继段",{"v":27.648,"d":"27.65"},{"v":0,"d":"0.00"}]
["TXL6-063","40千米以上光缆中继段测试-384芯以下","中继段",15.82,{"v":0,"d":"0.00"}]
["TXL6-063A","40千米以上光缆中继段测试-384芯以下-双窗口测试","中继段",{"v":28.476,"d":"28.48"},{"v":0,"d":"0.00"}]
["TXL6-064","40千米以上光缆中继段测试-408芯以下","中继段",16.25,{"v":0,"d":"0.00"}]
["TXL6-064A","40千米以上光缆中继段测试-408芯以下-双窗口测试","中继段",29.25,{"v":0,"d":"0.00"}]
["TXL6-065","40千米以上光缆中继段测试-432芯以下","中继段",16.58,{"v":0,"d":"0.00"}]
["TXL6-065A","40千米以上光缆中继段测试-432芯以下-双窗口测试","中继段",{"v":29.844,"d":"29.84"},{"v":0,"d":"0.00"}]
["TXL6-066","40千米以上光缆中继段测试-456芯以下","中继段",16.87,{"v":0,"d":"0.00"}]
["TXL6-066A","40千米以上光缆中继段测试-456芯以下-双窗口测试","中继段",{"v":30.366,"d":"30.37"},{"v":0,"d":"0.00"}]
["TXL6-067","40千米以上光缆中继段测试-480芯以下","中继段",17.09,{"v":0,"d":"0.00"}]
["TXL6-067A","40千米以上光缆中继段测试-480芯以下-双窗口测试","中继段",{"v":30.762,"d":"30.76"},{"v":0,"d":"0.00"}]
["TXL6-068","40千米以上光缆中继段测试-504芯以下","中继段",{"v":17.4,"d":"17.40"},{"v":0,"d":"0.00"}]
["TXL6-068A","40千米以上光缆中继段测试-504芯以下-双窗口测试","中继段",31.32,{"v":0,"d":"0.00"}]
["TXL6-069","40千米以上光缆中继段测试-528芯以下","中继段",17.64,{"v":0,"d":"0.00"}]
["TXL6-069A","40千米以上光缆中继段测试-528芯以下-双窗口测试","中继段",{"v":31.752,"d":"31.75"},{"v":0,"d":"0.00"}]
["TXL6-070","40千米以上光缆中继段测试-576芯以下","中继段",17.83,{"v":0,"d":"0.00"}]
["TXL6-070A","40千米以上光缆中继段测试-576芯以下-双窗口测试","中继段",{"v":32.094,"d":"32.09"},{"v":0,"d":"0.00"}]
["TXL6-071","40千米以上光缆中继段测试-576芯以上","中继段",17.98,{"v":0,"d":"0.00"}]
["TXL6-071A","40千米以上光缆中继段测试-576芯以上-双窗口测试","中继段",{"v":32.364,"d":"32.36"},{"v":0,"d":"0.00"}]
["TXL6-072","40千米以下光缆中继段测试-12芯以下","中继段",1.84,{"v":0,"d":"0.00"}]
["TXL6-072A","40千米以下光缆中继段测试-12芯以下-双窗口测试","中继段",{"v":3.312,"d":"3.31"},{"v":0,"d":"0.00"}]
["TXL6-073","40千米以下光缆中继段测试-24芯以下","中继段",2.58,{"v":0,"d":"0.00"}]
["TXL6-073A","40千米以下光缆中继段测试-24芯以下-双窗口测试","中继段",{"v":4.644,"d":"4.64"},{"v":0,"d":"0.00"}]
["TXL6-074","40千米以下光缆中继段测试-36芯以下","中继段",3.66,{"v":0,"d":"0.00"}]
["TXL6-074A","40千米以下光缆中继段测试-36芯以下-双窗口测试","中继段",{"v":6.588,"d":"6.59"},{"v":0,"d":"0.00"}]
["TXL6-075","40千米以下光缆中继段测试-48芯以下","中继段",4.56,{"v":0,"d":"0.00"}]
["TXL6-075A","40千米以下光缆中继段测试-48芯以下-双窗口测试","中继段",{"v":8.208,"d":"8.21"},{"v":0,"d":"0.00"}]
["TXL6-076","40千米以下光缆中继段测试-60芯以下","中继段",{"v":5.4,"d":"5.40"},{"v":0,"d":"0.00"}]
["TXL6-076A","40千米以下光缆中继段测试-60芯以下-双窗口测试","中继段",9.72,{"v":0,"d":"0.00"}]
["TXL6-077","40千米以下光缆中继段测试-72芯以下","中继段",6.06,{"v":0,"d":"0.00"}]
["TXL6-077A","40千米以下光缆中继段测试-72芯以下-双窗口测试","中继段",{"v":10.908,"d":"10.91"},{"v":0,"d":"0.00"}]
["TXL6-078","40千米以下光缆中继段测试-84芯以下","中继段",6.54,{"v":0,"d":"0.00"}]
["TXL6-078A","40千米以下光缆中继段测试-84芯以下-双窗口测试","中继段",{"v":11.772,"d":"11.77"},{"v":0,"d":"0.00"}]
["TXL6-079","40千米以下光缆中继段测试-96芯以下","中继段",{"v":6.9,"d":"6.90"},{"v":0,"d":"0.00"}]
["TXL6-079A","40千米以下光缆中继段测试-96芯以下-双窗口测试","中继段",12.42,{"v":0,"d":"0.00"}]
["TXL6-080","40千米以下光缆中继段测试-108芯以下","中继段",7.14,{"v":0,"d":"0.00"}]
["TXL6-080A","40千米以下光缆中继段测试-108芯以下-双窗口测试","中继段",{"v":12.852,"d":"12.85"},{"v":0,"d":"0.00"}]
["TXL6-081","40千米以下光缆中继段测试-132芯以下","中继段",7.64,{"v":0,"d":"0.00"}]
["TXL6-081A","40千米以下光缆中继段测试-132芯以下-双窗口测试","中继段",{"v":13.752,"d":"13.75"},{"v":0,"d":"0.00"}]
["TXL6-082","40千米以下光缆中继段测试-144芯以下","中继段",7.84,{"v":0,"d":"0.00"}]
["TXL6-082A","40千米以下光缆中继段测试-144芯以下-双窗口测试","中继段",{"v":14.112,"d":"14.11"},{"v":0,"d":"0.00"}]
["TXL6-083","40千米以下光缆中继段测试-168芯以下","中继段",8.36,{"v":0,"d":"0.00"}]
["TXL6-083A","40千米以下光缆中继段测试-168芯以下-双窗口测试","中继段",{"v":15.048,"d":"15.05"},{"v":0,"d":"0.00"}]
["TXL6-084","40千米以下光缆中继段测试-192芯以下","中继段",9.04,{"v":0,"d":"0.00"}]
["TXL6-084A","40千米以下光缆中继段测试-192芯以下-双窗口测试","中继段",{"v":16.272,"d":"16.27"},{"v":0,"d":"0.00"}]
["TXL6-085","40千米以下光缆中继段测试-216芯以下","中继段",9.62,{"v":0,"d":"0.00"}]
["TXL6-085A","40千米以下光缆中继段测试-216芯以下-双窗口测试","中继段",{"v":17.316,"d":"17.32"},{"v":0,"d":"0.00"}]
["TXL6-086","40千米以下光缆中继段测试-240芯以下","中继段",{"v":10.8,"d":"10.80"},{"v":0,"d":"0.00"}]
["TXL6-086A","40千米以下光缆中继段测试-240芯以下-双窗口测试","中继段",19.44,{"v":0,"d":"0.00"}]
["TXL6-087","40千米以下光缆中继段测试-264芯以下","中继段",10.74,{"v":0,"d":"0.00"}]
["TXL6-087A","40千米以下光缆中继段测试-264芯以下-双窗口测试","中继段",{"v":19.332,"d":"19.33"},{"v":0,"d":"0.00"}]
["TXL6-088","40千米以下光缆中继段测试-288芯以下","中继段",11.32,{"v":0,"d":"0.00"}]
["TXL6-088A","40千米以下光缆中继段测试-288芯以下-双窗口测试","中继段",{"v":20.376,"d":"20.38"},{"v":0,"d":"0.00"}]
["TXL6-089","40千米以下光缆中继段测试-312芯以下","中继段",11.86,{"v":0,"d":"0.00"}]
["TXL6-089A","40千米以下光缆中继段测试-312芯以下-双窗口测试","中继段",{"v":21.348,"d":"21.35"},{"v":0,"d":"0.00"}]
["TXL6-090","40千米以下光缆中继段测试-336芯以下","中继段",12.36,{"v":0,"d":"0.00"}]
["TXL6-090A","40千米以下光缆中继段测试-336芯以下-双窗口测试","中继段",{"v":22.248,"d":"22.25"},{"v":0,"d":"0.00"}]
["TXL6-091","40千米以下光缆中继段测试-360芯以下","中继段",{"v":12.8,"d":"12.80"},{"v":0,"d":"0.00"}]
["TXL6-091A","40千米以下光缆中继段测试-360芯以下-双窗口测试","中继段",23.04,{"v":0,"d":"0.00"}]
["TXL6-092","40千米以下光缆中继段测试-384芯以下","中继段",13.18,{"v":0,"d":"0.00"}]
["TXL6-092A","40千米以下光缆中继段测试-384芯以下-双窗口测试","中继段",{"v":23.724,"d":"23.72"},{"v":0,"d":"0.00"}]
["TXL6-093","40千米以下光缆中继段测试-408芯以下","中继段",13.54,{"v":0,"d":"0.00"}]
["TXL6-093A","40千米以下光缆中继段测试-408芯以下-双窗口测试","中继段",{"v":24.372,"d":"24.37"},{"v":0,"d":"0.00"}]
["TXL6-094","40千米以下光缆中继段测试-432芯以下","中继段",13.82,{"v":0,"d":"0.00"}]
["TXL6-094A","40千米以下光缆中继段测试-432芯以下-双窗口测试","中继段",{"v":24.876,"d":"24.88"},{"v":0,"d":"0.00"}]
["TXL6-095","40千米以下光缆中继段测试-456芯以下","中继段",14.06,{"v":0,"d":"0.00"}]
["TXL6-095A","40千米以下光缆中继段测试-456芯以下-双窗口测试","中继段",{"v":25.308,"d":"25.31"},{"v":0,"d":"0.00"}]
["TXL6-096","40千米以下光缆中继段测试-480芯以下","中继段",14.24,{"v":0,"d":"0.00"}]
["TXL6-096A","40千米以下光缆中继段测试-480芯以下-双窗口测试","中继段",{"v":25.632,"d":"25.63"},{"v":0,"d":"0.00"}]
["TXL6-097","40千米以下光缆中继段测试-504芯以下","中继段",{"v":14.5,"d":"14.50"},{"v":0,"d":"0.00"}]
["TXL6-097A","40千米以下光缆中继段测试-504芯以下-双窗口测试","中继段",{"v":26.1,"d":"26.10"},{"v":0,"d":"0.00"}]
["TXL6-098","40千米以下光缆中继段测试-528芯以下","中继段",{"v":14.7,"d":"14.70"},{"v":0,"d":"0.00"}]
["TXL6-098A","40千米以下光缆中继段测试-528芯以下-双窗口测试","中继段",26.46,{"v":0,"d":"0.00"}]
["TXL6-099","40千米以下光缆中继段测试-552芯以下","中继段",14.86,{"v":0,"d":"0.00"}]
["TXL6-099A","40千米以下光缆中继段测试-552芯以下-双窗口测试","中继段",{"v":26.748,"d":"26.75"},{"v":0,"d":"0.00"}]
["TXL6-100","40千米以下光缆中继段测试-576芯以下","中继段",14.98,{"v":0,"d":"0.00"}]
["TXL6-100A","40千米以下光缆中继段测试-576芯以下-双窗口测试","中继段",{"v":26.964,"d":"26.96"},{"v":0,"d":"0.00"}]
["TXL6-101","用户光缆测试-2芯以下","段",0.26,{"v":0,"d":"0.00"}]
["TXL6-102","用户光缆测试-6芯以下","段",{"v":0.5,"d":"0.50"},{"v":0,"d":"0.00"}]
["TXL6-103","用户光缆测试-12芯以下","段",0.92,{"v":0,"d":"0.00"}]
["TXL6-104","用户光缆测试-24芯以下","段",1.29,{"v":0,"d":"0.00"}]
["TXL6-105","用户光缆测试-36芯以下","段",1.83,{"v":0,"d":"0.00"}]
["TXL6-106","用户光缆测试-48芯以下","段",2.28,{"v":0,"d":"0.00"}]
["TXL6-107","用户光缆测试-60芯以下","段",{"v":2.7,"d":"2.70"},{"v":0,"d":"0.00"}]
["TXL6-108","用户光缆测试-72芯以下","段",3.03,{"v":0,"d":"0.00"}]
["TXL6-109","用户光缆测试-84芯以下","段",3.27,{"v":0,"d":"0.00"}]
["TXL6-110","用户光缆测试-96芯以下","段",3.45,{"v":0,"d":"0.00"}]
["TXL6-111","用户光缆测试-108芯以下","段",3.57,{"v":0,"d":"0.00"}]
["TXL6-112","用户光缆测试-132芯以下","段",3.82,{"v":0,"d":"0.00"}]
["TXL6-113","用户光缆测试-144芯以下","段",3.92,{"v":0,"d":"0.00"}]
["TXL6-114","用户光缆测试-168芯以下","段",4.18,{"v":0,"d":"0.00"}]
["TXL6-115","用户光缆测试-192芯以下","段",4.52,{"v":0,"d":"0.00"}]
["TXL6-116","用户光缆测试-216芯以下","段",4.81,{"v":0,"d":"0.00"}]
["TXL6-117","用户光缆测试-240芯以下","段",5.04,{"v":0,"d":"0.00"}]
["TXL6-118","用户光缆测试-264芯以下","段",5.37,{"v":0,"d":"0.00"}]
["TXL6-119","用户光缆测试-288芯以下","段",5.66,{"v":0,"d":"0.00"}]
["TXL6-120","用户光缆测试-312芯以下","段",5.93,{"v":0,"d":"0.00"}]
["TXL6-121","用户光缆测试-336芯以下","段",6.18,{"v":0,"d":"0.00"}]
["TXL6-122","用户光缆测试-360芯以下","段",{"v":6.4,"d":"6.40"},{"v":0,"d":"0.00"}]
["TXL6-123","用户光缆测试-384芯以下","段",6.59,{"v":0,"d":"0.00"}]
["TXL6-124","用户光缆测试-408芯以下","段",6.77,{"v":0,"d":"0.00"}]
["TXL6-125","用户光缆测试-432芯以下","段",6.91,{"v":0,"d":"0.00"}]
["TXL6-126","用户光缆测试-456芯以下","段",7.03,{"v":0,"d":"0.00"}]
["TXL6-127","用户光缆测试-480芯以下","段",7.12,{"v":0,"d":"0.00"}]
["TXL6-128","用户光缆测试-504芯以下","段",7.25,{"v":0,"d":"0.00"}]
["TXL6-129","用户光缆测试-528芯以下","段",7.35,{"v":0,"d":"0.00"}]
["TXL6-130","用户光缆测试-552芯以下","段",7.43,{"v":0,"d":"0.00"}]
["TXL6-131","用户光缆测试-576芯以下","段",7.49,{"v":0,"d":"0.00"}]
["TXL6-132","光分配网(ODN)光纤链路全程测试-光纤链路衰减测试-1:2","链路组",{"v":0.3,"d":"0.30"},{"v":0,"d":"0.00"}]
["TXL6-133","光分配网(ODN)光纤链路全程测试-光纤链路衰减测试-1:4","链路组",0.45,{"v":0,"d":"0.00"}]
["TXL6-134","光分配网(ODN)光纤链路全程测试-光纤链路衰减测试-1:8","链路组",{"v":0.6,"d":"0.60"},{"v":0,"d":"0.00"}]
["TXL6-135","光分配网(ODN)光纤链路全程测试-光纤链路衰减测试-1:16","链路组",0.75,{"v":0,"d":"0.00"}]
["TXL6-136","光分配网(ODN)光纤链路全程测试-光纤链路衰减测试-1:32","链路组",0.85,{"v":0,"d":"0.00"}]
["TXL6-137","光分配网(ODN)光纤链路全程测试-光纤链路衰减测试-1:64","链路组",0.93,{"v":0,"d":"0.00"}]
["TXL6-138","光分配网(ODN)光纤链路全程测试-光纤链路衰减测试-1:128","链路组",{"v":1,"d":"1.00"},{"v":0,"d":"0.00"}]
["TXL6-139","光纤链路回波损耗测试","链路组",{"v":0.1,"d":"0.10"},{"v":0,"d":"0.00"}]
["TXL6-140","成端电缆芯线接续-0.6以下","百对",{"v":1.2,"d":"1.20"},{"v":0,"d":"0.00"}]
["TXL6-141","成端电缆芯线接续-0.9以下","百对",1.35,{"v":0,"d":"0.00"}]
["TXL6-142","电缆芯线接续-0.6以下-接线子式","百对",{"v":1.1,"d":"1.10"},{"v":0,"d":"0.00"}]
["TXL6-143","电缆芯线接续-0.6以下-模块式","百对",0.66,{"v":0,"d":"0.00"}]
["TXL6-144","电缆芯线接续-0.9以下-接线子式","百对",{"v":1.4,"d":"1.40"},{"v":0,"d":"0.00"}]
["TXL6-145","电缆芯线接续-0.9以下-模块式","百对",0.84,{"v":0,"d":"0.00"}]
["TXL6-146","电缆芯线改接-0.6以下","百对",{"v":3.5,"d":"3.50"},{"v":0,"d":"0.00"}]
["TXL6-147","电缆芯线改接-0.9以下","百对",{"v":4,"d":"4.00"},{"v":0,"d":"0.00"}]
["TXL6-148","卡接4对对绞电缆(配线架侧)-非屏蔽","条",0.06,{"v":0,"d":"0.00"}]
["TXL6-149","卡接4对对绞电缆(配线架侧)-屏蔽","条",0.08,{"v":0,"d":"0.00"}]
["TXL6-150","卡接大对数对绞电缆(配线架侧)-非屏蔽","百对",1.13,{"v":0,"d":"0.00"}]
["TXL6-151","卡接大对数对绞电缆(配线架侧)-屏蔽","百对",{"v":1.5,"d":"1.50"},{"v":0,"d":"0.00"}]
["TXL6-152","布放总配线架成端电缆-200对以下","条",3.12,{"v":0,"d":"0.00"}]
["TXL6-152A","布放总配线架成端电缆-200对以下-穿楼层多于一层时，每多穿一层","条·层",{"v":0.6,"d":"0.60"},{"v":0,"d":"0.00"}]
["TXL6-153","布放总配线架成端电缆-400对以下","条",6.08,{"v":0,"d":"0.00"}]
["TXL6-153A","布放总配线架成端电缆-400对以下-穿楼层多于一层时，每多穿一层","条·层",{"v":0.6,"d":"0.60"},{"v":0,"d":"0.00"}]
["TXL6-154","布放总配线架成端电缆-600对以下","条",9.12,{"v":0,"d":"0.00"}]
["TXL6-154A","布放总配线架成端电缆-600对以下-穿楼层多于一层时，每多穿一层","条·层",{"v":0.6,"d":"0.60"},{"v":0,"d":"0.00"}]
["TXL6-155","布放总配线架成端电缆-800对以下","条",11.52,{"v":0,"d":"0.00"}]
["TXL6-155A","布放总配线架成端电缆-800对以下-穿楼层多于一层时，每多穿一层","条·层",{"v":0.6,"d":"0.60"},{"v":0,"d":"0.00"}]
["TXL6-156","布放总配线架成端电缆-1200对以下","条",16.32,{"v":0,"d":"0.00"}]
["TXL6-156A","布放总配线架成端电缆-1200对以下-穿楼层多于一层时，每多穿一层","条·层",{"v":0.6,"d":"0.60"},{"v":0,"d":"0.00"}]
["TXL6-157","布放总配线架成端电缆-1600对以下","条",21.12,{"v":0,"d":"0.00"}]
["TXL6-157A","布放总配线架成端电缆-1600对以下-穿楼层多于一层时，每多穿一层","条·层",{"v":0.6,"d":"0.60"},{"v":0,"d":"0.00"}]
["TXL6-158","布放总配线架成端电缆-2400对以下","条",30.72,{"v":0,"d":"0.00"}]
["TXL6-158A","布放总配线架成端电缆-2400对以下-穿楼层多于一层时，每多穿一层","条·层",{"v":0.6,"d":"0.60"},{"v":0,"d":"0.00"}]
["TXL6-159","布放交接箱成端电缆-100对以下","条",1.55,{"v":0,"d":"0.00"}]
["TXL6-159A","布放交接箱成端电缆-100对以下-穿楼层多于一层时，每多穿一层","条·层",{"v":0.6,"d":"0.60"},{"v":0,"d":"0.00"}]
["TXL6-160","布放交接箱成端电缆-200对以下","条",{"v":2.6,"d":"2.60"},{"v":0,"d":"0.00"}]
["TXL6-160A","布放交接箱成端电缆-200对以下-穿楼层多于一层时，每多穿一层","条·层",{"v":0.6,"d":"0.60"},{"v":0,"d":"0.00"}]
["TXL6-161","布放交接箱成端电缆-300对以下","条",{"v":3.8,"d":"3.80"},{"v":0,"d":"0.00"}]
["TXL6-161A","布放交接箱成端电缆-300对以下-穿楼层多于一层时，每多穿一层","条·层",{"v":0.6,"d":"0.60"},{"v":0,"d":"0.00"}]
["TXL6-162","布放交接箱成端电缆-400对以下","条",{"v":5.2,"d":"5.20"},{"v":0,"d":"0.00"}]
["TXL6-162A","布放交接箱成端电缆-400对以下-穿楼层多于一层时，每多穿一层","条·层",{"v":0.6,"d":"0.60"},{"v":0,"d":"0.00"}]
["TXL6-163","布放交接箱成端电缆-600对以下","条",{"v":7.6,"d":"7.60"},{"v":0,"d":"0.00"}]
["TXL6-163A","布放交接箱成端电缆-600对以下-穿楼层多于一层时，每多穿一层","条·层",{"v":0.6,"d":"0.60"},{"v":0,"d":"0.00"}]
["TXL6-164","布放交接箱成端电缆-800对以下","条",{"v":10.4,"d":"10.40"},{"v":0,"d":"0.00"}]
["TXL6-164A","布放交接箱成端电缆-800对以下-穿楼层多于一层时，每多穿一层","条·层",{"v":0.6,"d":"0.60"},{"v":0,"d":"0.00"}]
["TXL6-165","布放组线箱成端电缆-10对以下","条",{"v":0.3,"d":"0.30"},{"v":0,"d":"0.00"}]
["TXL6-165A","布放组线箱成端电缆-10对以下-穿楼层多于一层时，每多穿一层","条·层",{"v":0.6,"d":"0.60"},{"v":0,"d":"0.00"}]
["TXL6-166","布放组线箱成端电缆-20对以下","条",0.46,{"v":0,"d":"0.00"}]
["TXL6-166A","布放组线箱成端电缆-20对以下-穿楼层多于一层时，每多穿一层","条·层",{"v":0.6,"d":"0.60"},{"v":0,"d":"0.00"}]
["TXL6-167","布放组线箱成端电缆-30对以下","条",0.61,{"v":0,"d":"0.00"}]
["TXL6-167A","布放组线箱成端电缆-30对以下-穿楼层多于一层时，每多穿一层","条·层",{"v":0.6,"d":"0.60"},{"v":0,"d":"0.00"}]
["TXL6-168","布放组线箱成端电缆-50对以下","条",1.08,{"v":0,"d":"0.00"}]
["TXL6-168A","布放组线箱成端电缆-50对以下-穿楼层多于一层时，每多穿一层","条·层",{"v":0.6,"d":"0.60"},{"v":0,"d":"0.00"}]
["TXL6-169","布放组线箱成端电缆-100对以下","条",1.55,{"v":0,"d":"0.00"}]
["TXL6-169A","布放组线箱成端电缆-100对以下-穿楼层多于一层时，每多穿一层","条·层",{"v":0.6,"d":"0.60"},{"v":0,"d":"0.00"}]
["TXL6-170","布放组线箱成端电缆-100对以上","条",{"v":2.6,"d":"2.60"},{"v":0,"d":"0.00"}]
["TXL6-170A","布放组线箱成端电缆-100对以上-穿楼层多于一层时，每多穿一层","条·层",{"v":0.6,"d":"0.60"},{"v":0,"d":"0.00"}]
["TXL6-171","电缆跳线","条",0.08,{"v":0,"d":"0.00"}]
["TXL6-172","堵塞成端套管-φ50×900以下","个",1.15,{"v":0,"d":"0.00"}]
["TXL6-173","堵塞成端套管-φ70×900以下","个",{"v":1.3,"d":"1.30"},{"v":0,"d":"0.00"}]
["TXL6-174","堵塞成端套管-φ90×900以下","个",{"v":1.7,"d":"1.70"},{"v":0,"d":"0.00"}]
["TXL6-175","堵塞成端套管-φ110×900以下","个",{"v":2.1,"d":"2.10"},{"v":0,"d":"0.00"}]
["TXL6-176","堵塞成端套管-φ130×900以下","个",{"v":2.3,"d":"2.30"},{"v":0,"d":"0.00"}]
["TXL6-177","堵塞成端套管-φ150×900以下","个",{"v":2.7,"d":"2.70"},{"v":0,"d":"0.00"}]
["TXL6-178","堵塞成端套管-φ170×900以下","个",{"v":2.9,"d":"2.90"},{"v":0,"d":"0.00"}]
["TXL6-179","堵塞成端套管-φ180×900以下","个",{"v":3.2,"d":"3.20"},{"v":0,"d":"0.00"}]
["TXL6-180","充油膏套管接续-φ50×900以下","个",0.68,0.17]
["TXL6-181","充油膏套管接续-φ70×900以下","个",0.87,0.22]
["TXL6-182","充油膏套管接续-φ90×900以下","个",1.15,0.29]
["TXL6-183","充油膏套管接续-φ110×900以下","个",1.35,0.33]
["TXL6-184","充油膏套管接续-φ130×900以下","个",1.53,0.38]
["TXL6-185","充油膏套管接续-φ150×900以下","个",1.83,0.46]
["TXL6-186","充油膏套管接续-φ170×900以下","个",1.92,0.48]
["TXL6-187","充油膏套管接续-φ180×900以下","个",2.12,0.53]
["TXL6-188","封焊热可缩套(包)管-φ50×900以下","个",0.56,0.14]
["TXL6-189","封焊热可缩套(包)管-φ70×900以下","个",0.72,0.18]
["TXL6-190","封焊热可缩套(包)管-φ90×900以下","个",0.96,0.24]
["TXL6-191","封焊热可缩套(包)管-φ110×900以下","个",1.12,0.28]
["TXL6-192","封焊热可缩套(包)管-φ130×900以下","个",1.28,0.32]
["TXL6-193","封焊热可缩套(包)管-φ150×900以下","个",1.52,0.38]
["TXL6-194","封焊热可缩套(包)管-φ170×900以下","个",{"v":1.6,"d":"1.60"},{"v":0.4,"d":"0.40"}]
["TXL6-195","封焊热可缩套(包)管-φ180×900以下","个",1.76,0.44]
["TXL6-196","包封C型套管-φ65×500以下","个",0.24,0.06]
["TXL6-197","包封C型套管-φ85×500以下","个",0.28,0.07]
["TXL6-198","包封C型套管-φ90×600以下","个",0.32,0.08]
["TXL6-199","安装多用接头盒","个",{"v":1.1,"d":"1.10"},0.28]
["TXL6-200","安装接线筒","个",2.65,0.66]
["TXL6-201","安装开启式套管","个",{"v":1.1,"d":"1.10"},0.28]
["TXL6-202","制作热可缩套管气闭头-φ50以下","个",0.67,0.17]
["TXL6-203","制作热可缩套管气闭头-φ70以下","个",0.86,0.22]
["TXL6-204","制作热可缩套管气闭头-φ90以下","个",1.15,0.29]
["TXL6-205","制作热可缩套管气闭头-φ110以下","个",1.43,0.35]
["TXL6-206","制作热可缩套管气闭头-φ130以下","个",1.54,0.38]
["TXL6-207","制作热可缩套管气闭头-φ150以下","个",1.82,0.45]
["TXL6-208","制作热可缩套管气闭头-φ170以下","个",1.92,0.48]
["TXL6-209","制作热可缩套管气闭头-φ180以下","个",2.11,0.53]
["TXL6-210","电缆链路测试","链路",{"v":0.1,"d":"0.10"},{"v":0,"d":"0.00"}]
["TXL6-211","配线电缆全程测试","百对",{"v":1.5,"d":"1.50"},{"v":0,"d":"0.00"}]
["TXL6-212","中继电缆全程测试-5千米以下","百对",{"v":7,"d":"7.00"},{"v":0,"d":"0.00"}]
["TXL6-213","中继电缆全程测试-5千米以上","百对",16.25,{"v":0,"d":"0.00"}]
["TXL7-001","安装光（电）缆承托铁架","米条",0.15,0.15]
["TXL7-002","安装光（电）缆托架","根",0.07,0.07]
["TXL7-003","安装固定光缆盘","套",0.35,0.35]
["TXL7-004","安装机柜、机架-落地式","架",1.25,0.67]
["TXL7-005","安装机柜、机架-墙挂式","架",2.25,{"v":1,"d":"1.00"}]
["TXL7-006","制作安装抗震底座","架",1.67,0.83]
["TXL7-007","安装过线（路）盒（半周长）-200以下","十个",{"v":0,"d":"0.00"},{"v":0.4,"d":"0.40"}]
["TXL7-008","安装过线（路）盒（半周长）-200以上","十个",{"v":0.9,"d":"0.90"},{"v":0.4,"d":"0.40"}]
["TXL7-009","安装信息插座底盒-明装","十个",{"v":0,"d":"0.00"},{"v":0.4,"d":"0.40"}]
["TXL7-010","安装信息插座底盒-砖墙内","十个",{"v":0,"d":"0.00"},0.98]
["TXL7-011","安装信息插座底盒-混凝土墙内","十个",{"v":0,"d":"0.00"},1.37]
["TXL7-012","安装信息插座底盒-木地板内","十个",{"v":0,"d":"0.00"},0.84]
["TXL7-013","安装信息插座底盒-防静电钢质地板内","十个",{"v":0,"d":"0.00"},1.68]
["TXL7-014","安装8位模块式信息插座-单口-非屏蔽","十个",0.45,0.07]
["TXL7-015","安装8位模块式信息插座-单口-屏蔽","十个",0.55,0.07]
["TXL7-016","安装8位模块式信息插座-双口-非屏蔽","十个",0.75,0.07]
["TXL7-016A","安装8位模块式信息插座-非屏蔽-双口以上","十个",{"v":1.6,"d":"1.60"},{"v":0.112,"d":"0.11"}]
["TXL7-017","安装8位模块式信息插座-双口-屏蔽","十个",0.95,0.07]
["TXL7-017A","安装8位模块式信息插座-屏蔽-双口以上","十个",1.52,{"v":0.112,"d":"0.11"}]
["TXL7-018","安装光纤信息插座-双口以下","十个",{"v":0.3,"d":"0.30"},{"v":0,"d":"0.00"}]
["TXL7-019","安装光纤信息插座-四口以下","十个",{"v":0.4,"d":"0.40"},{"v":0,"d":"0.00"}]
["TXL7-020","安装落地式室外综合机柜-宽800以下","套",1.45,1.45]
["TXL7-021","安装落地式室外综合机柜-宽800以上","套",2.25,2.25]
["TXL7-022","安装架空式室外综合机柜","套",{"v":3.5,"d":"3.50"},{"v":3.5,"d":"3.50"}]
["TXL7-023","安装光分纤箱、光分路箱-架空式","套",0.56,0.56]
["TXL7-024","安装光分纤箱、光分路箱-墙壁式","套",{"v":0.5,"d":"0.50"},{"v":0.5,"d":"0.50"}]
["TXL7-025","安装光缆终端盒","套",{"v":0.3,"d":"0.30"},{"v":0.3,"d":"0.30"}]
["TXL7-026","安装光缆接线箱","套",0.55,0.55]
["TXL7-027","增（扩）装光纤一体化熔接托盘","套",{"v":0.1,"d":"0.10"},{"v":0,"d":"0.00"}]
["TXL7-028","机架（箱）内安装光分路器-安装高度1.5米以下","台",{"v":0.2,"d":"0.20"},{"v":0,"d":"0.00"}]
["TXL7-029","机架（箱）内安装光分路器-安装高度1.5米以上","台",{"v":0.4,"d":"0.40"},{"v":0,"d":"0.00"}]
["TXL7-030","光分路器与光纤线路插接","端口",0.03,{"v":0,"d":"0.00"}]
["TXL7-031","光分路器本机测试-1:2","套",0.16,{"v":0,"d":"0.00"}]
["TXL7-032","光分路器本机测试-1:4","套",0.29,{"v":0,"d":"0.00"}]
["TXL7-033","光分路器本机测试-1:8","套",{"v":0.4,"d":"0.40"},{"v":0,"d":"0.00"}]
["TXL7-034","光分路器本机测试-1:16","套",{"v":0.5,"d":"0.50"},{"v":0,"d":"0.00"}]
["TXL7-035","光分路器本机测试-1:32","套",0.61,{"v":0,"d":"0.00"}]
["TXL7-036","光分路器本机测试-1:64","套",{"v":0.7,"d":"0.70"},{"v":0,"d":"0.00"}]
["TXL7-037","光分路器本机测试-1:128","套",{"v":0.8,"d":"0.80"},{"v":0,"d":"0.00"}]
["TXL7-031A","光分路器本机测试-2:2","套",{"v":0.256,"d":"0.26"},{"v":0,"d":"0.00"}]
["TXL7-032A","光分路器本机测试-2:4","套",{"v":0.464,"d":"0.46"},{"v":0,"d":"0.00"}]
["TXL7-033A","光分路器本机测试-2:8","套",0.64,{"v":0,"d":"0.00"}]
["TXL7-034A","光分路器本机测试-2:16","套",{"v":0.8,"d":"0.80"},{"v":0,"d":"0.00"}]
["TXL7-035A","光分路器本机测试-2:32","套",{"v":0.976,"d":"0.98"},{"v":0,"d":"0.00"}]
["TXL7-036A","光分路器本机测试-2:64","套",1.12,{"v":0,"d":"0.00"}]
["TXL7-037A","光分路器本机测试-2:128","套",1.26,{"v":0,"d":"0.00"}]
["TXL7-038","浇筑交接箱基座","m³",0.92,0.92]
["TXL7-039","砖筑交接箱基座","m³",1.67,1.67]
["TXL7-040","砂浆抹面（1：2.5）","m²",{"v":0.1,"d":"0.10"},0.15]
["TXL7-041","交接箱地线保护","处",{"v":1.3,"d":"1.30"},{"v":1.9,"d":"1.90"}]
["TXL7-042","安装落地式光缆交接箱-144芯以下","个",0.67,0.67]
["TXL7-043","安装落地式光缆交接箱-288芯以下","个",0.78,0.78]
["TXL7-044","安装落地式光缆交接箱-288芯以上","个",0.94,0.94]
["TXL7-045","安装壁挂式光缆交接箱-144芯以下","个",1.07,1.07]
["TXL7-046","安装壁挂式光缆交接箱-288芯以下","个",1.34,1.34]
["TXL7-047","安装架空式光缆交接箱-288芯以下","个",1.98,1.98]
["TXL7-048","安装架空式光缆交接箱-288芯以上","个",2.25,2.25]
["TXL7-049","安装架空式交接箱-600对以下","个",4.09,4.09]
["TXL7-050","安装架空式交接箱-1200对以下","个",5.35,5.35]
["TXL7-051","安装架空式交接箱-2400对以下","个",7.18,7.18]
["TXL7-052","安装架空式交接箱-2400对以上","个",8.09,8.09]
["TXL7-053","安装落地式交接箱-1200对以下","个",{"v":3.2,"d":"3.20"},{"v":3.2,"d":"3.20"}]
["TXL7-054","安装落地式交接箱-2400对以下","个",{"v":4.1,"d":"4.10"},{"v":4.1,"d":"4.10"}]
["TXL7-055","安装落地式交接箱-3600对以下","个",{"v":5,"d":"5.00"},{"v":5,"d":"5.00"}]
["TXL7-056","安装墙挂式交接箱-600对以下","个",{"v":2.9,"d":"2.90"},{"v":2.9,"d":"2.90"}]
["TXL7-057","安装墙挂式交接箱-1200对以下","个",3.85,3.85]
["TXL7-058","安装墙挂式交接箱-2400对以下","个",4.76,4.76]
["TXL7-059","交接箱改接跳线","百条",{"v":6,"d":"6.00"},{"v":0,"d":"0.00"}]
["TXL7-060","制装塑缆分线箱-10对以下","个",0.65,0.27]
["TXL7-061","制装塑缆分线箱-20对以下","个",0.86,0.36]
["TXL7-062","制装塑缆分线箱-30对以下","个",1.02,0.48]
["TXL7-063","制装塑缆分线箱-50对以下","个",1.45,0.66]
["TXL7-064","制装塑缆分线盒-10对以下","个",0.48,0.19]
["TXL7-064A","拆除塑缆分线盒-10对以下（工日*0.3）","个",{"$f":"0.48*0.3","v":{"v":0.144,"d":"0.14"}},{"$f":"0.19*0.3","v":{"v":0.057,"d":"0.06"}}]
["TXL7-065","制装塑缆分线盒-20对以下","个",0.66,0.28]
["TXL7-065A","拆除塑缆分线盒-20对以下（工日*0.3）","个",{"$f":"0.66*0.3","v":{"v":0.198,"d":"0.20"}},{"$f":"0.28*0.3","v":{"v":0.084,"d":"0.08"}}]
["TXL7-066","制装塑缆分线盒-30对以下","个",1.03,0.36]
["TXL7-067","制装塑缆分线盒-50对以下","个",1.27,0.54]
["TXL7-068","制装环氧树脂堵塞分线箱-10对以下","个",0.73,0.32]
["TXL7-069","制装环氧树脂堵塞分线箱-20对以下","个",0.98,0.41]
["TXL7-070","制装环氧树脂堵塞分线箱-30对以下","个",1.34,0.53]
["TXL7-071","制装环氧树脂堵塞分线箱-50对以下","个",{"v":1.6,"d":"1.60"},0.92]
["TXL7-072","制装环氧树脂堵塞分线盒-10对以下","个",0.59,0.23]
["TXL7-073","制装环氧树脂堵塞分线盒-20对以下","个",0.76,0.31]
["TXL7-074","制装环氧树脂堵塞分线盒-30对以下","个",1.17,{"v":0.4,"d":"0.40"}]
["TXL7-075","制装环氧树脂堵塞分线盒-50对以下","个",{"v":1.4,"d":"1.40"},0.79]
["TXL7-076","安装明挂式组线箱体","个",1.55,0.58]
["TXL7-077","安装测试100回线保安排试验排","块",0.75,{"v":0,"d":"0.00"}]
["TXL7-078","安装组线箱端子板","块",{"v":0.3,"d":"0.30"},{"v":0,"d":"0.00"}]
["TXL7-079","安装交接间配线架-3600对","座",3.65,{"v":0,"d":"0.00"}]
["TXL7-080","安装交接间配线架-4800对","座",4.67,{"v":0,"d":"0.00"}]
["TXL7-081","安装交接间配线架-7200对","座",7.22,{"v":0,"d":"0.00"}]
["TXL7-082","安装测试100回线接线排","块",{"v":0.4,"d":"0.40"},{"v":0,"d":"0.00"}]
["TXL7-083","安装充气设备-12路以下","套",{"v":11.9,"d":"11.90"},{"v":2.1,"d":"2.10"}]
["TXL7-084","安装充气设备-24路以下","套",{"v":18.4,"d":"18.40"},{"v":4.6,"d":"4.60"}]
["TXL7-085","安装充气设备-36路以下","套",{"v":27.2,"d":"27.20"},{"v":6.8,"d":"6.80"}]
["TXL7-086","安装充气设备-48路以下","套",{"v":36.8,"d":"36.80"},{"v":9.2,"d":"9.20"}]
["TXL7-087","填装气压表","块",0.68,0.37]
["TXL7-088","单装气门","个",{"v":0.4,"d":"0.40"},{"v":0.1,"d":"0.10"}]
["TXL7-089","布放安装输气管","20m/条",0.45,0.15]
["TXL7-090","安装告警器","个",{"v":0.9,"d":"0.90"},{"v":0.3,"d":"0.30"}]
["TXL7-091","电缆全程充气","千米条",{"v":2,"d":"2.00"},{"v":0,"d":"0.00"}]
["参08定额TX4-149","移改普通用户和更换ADSL用户室外线","对",0.29,0.29]
["TSY1-030","安装光分配架-子架","个",0.19,{"v":0,"d":"0.00"}]

{"sheet":"材料库","index":14,"n_rows":495,"n_cols":8,"rows_kept":495,"hidden":true}
["辅助关联项","物资编码","物资名称","下单配置编码","下单配置名称","规格型号","计量单位","单价"]
["J03030200017","J03030200017","光纤收发器机框-普通","",null,"普通光纤收发器机框","框",{"v":0,"d":"0.00"}]
["J05010301560","J05010301560","室外光缆-GYTS-单模G.652D(B1.3)-30芯","",null,"-","皮长公里",{"v":0,"d":"0.00"}]
["L11011400873","L11011400873","（备机）非无线EPON上行E8-C家庭网关（2FE+1POTS）","",null,"（备机）","台",{"v":0,"d":"0.00"}]
["L05060401486","L05060401486","4块25对高频数据模块","",null,"100回线接线模块（普天制式）","回线",{"v":0,"d":"0.00"}]
["J05060400780","J05060400780","MDF机架附件-打线刀","",null,"-","把",{"v":0,"d":"0.00"}]
["J05060400779","J05060400779","MDF保安单元","",null,"-","个",{"v":0,"d":"0.00"}]
["J03021500017","J03021500017","SW-4端口GE/FE光接口板","",null,"无","块",{"v":0,"d":"0.00"}]
["J03021500022","J03021500022","SW-A1类交流设备基本配置（机箱/交换板/主控板/电源/风扇/软件等）","",null,"无","台",{"v":0,"d":"0.00"}]
["J03021500062","J03021500062","SW-直流电源模块A","",null,"无","块",{"v":0,"d":"0.00"}]
["J05061100706","J05061100706","光分路器-盒式封装-LC/UPC-1×4","",null,"-","套",{"v":0,"d":"0.00"}]
["J05061300052","J05061300052","配线联结设备-转接器、转接头","",null,"-","个",{"v":0,"d":"0.00"}]
["L04030100568","L04030100568","GG-PDH光端机G01RV-FED1DFC/SC1","",null,"1*10/100BASE-T，双纤FC/SC，1310NM波长，25KM，光口通道带宽16M。交直流供电可选。19英寸1U高设备","台",{"v":0,"d":"0.00"}]
["J05061300052","J05061300052","配线联结设备-转接器、转接头","",null,"-","个",{"v":0,"d":"0.00"}]
["J05062101190","J05062101190","复接模块-25对-4005DPM","",null,"-","块",{"v":0,"d":"0.00"}]
["J05062101207","J05062101207","直接模块-25对-4000D","",null,"-","块",{"v":0,"d":"0.00"}]
["J05070102489","J05070102489","挂钩-电缆-65mm-普通","",null,"-","只",{"v":0,"d":"0.00"}]
["J05010100047","J05010100047","尾纤-10米长-含接头","",null,"尾纤-10米长-含接头","根",{"v":0,"d":"0.00"}]
["J05070102552","J05070102552","拉线衬环-三股","",null,"-","只",{"v":0,"d":"0.00"}]
["J05070102552","J05070102552","拉线衬环-三股","",null,"-","只",{"v":0,"d":"0.00"}]
["J05070102863","J05070102863","三沟隔电子","",null,"-","只",{"v":0,"d":"0.00"}]
["J05080100977","J05080100977","电缆托板-尼龙-200mm","",null,"-","个",{"v":0,"d":"0.00"}]
["J05080201729","J05080201729","收尾线槽-14.5×8.4mm","",null,"-","个",{"v":0,"d":"0.00"}]
["L04020201457","L04020201457","FH-155M光端机B2163-STM1-220","",null,"155M光端机,220VAC,2个STM-1光口（FC,40KM）和63路E1接口,可扩展一个公务电话通道和一个以太网接口","个",{"v":0,"d":"0.00"}]
["J11011400002","J11011400002","AP外置型EPON上行E8-C网关-2FE+1POTS","",null,"无","台",{"v":0,"d":"0.00"}]
["J05040300198","J05040300198","单面开门电缆交接箱-无端子-910×800×340mm-600对XF5-C","",null,"不锈钢材质","台",{"v":0,"d":"0.00"}]
["J05040300182","J05040300182","单面开门电缆交接箱-挂壁型-800×550×230mm-300对XF5","",null,"不锈钢材质","台",{"v":0,"d":"0.00"}]
["L02060101201","L02060101201","中兴软交换话务台卡","",null,"-","块",{"v":0,"d":"0.00"}]
["L05060601931","L05060601931","室外机柜直列模块（上海汇珏）","",null,"25线","块",{"v":0,"d":"0.00"}]
["L03020506527","L03020506527","华为-S5328C-EI-24S主机","",null,"S5328C-EI-24S主机(24个100/1000BASE-X,4个千兆COMBO口(10/100/1000 BASE-T),机箱,双电源槽位,不含插卡和电源)","个",{"v":0,"d":"0.00"}]
["J05040200132","J05040200132","室外电缆分线盒-铝合金-壁挂式-20对XF0","",null,"-","套",{"v":0,"d":"0.00"}]
["L03020506563","L03020506563","华为-S5352C-EI主机","",null,"S5352C-EI主机(48个10/100/1000BASE-T,机箱,双电源槽位,不含插卡和电源)","个",{"v":0,"d":"0.00"}]
["L11011303374","L11011303374","上海贝尔RG100A-AA（ADSL2+上行）","",null,"RG100A-AA（ADSL2+上行）","套",{"v":0,"d":"0.00"}]
["L03030102827","L03030102827","协议转换器 山水16路集中式机框-DC","",null,"-","台",{"v":0,"d":"0.00"}]
["L05080204959","L05080204959","拉线双罗旋","",null,"250*16M/M","付",{"v":0,"d":"0.00"}]
["L05080204949","L05080204949","瓦型护钢板","",null,"150X100X5","块",{"v":0,"d":"0.00"}]
["L05070300422","L05070300422","光缆保护管-Ф20","",null,"光缆保护管-Ф20","米",{"v":0,"d":"0.00"}]
["J05040200130","J05040200130","室外电缆分线盒-铝合金-壁挂式-5对XF0","",null,"-","套",{"v":0,"d":"0.00"}]
["L03030102828","L03030102828","OTS-240D/2光端机","",null,"-","台",{"v":0,"d":"0.00"}]
["L04030100582","L04030100582","OTS-120D-AC","",null,"-","台",{"v":0,"d":"0.00"}]
["L05062102939","L05062102939","高频数据模块接线工具","",null,"高频数据模块接线工具（普天制式）","个",{"v":0,"d":"0.00"}]
["L05061408602","L05061408602","多模跳纤-铠装单芯双头-SC/UPC-SC/UPC-10M","",null,"多模跳纤-铠装单芯双头-SC/UPC-SC/UPC-10M","条",{"v":0,"d":"0.00"}]
["L05061408600","L05061408600","多模跳纤-铠装单芯双头-FC/UPC-FC/UPC-10M","",null,"多模跳纤-铠装单芯双头-FC/UPC-FC/UPC-10M","条",{"v":0,"d":"0.00"}]
["J05040200123","J05040200123","室内外电缆分线盒、箱-铝合金-壁挂式-15对XF0(带锁)","",null,"-","套",{"v":0,"d":"0.00"}]
["J05030300016","J05030300016","铜鼻子-DT-185mm2","",null,"-","个",{"v":0,"d":"0.00"}]
["J05030300013","J05030300013","铜鼻子-DT-95mm2","",null,"-","个",{"v":0,"d":"0.00"}]
["J05010301527","J05010301527","室外光缆-GYTA-单模G.652D(B1.3)-48芯","",null,"-","皮长公里",3623.32]
["J05010301588","J05010301588","室外光缆-GYDTA-单模G.652D(B1.3)-96芯","",null,"-","皮长公里",{"v":0,"d":"0.00"}]
["J05010301588","J05010301588","室外光缆-GYDTA-单模G.652D(B1.3)-96芯","",null,"-","皮长公里",{"v":0,"d":"0.00"}]
["L05061003244","L05061003244","户外架空/落地机柜VI型（交流）","",null,"1200*1300*650","个",{"v":0,"d":"0.00"}]
["L04030100579","L04030100579","OTS-120D-DC","",null,"-","台",{"v":0,"d":"0.00"}]
["L05061003243","L05061003243","户外壁挂/抱杆机箱（III型）","",null,"650*1200*300","个",{"v":0,"d":"0.00"}]
["L05060800643","L05060800643","明装底盒","",null,"-","个",{"v":0,"d":"0.00"}]
["L03030200499","L03030200499","瑞斯康达 RC102-FE-S2","",null,"-","台",{"v":0,"d":"0.00"}]
["L03030200508","L03030200508","单纤光纤收发器","",null,"模块-可网管,1000MBPS,单模单芯,双波长0-25KM,RJ45/SC-PCRC212-GE-SS15","个",{"v":0,"d":"0.00"}]
["L03030200507","L03030200507","16槽光纤收发器机箱","",null,"RC/双电/48V","个",{"v":0,"d":"0.00"}]
["L03030200500","L03030200500","机箱主/备用电源,100W,-48VDC","",null,"0L200P-48","块",{"v":0,"d":"0.00"}]
["L03030200504","L03030200504","单台式10/100M光纤收发器（40KM单模双纤DC）","",null,"-","台",{"v":0,"d":"0.00"}]
["L05060401446","L05060401446","室外机柜横列模块（上海汇珏）","",null,"32线","块",{"v":0,"d":"0.00"}]
["L05060401446","L05060401446","室外机柜横列模块（上海汇珏）","",null,"32线","块",{"v":0,"d":"0.00"}]
["L05050200860","L05050200860","日海分光器单元箱","",null,"S01 A1单元箱体","个",{"v":0,"d":"0.00"}]
["L05030300422","L05030300422","保安接线排","",null,"FA8-210-2H（深圳日海）","个",{"v":0,"d":"0.00"}]
["L05030204340","L05030204340","通信电源用阻燃软电缆-35-BV-单芯","",null,"通信电源用阻燃软电缆-35-BV-单芯","米",{"v":0,"d":"0.00"}]
["L05030204338","L05030204338","通信电源用阻燃软电缆-25-BVR-单芯","",null,"通信电源用阻燃软电缆-25-BVR-单芯","米",{"v":0,"d":"0.00"}]
["L05030204332","L05030204332","单股铜芯线","",null,"1/1.5MM","米",{"v":0,"d":"0.00"}]
["L05030204310","L05030204310","铝芯电力电缆","",null,"VLV2*16MM","米",{"v":0,"d":"0.00"}]
["L05030204297","L05030204297","VLV-3*25+1*16MM","",null,"VLV-3*25+1*16MM","米",{"v":0,"d":"0.00"}]
["L05030204295","L05030204295","VLV-2*10MM","",null,"VLV-2*10MM","米",{"v":0,"d":"0.00"}]
["L05020700877","L05020700877","跳线","",null,"2*1/0.5","米",{"v":0,"d":"0.00"}]
["L05020604562","L05020604562","分歧卡","",null,"小号","个",{"v":0,"d":"0.00"}]
["L05020604543","L05020604543","开启式套管","",null,"KJF42-300(100对)","套",{"v":0,"d":"0.00"}]
["L05020604540","L05020604540","开启式套管","",null,"KJF42-250(50对）","套",{"v":0,"d":"0.00"}]
["L05020604532","L05020604532","热缩管","",null,"强力纤维热缩充气包管-92/30-500-XAGA1000","条",{"v":0,"d":"0.00"}]
["J05030300007","J05030300007","铜鼻子-DT-10mm2","",null,"-","个",{"v":0,"d":"0.00"}]
["L05020401487","L05020401487","5类25对室外阻水电缆","",null,"HSGYY5-Z 25*2*0.5","米",{"v":0,"d":"0.00"}]
["L04030100583","L04030100583","高科GK-G04B(16*2M+2*RJ45)-AC","",null,"高科GK-G04B(16*2M+2*RJ45)-AC","台",{"v":0,"d":"0.00"}]
["J050206600805","J050206600805","热缩套管-RSYF-23/12-210","",null,"每套热缩管配置相应尺寸（大、中、小号）分歧卡一只，屏蔽连接夹一只","套",{"v":0,"d":"0.00"}]
["L12100200654","L12100200654","手持式标签打印机","",null,"兄弟牌","台",{"v":0,"d":"0.00"}]
["L11011500310","L11011500310","锐捷I型NBR1200","",null,"NBR1200","台",{"v":0,"d":"0.00"}]
["L03030801135","L03030801135","九江山水 E1/10BT-DC","",null,"-","台",{"v":0,"d":"0.00"}]
["L03030801128","L03030801128","光接口转换器","",null,"瑞斯康达-RC903-V35FE1V.35转E1","台",{"v":0,"d":"0.00"}]
["L03030602432","L03030602432","交换机-PON上行","",null,"插卡式-MA5610机箱MA5610","台",{"v":0,"d":"0.00"}]
["L03030602426","L03030602426","中兴数据板","",null,"中兴C220EPON板","块",{"v":0,"d":"0.00"}]
["L03030801138","L03030801138","高科 V2051(E1/10BASE-T)-AC","",null,"-","台",{"v":0,"d":"0.00"}]
["J05020200210","J05020200210","局外市话电缆-HYA-50×2×0.4mm","",null,"-","米",{"v":0,"d":"0.00"}]
["J05020200211","J05020200211","局外市话电缆-HYA-100×2×0.4mm","",null,"-","米",{"v":0,"d":"0.00"}]
["J05030201972","J05030201972","电力电缆-ZA-RVV-0.6/1KV-2×6mm2","",null,"-","米",{"v":0,"d":"0.00"}]
["J05030201963","J05030201963","电力电缆-ZA-RVV-0.6/1KV-1×185mm2","",null,"-","米",{"v":0,"d":"0.00"}]
["L03030602412","L03030602412","HW-MA562XEPON远端光接入单元（24FE）","",null,"MA5626EPON远端光接入单元(交流,24FE,单EPON口上行,含电源线和资料)","个",{"v":0,"d":"0.00"}]
["J05020300302","J05020300302","同轴电缆-SYV-75ohm-2-2×8芯","",null,"-","米",{"v":0,"d":"0.00"}]
["L03030602411","L03030602411","HW-MA5610以太网接入板（16端口）","",null,"HW-MA5610以太网接入板（16端口）","个",{"v":0,"d":"0.00"}]
["L03030501738","L03030501738","F401整套，1FE/GE","",null,"EPON","台",{"v":0,"d":"0.00"}]
["L03030501717","L03030501717","9806H(AC)","",null,"9806H 24路ADSL2+用户板套件","套",{"v":0,"d":"0.00"}]
["J05030201954","J05030201954","电力电缆-ZA-RVV-0.6/1KV-1×10mm2","",null,"-","米",{"v":0,"d":"0.00"}]
["L03030200510","L03030200510","光纤收发器","",null,"烽火-光纤收发器局端48V","个",{"v":0,"d":"0.00"}]
["L03030200510","L03030200510","光纤收发器","",null,"烽火-光纤收发器局端48V","个",{"v":0,"d":"0.00"}]
["J050206600786","J050206600786","热缩套管-RSBF-62/22-500","",null,"每套热缩管配置相应尺寸（大、中、小号）分歧卡一只，屏蔽连接夹一只","套",{"v":0,"d":"0.00"}]
["J050206600786","J050206600786","热缩套管-RSBF-62/22-500","",null,"每套热缩管配置相应尺寸（大、中、小号）分歧卡一只，屏蔽连接夹一只","套",{"v":0,"d":"0.00"}]
["L03030200509","L03030200509","光纤收发器","",null,"RC202-FE-S1","个",{"v":0,"d":"0.00"}]
["J050206600788","J050206600788","热缩套管-RSBF-75/25-500","",null,"每套热缩管配置相应尺寸（大、中、小号）分歧卡一只，屏蔽连接夹一只","套",{"v":0,"d":"0.00"}]
["L03030501676","L03030501676","ADSL局端设备-以太上行","",null,"华为-MA5612G-8FE+16POTS-FTTB","台",{"v":0,"d":"0.00"}]
["J05080201495","J05080201495","PVC实壁管-PVC-U-外径／内径50/46","",null,"配件含套筒16.7只/百米；堵头3只/百米；胶水（必要时）","米",{"v":2.6555192802,"d":"2.66"}]
["J05080201501","J05080201501","梅花管-HDPE-32×7","",null,"配件含套筒16.7只/百米；母管堵头3只/百米；子管堵头21只/百米；胶水（必要时）","米",{"v":15.3910056338,"d":"15.39"}]
["J05010303129","J05010303129","光缆-GYTA-单模G.652D-48芯","",null,"-","皮长公里",{"v":4113.6105726872,"d":"4113.61"}]
["J05050500039","J05050500039","光纤配线箱-壁挂式-440×280×115mm-24芯-室内外","",null,"-","个",164.56]
["J05080201539","J05080201539","PVC管-实壁管-20/17mm","",null,"-","米",{"v":1.2820996276,"d":"1.28"}]
["J05061100685","J05061100685","光分路器-托盘式封装适配器型-FC/UPC-1×16","",null,"-","套",{"v":197.3181081081,"d":"197.32"}]
["J05061100685","J05061100685","光分路器-托盘式封装适配器型-FC/UPC-1×16","",null,"-","套",{"v":98.2704761905,"d":"98.27"}]
["J05080201501","J05080201501","梅花管-HDPE-32×7","",null,"配件含套筒16.7只/百米；母管堵头3只/百米；子管堵头21只/百米；胶水（必要时）","米",{"v":12.221,"d":"12.22"}]
["J05010300648","J05010300648","光缆-GYFTY-层绞结构-24芯","",null,"室外光缆","皮长公里",{"v":2342.6524271845,"d":"2342.65"}]
["J05010300648","J05010300648","光缆-GYFTY-层绞结构-24芯","",null,"室外光缆","皮长公里",{"v":2342.6517647059,"d":"2342.65"}]
["J05010300915","J05010300915","光缆-GYTA-层绞结构-24芯","",null,"室外光缆","皮长公里",{"v":2188.0830769231,"d":"2188.08"}]
["J05060900571","J05060900571","网络机柜-1","",null,"冷轧钢板网络机柜柜体：2000x600x800（高*宽*深mm)机架；机柜前门：单开网孔门；机柜后门:双开网孔门；侧板:2个，2000*800机柜用；托盘:配800mm深机柜，最大载重40KG；托板:配800mm深机柜，最大载重80KG,配电单元A:2进20出,空开:2个，63A国产空开，交流；空开:16个，10A国产空开，交流；空开:4个16A国产空开，交流；交流风扇模块：普通型，含2个风扇；假面板：2U；KVM切换器：8端口；安装底座：600*800(宽*深）机柜用","架",{"v":663.9477777778,"d":"663.95"}]
["J05070102487","J05070102487","挂钩-电缆-45mm-普通","",null,"-","只",{"v":0.3247844374,"d":"0.32"}]
["J05010300915","J05010300915","光缆-GYTA-层绞结构-24芯","",null,"室外光缆","皮长公里",{"v":2188.0833333333,"d":"2188.08"}]
["J05010300648","J05010300648","光缆-GYFTY-层绞结构-24芯","",null,"室外光缆","皮长公里",{"v":2427.585,"d":"2427.59"}]
["J05070102506","J05070102506","镀锌铁线-3.0mm-B(厚)级","",null,"-","公斤",{"v":5.9144827586,"d":"5.91"}]
["J05070102506","J05070102506","镀锌铁线-3.0mm-B(厚)级","",null,"-","公斤",5.91]
["J01040100080","J01040100080","三腔体功分器-普通型-N型头","",null,"-","个",{"v":13.4896,"d":"13.49"}]
["J05070102863","J05070102863","三沟隔电子","",null,"-","只",0.85]
["J05070102873","J05070102873","镀锌单吊线抱箍-144mm","",null,"-","个",{"v":11,"d":"11.00"}]
["J05061405153_JX0026","J05061405153","光纤活动连接器1米、2米、3米、5米等配置","J05061405153_JX0026","单芯单模双头尾纤FC-FC 15米 （G.652D 3mm）","","根",{"v":8.5688571429,"d":"8.57"}]
["J05061100684","J05061100684","光分路器-托盘式封装适配器型-FC/UPC-1×8","",null,"-","套",{"v":60.0525,"d":"60.05"}]
["J05050500039","J05050500039","光纤配线箱-壁挂式-440×280×115mm-24芯-室内外","",null,"-","个",164.56]
["J05061100224","J05061100224","1×8插片式适配器型SC/UPC光分路器","",null,"1×8光分路器、SC/UPC头子尾纤、插片式适配器型封装","套",61.87]
["J05070102450","J05070102450","线路铁件-隔电子","",null,"-","只",{"v":3.8461538462,"d":"3.85"}]
["J05070102561","J05070102561","一号拉攀-385×40mm","",null,"-","个",{"v":4.2,"d":"4.20"}]
["J05010300940","J05010300940","光缆-GYTA-层绞结构-4芯","",null,"室外光缆","皮长公里",{"v":1038.3655172414,"d":"1038.37"}]
["J05010302915","J05010302915","光缆-GYFTY-单模G.652D-24芯","",null,"-","皮长公里",{"v":2766.0646616541,"d":"2766.06"}]
["J05010302915","J05010302915","光缆-GYFTY-单模G.652D-24芯","",null,"-","皮长公里",{"v":2766.0649635036,"d":"2766.06"}]
["J05050100552","J05050100552","SC单芯适配器（PC/UPC/APC）-国产","",null,"SC单芯适配器（PC/UPC/APC）-国产","只",{"v":3.41875,"d":"3.42"}]
["J05010302915","J05010302915","光缆-GYFTY-单模G.652D-24芯","",null,"-","皮长公里",{"v":2766.0649206349,"d":"2766.06"}]
["J05010302915","J05010302915","光缆-GYFTY-单模G.652D-24芯","",null,"-","皮长公里",{"v":2766.0648097826,"d":"2766.06"}]
["J05070102611","J05070102611","线路铁件-拉线警示护套-硬质","",null,"-","米",{"v":6.410261194,"d":"6.41"}]
["J05070103139","J05070103139","线路铁件-圆形压线卡-8#","",null,"-","个",{"v":0.042735,"d":"0.04"}]
["J05050100706","J05050100706","CT-GXFT-144芯SMC箱体","",null,"1035×570×308mm(高×宽×深)，144芯(含底座、满配喉箍，含内背装件，线环组件，跳纤存储单元、满配喉箍等未单独列出的所有必配零部件)","只",1926.38]
["J05070103140","J05070103140","线路铁件-圆形压线卡-10#","",null,"-","个",{"v":0.042735025,"d":"0.04"}]
["J05062101272","J05062101272","尼龙扎带","",null,"-","百只",{"v":0.07694,"d":"0.08"}]
["J05061405153_JX0002","J05061405153","光纤活动连接器1米、2米、3米、5米等配置","J05061405153_JX0002","单芯单模双头尾纤FC-FC 2米 （G.652D 3mm）","","根",{"v":6.1093413174,"d":"6.11"}]
["J05070102553","J05070102553","拉线衬环-五股","",null,"-","只",{"v":0.6,"d":"0.60"}]
["J05010303120","J05010303120","光缆-GYTA-单模G.652D-24芯","",null,"-","皮长公里",{"v":2514.935,"d":"2514.94"}]
["J05050100860_JX0030","J05050100860","光缆交接箱144、288、576配置","J05050100860_JX0030","光缆交接箱（144芯SMC箱体）满配 SC","","台",{"v":1112.7,"d":"1112.70"}]
["J05061405153_JX0064","J05061405153","光纤活动连接器1米、2米、3米、5米等配置","J05061405153_JX0064","单芯单模双头尾纤LC-FC 15米 （G.652D 3mm）","","根",{"v":9.0583,"d":"9.06"}]
["J050206600788","J050206600788","热缩套管-RSBF-75/25-500","",null,"每套热缩管配置相应尺寸（大、中、小号）分歧卡一只，屏蔽连接夹一只","套",{"v":0,"d":"0.00"}]
["L03030501732","L03030501732","F821交流插箱","",null,"含主控板","台",{"v":0,"d":"0.00"}]
["J05061100694","J05061100694","光分路器-盒式封装-FC/UPC-1×4","",null,"-","套",{"v":0,"d":"0.00"}]
["L10150200721","L10150200721","机电工具","",null,"黑胶布","个",{"v":0,"d":"0.00"}]
["L05070106801","L05070106801","U型抱箍（2个）","",null,"1:32SMC室外楼道箱抱杆使用","个",{"v":0,"d":"0.00"}]
["J05061300052","J05061300052","配线联结设备-转接器、转接头","",null,"-","个",{"v":0,"d":"0.00"}]
["J05040300181","J05040300181","单面开门电缆交接箱-挂壁型-820×420×230mm-200对XF5","",null,"不锈钢材质","台",{"v":0,"d":"0.00"}]
["L03030801129","L03030801129","GG-机架式协议转换器C2810-V.35板","",null,"E1/V.35转换模块，适用于C2810机架式协议转换器机框","台",{"v":0,"d":"0.00"}]
["J05070600015","J05070600015","管道材料-线卡、板","",null,"-","个",{"v":0.05125,"d":"0.05"}]
["J05020200245","J05020200245","局外市话电缆-HYA-5×2×0.4mm","",null,"-","米",{"v":0,"d":"0.00"}]
["J05010300673","J05010300673","光缆-GYFTY-层绞结构-4芯","",null,"室外光缆","皮长公里",1357.19]
["J05010300673","J05010300673","光缆-GYFTY-层绞结构-4芯","",null,"室外光缆","皮长公里",{"v":1357.2,"d":"1357.20"}]
["J05010300949","J05010300949","光缆-GYTA-层绞结构-6芯","",null,"室外光缆","皮长公里",1361.15]
["J05010300949","J05010300949","光缆-GYTA-层绞结构-6芯","",null,"室外光缆","皮长公里",{"v":1248.9076923077,"d":"1248.91"}]
["J05020700090","J05020700090","平行电话线","",null,"-","个",{"v":0.2639,"d":"0.26"}]
["J05010300949","J05010300949","光缆-GYTA-层绞结构-6芯","",null,"室外光缆","皮长公里",{"v":1361,"d":"1361.00"}]
["J05010300952","J05010300952","光缆-GYTA-层绞结构-8芯","",null,"室外光缆","皮长公里",{"v":1457.1,"d":"1457.10"}]
["J05062101285","J05062101285","RJ45模块","",null,"-","个",{"v":4.1025454545,"d":"4.10"}]
["J05050500039","J05050500039","光纤配线箱-壁挂式-440×280×115mm-24芯-室内外","",null,"-","个",{"v":128.4046153846,"d":"128.40"}]
["J05062101284","J05062101284","RJ11模块","",null,"-","个",{"v":1.5385,"d":"1.54"}]
["J05050500039","J05050500039","光纤配线箱-壁挂式-440×280×115mm-24芯-室内外","",null,"-","个",{"v":128.405,"d":"128.41"}]
["J05062101241","J05062101241","光缆盘留架","",null,"-","个",32.48]
["J05062101284","J05062101284","RJ11模块","",null,"-","个",{"v":1.5384353741,"d":"1.54"}]
["J05070102828","J05070102828","线路铁件-铁丝-Φ1.5mm","",null,"-","公斤",{"v":6.4956914894,"d":"6.50"}]
["J05050500039","J05050500039","光纤配线箱-壁挂式-440×280×115mm-24芯-室内外","",null,"-","个",{"v":128.4047058824,"d":"128.40"}]
["J05050500039","J05050500039","光纤配线箱-壁挂式-440×280×115mm-24芯-室内外","",null,"-","个",{"v":128.4,"d":"128.40"}]
["J05020400461","J05020400461","预制成端数字通信电缆-HSYV-5-4×2×0.5mm","",null,"-","米",{"v":0.8410101483,"d":"0.84"}]
["J05010300673","J05010300673","光缆-GYFTY-层绞结构-4芯","",null,"室外光缆","皮长公里",1375.75]
["J05010300682","J05010300682","光缆-GYFTY-层绞结构-6芯","",null,"室外光缆","皮长公里",{"v":1320.6935483871,"d":"1320.69"}]
["J05050400974","J05050400974","光缆接头盒盒体-卧式-24芯","",null,"-","套",{"v":83.2525,"d":"83.25"}]
["J05061100037","J05061100037","1×16插片式适配器型SC/UPC光分路器","",null,"1×16光分路器、SC/UPC头子尾纤、插片式适配器型封装","套",{"v":68.239,"d":"68.24"}]
["J05080201737","J05080201737","封堵填充胶泥","",null,"-","个",{"v":6.4103703704,"d":"6.41"}]
["J05050200200","J05050200200","光缆分光分纤盒-SMC-16芯","",null,"外形尺寸：350×340×100mm，两槽位。安装方式：可壁挂可抱杆。含锁具、箱体背部安装板、分插片固定装置、蝶形引入光缆固定装置、光缆固定接地装置、尾纤停泊区、魔术搭扣、翻版(含吸铁支架)、线环、密封件等必配零部件。","台",{"v":126.729,"d":"126.73"}]
["J05070103141","J05070103141","线路铁件-圆形压线卡-12#","",null,"-","个",{"v":0.0512825175,"d":"0.05"}]
["J05080201702","J05080201702","波纹管-HDPE-25×0.40mm","",null,"-","米",{"v":1.8803333333,"d":"1.88"}]
["J05020700093","J05020700093","RJ11水晶头","",null,"-","个",{"v":0.3247859551,"d":"0.32"}]
["J05050300083","J05050300083","光纤终端盒-挂墙式-直熔-24芯","",null,"-","个",{"v":39.3161111111,"d":"39.32"}]
["J05062101285","J05062101285","RJ45模块","",null,"-","个",{"v":4.1025506073,"d":"4.10"}]
["J05062101284","J05062101284","RJ11模块","",null,"-","个",{"v":1.53846,"d":"1.54"}]
["J05010300212","J05010300212","光缆-GYDTA-光纤带结构-144芯","",null,"室外光缆","皮长公里",11595.63]
["J05061100224","J05061100224","1×8插片式适配器型SC/UPC光分路器","",null,"1×8光分路器、SC/UPC头子尾纤、插片式适配器型封装","套",{"v":61.8728395062,"d":"61.87"}]
["J05050500039","J05050500039","光纤配线箱-壁挂式-440×280×115mm-24芯-室内外","",null,"-","个",{"v":128.4046644295,"d":"128.40"}]
["J05010300212","J05010300212","光缆-GYDTA-光纤带结构-144芯","",null,"室外光缆","皮长公里",{"v":11595.625,"d":"11595.63"}]
["J05070102487","J05070102487","挂钩-电缆-45mm-普通","",null,"-","只",{"v":0.3246938776,"d":"0.32"}]
["J05061100183","J05061100183","1×64插片式适配器型SC/UPC光分路器","",null,"1×64光分路器、SC/UPC头子尾纤、插片式适配器型封装","套",{"v":376.6984615385,"d":"376.70"}]
["J05050500039","J05050500039","光纤配线箱-壁挂式-440×280×115mm-24芯-室内外","",null,"-","个",{"v":128.4,"d":"128.40"}]
["J05020200243","J05020200243","局外市话电缆-HYA-10×2×0.4mm","",null,"-","米",0.21]
["J05070102573","J05070102573","凸出支架-小号","",null,"-","个",{"v":12.9915384615,"d":"12.99"}]
["J05070102838","J05070102838","地线棒-12×1800mm","",null,"-","个",{"v":10.25625,"d":"10.26"}]
["J05070102846","J05070102846","线路铁件-钢绞线卡子-10号","",null,"-","个",{"v":1.1965384615,"d":"1.20"}]
["J05070102848","J05070102848","线路铁件-钢绞线卡子-8号","",null,"-","个",{"v":0.7692473118,"d":"0.77"}]
["J05070102881","J05070102881","镀锌双吊线抱箍-164mm","",null,"-","个",{"v":20.3418909091,"d":"20.34"}]
["J05020400461","J05020400461","预制成端数字通信电缆-HSYV-5-4×2×0.5mm","",null,"-","米",{"v":0.7186838407,"d":"0.72"}]
["J05080201514","J05080201514","PE光缆子管-LDPE-外径／内径32/28","",null,"配件-堵头3只/百米","米",{"v":1.81796875,"d":"1.82"}]
["J05010303129","J05010303129","光缆-GYTA-单模G.652D-48芯","",null,"-","皮长公里",{"v":4329.255,"d":"4329.26"}]
["J05010300685","J05010300685","光缆-GYFTY-层绞结构-8芯","",null,"室外光缆","皮长公里",{"v":1622.6481481481,"d":"1622.65"}]
["J05050500039","J05050500039","光纤配线箱-壁挂式-440×280×115mm-24芯-室内外","",null,"-","个",164.56]
["J05050200202","J05050200202","光缆分光分纤盒-SMC-32芯","",null,"外形尺寸：460×340×100mm，四槽位。安装方式：可壁挂可抱杆。含锁具、箱体背部安装板、分插片固定装置、蝶形引入光缆固定装置、光缆固定接地装置、尾纤停泊区、魔术搭扣、翻版(含吸铁支架)、线环、密封件等必配零部件。","台",{"v":165.4446043165,"d":"165.44"}]
["J05040200133","J05040200133","室外电缆分线盒-铝合金-壁挂式-30对XF0","",null,"-","套",{"v":0,"d":"0.00"}]
["J05040200134","J05040200134","室外电缆分线盒-铝合金-壁挂式-50对XF0","",null,"-","套",{"v":0,"d":"0.00"}]
["L05070106499","L05070106499","二线角钢担","",null,"400*40*40*4","条",{"v":0,"d":"0.00"}]
["L05020604531","L05020604531","热缩管","",null,"强力纤维热缩充气包管-62/15-500-XAGA1000","条",{"v":0,"d":"0.00"}]
["L01130301732","L01130301732","单杆圆形站台","",null,"大号","付",{"v":0,"d":"0.00"}]
["J05040200132","J05040200132","室外电缆分线盒-铝合金-壁挂式-20对XF0","",null,"-","套",{"v":0,"d":"0.00"}]
["J05070102609","J05070102609","线路铁件-架空交接箱站台H杆","",null,"-","个",{"v":0,"d":"0.00"}]
["J05070102562","J05070102562","二号拉攀-250×50mm","",null,"-","个",{"v":0,"d":"0.00"}]
["J05061300052","J05061300052","配线联结设备-转接器、转接头","",null,"-","个",{"v":0,"d":"0.00"}]
["L05040200679","L05040200679","分线箱","",null,"圆形分线箱-F601-50","个",{"v":0,"d":"0.00"}]
["L05050200848","L05050200848","光交接箱型光分路器","",null,"光交接箱NTM-SA1模块（含光分器1：16，FC适配器）","块",{"v":0,"d":"0.00"}]
["J05040200131","J05040200131","室外电缆分线盒-铝合金-壁挂式-10对XF0","",null,"-","套",{"v":0,"d":"0.00"}]
["J03030200018","J03030200018","光纤收发器机框-增强型","",null,"增强型光纤收发器机框","框",{"v":0,"d":"0.00"}]
["L05040200677","L05040200677","分线箱","",null,"圆形分线箱-F601-20","个",{"v":0,"d":"0.00"}]
["J05070400073","J05070400073","吊牌警示牌-警示标牌","",null,"-","块",{"v":0,"d":"0.00"}]
["J05070102552","J05070102552","拉线衬环-三股","",null,"-","只",{"v":0,"d":"0.00"}]
["J05070102538","J05070102538","U型抱箍-R75","",null,"-","个",{"v":0,"d":"0.00"}]
["J05070102532","J05070102532","双吊线抱箍-164×50×8mm","",null,"-","个",{"v":0,"d":"0.00"}]
["L05020700878","L05020700878","自承式对绞铜芯电话线","",null,"HYVC 1*2/0.5+1*1.2","米",{"v":0,"d":"0.00"}]
["L05020700874","L05020700874","对绞铜芯电话线","",null,"HBYVJ 2*1/0.5","米",{"v":0,"d":"0.00"}]
["J03030800017","J03030800017","光纤收发器-1光1电-FE-双纤-短距-类型4","",null,"台式设备，FE单光口（双纤短距）、单电口光纤收发器","台",{"v":0,"d":"0.00"}]
["L05020604546","L05020604546","非气压维护用纵包热缩接头（分岐接头）","",null,"RSBF92*35-500","套",{"v":0,"d":"0.00"}]
["L05062102821","L05062102821","RJ45数据模块","",null,"-","只",{"v":0,"d":"0.00"}]
["J05040200130","J05040200130","室外电缆分线盒-铝合金-壁挂式-5对XF0","",null,"-","套",{"v":0,"d":"0.00"}]
["J05061400028","J05061400028","FC/UPC单芯单模适配器","",null,"FC/UPC单芯单模适配器","只",{"v":3.8460714286,"d":"3.85"}]
["J05020400423","J05020400423","RJ45水晶头","",null,"-","个",{"v":0.47865,"d":"0.48"}]
["J05080201489","J05080201489","PE实壁管-HDPE-直径50×4.0mm","",null,"配件含套筒16.7只/百米；堵头3只/百米；胶水（必要时）","米",{"v":4.784,"d":"4.78"}]
["J05061405153_JX0008","J05061405153","光纤活动连接器1米、2米、3米、5米等配置","J05061405153_JX0008","单芯单模双头尾纤SC-SC 3米 （G.652D 3mm）","","根",{"v":6.3976923077,"d":"6.40"}]
["J05050100860_JX0014","J05050100860","光缆交接箱144、288、576配置","J05050100860_JX0014","光缆交接箱（576芯双面SMC箱体）半配 FC","","台",{"v":2249.8033333333,"d":"2249.80"}]
["J05050400974","J05050400974","光缆接头盒盒体-卧式-24芯","",null,"-","套",83.25]
["J05060600780_JX0005","J05060600780","ODF-机架机框配置","J05060600780_JX0005","ODF-72芯子框","","架",535.23]
["J05061405153_JX0044","J05061405153","光纤活动连接器1米、2米、3米、5米等配置","J05061405153_JX0044","单芯单模双头尾纤FC-SC 25米 （G.652D 3mm）","","根",{"v":10.7125,"d":"10.71"}]
["J05061405153_JX0019","J05061405153","光纤活动连接器1米、2米、3米、5米等配置","J05061405153_JX0019","单芯单模双头尾纤LC-FC 20米 （G.652D 3mm）","","根",{"v":10.0188,"d":"10.02"}]
["J05061405153_JX0006","J05061405153","光纤活动连接器1米、2米、3米、5米等配置","J05061405153_JX0006","单芯单模双头尾纤SC-SC 1米 （G.652D 3mm）","","根",{"v":6.039285021,"d":"6.04"}]
["J05070102826","J05070102826","线路铁件-铁丝-Φ4mm","",null,"-","公斤",{"v":3.4099983202,"d":"3.41"}]
["J05070102827","J05070102827","线路铁件-铁丝-Φ3mm","",null,"-","公斤",3.12]
["L05010106339","L05010106339","尾纤-LC-LC-10米","",null,"尾纤-LC-LC-10米","条",{"v":0,"d":"0.00"}]
["J05020600106","J05020600106","超柔1/2\"N公头","",null,"无","个",{"v":0,"d":"0.00"}]
["J05070102479","J05070102479","带头穿钉-12×220mm","",null,"-","个",1.19]
["J05010100048","J05010100048","尾纤-15米长-含接头","",null,"尾纤-15米长-含接头","根",{"v":0,"d":"0.00"}]
["J05010100053","J05010100053","尾纤-5米长-含接头","",null,"尾纤-5米长-含接头","根",{"v":0,"d":"0.00"}]
["J05010100052","J05010100052","尾纤-30米长-含接头","",null,"尾纤-30米长-含接头","根",{"v":0,"d":"0.00"}]
["J05010100050","J05010100050","尾纤-25米长-含接头","",null,"尾纤-25米长-含接头","根",{"v":0,"d":"0.00"}]
["J05010100047","J05010100047","尾纤-10米长-含接头","",null,"尾纤-10米长-含接头","根",{"v":0,"d":"0.00"}]
["J05080201687","J05080201687","PVC管-波纹柔管-Φ20mm","",null,"-","米",{"v":1.6,"d":"1.60"}]
["J05080201695","J05080201695","PVC管-波纹柔管-Φ16mm","",null,"-","米",{"v":1.2,"d":"1.20"}]
["J05080202006","J05080202006","塑料硬管-PVC-20/16mm","",null,"-","米",{"v":1.5,"d":"1.50"}]
["J05080202003","J05080202003","塑料硬管-PVC-16/12mm","",null,"-","米",{"v":1.2,"d":"1.20"}]
["J05050200202","J05050200202","光缆分光分纤盒-SMC-32芯","",null,"外形尺寸：460×340×100mm，四槽位。安装方式：可壁挂可抱杆。含锁具、箱体背部安装板、分插片固定装置、蝶形引入光缆固定装置、光缆固定接地装置、尾纤停泊区、魔术搭扣、翻版(含吸铁支架)、线环、密封件等必配零部件。","台",{"v":165.4444545455,"d":"165.44"}]
["J05050200200","J05050200200","光缆分光分纤盒-SMC-16芯","",null,"外形尺寸：350×340×100mm，两槽位。安装方式：可壁挂可抱杆。含锁具、箱体背部安装板、分插片固定装置、蝶形引入光缆固定装置、光缆固定接地装置、尾纤停泊区、魔术搭扣、翻版(含吸铁支架)、线环、密封件等必配零部件。","台",{"v":144.455,"d":"144.46"}]
["J05061405153_JX0042","J05061405153","光纤活动连接器1米、2米、3米、5米等配置","J05061405153_JX0042","单芯单模双头尾纤FC-SC 15米 （G.652D 3mm）","","根",{"v":8.5477480916,"d":"8.55"}]
["J05061405153_JX0026","J05061405153","光纤活动连接器1米、2米、3米、5米等配置","J05061405153_JX0026","单芯单模双头尾纤FC-FC 15米 （G.652D 3mm）","","根",{"v":8.5687916667,"d":"8.57"}]
["J05061405153_JX0058","J05061405153","光纤活动连接器1米、2米、3米、5米等配置","J05061405153_JX0058","单芯单模双头尾纤LC-FC 3米 （G.652D 3mm）","","根",{"v":6.3946979167,"d":"6.39"}]
["J05070103141","J05070103141","线路铁件-圆形压线卡-12#","",null,"-","个",{"v":0,"d":"0.00"}]
["J05080100900","J05080100900","甲式托架-铸铁-125cm","",null,"-","个",{"v":0,"d":"0.00"}]
["J05080100977","J05080100977","电缆托板-尼龙-200mm","",null,"-","个",{"v":0,"d":"0.00"}]
["J05060800017","J05060800017","综合信息箱-高频模块","",null,"-","块",{"v":0,"d":"0.00"}]
["J05061100224","J05061100224","1×8插片式适配器型SC/UPC光分路器","",null,"1×8光分路器、SC/UPC头子尾纤、插片式适配器型封装","套",{"v":61.8728571429,"d":"61.87"}]
["J05080300302","J05080300302","镀锌钢管-100×4.5mm","",null,"-","米",{"v":50.4275,"d":"50.43"}]
["J05080201737","J05080201737","封堵填充胶泥","",null,"-","个",{"v":6.41025,"d":"6.41"}]
["J05061405153_JX0008","J05061405153","光纤活动连接器1米、2米、3米、5米等配置","J05061405153_JX0008","单芯单模双头尾纤SC-SC 3米 （G.652D 3mm）","","根",{"v":6.3765517241,"d":"6.38"}]
["J05020300019","J05020300019","7/8\"普通阻燃馈线","",null,"无","米",{"v":0,"d":"0.00"}]
["J05050100668","J05050100668","CT-GXFT-576芯三网合一不锈钢箱体-1200×1000×450mm","",null,"-","只",4987.18]
["J05050400900","J05050400900","光缆接头盒","",null,"-","个",{"v":0,"d":"0.00"}]
["J05070102515","J05070102515","拉线地锚-16×1800mm","",null,"-","个",{"v":16,"d":"16.00"}]
["J05061405153_JX0009","J05061405153","光纤活动连接器1米、2米、3米、5米等配置","J05061405153_JX0009","单芯单模双头尾纤SC-SC 5米 （G.652D 3mm）","","根",{"v":7.4676969697,"d":"7.47"}]
["J05050200202","J05050200202","光缆分光分纤盒-SMC-32芯","",null,"外形尺寸：460×340×100mm，四槽位。安装方式：可壁挂可抱杆。含锁具、箱体背部安装板、分插片固定装置、蝶形引入光缆固定装置、光缆固定接地装置、尾纤停泊区、魔术搭扣、翻版(含吸铁支架)、线环、密封件等必配零部件。","台",{"v":165.4444897959,"d":"165.44"}]
["J05020600193","J05020600193","接线子-UR复接","",null,"-","个",{"v":0.128204,"d":"0.13"}]
["J05010300637","J05010300637","光缆-GYFTY-层绞结构-12芯","",null,"室外光缆","皮长公里",{"v":1796.8515969163,"d":"1796.85"}]
["J05010300637","J05010300637","光缆-GYFTY-层绞结构-12芯","",null,"室外光缆","皮长公里",{"v":1796.8505952381,"d":"1796.85"}]
["J05010300637","J05010300637","光缆-GYFTY-层绞结构-12芯","",null,"室外光缆","皮长公里",1796.85]
["J05010300637","J05010300637","光缆-GYFTY-层绞结构-12芯","",null,"室外光缆","皮长公里",1796.85]
["J05010300648","J05010300648","光缆-GYFTY-层绞结构-24芯","",null,"室外光缆","皮长公里",{"v":2324.895,"d":"2324.90"}]
["J05010300648","J05010300648","光缆-GYFTY-层绞结构-24芯","",null,"室外光缆","皮长公里",{"v":2324.895,"d":"2324.90"}]
["J05010300673","J05010300673","光缆-GYFTY-层绞结构-4芯","",null,"室外光缆","皮长公里",1357.19]
["J05010300685","J05010300685","光缆-GYFTY-层绞结构-8芯","",null,"室外光缆","皮长公里",{"v":1645.8069767442,"d":"1645.81"}]
["J05050400974","J05050400974","光缆接头盒盒体-卧式-24芯","",null,"-","套",{"v":84.4675,"d":"84.47"}]
["J05080201688","J05080201688","PVC管-波纹柔管-Φ25mm","",null,"-","米",{"v":1.8,"d":"1.80"}]
["J05080202008","J05080202008","塑料硬管-PVC-25/20mm","",null,"-","米",1.55]
["J05020400423","J05020400423","RJ45水晶头","",null,"-","个",{"v":0.2991333333,"d":"0.30"}]
["J05070102450","J05070102450","线路铁件-隔电子","",null,"-","只",{"v":3.84615,"d":"3.85"}]
["J05070300234","J05070300234","拉线保护管-2m","",null,"-","个",{"v":12.8205050505,"d":"12.82"}]
["J05061405153_JX0044","J05061405153","光纤活动连接器1米、2米、3米、5米等配置","J05061405153_JX0044","单芯单模双头尾纤FC-SC 25米 （G.652D 3mm）","","根",{"v":14.14275,"d":"14.14"}]
["J05061405153_JX0019","J05061405153","光纤活动连接器1米、2米、3米、5米等配置","J05061405153_JX0019","单芯单模双头尾纤LC-FC 20米 （G.652D 3mm）","","根",{"v":12.16125,"d":"12.16"}]
["J05061405153_JX0019","J05061405153","光纤活动连接器1米、2米、3米、5米等配置","J05061405153_JX0019","单芯单模双头尾纤LC-FC 20米 （G.652D 3mm）","","根",{"v":12.1611,"d":"12.16"}]
["J05061400034","J05061400034","FC-SC转换适配器","",null,"FC-SC转换适配器","个",{"v":1.6061833333,"d":"1.61"}]
["J05061400034","J05061400034","FC-SC转换适配器","",null,"FC-SC转换适配器","个",{"v":1.60615,"d":"1.61"}]
["J05061405153_JX0026","J05061405153","光纤活动连接器1米、2米、3米、5米等配置","J05061405153_JX0026","单芯单模双头尾纤FC-FC 15米 （G.652D 3mm）","","根",{"v":8.8558333333,"d":"8.86"}]
["J05050400976","J05050400976","光缆接头盒盒体-卧式-48芯","",null,"-","套",{"v":158.9482978723,"d":"158.95"}]
["J05050500035","J05050500035","光缆配线箱-壁挂式-450×400×120mm-48芯","",null,"-","只",{"v":229.4704651163,"d":"229.47"}]
["J05010300648","J05010300648","光缆-GYFTY-层绞结构-24芯","",null,"室外光缆","皮长公里",{"v":2324.895,"d":"2324.90"}]
["J05010300685","J05010300685","光缆-GYFTY-层绞结构-8芯","",null,"室外光缆","皮长公里",{"v":1622.5166297118,"d":"1622.52"}]
["J05050500035","J05050500035","光缆配线箱-壁挂式-450×400×120mm-48芯","",null,"-","只",{"v":229.4703333333,"d":"229.47"}]
["J05061405153_JX0004","J05061405153","光纤活动连接器1米、2米、3米、5米等配置","J05061405153_JX0004","单芯单模双头尾纤FC-FC 5米 （G.652D 3mm）","","根",{"v":6.8404,"d":"6.84"}]
["J05061400034","J05061400034","FC-SC转换适配器","",null,"FC-SC转换适配器","个",{"v":1.60618,"d":"1.61"}]
["J05061405153_JX0015","J05061405153","光纤活动连接器1米、2米、3米、5米等配置","J05061405153_JX0015","单芯单模双头尾纤FC-SC 10米 （G.652D 3mm）","","根",{"v":9.13645,"d":"9.14"}]
["J05061403526","J05061403526","SC/UPC单芯适配器","",null,"-","只",{"v":0.53192,"d":"0.53"}]
["J05080201695","J05080201695","PVC管-波纹柔管-Φ16mm","",null,"-","米",{"v":1.2,"d":"1.20"}]
["J05020700093","J05020700093","RJ11水晶头","",null,"-","个",{"v":0,"d":"0.00"}]
["J05050100860_JX0009","J05050100860","光缆交接箱144、288、576配置","J05050100860_JX0009","壁挂式免跳接室外光缆交接箱（72芯SMC箱体）","","台",1041.64]
["J05010400221","J05010400221","蝶形引入光缆-GJYXCH-单模G.657A2(B6a2)-1芯","",null,"-","皮长公里",{"v":330.837007874,"d":"330.84"}]
["J05080100928","J05080100928","小号手孔上覆-加强型-1600×1300×250mm","",null,"-","个",{"v":0,"d":"0.00"}]
["J05061400125","J05061400125","G.657A2双芯平行单模3mm尾纤","",null,"G.657A2 双芯平行单模 单模 3mm","米",{"v":0,"d":"0.00"}]
["J05061400119","J05061400119","G.655C双芯平行单模2mm尾纤","",null,"G.655C 双芯平行单模 单模 2mm","米",{"v":0,"d":"0.00"}]
["J03030600602","J03030600602","PON配套-尾纤-5m长-含接头","",null,"-","根",{"v":0,"d":"0.00"}]
["J05061405153_JX0064","J05061405153","光纤活动连接器1米、2米、3米、5米等配置","J05061405153_JX0064","单芯单模双头尾纤LC-FC 15米 （G.652D 3mm）","","根",{"v":10.4923333333,"d":"10.49"}]
["J05061404461","J05061404461","SC/UPC-单模连接器插头","",null,"-","个",{"v":0,"d":"0.00"}]
["J05061404459","J05061404459","FC/UPC-单模连接器插头","",null,"-","个",{"v":0,"d":"0.00"}]
["J05050100860_JX0030","J05050100860","光缆交接箱144、288、576配置","J05050100860_JX0030","光缆交接箱（144芯SMC箱体）满配 SC","","台",{"v":1112.7,"d":"1112.70"}]
["J05050500035","J05050500035","光缆配线箱-壁挂式-450×400×120mm-48芯","",null,"-","只",{"v":0,"d":"0.00"}]
["J05061400146","J05061400146","LC-SC转换适配器","",null,"LC-SC转换适配器","个",{"v":19.8148333333,"d":"19.81"}]
["J05061400146","J05061400146","LC-SC转换适配器","",null,"LC-SC转换适配器","个",{"v":19.81475,"d":"19.81"}]
["J05050400977","J05050400977","光缆接头盒盒体-卧式-72芯","",null,"-","套",193.59]
["J05010302917","J05010302917","光缆-GYFTY-单模G.652D-36芯","",null,"-","皮长公里",{"v":3111.8231213873,"d":"3111.82"}]
["J05070102924","J05070102924","线路铁件-双槽钢-2000×50×50×5mm","",null,"-","个",{"v":150,"d":"150.00"}]
["J05050300083","J05050300083","光纤终端盒-挂墙式-直熔-24芯","",null,"-","个",{"v":25.7957142857,"d":"25.80"}]
["J05070103498_JX0012","J05070103498","铁附件夹板、抱箍基础配置","J05070103498_JX0012","线路铁件-三眼双槽夹板","","付",8.32]
["J05070102515","J05070102515","拉线地锚-16×1800mm","",null,"-","个",{"v":16,"d":"16.00"}]
["J05050300082","J05050300082","光纤终端盒-挂墙式-直熔-12芯","",null,"-","个",{"v":20.307260274,"d":"20.31"}]
["J05010300927","J05010300927","光缆-GYTA-层绞结构-36芯","",null,"室外光缆","皮长公里",{"v":3012.4599542334,"d":"3012.46"}]
["J05061405153_JX0005","J05061405153","光纤活动连接器1米、2米、3米、5米等配置","J05061405153_JX0005","单芯单模双头尾纤FC-FC 10米 （G.652D 3mm）","","根",{"v":7.7889,"d":"7.79"}]
["J05070103498_JX0004","J05070103498","铁附件夹板、抱箍基础配置","J05070103498_JX0004","镀锌拉线抱箍-164mm","","付",13.88]
["J05070102924","J05070102924","线路铁件-双槽钢-2000×50×50×5mm","",null,"-","个",{"v":150,"d":"150.00"}]
["J05070103498_JX0012","J05070103498","铁附件夹板、抱箍基础配置","J05070103498_JX0012","线路铁件-三眼双槽夹板","","付",8.32]
["J05070102553","J05070102553","拉线衬环-五股","",null,"-","只",{"v":0.6,"d":"0.60"}]
["J05070102572","J05070102572","凸出支架-大号","",null,"-","个",{"v":11,"d":"11.00"}]
["J05070102588","J05070102588","线路铁件-镀锌膨胀螺栓-12×100mm","",null,"-","个",{"v":0.9,"d":"0.90"}]
["J05070300234","J05070300234","拉线保护管-2m","",null,"-","个",{"v":12.8205,"d":"12.82"}]
["J05070102450","J05070102450","线路铁件-隔电子","",null,"-","只",{"v":3.84616,"d":"3.85"}]
["J05070300189","J05070300189","三线交叉保护套(硬)","",null,"-","个",{"v":9.4017350158,"d":"9.40"}]
["J05070103147","J05070103147","线路铁件-圆形压线卡-25#","",null,"-","个",{"v":0.1538464646,"d":"0.15"}]
["J05070103145","J05070103145","线路铁件-圆形压线卡-20#","",null,"-","个",{"v":0.1196583253,"d":"0.12"}]
["J05050100860_JX0028","J05050100860","光缆交接箱144、288、576配置","J05050100860_JX0028","光缆交接箱（288芯SMC箱体）满配 SC","","台",{"v":2500.9638461538,"d":"2500.96"}]
["J05050100860_JX0030","J05050100860","光缆交接箱144、288、576配置","J05050100860_JX0030","光缆交接箱（144芯SMC箱体）满配 SC","","台",{"v":1623.6944444444,"d":"1623.69"}]
["J05070102826","J05070102826","线路铁件-铁丝-Φ4mm","",null,"-","公斤",3.41]
["J05070102826","J05070102826","线路铁件-铁丝-Φ4mm","",null,"-","公斤",3.41]
["J05080201489","J05080201489","PE实壁管-HDPE-直径50×4.0mm","",null,"配件含套筒16.7只/百米；堵头3只/百米；胶水（必要时）","米",{"v":6.1343976411,"d":"6.13"}]
["J05061100148","J05061100148","1×4插片式适配器型SC/UPC光分路器","",null,"1×4光分路器、SC/UPC头子尾纤、插片式适配器型封装","套",{"v":47.3201842105,"d":"47.32"}]
["J05050400973","J05050400973","光缆接头盒盒体-卧式-12芯","",null,"-","套",{"v":75.7295081967,"d":"75.73"}]
["J05050400974","J05050400974","光缆接头盒盒体-卧式-24芯","",null,"-","套",{"v":84.4665384615,"d":"84.47"}]
["J05070103319","J05070103319","镀锌钢绞线-1×7-1370Mpa-B级-2.6mm","",null,"-","公斤",{"v":5.7,"d":"5.70"}]
["J05070102827","J05070102827","线路铁件-铁丝-Φ3mm","",null,"-","公斤",3.12]
["J05061405153_JX0015","J05061405153","光纤活动连接器1米、2米、3米、5米等配置","J05061405153_JX0015","单芯单模双头尾纤FC-SC 10米 （G.652D 3mm）","","根",{"v":7.6940333333,"d":"7.69"}]
["J05061405153_JX0027","J05061405153","光纤活动连接器1米、2米、3米、5米等配置","J05061405153_JX0027","单芯单模双头尾纤FC-FC 20米 （G.652D 3mm）","","根",{"v":9.4646666667,"d":"9.46"}]
["J05061405153_JX0001","J05061405153","光纤活动连接器1米、2米、3米、5米等配置","J05061405153_JX0001","单芯单模双头尾纤FC-FC 1米 （G.652D 3mm）","","根",{"v":6.1327,"d":"6.13"}]
["J05061405153_JX0003","J05061405153","光纤活动连接器1米、2米、3米、5米等配置","J05061405153_JX0003","单芯单模双头尾纤FC-FC 3米 （G.652D 3mm）","","根",{"v":6.8002155172,"d":"6.80"}]
["J05050300082","J05050300082","光纤终端盒-挂墙式-直熔-12芯","",null,"-","个",{"v":20.3071717172,"d":"20.31"}]
["J05050300082","J05050300082","光纤终端盒-挂墙式-直熔-12芯","",null,"-","个",{"v":20.3071587125,"d":"20.31"}]
["J05020700090","J05020700090","平行电话线","",null,"-","个",{"v":0.3093,"d":"0.31"}]
["J05070102609","J05070102609","线路铁件-架空交接箱站台H杆","",null,"-","个",{"v":0,"d":"0.00"}]
["J05070102828","J05070102828","线路铁件-铁丝-Φ1.5mm","",null,"-","公斤",{"v":0,"d":"0.00"}]
["J05062101220","J05062101220","尼龙扎带-5×250mm","",null,"-","根",{"v":0.0769277778,"d":"0.08"}]
["J05062101220","J05062101220","尼龙扎带-5×250mm","",null,"-","根",{"v":0.0769232387,"d":"0.08"}]
["J05010400224","J05010400224","蝶形引入光缆-GJYXFCH-单模G.657A2(B6a2)-1芯","",null,"-","皮长公里",{"v":0,"d":"0.00"}]
["J05061405153_JX0015","J05061405153","光纤活动连接器1米、2米、3米、5米等配置","J05061405153_JX0015","单芯单模双头尾纤FC-SC 10米 （G.652D 3mm）","","根",{"v":7.65186,"d":"7.65"}]
["J05061405153_JX0089","J05061405153","光纤活动连接器1米、2米、3米、5米等配置","J05061405153_JX0089","单模12芯束状尾纤FC/UPC 1米（G.652D 0.9mm）","","根",{"v":36.8484,"d":"36.85"}]
["J05020700123","J05020700123","电话用户线-HBSYV2-16MHz-1×2×0.70mm","",null,"-","米",{"v":0,"d":"0.00"}]
["J05080100891","J05080100891","人行道方形井盖-球墨铸铁-700×1400×45mm","",null,"-","个",{"v":0,"d":"0.00"}]
["J05080100900","J05080100900","甲式托架-铸铁-125cm","",null,"-","个",{"v":0,"d":"0.00"}]
["J05050500039","J05050500039","光纤配线箱-壁挂式-440×280×115mm-24芯-室内外","",null,"-","个",{"v":0,"d":"0.00"}]
["J05080100977","J05080100977","电缆托板-尼龙-200mm","",null,"-","个",{"v":0,"d":"0.00"}]
["J05080201687","J05080201687","PVC管-波纹柔管-Φ20mm","",null,"-","米",{"v":1.6,"d":"1.60"}]
["J05060600780_JX0003","J05060600780","ODF-机架机框配置","J05060600780_JX0003","ODF-24芯子框","","架",401.36]
["J05050100860_JX0009","J05050100860","光缆交接箱144、288、576配置","J05050100860_JX0009","壁挂式免跳接室外光缆交接箱（72芯SMC箱体）","","台",{"v":1979.8433333333,"d":"1979.84"}]
["J05070103147","J05070103147","线路铁件-圆形压线卡-25#","",null,"-","个",{"v":0.153846,"d":"0.15"}]
["J05070103331","J05070103331","镀锌钢绞线-运保费-1000＜L≤1500","",null,"-","元/吨.公里",0.91]
["J05050100860_JX0013","J05050100860","光缆交接箱144、288、576配置","J05050100860_JX0013","光缆交接箱（144芯SMC箱体）满配 FC","","台",{"v":1112.7,"d":"1112.70"}]
["J05070103145","J05070103145","线路铁件-圆形压线卡-20#","",null,"-","个",{"v":0.119658,"d":"0.12"}]
["J05050100860_JX0012","J05050100860","光缆交接箱144、288、576配置","J05050100860_JX0012","光缆交接箱（288芯SMC箱体）满配 FC","","台",{"v":1900.8,"d":"1900.80"}]
["J05070103143","J05070103143","线路铁件-圆形压线卡-16#","",null,"-","个",{"v":0.0940176523,"d":"0.09"}]
["J05050400973","J05050400973","光缆接头盒盒体-卧式-12芯","",null,"-","套",{"v":108.5651724138,"d":"108.57"}]
["J05070103313","J05070103313","镀锌钢绞线-1×7-1370Mpa-B级-2.2mm","",null,"-","公斤",5.97]
["J05080101008","J05080101008","人孔井盖-圆形-复合材料-35吨","",null,"-","个",{"v":297.4355555556,"d":"297.44"}]
["J05061405153_JX0008","J05061405153","光纤活动连接器1米、2米、3米、5米等配置","J05061405153_JX0008","单芯单模双头尾纤SC-SC 3米 （G.652D 3mm）","","根",{"v":6.3976502732,"d":"6.40"}]
["J05060800033","J05060800033","综合信息箱配件-语音模块-1进4出","",null,"-","个",{"v":20.5128169014,"d":"20.51"}]
["J05010303649","J05010303649","光缆-GYFTY-单模G.652D-6芯","",null,"-","皮长公里",{"v":1332.9891621023,"d":"1332.99"}]
["J05061405153_JX0040","J05061405153","光纤活动连接器1米、2米、3米、5米等配置","J05061405153_JX0040","单芯单模双头尾纤FC-SC 6米 （G.652D 3mm）","","根",{"v":6.6579333333,"d":"6.66"}]
["J05061405153_JX0061","J05061405153","光纤活动连接器1米、2米、3米、5米等配置","J05061405153_JX0061","单芯单模双头尾纤LC-FC 6米 （G.652D 3mm）","","根",{"v":7.0313666667,"d":"7.03"}]
["J05061405153_JX0024","J05061405153","光纤活动连接器1米、2米、3米、5米等配置","J05061405153_JX0024","单芯单模双头尾纤FC-FC 6米 （G.652D 3mm）","","根",{"v":7.0194666667,"d":"7.02"}]
["J05061405153_JX0024","J05061405153","光纤活动连接器1米、2米、3米、5米等配置","J05061405153_JX0024","单芯单模双头尾纤FC-FC 6米 （G.652D 3mm）","","根",{"v":7.0194,"d":"7.02"}]
["J05061403524","J05061403524","FC/UPC单芯适配器","",null,"-","只",{"v":1.2590340909,"d":"1.26"}]
["J05010303138","J05010303138","光缆-GYTA-单模G.652D-72芯","",null,"-","皮长公里",{"v":5877.8870967742,"d":"5877.89"}]
["J05010303103","J05010303103","光缆-GYTA-单模G.652D-12芯","",null,"-","皮长公里",1722.42]
["J05061405153_JX0005","J05061405153","光纤活动连接器1米、2米、3米、5米等配置","J05061405153_JX0005","单芯单模双头尾纤FC-FC 10米 （G.652D 3mm）","","根",{"v":7.6729445235,"d":"7.67"}]
["J05061405153_JX0005","J05061405153","光纤活动连接器1米、2米、3米、5米等配置","J05061405153_JX0005","单芯单模双头尾纤FC-FC 10米 （G.652D 3mm）","","根",{"v":7.6729441624,"d":"7.67"}]
["J05010303085","J05010303085","光缆-GYTA-单模G.652D-4芯","",null,"-","皮长公里",{"v":1292.9533333333,"d":"1292.95"}]
["J05010303120","J05010303120","光缆-GYTA-单模G.652D-24芯","",null,"-","皮长公里",{"v":2633.2208872458,"d":"2633.22"}]
["J05010303120","J05010303120","光缆-GYTA-单模G.652D-24芯","",null,"-","皮长公里",{"v":2527.6746611053,"d":"2527.67"}]
["J05050100044","J05050100044","CT-GXF09T-光纤热熔管/单芯","",null,"-","只",{"v":0.25641,"d":"0.26"}]
["J05010303093","J05010303093","光缆-GYTA-单模G.652D-8芯","",null,"-","皮长公里",{"v":1500.4088669951,"d":"1500.41"}]
["J05061405153_JX0007","J05061405153","光纤活动连接器1米、2米、3米、5米等配置","J05061405153_JX0007","单芯单模双头尾纤SC-SC 2米 （G.652D 3mm）","","根",{"v":6.1973666667,"d":"6.20"}]
["J05010303138","J05010303138","光缆-GYTA-单模G.652D-72芯","",null,"-","皮长公里",{"v":5877.888,"d":"5877.89"}]
["J05070103498_JX0015","J05070103498","铁附件夹板、抱箍基础配置","J05070103498_JX0015","镀锌拉线抱箍-154mm","","付",13.88]
["J05070102824","J05070102824","预留支架-80×80mm","",null,"-","个",{"v":17,"d":"17.00"}]
["J05010303120","J05010303120","光缆-GYTA-单模G.652D-24芯","",null,"-","皮长公里",{"v":2439.4133333333,"d":"2439.41"}]
["J05070102553","J05070102553","拉线衬环-五股","",null,"-","只",{"v":0.6,"d":"0.60"}]
["J05070103498_JX0012","J05070103498","铁附件夹板、抱箍基础配置","J05070103498_JX0012","线路铁件-三眼双槽夹板","","付",8.32]
["J05050100044","J05050100044","CT-GXF09T-光纤热熔管/单芯","",null,"-","只",{"v":0.2564102564,"d":"0.26"}]
["J01030500782","J01030500782","电气绝缘胶带","",null,"电气绝缘胶带","每卷",{"v":2.3931619283,"d":"2.39"}]
["J05070103077","J05070103077","铝托挂钩-电缆-65mm","",null,"-","只",0.29]
["J05070102924","J05070102924","线路铁件-双槽钢-2000×50×50×5mm","",null,"-","个",{"v":150,"d":"150.00"}]
["J05070102515","J05070102515","拉线地锚-16×1800mm","",null,"-","个",{"v":16,"d":"16.00"}]
["J05050400973","J05050400973","光缆接头盒盒体-卧式-12芯","",null,"-","套",{"v":108.565234375,"d":"108.57"}]
["J03022300004","J03022300004","IPRAN-U2设备机框-交流系统","",null,"-","框",{"v":1620.1115,"d":"1620.11"}]
["J03022300017","J03022300017","IPRAN-U设备光模块-GE-单模-80km-双纤","",null,"-","块",{"v":102.5386923077,"d":"102.54"}]
["J05020400423","J05020400423","RJ45水晶头","",null,"-","个",{"v":0.2991448889,"d":"0.30"}]
["J05060800026","J05060800026","综合信息箱-家庭信息箱Ⅱ型三位电源插座","",null,"-","个",{"v":61.5385507246,"d":"61.54"}]
["J05061405153_JX0007","J05061405153","光纤活动连接器1米、2米、3米、5米等配置","J05061405153_JX0007","单芯单模双头尾纤SC-SC 2米 （G.652D 3mm）","","根",{"v":6.4664544084,"d":"6.47"}]
["J05062101173","J05062101173","过路盒-四通-96×96 ×50mm","",null,"-","个",{"v":6.4102298851,"d":"6.41"}]
["J05070103084","J05070103084","塑托挂钩-电缆-45mm","",null,"-","只",0.19]
["J05070103048","J05070103048","U型抱箍-164×Φ12mm","",null,"-","个",{"v":2.6,"d":"2.60"}]
["J05010303649","J05010303649","光缆-GYFTY-单模G.652D-6芯","",null,"-","皮长公里",{"v":1510.4171328113,"d":"1510.42"}]
["J03030701202","J03030701202","ONU盒式固定SBU-EPON-4FE+2POTS","",null,"-","台",{"v":320.9475,"d":"320.95"}]
["J05070103498_JX0004","J05070103498","铁附件夹板、抱箍基础配置","J05070103498_JX0004","镀锌拉线抱箍-164mm","","付",13.88]
["J05070103498_JX0012","J05070103498","铁附件夹板、抱箍基础配置","J05070103498_JX0012","线路铁件-三眼双槽夹板","","付",8.32]
["J05070103498_JX0003","J05070103498","铁附件夹板、抱箍基础配置","J05070103498_JX0003","镀锌单吊线抱箍-164mm","","付",15.82]
["J05070103498_JX0013","J05070103498","铁附件夹板、抱箍基础配置","J05070103498_JX0013","线路铁件-三眼单槽夹板","","付",6.74]
["J05070102553","J05070102553","拉线衬环-五股","",null,"-","只",{"v":0.6,"d":"0.60"}]
["J05070102553","J05070102553","拉线衬环-五股","",null,"-","只",{"v":0.6,"d":"0.60"}]
["J05070102515","J05070102515","拉线地锚-16×1800mm","",null,"-","个",{"v":16,"d":"16.00"}]
["J05010303089","J05010303089","光缆-GYTA-单模G.652D-6芯","",null,"-","皮长公里",{"v":1325.7092939481,"d":"1325.71"}]
["J05010303129","J05010303129","光缆-GYTA-单模G.652D-48芯","",null,"-","皮长公里",{"v":4303.778,"d":"4303.78"}]
["J05050100860_JX0045","J05050100860","光缆交接箱144、288、576配置","J05050100860_JX0045","光缆交接箱扩容包（12芯为一个单位）束状尾纤 FC","","台",{"v":28.1555128205,"d":"28.16"}]
["J05050200200","J05050200200","光缆分光分纤盒-SMC-16芯","",null,"外形尺寸：350×340×100mm，两槽位。安装方式：可壁挂可抱杆。含锁具、箱体背部安装板、分插片固定装置、蝶形引入光缆固定装置、光缆固定接地装置、尾纤停泊区、魔术搭扣、翻版(含吸铁支架)、线环、密封件等必配零部件。","台",{"v":128.5366666667,"d":"128.54"}]
["J05010400221","J05010400221","蝶形引入光缆-GJYXCH-单模G.657A2(B6a2)-1芯","",null,"-","皮长公里",{"v":386.7031428571,"d":"386.70"}]
["J05080202003","J05080202003","塑料硬管-PVC-16/12mm","",null,"-","米",{"v":1.2,"d":"1.20"}]
["J05010303120","J05010303120","光缆-GYTA-单模G.652D-24芯","",null,"-","皮长公里",{"v":2532.2238468696,"d":"2532.22"}]
["J05010303120","J05010303120","光缆-GYTA-单模G.652D-24芯","",null,"-","皮长公里",2532.22]
["J05060800040","J05060800040","室内壁挂型综合信息箱-冷轧钢板-500×550×150mm-1.2mm","",null,"-","个",{"v":515.91125,"d":"515.91"}]
["J05010300927","J05010300927","光缆-GYTA-层绞结构-36芯","",null,"室外光缆","皮长公里",5837.85]
["J05010303147","J05010303147","光缆-GYTA-单模G.652D-96芯","",null,"-","皮长公里",7678.56]
["J05010302917","J05010302917","光缆-GYFTY-单模G.652D-36芯","",null,"-","皮长公里",3377.51]
["J05010303157","J05010303157","光缆-GYTA-单模G.652D-144芯","",null,"-","皮长公里",{"v":11432.7666666667,"d":"11432.77"}]
["J05010303157","J05010303157","光缆-GYTA-单模G.652D-144芯","",null,"-","皮长公里",{"v":11432.7630522088,"d":"11432.76"}]
["J05010400221","J05010400221","蝶形引入光缆-GJYXCH-单模G.657A2(B6a2)-1芯","",null,"-","皮长公里",{"v":330.8367055689,"d":"330.84"}]
["J05010303103","J05010303103","光缆-GYTA-单模G.652D-12芯","",null,"-","皮长公里",{"v":1728.7909677419,"d":"1728.79"}]
["J05010303085","J05010303085","光缆-GYTA-单模G.652D-4芯","",null,"-","皮长公里",{"v":1206.5138753436,"d":"1206.51"}]
["J05061100106","J05061100106","1×32插片式适配器型SC/UPC光分路器","",null,"1×32光分路器、SC/UPC头子尾纤、插片式适配器型封装","套",{"v":172.8754545455,"d":"172.88"}]
["J05061405153_JX0010","J05061405153","光纤活动连接器1米、2米、3米、5米等配置","J05061405153_JX0010","单芯单模双头尾纤SC-SC 10米 （G.652D 3mm）","","根",{"v":7.6518666667,"d":"7.65"}]
["J05080101079","J05080101079","方形手孔井盖-复合材料-600×400mm","",null,"-","个",{"v":109.40125,"d":"109.40"}]
["J05080101008","J05080101008","人孔井盖-圆形-复合材料-35吨","",null,"-","个",{"v":288.8889,"d":"288.89"}]
["J05062101265","J05062101265","安装辅材-底盒-塑料86型","",null,"-","个",{"v":0.8547435897,"d":"0.85"}]
["J05062101358","J05062101358","单孔面板(电视)-86式","",null,"-","块",{"v":2.4786805556,"d":"2.48"}]
["J05050100044","J05050100044","CT-GXF09T-光纤热熔管/单芯","",null,"-","只",{"v":0.25641,"d":"0.26"}]
["J05070103137","J05070103137","线路铁件-圆形压线卡-6#","",null,"-","个",{"v":0.0341879167,"d":"0.03"}]
["J05080300318","J05080300318","镀锌钢管管卡-Φ50mm","",null,"-","个",{"v":1.2820833333,"d":"1.28"}]
["J05061405424_JX0003","J05061405424","省库光纤活动连接器","J05061405424_JX0003","单芯单模尾纤SC-SC 3米 （G.652D 3mm）","","根",{"v":4.3401742178,"d":"4.34"}]
["J05061405424_JX0003","J05061405424","省库光纤活动连接器","J05061405424_JX0003","单芯单模尾纤SC-SC 3米 （G.652D 3mm）","","根",{"v":4.3401639344,"d":"4.34"}]
["J05080201512","J05080201512","PVC双壁波纹管-PVC-U-外径／内径110/100","",null,"配件-套筒4.5只/百米；堵头3只/百米；支架0.67只/百米；密封圈20只/百米","米",{"v":4.188,"d":"4.19"}]
["J05061405153_JX0013","J05061405153","光纤活动连接器1米、2米、3米、5米等配置","J05061405153_JX0013","单芯单模双头尾纤FC-SC 3米 （G.652D 3mm）","","根",{"v":6.0177542373,"d":"6.02"}]
["J05050400955","J05050400955","光缆接头盒-哈呋式-144芯","",null,"-","套",458.59]
["J05070103313","J05070103313","镀锌钢绞线-1×7-1370Mpa-B级-2.2mm","",null,"-","公斤",5.96]
["J05010303085","J05010303085","光缆-GYTA-单模G.652D-4芯","",null,"-","皮长公里",{"v":1206.5112406328,"d":"1206.51"}]
["J05070103319","J05070103319","镀锌钢绞线-1×7-1370Mpa-B级-2.6mm","",null,"-","公斤",5.69]
["J05070103331","J05070103331","镀锌钢绞线-运保费-1000＜L≤1500","",null,"-","元/吨.公里",0.91]
["J05050400974","J05050400974","光缆接头盒盒体-卧式-24芯","",null,"-","套",{"v":125.3595238095,"d":"125.36"}]
["J05061100224","J05061100224","1×8插片式适配器型SC/UPC光分路器","",null,"1×8光分路器、SC/UPC头子尾纤、插片式适配器型封装","套",{"v":65.3327366255,"d":"65.33"}]
["J05070103084","J05070103084","塑托挂钩-电缆-45mm","",null,"-","只",0.19]
["J05070103083","J05070103083","塑托挂钩-电缆-35mm","",null,"-","只",0.14]
["J05020700090","J05020700090","平行电话线","",null,"-","个",{"v":0.309364,"d":"0.31"}]
["J05061405424_JX0016","J05061405424","省库光纤活动连接器","J05061405424_JX0016","单芯单模尾纤FC-FC 2米 （G.652D 3mm）","","根",{"v":3.63956,"d":"3.64"}]
["J05020700110","J05020700110","电话用户线-HBSYV2C-16MHz-1×2×0.50mm-1000N","",null,"-","米",{"v":0.4186,"d":"0.42"}]
["J01050200782","J01050200782","4G-800M基站天线-单频双极化定向(4端口)-65度/17/17","",null,"-","副",{"v":2654.9168,"d":"2654.92"}]
["J05010303085","J05010303085","光缆-GYTA-单模G.652D-4芯","",null,"-","皮长公里",{"v":1216.5216304076,"d":"1216.52"}]
["J05020400428","J05020400428","数字通信电缆-HSYV-5-4×2×0.5mm","",null,"-","米",{"v":0.8623021077,"d":"0.86"}]
["J05050400974","J05050400974","光缆接头盒盒体-卧式-24芯","",null,"-","套",{"v":125.3596,"d":"125.36"}]
["J05010300682","J05010300682","光缆-GYFTY-层绞结构-6芯","",null,"室外光缆","皮长公里",{"v":1320.6888888889,"d":"1320.69"}]
["J05062101359","J05062101359","双孔面板(电视和数据)-86式","",null,"-","块",{"v":3.0769,"d":"3.08"}]
["J11090200104","J11090200104","电话机配件、附件","",null,"-","个",{"v":76.068375,"d":"76.07"}]
["J05070103140","J05070103140","线路铁件-圆形压线卡-10#","",null,"-","个",{"v":0.042735,"d":"0.04"}]
["J05010300252","J05010300252","光缆-GYDTA-光纤带结构-72芯",null,null,"室外光缆","皮长公里",{"v":6452.9,"d":"6452.90"}]
["J05030201969","J05030201969","电力电缆-ZA-RVV-0.6/1KV-2×1.5mm2",{"$nulls":3},"米",1.66]
["J05070200778","J05070200778","水泥电杆-Φ130mm-6米",{"$nulls":3},"根",{"v":170,"d":"170.00"}]
["J05070200777","J05070200777","水泥电杆-Φ150mm-7米",{"$nulls":3},"根",170.94]
["J05070200779","J05070200779","水泥电杆-Φ150mm-9米",{"$nulls":3},"根",{"v":350,"d":"350.00"}]
["J05070200776","J05070200776","水泥电杆-Φ150mm-8米",{"$nulls":3},"根",{"v":288,"d":"288.00"}]
["J05070200780","J05070200780","水泥电杆-Φ150mm-10米",{"$nulls":3},"根",{"v":388,"d":"388.00"}]
["J05070103194","J05070103194","线路铁件-架空交接箱站台-单面",{"$nulls":3},"个",{"v":1120,"d":"1120.00"}]
["J05070103195","J05070103195","线路铁件-架空交接箱站台-双面",{"$nulls":3},"个",{"v":1260,"d":"1260.00"}]
["J05070200731","J05070200731","水泥拉盘-600×400×150mm",{"$nulls":3},"个",17.41]
["J05080300342","J05080300342","镀锌钢管-50×3.5mm",{"$nulls":3},"米",19.23]
["J05080300303","J05080300303","镀锌钢管-80×4.0mm",{"$nulls":3},"米",45.84]
["J05080300307","J05080300307","镀锌钢管接头-50×2.5mm",{"$nulls":3},"个",{"v":7.5,"d":"7.50"}]
["J05080300305","J05080300305","镀锌钢管接头-100×4.5mm",{"$nulls":3},"个",{"v":28,"d":"28.00"}]
["L05050500222","L05050500222","光缆配线箱",null,null,"室外 72芯","套",{"v":720,"d":"720.00"}]
["J05050500031","J05050500031","光缆配线箱",{"$nulls":3},"个",{"v":1370,"d":"1370.00"}]
["J05061100695","J05061100695","光分路器-盒式封装-FC/UPC-1×8",{"$nulls":3},"套",281.05]
["L05050200849","L05050200849","光交接箱型光分路器",null,null,"光交接箱NTM-SA1模块（含光分器1：32，FC适配器）","块",{"v":1173,"d":"1173.00"}]
["J05061100707","J05061100707","光分路器-盒式封装-LC/UPC-1×8",{"$nulls":3},"套",{"v":293,"d":"293.00"}]
["J05061100709","J05061100709","光分路器-盒式封装-LC/UPC-1×32",{"$nulls":3},"套",{"v":818,"d":"818.00"}]
["J05050200211","J05050200211","光缆分光分纤盒-32芯-室内",{"$nulls":3},"台",200.83]
["J05050200208","J05050200208","光缆分光分纤盒-16芯-室内",{"$nulls":3},"台",122.01]
["J05060600034","J05060600034","CT-GPX09R-5-ODF机架-2200×840×300（单位：mm）",null,null,"空架，含门、侧板、144芯熔纤单元（不含托盘）、光缆引入单元，满配喉箍。机架规格：满配容量数:1440芯，单元规格：144芯，满配最大单元数：10个","架",3782.88]
["J05062101080","J05062101080","尼龙扎带-5×300mm",{"$nulls":3},"根",{"v":0.5,"d":"0.50"}]